{"text_format":"1","workbook":"xlsx","n_sheets":10,"sheets":["CAD_Q","CAD_H","RES","DESP","DISP","RC","Recibo","FC","Dash","Info"],"not_rendered":{"charts":2,"images":1,"macros":1,"external_links":0,"defined_names":23,"comments":0,"pivot_tables":0},"unopened":[],"bounds":{"document_bytes":16777216,"sheet_cells":100000,"rows_first":2000,"rows_last":500,"rows_between":2000,"halvings":0,"cell_chars":16384,"cell_head_chars":4096},"cells_cut":0,"cells_raw":0,"read":"whole","date_system":"1900"}

{"sheet":"CAD_Q","index":0,"n_rows":105,"n_cols":7,"rows_kept":105,"cut":false,"hidden":false,"merged":[]}
[]
[]
[]
[]
[null,null,"Número de habitación","Especies","Cargo por día","Capacidad","Observaciones"]
[null,null,1,"Estándar",200,3]
[null,null,2,"Estándar",400,3]
[null,null,3,"Estándar",250,3]
[null,null,4,"sencillo",600,2,"Carnaval precio"]
[null,null,5,"sencillo",1200,2,"precio reveillon"]
[null,null,6,"Estándar",500,3]
[null,null,7,"Estándar",200,3]
[null,null,8,"Estándar",400,3]
[null,null,9,"Estándar",250,3]
[null,null,10,"presidencial",600,4]
[null,null,11,"Estándar",1200,3]
[null,null,12,"Estándar",500,3]
[null,null,13,"Estándar",200,3]
[null,null,14,"Estándar",400,3]
[null,null,15,"Estándar",250,3]
[null,null,16,"Estándar",600,3]
[null,null,17,"Estándar",1200,3]
[null,null,18,"Estándar",500,3]
[null,null,19,"Estándar",200,3]
[null,null,20,"Estándar",400,3]
[null,null,21,"Estándar",250,3]
[null,null,22,"Estándar",600,3]
[null,null,23,"Estándar",1200,3]
[null,null,24,"Estándar",500,3]
[null,null,25,"Estándar",null,3]
[null,null,26,"Estándar",null,3]
[null,null,27,"Estándar",null,3]
[null,null,28,"Estándar",null,3]
[null,null,29,"Estándar",null,3]
[null,null,30,"Estándar",null,3]
[null,null,31,"Estándar",null,3]
[null,null,32,"Estándar",null,3]
[null,null,33,"Estándar",null,3]
[null,null,34,"Estándar",null,3]
[null,null,35,"Estándar",null,3]
[null,null,36,"Estándar",null,3]
[null,null,37,"Estándar",null,3]
[null,null,38,"Estándar",null,3]
[null,null,39,"Estándar",null,3]
[null,null,40,"Estándar",null,3]
[null,null,41,"Estándar",null,3]
[null,null,42,"Estándar",null,3]
[null,null,43,"Estándar",null,3]
[null,null,44,"Estándar",null,3]
[null,null,45,"Estándar",null,3]
[null,null,46,"Estándar",null,3]
[null,null,47,"Estándar",null,3]
[null,null,48,"Estándar",null,3]
[null,null,49,"Estándar",null,3]
[null,null,50,"Estándar",null,3]
[null,null,51,"Estándar",null,3]
[null,null,52,"Estándar",null,3]
[null,null,53,"Estándar",null,3]
[null,null,54,"Estándar",null,3]
[null,null,55,"Estándar",null,3]
[null,null,56,"Estándar",null,3]
[null,null,57,"Estándar",null,3]
[null,null,58,"Estándar",null,3]
[null,null,59,"Estándar",null,3]
[null,null,60,"Estándar",null,3]
[null,null,61,"Estándar",null,3]
[null,null,62,"Estándar",null,3]
[null,null,63,"Estándar",null,3]
[null,null,64,"Estándar",null,3]
[null,null,65,"Estándar",null,3]
[null,null,66,"Estándar",null,3]
[null,null,67,"Estándar",null,3]
[null,null,68,"Estándar",null,3]
[null,null,69,"Estándar",null,3]
[null,null,70,"Estándar",null,3]
[null,null,71,"Estándar",null,3]
[null,null,72,"Estándar",null,3]
[null,null,73,"Estándar",null,3]
[null,null,74,"Estándar",null,3]
[null,null,75,"Estándar",null,3]
[null,null,76,"Estándar",null,3]
[null,null,77,"Estándar",null,3]
[null,null,78,"Estándar",null,3]
[null,null,79,"Estándar",null,3]
[null,null,80,"Estándar",null,3]
[null,null,81,"Estándar",null,3]
[null,null,82,"Estándar",null,3]
[null,null,83,"Estándar",null,3]
[null,null,84,"Estándar",null,3]
[null,null,85,"Estándar",null,3]
[null,null,86,"Estándar",null,3]
[null,null,87,"Estándar",null,3]
[null,null,88,"Estándar",null,3]
[null,null,89,"Estándar",null,3]
[null,null,90,"Estándar",null,3]
[null,null,91,"Estándar",null,3]
[null,null,92,"Estándar",null,3]
[null,null,93,"Estándar",null,3]
[null,null,94,"Estándar",null,3]
[null,null,95,"Estándar",null,3]
[null,null,96,"Estándar",null,3]
[null,null,97,"Estándar",null,3]
[null,null,98,"Estándar",null,3]
[null,null,99,"Estándar",null,3]
[null,null,100,"Estándar",null,3]

{"sheet":"CAD_H","index":1,"n_rows":6,"n_cols":9,"rows_kept":6,"cut":false,"hidden":false,"merged":[]}
[]
[]
[]
[]
[null,null,"Nombre","Nacionalidad","Tipo de identificación","Número de documento","Contacto","E-mail","Cierra nacimiento"]
[null,null,"Juan Lopez"]

{"sheet":"RES","index":2,"n_rows":3006,"n_cols":21,"rows_kept":3006,"cut":false,"hidden":false,"merged":[]}
[]
[]
[]
[null,null,"hospede",null,null,null,null,null,"quartos"]
[null,null,"Nombre del Huésped","Registrarse","Salida","Duración","Adultos","Niños","Habitación","Especies","Resumen del día","Descuentos","Gasto Extra","Total","Registrarse",null,null,"ECHA Vistazo de la ONU"]
[null,{"$f":"CONCATENATE(C6,D6)","v":"Juan Lopez45495"},"Juan Lopez","2024-07-22","2024-07-25",{"$f":"IF(OR(D6=\"\",E6=\"\"),\"\",E6-D6)","v":3},2,0,4,{"$f":"IF(I6=\"\",\"\",IF(VLOOKUP(I6,CAD_Q!$C$6:$D$105,2,FALSE)=0,\"\",VLOOKUP(I6,CAD_Q!$C$6:$D$105,2,FALSE)))","v":"sencillo"},{"$f":"IFERROR(VLOOKUP(I6,CAD_Q!$C$6:$E$109,3,FALSE)*F6,\"\")","v":1800},200,50,{"$f":"IFERROR(K6-L6+M6,\"\")","v":1650},{"$f":"MONTH(D6)","v":7},{"$f":"DAY(D6)","v":22},{"$f":"YEAR(D6)","v":2024},{"$f":"DAY(E6)","v":25},{"$f":"MONTH(E6)","v":7},{"$f":"YEAR(E6)","v":2024},"Nombre y el registro de entrada válida"]
[null,{"$f":"CONCATENATE(C7,D7)","v":"Juan Lopez45498"},"Juan Lopez","2024-07-25","2024-08-02",{"$f":"IF(OR(D7=\"\",E7=\"\"),\"\",E7-D7)","v":8},2,0,2,{"$f":"IF(I7=\"\",\"\",IF(VLOOKUP(I7,CAD_Q!$C$6:$D$105,2,FALSE)=0,\"\",VLOOKUP(I7,CAD_Q!$C$6:$D$105,2,FALSE)))","v":"Estándar"},{"$f":"IFERROR(VLOOKUP(I7,CAD_Q!$C$6:$E$109,3,FALSE)*F7,\"\")","v":3200},50,1000,{"$f":"IFERROR(K7-L7+M7,\"\")","v":4150},{"$f":"MONTH(D7)","v":7},{"$f":"DAY(D7)","v":25},{"$f":"YEAR(D7)","v":2024},{"$f":"DAY(E7)","v":2},{"$f":"MONTH(E7)","v":8},{"$f":"YEAR(E7)","v":2024},"Nombre y el registro de entrada válida"]
[null,"1 invitado45499","1 invitado","2024-07-26","2024-07-28",{"$f":"IF(OR(D8=\"\",E8=\"\"),\"\",E8-D8)","v":2},2,0,1,{"$f":"IF(I8=\"\",\"\",IF(VLOOKUP(I8,CAD_Q!$C$6:$D$105,2,FALSE)=0,\"\",VLOOKUP(I8,CAD_Q!$C$6:$D$105,2,FALSE)))","v":"Estándar"},{"$f":"IFERROR(VLOOKUP(I8,CAD_Q!$C$6:$E$109,3,FALSE)*F8,\"\")","v":400},24,256,632,7,26,2024,28,7,2024,"Nombre y el registro de entrada válida"]
[null,"Juan Lopez45499","Juan Lopez","2024-07-26","2024-07-29",3,1,0,4,{"$f":"IF(I9=\"\",\"\",IF(VLOOKUP(I9,CAD_Q!$C$6:$D$105,2,FALSE)=0,\"\",VLOOKUP(I9,CAD_Q!$C$6:$D$105,2,FALSE)))","v":"sencillo"},{"$f":"IFERROR(VLOOKUP(I9,CAD_Q!$C$6:$E$109,3,FALSE)*F9,\"\")","v":1800},0,0,1800,7,26,2024,29,7,2024,"Nombre y el registro de entrada válida"]
[null,"Juan Lopez45499","Juan Lopez","2024-07-26","2024-07-30",4,2,0,8,{"$f":"IF(I10=\"\",\"\",IF(VLOOKUP(I10,CAD_Q!$C$6:$D$105,2,FALSE)=0,\"\",VLOOKUP(I10,CAD_Q!$C$6:$D$105,2,FALSE)))","v":"Estándar"},{"$f":"IFERROR(VLOOKUP(I10,CAD_Q!$C$6:$E$109,3,FALSE)*F10,\"\")","v":1600},0,0,1600,{"$f":"MONTH(D10)","v":7},{"$f":"DAY(D10)","v":26},{"$f":"YEAR(D10)","v":2024},{"$f":"DAY(E10)","v":30},{"$f":"MONTH(E10)","v":7},{"$f":"YEAR(E10)","v":2024},"Nombre y el registro de entrada válida"]
[null,"Juan Lopez45499","Juan Lopez","2024-07-26","2024-07-31",5,2,0,11,{"$f":"IF(I11=\"\",\"\",IF(VLOOKUP(I11,CAD_Q!$C$6:$D$105,2,FALSE)=0,\"\",VLOOKUP(I11,CAD_Q!$C$6:$D$105,2,FALSE)))","v":"Estándar"},{"$f":"IFERROR(VLOOKUP(I11,CAD_Q!$C$6:$E$109,3,FALSE)*F11,\"\")","v":6000},0,0,6000,7,26,2024,31,7,2024,"Nombre y el registro de entrada válida"]
[null,"Juan Lopez45499","Juan Lopez","2024-07-26","2024-08-01",6,2,0,8,{"$f":"IF(I12=\"\",\"\",IF(VLOOKUP(I12,CAD_Q!$C$6:$D$105,2,FALSE)=0,\"\",VLOOKUP(I12,CAD_Q!$C$6:$D$105,2,FALSE)))","v":"Estándar"},{"$f":"IFERROR(VLOOKUP(I12,CAD_Q!$C$6:$E$109,3,FALSE)*F12,\"\")","v":2400},0,0,2400,7,26,2024,1,8,2024,"Nombre y el registro de entrada válida"]
[null,"Juan Lopez45499","Juan Lopez","2024-07-26","2024-08-02",7,1,0,12,{"$f":"IF(I13=\"\",\"\",IF(VLOOKUP(I13,CAD_Q!$C$6:$D$105,2,FALSE)=0,\"\",VLOOKUP(I13,CAD_Q!$C$6:$D$105,2,FALSE)))","v":"Estándar"},{"$f":"IFERROR(VLOOKUP(I13,CAD_Q!$C$6:$E$109,3,FALSE)*F13,\"\")","v":3500},0,0,3500,7,26,2024,2,8,2024,"Nombre y el registro de entrada válida"]
[null,"",null,null,null,"",null,null,null,{"$f":"IF(I14=\"\",\"\",IF(VLOOKUP(I14,CAD_Q!$C$6:$D$105,2,FALSE)=0,\"\",VLOOKUP(I14,CAD_Q!$C$6:$D$105,2,FALSE)))","v":""},{"$f":"IFERROR(VLOOKUP(I14,CAD_Q!$C$6:$E$109,3,FALSE)*F14,\"\")","v":""},null,null,"",1,0,1900,0,1,1900,"Nombre y el registro de entrada válida"]
[null,"",null,null,null,"",null,null,null,{"$f":"IF(I15=\"\",\"\",IF(VLOOKUP(I15,CAD_Q!$C$6:$D$105,2,FALSE)=0,\"\",VLOOKUP(I15,CAD_Q!$C$6:$D$105,2,FALSE)))","v":""},{"$f":"IFERROR(VLOOKUP(I15,CAD_Q!$C$6:$E$109,3,FALSE)*F15,\"\")","v":""},null,null,"",1,0,1900,0,1,1900,"Nombre y el registro de entrada válida"]
[null,"",null,null,null,"",null,null,null,{"$f":"IF(I16=\"\",\"\",IF(VLOOKUP(I16,CAD_Q!$C$6:$D$105,2,FALSE)=0,\"\",VLOOKUP(I16,CAD_Q!$C$6:$D$105,2,FALSE)))","v":""},{"$f":"IFERROR(VLOOKUP(I16,CAD_Q!$C$6:$E$109,3,FALSE)*F16,\"\")","v":""},null,null,"",1,0,1900,0,1,1900,"Nombre y el registro de entrada válida"]
[null,"",null,null,null,"",null,null,null,{"$f":"IF(I17=\"\",\"\",IF(VLOOKUP(I17,CAD_Q!$C$6:$D$105,2,FALSE)=0,\"\",VLOOKUP(I17,CAD_Q!$C$6:$D$105,2,FALSE)))","v":""},{"$f":"IFERROR(VLOOKUP(I17,CAD_Q!$C$6:$E$109,3,FALSE)*F17,\"\")","v":""},null,null,"",1,0,1900,0,1,1900,"Nombre y el registro de entrada válida"]
[null,"",null,null,null,"",null,null,null,{"$f":"IF(I18=\"\",\"\",IF(VLOOKUP(I18,CAD_Q!$C$6:$D$105,2,FALSE)=0,\"\",VLOOKUP(I18,CAD_Q!$C$6:$D$105,2,FALSE)))","v":""},{"$f":"IFERROR(VLOOKUP(I18,CAD_Q!$C$6:$E$109,3,FALSE)*F18,\"\")","v":""},null,null,"",1,0,1900,0,1,1900,"Nombre y el registro de entrada válida"]
[null,"",null,null,null,"",null,null,null,{"$f":"IF(I19=\"\",\"\",IF(VLOOKUP(I19,CAD_Q!$C$6:$D$105,2,FALSE)=0,\"\",VLOOKUP(I19,CAD_Q!$C$6:$D$105,2,FALSE)))","v":""},{"$f":"IFERROR(VLOOKUP(I19,CAD_Q!$C$6:$E$109,3,FALSE)*F19,\"\")","v":""},null,null,"",1,0,1900,0,1,1900,"Nombre y el registro de entrada válida"]
[null,"",null,null,null,"",null,null,null,{"$f":"IF(I20=\"\",\"\",IF(VLOOKUP(I20,CAD_Q!$C$6:$D$105,2,FALSE)=0,\"\",VLOOKUP(I20,CAD_Q!$C$6:$D$105,2,FALSE)))","v":""},{"$f":"IFERROR(VLOOKUP(I20,CAD_Q!$C$6:$E$109,3,FALSE)*F20,\"\")","v":""},null,null,"",1,0,1900,0,1,1900,"Nombre y el registro de entrada válida"]
[null,"",null,null,null,"",null,null,null,{"$f":"IF(I21=\"\",\"\",IF(VLOOKUP(I21,CAD_Q!$C$6:$D$105,2,FALSE)=0,\"\",VLOOKUP(I21,CAD_Q!$C$6:$D$105,2,FALSE)))","v":""},{"$f":"IFERROR(VLOOKUP(I21,CAD_Q!$C$6:$E$109,3,FALSE)*F21,\"\")","v":""},null,null,"",1,0,1900,0,1,1900,"Nombre y el registro de entrada válida"]
[null,"",null,null,null,"",null,null,null,{"$f":"IF(I22=\"\",\"\",IF(VLOOKUP(I22,CAD_Q!$C$6:$D$105,2,FALSE)=0,\"\",VLOOKUP(I22,CAD_Q!$C$6:$D$105,2,FALSE)))","v":""},{"$f":"IFERROR(VLOOKUP(I22,CAD_Q!$C$6:$E$109,3,FALSE)*F22,\"\")","v":""},null,null,"",1,0,1900,0,1,1900,"Nombre y el registro de entrada válida"]
[null,"",null,null,null,"",null,null,null,{"$f":"IF(I23=\"\",\"\",IF(VLOOKUP(I23,CAD_Q!$C$6:$D$105,2,FALSE)=0,\"\",VLOOKUP(I23,CAD_Q!$C$6:$D$105,2,FALSE)))","v":""},{"$f":"IFERROR(VLOOKUP(I23,CAD_Q!$C$6:$E$109,3,FALSE)*F23,\"\")","v":""},null,null,"",1,0,1900,0,1,1900,"Nombre y el registro de entrada válida"]
[null,"",null,null,null,"",null,null,null,{"$f":"IF(I24=\"\",\"\",IF(VLOOKUP(I24,CAD_Q!$C$6:$D$105,2,FALSE)=0,\"\",VLOOKUP(I24,CAD_Q!$C$6:$D$105,2,FALSE)))","v":""},{"$f":"IFERROR(VLOOKUP(I24,CAD_Q!$C$6:$E$109,3,FALSE)*F24,\"\")","v":""},null,null,"",1,0,1900,0,1,1900,"Nombre y el registro de entrada válida"]
[null,"",null,null,null,"",null,null,null,{"$f":"IF(I25=\"\",\"\",IF(VLOOKUP(I25,CAD_Q!$C$6:$D$105,2,FALSE)=0,\"\",VLOOKUP(I25,CAD_Q!$C$6:$D$105,2,FALSE)))","v":""},{"$f":"IFERROR(VLOOKUP(I25,CAD_Q!$C$6:$E$109,3,FALSE)*F25,\"\")","v":""},null,null,"",1,0,1900,0,1,1900,"Nombre y el registro de entrada válida"]
[null,"",null,null,null,"",null,null,null,{"$f":"IF(I26=\"\",\"\",IF(VLOOKUP(I26,CAD_Q!$C$6:$D$105,2,FALSE)=0,\"\",VLOOKUP(I26,CAD_Q!$C$6:$D$105,2,FALSE)))","v":""},{"$f":"IFERROR(VLOOKUP(I26,CAD_Q!$C$6:$E$109,3,FALSE)*F26,\"\")","v":""},null,null,"",1,0,1900,0,1,1900,"Nombre y el registro de entrada válida"]
[null,"",null,null,null,"",null,null,null,{"$f":"IF(I27=\"\",\"\",IF(VLOOKUP(I27,CAD_Q!$C$6:$D$105,2,FALSE)=0,\"\",VLOOKUP(I27,CAD_Q!$C$6:$D$105,2,FALSE)))","v":""},{"$f":"IFERROR(VLOOKUP(I27,CAD_Q!$C$6:$E$109,3,FALSE)*F27,\"\")","v":""},null,null,"",1,0,1900,0,1,1900,"Nombre y el registro de entrada válida"]
[null,"",null,null,null,"",null,null,null,{"$f":"IF(I28=\"\",\"\",IF(VLOOKUP(I28,CAD_Q!$C$6:$D$105,2,FALSE)=0,\"\",VLOOKUP(I28,CAD_Q!$C$6:$D$105,2,FALSE)))","v":""},{"$f":"IFERROR(VLOOKUP(I28,CAD_Q!$C$6:$E$109,3,FALSE)*F28,\"\")","v":""},null,null,"",1,0,1900,0,1,1900,"Nombre y el registro de entrada válida"]
[null,"",null,null,null,"",null,null,null,{"$f":"IF(I29=\"\",\"\",IF(VLOOKUP(I29,CAD_Q!$C$6:$D$105,2,FALSE)=0,\"\",VLOOKUP(I29,CAD_Q!$C$6:$D$105,2,FALSE)))","v":""},{"$f":"IFERROR(VLOOKUP(I29,CAD_Q!$C$6:$E$109,3,FALSE)*F29,\"\")","v":""},null,null,"",1,0,1900,0,1,1900,"Nombre y el registro de entrada válida"]
[null,"",null,null,null,"",null,null,null,{"$f":"IF(I30=\"\",\"\",IF(VLOOKUP(I30,CAD_Q!$C$6:$D$105,2,FALSE)=0,\"\",VLOOKUP(I30,CAD_Q!$C$6:$D$105,2,FALSE)))","v":""},{"$f":"IFERROR(VLOOKUP(I30,CAD_Q!$C$6:$E$109,3,FALSE)*F30,\"\")","v":""},null,null,"",1,0,1900,0,1,1900,"Nombre y el registro de entrada válida"]
[null,"",null,null,null,"",null,null,null,{"$f":"IF(I31=\"\",\"\",IF(VLOOKUP(I31,CAD_Q!$C$6:$D$105,2,FALSE)=0,\"\",VLOOKUP(I31,CAD_Q!$C$6:$D$105,2,FALSE)))","v":""},{"$f":"IFERROR(VLOOKUP(I31,CAD_Q!$C$6:$E$109,3,FALSE)*F31,\"\")","v":""},null,null,"",1,0,1900,0,1,1900,"Nombre y el registro de entrada válida"]
[null,"",null,null,null,"",null,null,null,{"$f":"IF(I32=\"\",\"\",IF(VLOOKUP(I32,CAD_Q!$C$6:$D$105,2,FALSE)=0,\"\",VLOOKUP(I32,CAD_Q!$C$6:$D$105,2,FALSE)))","v":""},{"$f":"IFERROR(VLOOKUP(I32,CAD_Q!$C$6:$E$109,3,FALSE)*F32,\"\")","v":""},null,null,"",1,0,1900,0,1,1900,"Nombre y el registro de entrada válida"]
[null,"",null,null,null,"",null,null,null,{"$f":"IF(I33=\"\",\"\",IF(VLOOKUP(I33,CAD_Q!$C$6:$D$105,2,FALSE)=0,\"\",VLOOKUP(I33,CAD_Q!$C$6:$D$105,2,FALSE)))","v":""},{"$f":"IFERROR(VLOOKUP(I33,CAD_Q!$C$6:$E$109,3,FALSE)*F33,\"\")","v":""},null,null,"",1,0,1900,0,1,1900,"Nombre y el registro de entrada válida"]
[null,"",null,null,null,"",null,null,null,{"$f":"IF(I34=\"\",\"\",IF(VLOOKUP(I34,CAD_Q!$C$6:$D$105,2,FALSE)=0,\"\",VLOOKUP(I34,CAD_Q!$C$6:$D$105,2,FALSE)))","v":""},{"$f":"IFERROR(VLOOKUP(I34,CAD_Q!$C$6:$E$109,3,FALSE)*F34,\"\")","v":""},null,null,"",1,0,1900,0,1,1900,"Nombre y el registro de entrada válida"]
[null,"",null,null,null,"",null,null,null,{"$f":"IF(I35=\"\",\"\",IF(VLOOKUP(I35,CAD_Q!$C$6:$D$105,2,FALSE)=0,\"\",VLOOKUP(I35,CAD_Q!$C$6:$D$105,2,FALSE)))","v":""},{"$f":"IFERROR(VLOOKUP(I35,CAD_Q!$C$6:$E$109,3,FALSE)*F35,\"\")","v":""},null,null,"",1,0,1900,0,1,1900,"Nombre y el registro de entrada válida"]
[null,"",null,null,null,"",null,null,null,{"$f":"IF(I36=\"\",\"\",IF(VLOOKUP(I36,CAD_Q!$C$6:$D$105,2,FALSE)=0,\"\",VLOOKUP(I36,CAD_Q!$C$6:$D$105,2,FALSE)))","v":""},{"$f":"IFERROR(VLOOKUP(I36,CAD_Q!$C$6:$E$109,3,FALSE)*F36,\"\")","v":""},null,null,"",1,0,1900,0,1,1900,"Nombre y el registro de entrada válida"]
[null,"",null,null,null,"",null,null,null,{"$f":"IF(I37=\"\",\"\",IF(VLOOKUP(I37,CAD_Q!$C$6:$D$105,2,FALSE)=0,\"\",VLOOKUP(I37,CAD_Q!$C$6:$D$105,2,FALSE)))","v":""},{"$f":"IFERROR(VLOOKUP(I37,CAD_Q!$C$6:$E$109,3,FALSE)*F37,\"\")","v":""},null,null,"",1,0,1900,0,1,1900,"Nombre y el registro de entrada válida"]
[null,"",null,null,null,"",null,null,null,{"$f":"IF(I38=\"\",\"\",IF(VLOOKUP(I38,CAD_Q!$C$6:$D$105,2,FALSE)=0,\"\",VLOOKUP(I38,CAD_Q!$C$6:$D$105,2,FALSE)))","v":""},{"$f":"IFERROR(VLOOKUP(I38,CAD_Q!$C$6:$E$109,3,FALSE)*F38,\"\")","v":""},null,null,"",1,0,1900,0,1,1900,"Nombre y el registro de entrada válida"]
[null,"",null,null,null,"",null,null,null,{"$f":"IF(I39=\"\",\"\",IF(VLOOKUP(I39,CAD_Q!$C$6:$D$105,2,FALSE)=0,\"\",VLOOKUP(I39,CAD_Q!$C$6:$D$105,2,FALSE)))","v":""},{"$f":"IFERROR(VLOOKUP(I39,CAD_Q!$C$6:$E$109,3,FALSE)*F39,\"\")","v":""},null,null,"",1,0,1900,0,1,1900,"Nombre y el registro de entrada válida"]
[null,"",null,null,null,"",null,null,null,{"$f":"IF(I40=\"\",\"\",IF(VLOOKUP(I40,CAD_Q!$C$6:$D$105,2,FALSE)=0,\"\",VLOOKUP(I40,CAD_Q!$C$6:$D$105,2,FALSE)))","v":""},{"$f":"IFERROR(VLOOKUP(I40,CAD_Q!$C$6:$E$109,3,FALSE)*F40,\"\")","v":""},null,null,"",1,0,1900,0,1,1900,"Nombre y el registro de entrada válida"]
[null,"",null,null,null,"",null,null,null,{"$f":"IF(I41=\"\",\"\",IF(VLOOKUP(I41,CAD_Q!$C$6:$D$105,2,FALSE)=0,\"\",VLOOKUP(I41,CAD_Q!$C$6:$D$105,2,FALSE)))","v":""},{"$f":"IFERROR(VLOOKUP(I41,CAD_Q!$C$6:$E$109,3,FALSE)*F41,\"\")","v":""},null,null,"",1,0,1900,0,1,1900,"Nombre y el registro de entrada válida"]
[null,"",null,null,null,"",null,null,null,{"$f":"IF(I42=\"\",\"\",IF(VLOOKUP(I42,CAD_Q!$C$6:$D$105,2,FALSE)=0,\"\",VLOOKUP(I42,CAD_Q!$C$6:$D$105,2,FALSE)))","v":""},{"$f":"IFERROR(VLOOKUP(I42,CAD_Q!$C$6:$E$109,3,FALSE)*F42,\"\")","v":""},null,null,"",1,0,1900,0,1,1900,"Nombre y el registro de entrada válida"]
[null,"",null,null,null,"",null,null,null,{"$f":"IF(I43=\"\",\"\",IF(VLOOKUP(I43,CAD_Q!$C$6:$D$105,2,FALSE)=0,\"\",VLOOKUP(I43,CAD_Q!$C$6:$D$105,2,FALSE)))","v":""},{"$f":"IFERROR(VLOOKUP(I43,CAD_Q!$C$6:$E$109,3,FALSE)*F43,\"\")","v":""},null,null,"",1,0,1900,0,1,1900,"Nombre y el registro de entrada válida"]
[null,"",null,null,null,"",null,null,null,{"$f":"IF(I44=\"\",\"\",IF(VLOOKUP(I44,CAD_Q!$C$6:$D$105,2,FALSE)=0,\"\",VLOOKUP(I44,CAD_Q!$C$6:$D$105,2,FALSE)))","v":""},{"$f":"IFERROR(VLOOKUP(I44,CAD_Q!$C$6:$E$109,3,FALSE)*F44,\"\")","v":""},null,null,"",1,0,1900,0,1,1900,"Nombre y el registro de entrada válida"]
[null,"",null,null,null,"",null,null,null,{"$f":"IF(I45=\"\",\"\",IF(VLOOKUP(I45,CAD_Q!$C$6:$D$105,2,FALSE)=0,\"\",VLOOKUP(I45,CAD_Q!$C$6:$D$105,2,FALSE)))","v":""},{"$f":"IFERROR(VLOOKUP(I45,CAD_Q!$C$6:$E$109,3,FALSE)*F45,\"\")","v":""},null,null,"",1,0,1900,0,1,1900,"Nombre y el registro de entrada válida"]
[null,"",null,null,null,"",null,null,null,{"$f":"IF(I46=\"\",\"\",IF(VLOOKUP(I46,CAD_Q!$C$6:$D$105,2,FALSE)=0,\"\",VLOOKUP(I46,CAD_Q!$C$6:$D$105,2,FALSE)))","v":""},{"$f":"IFERROR(VLOOKUP(I46,CAD_Q!$C$6:$E$109,3,FALSE)*F46,\"\")","v":""},null,null,"",1,0,1900,0,1,1900,"Nombre y el registro de entrada válida"]
[null,"",null,null,null,"",null,null,null,{"$f":"IF(I47=\"\",\"\",IF(VLOOKUP(I47,CAD_Q!$C$6:$D$105,2,FALSE)=0,\"\",VLOOKUP(I47,CAD_Q!$C$6:$D$105,2,FALSE)))","v":""},{"$f":"IFERROR(VLOOKUP(I47,CAD_Q!$C$6:$E$109,3,FALSE)*F47,\"\")","v":""},null,null,"",1,0,1900,0,1,1900,"Nombre y el registro de entrada válida"]
[null,"",null,null,null,"",null,null,null,{"$f":"IF(I48=\"\",\"\",IF(VLOOKUP(I48,CAD_Q!$C$6:$D$105,2,FALSE)=0,\"\",VLOOKUP(I48,CAD_Q!$C$6:$D$105,2,FALSE)))","v":""},{"$f":"IFERROR(VLOOKUP(I48,CAD_Q!$C$6:$E$109,3,FALSE)*F48,\"\")","v":""},null,null,"",1,0,1900,0,1,1900,"Nombre y el registro de entrada válida"]
[null,"",null,null,null,"",null,null,null,{"$f":"IF(I49=\"\",\"\",IF(VLOOKUP(I49,CAD_Q!$C$6:$D$105,2,FALSE)=0,\"\",VLOOKUP(I49,CAD_Q!$C$6:$D$105,2,FALSE)))","v":""},{"$f":"IFERROR(VLOOKUP(I49,CAD_Q!$C$6:$E$109,3,FALSE)*F49,\"\")","v":""},null,null,"",1,0,1900,0,1,1900,"Nombre y el registro de entrada válida"]
[null,"",null,null,null,"",null,null,null,{"$f":"IF(I50=\"\",\"\",IF(VLOOKUP(I50,CAD_Q!$C$6:$D$105,2,FALSE)=0,\"\",VLOOKUP(I50,CAD_Q!$C$6:$D$105,2,FALSE)))","v":""},{"$f":"IFERROR(VLOOKUP(I50,CAD_Q!$C$6:$E$109,3,FALSE)*F50,\"\")","v":""},null,null,"",1,0,1900,0,1,1900,"Nombre y el registro de entrada válida"]
[null,"",null,null,null,"",null,null,null,{"$f":"IF(I51=\"\",\"\",IF(VLOOKUP(I51,CAD_Q!$C$6:$D$105,2,FALSE)=0,\"\",VLOOKUP(I51,CAD_Q!$C$6:$D$105,2,FALSE)))","v":""},{"$f":"IFERROR(VLOOKUP(I51,CAD_Q!$C$6:$E$109,3,FALSE)*F51,\"\")","v":""},null,null,"",1,0,1900,0,1,1900,"Nombre y el registro de entrada válida"]
[null,"",null,null,null,"",null,null,null,{"$f":"IF(I52=\"\",\"\",IF(VLOOKUP(I52,CAD_Q!$C$6:$D$105,2,FALSE)=0,\"\",VLOOKUP(I52,CAD_Q!$C$6:$D$105,2,FALSE)))","v":""},{"$f":"IFERROR(VLOOKUP(I52,CAD_Q!$C$6:$E$109,3,FALSE)*F52,\"\")","v":""},null,null,"",1,0,1900,0,1,1900,"Nombre y el registro de entrada válida"]
[null,"",null,null,null,"",null,null,null,{"$f":"IF(I53=\"\",\"\",IF(VLOOKUP(I53,CAD_Q!$C$6:$D$105,2,FALSE)=0,\"\",VLOOKUP(I53,CAD_Q!$C$6:$D$105,2,FALSE)))","v":""},{"$f":"IFERROR(VLOOKUP(I53,CAD_Q!$C$6:$E$109,3,FALSE)*F53,\"\")","v":""},null,null,"",1,0,1900,0,1,1900,"Nombre y el registro de entrada válida"]
[null,"",null,null,null,"",null,null,null,{"$f":"IF(I54=\"\",\"\",IF(VLOOKUP(I54,CAD_Q!$C$6:$D$105,2,FALSE)=0,\"\",VLOOKUP(I54,CAD_Q!$C$6:$D$105,2,FALSE)))","v":""},{"$f":"IFERROR(VLOOKUP(I54,CAD_Q!$C$6:$E$109,3,FALSE)*F54,\"\")","v":""},null,null,"",1,0,1900,0,1,1900,"Nombre y el registro de entrada válida"]
[null,"",null,null,null,"",null,null,null,{"$f":"IF(I55=\"\",\"\",IF(VLOOKUP(I55,CAD_Q!$C$6:$D$105,2,FALSE)=0,\"\",VLOOKUP(I55,CAD_Q!$C$6:$D$105,2,FALSE)))","v":""},{"$f":"IFERROR(VLOOKUP(I55,CAD_Q!$C$6:$E$109,3,FALSE)*F55,\"\")","v":""},null,null,"",1,0,1900,0,1,1900,"Nombre y el registro de entrada válida"]
[null,"",null,null,null,"",null,null,null,{"$f":"IF(I56=\"\",\"\",IF(VLOOKUP(I56,CAD_Q!$C$6:$D$105,2,FALSE)=0,\"\",VLOOKUP(I56,CAD_Q!$C$6:$D$105,2,FALSE)))","v":""},{"$f":"IFERROR(VLOOKUP(I56,CAD_Q!$C$6:$E$109,3,FALSE)*F56,\"\")","v":""},null,null,"",1,0,1900,0,1,1900,"Nombre y el registro de entrada válida"]
[null,"",null,null,null,"",null,null,null,{"$f":"IF(I57=\"\",\"\",IF(VLOOKUP(I57,CAD_Q!$C$6:$D$105,2,FALSE)=0,\"\",VLOOKUP(I57,CAD_Q!$C$6:$D$105,2,FALSE)))","v":""},{"$f":"IFERROR(VLOOKUP(I57,CAD_Q!$C$6:$E$109,3,FALSE)*F57,\"\")","v":""},null,null,"",1,0,1900,0,1,1900,"Nombre y el registro de entrada válida"]
[null,"",null,null,null,"",null,null,null,{"$f":"IF(I58=\"\",\"\",IF(VLOOKUP(I58,CAD_Q!$C$6:$D$105,2,FALSE)=0,\"\",VLOOKUP(I58,CAD_Q!$C$6:$D$105,2,FALSE)))","v":""},{"$f":"IFERROR(VLOOKUP(I58,CAD_Q!$C$6:$E$109,3,FALSE)*F58,\"\")","v":""},null,null,"",1,0,1900,0,1,1900,"Nombre y el registro de entrada válida"]
[null,"",null,null,null,"",null,null,null,{"$f":"IF(I59=\"\",\"\",IF(VLOOKUP(I59,CAD_Q!$C$6:$D$105,2,FALSE)=0,\"\",VLOOKUP(I59,CAD_Q!$C$6:$D$105,2,FALSE)))","v":""},{"$f":"IFERROR(VLOOKUP(I59,CAD_Q!$C$6:$E$109,3,FALSE)*F59,\"\")","v":""},null,null,"",1,0,1900,0,1,1900,"Nombre y el registro de entrada válida"]
[null,"",null,null,null,"",null,null,null,{"$f":"IF(I60=\"\",\"\",IF(VLOOKUP(I60,CAD_Q!$C$6:$D$105,2,FALSE)=0,\"\",VLOOKUP(I60,CAD_Q!$C$6:$D$105,2,FALSE)))","v":""},{"$f":"IFERROR(VLOOKUP(I60,CAD_Q!$C$6:$E$109,3,FALSE)*F60,\"\")","v":""},null,null,"",1,0,1900,0,1,1900,"Nombre y el registro de entrada válida"]
[null,"",null,null,null,"",null,null,null,{"$f":"IF(I61=\"\",\"\",IF(VLOOKUP(I61,CAD_Q!$C$6:$D$105,2,FALSE)=0,\"\",VLOOKUP(I61,CAD_Q!$C$6:$D$105,2,FALSE)))","v":""},{"$f":"IFERROR(VLOOKUP(I61,CAD_Q!$C$6:$E$109,3,FALSE)*F61,\"\")","v":""},null,null,"",1,0,1900,0,1,1900,"Nombre y el registro de entrada válida"]
[null,"",null,null,null,"",null,null,null,{"$f":"IF(I62=\"\",\"\",IF(VLOOKUP(I62,CAD_Q!$C$6:$D$105,2,FALSE)=0,\"\",VLOOKUP(I62,CAD_Q!$C$6:$D$105,2,FALSE)))","v":""},{"$f":"IFERROR(VLOOKUP(I62,CAD_Q!$C$6:$E$109,3,FALSE)*F62,\"\")","v":""},null,null,"",1,0,1900,0,1,1900,"Nombre y el registro de entrada válida"]
[null,"",null,null,null,"",null,null,null,{"$f":"IF(I63=\"\",\"\",IF(VLOOKUP(I63,CAD_Q!$C$6:$D$105,2,FALSE)=0,\"\",VLOOKUP(I63,CAD_Q!$C$6:$D$105,2,FALSE)))","v":""},{"$f":"IFERROR(VLOOKUP(I63,CAD_Q!$C$6:$E$109,3,FALSE)*F63,\"\")","v":""},null,null,"",1,0,1900,0,1,1900,"Nombre y el registro de entrada válida"]
[null,"",null,null,null,"",null,null,null,{"$f":"IF(I64=\"\",\"\",IF(VLOOKUP(I64,CAD_Q!$C$6:$D$105,2,FALSE)=0,\"\",VLOOKUP(I64,CAD_Q!$C$6:$D$105,2,FALSE)))","v":""},{"$f":"IFERROR(VLOOKUP(I64,CAD_Q!$C$6:$E$109,3,FALSE)*F64,\"\")","v":""},null,null,"",1,0,1900,0,1,1900,"Nombre y el registro de entrada válida"]
[null,"",null,null,null,"",null,null,null,{"$f":"IF(I65=\"\",\"\",IF(VLOOKUP(I65,CAD_Q!$C$6:$D$105,2,FALSE)=0,\"\",VLOOKUP(I65,CAD_Q!$C$6:$D$105,2,FALSE)))","v":""},{"$f":"IFERROR(VLOOKUP(I65,CAD_Q!$C$6:$E$109,3,FALSE)*F65,\"\")","v":""},null,null,"",1,0,1900,0,1,1900,"Nombre y el registro de entrada válida"]
[null,"",null,null,null,"",null,null,null,{"$f":"IF(I66=\"\",\"\",IF(VLOOKUP(I66,CAD_Q!$C$6:$D$105,2,FALSE)=0,\"\",VLOOKUP(I66,CAD_Q!$C$6:$D$105,2,FALSE)))","v":""},{"$f":"IFERROR(VLOOKUP(I66,CAD_Q!$C$6:$E$109,3,FALSE)*F66,\"\")","v":""},null,null,"",1,0,1900,0,1,1900,"Nombre y el registro de entrada válida"]
[null,"",null,null,null,"",null,null,null,{"$f":"IF(I67=\"\",\"\",IF(VLOOKUP(I67,CAD_Q!$C$6:$D$105,2,FALSE)=0,\"\",VLOOKUP(I67,CAD_Q!$C$6:$D$105,2,FALSE)))","v":""},{"$f":"IFERROR(VLOOKUP(I67,CAD_Q!$C$6:$E$109,3,FALSE)*F67,\"\")","v":""},null,null,"",1,0,1900,0,1,1900,"Nombre y el registro de entrada válida"]
[null,"",null,null,null,"",null,null,null,{"$f":"IF(I68=\"\",\"\",IF(VLOOKUP(I68,CAD_Q!$C$6:$D$105,2,FALSE)=0,\"\",VLOOKUP(I68,CAD_Q!$C$6:$D$105,2,FALSE)))","v":""},{"$f":"IFERROR(VLOOKUP(I68,CAD_Q!$C$6:$E$109,3,FALSE)*F68,\"\")","v":""},null,null,"",1,0,1900,0,1,1900,"Nombre y el registro de entrada válida"]
[null,"",null,null,null,"",null,null,null,{"$f":"IF(I69=\"\",\"\",IF(VLOOKUP(I69,CAD_Q!$C$6:$D$105,2,FALSE)=0,\"\",VLOOKUP(I69,CAD_Q!$C$6:$D$105,2,FALSE)))","v":""},{"$f":"IFERROR(VLOOKUP(I69,CAD_Q!$C$6:$E$109,3,FALSE)*F69,\"\")","v":""},null,null,"",1,0,1900,0,1,1900,"Nombre y el registro de entrada válida"]
[null,"",null,null,null,"",null,null,null,{"$f":"IF(I70=\"\",\"\",IF(VLOOKUP(I70,CAD_Q!$C$6:$D$105,2,FALSE)=0,\"\",VLOOKUP(I70,CAD_Q!$C$6:$D$105,2,FALSE)))","v":""},{"$f":"IFERROR(VLOOKUP(I70,CAD_Q!$C$6:$E$109,3,FALSE)*F70,\"\")","v":""},null,null,"",1,0,1900,0,1,1900,"Nombre y el registro de entrada válida"]
[null,{"$f":"CONCATENATE(C71,D71)","v":""},null,null,null,"",null,null,null,{"$f":"IF(I71=\"\",\"\",IF(VLOOKUP(I71,CAD_Q!$C$6:$D$105,2,FALSE)=0,\"\",VLOOKUP(I71,CAD_Q!$C$6:$D$105,2,FALSE)))","v":""},{"$f":"IFERROR(VLOOKUP(I71,CAD_Q!$C$6:$E$109,3,FALSE)*F71,\"\")","v":""},null,null,{"$f":"IFERROR(K71-L71+M71,\"\")","v":""},1,0,1900,0,1,1900,"Nombre y el registro de entrada válida"]
[null,"",null,null,null,{"$f":"IF(OR(D72=\"\",E72=\"\"),\"\",E72-D72)","v":""},null,null,null,{"$f":"IF(I72=\"\",\"\",IF(VLOOKUP(I72,CAD_Q!$C$6:$D$105,2,FALSE)=0,\"\",VLOOKUP(I72,CAD_Q!$C$6:$D$105,2,FALSE)))","v":""},{"$f":"IFERROR(VLOOKUP(I72,CAD_Q!$C$6:$E$109,3,FALSE)*F72,\"\")","v":""},null,null,"",1,0,1900,0,1,1900,"Nombre y el registro de entrada válida"]
[null,"",null,null,null,"",null,null,null,{"$f":"IF(I73=\"\",\"\",IF(VLOOKUP(I73,CAD_Q!$C$6:$D$105,2,FALSE)=0,\"\",VLOOKUP(I73,CAD_Q!$C$6:$D$105,2,FALSE)))","v":""},{"$f":"IFERROR(VLOOKUP(I73,CAD_Q!$C$6:$E$109,3,FALSE)*F73,\"\")","v":""},null,null,"",1,0,1900,0,1,1900,"Nombre y el registro de entrada válida"]
[null,"",null,null,null,"",null,null,null,{"$f":"IF(I74=\"\",\"\",IF(VLOOKUP(I74,CAD_Q!$C$6:$D$105,2,FALSE)=0,\"\",VLOOKUP(I74,CAD_Q!$C$6:$D$105,2,FALSE)))","v":""},{"$f":"IFERROR(VLOOKUP(I74,CAD_Q!$C$6:$E$109,3,FALSE)*F74,\"\")","v":""},null,null,"",{"$f":"MONTH(D74)","v":1},{"$f":"DAY(D74)","v":0},{"$f":"YEAR(D74)","v":1900},{"$f":"DAY(E74)","v":0},{"$f":"MONTH(E74)","v":1},{"$f":"YEAR(E74)","v":1900},"Nombre y el registro de entrada válida"]
[null,"",null,null,null,"",null,null,null,{"$f":"IF(I75=\"\",\"\",IF(VLOOKUP(I75,CAD_Q!$C$6:$D$105,2,FALSE)=0,\"\",VLOOKUP(I75,CAD_Q!$C$6:$D$105,2,FALSE)))","v":""},{"$f":"IFERROR(VLOOKUP(I75,CAD_Q!$C$6:$E$109,3,FALSE)*F75,\"\")","v":""},null,null,"",1,0,1900,0,1,1900,"Nombre y el registro de entrada válida"]
[null,"",null,null,null,"",null,null,null,{"$f":"IF(I76=\"\",\"\",IF(VLOOKUP(I76,CAD_Q!$C$6:$D$105,2,FALSE)=0,\"\",VLOOKUP(I76,CAD_Q!$C$6:$D$105,2,FALSE)))","v":""},{"$f":"IFERROR(VLOOKUP(I76,CAD_Q!$C$6:$E$109,3,FALSE)*F76,\"\")","v":""},null,null,"",1,0,1900,0,1,1900,"Nombre y el registro de entrada válida"]
[null,"",null,null,null,"",null,null,null,{"$f":"IF(I77=\"\",\"\",IF(VLOOKUP(I77,CAD_Q!$C$6:$D$105,2,FALSE)=0,\"\",VLOOKUP(I77,CAD_Q!$C$6:$D$105,2,FALSE)))","v":""},{"$f":"IFERROR(VLOOKUP(I77,CAD_Q!$C$6:$E$109,3,FALSE)*F77,\"\")","v":""},null,null,"",1,0,1900,0,1,1900,"Nombre y el registro de entrada válida"]
[null,"",null,null,null,"",null,null,null,{"$f":"IF(I78=\"\",\"\",IF(VLOOKUP(I78,CAD_Q!$C$6:$D$105,2,FALSE)=0,\"\",VLOOKUP(I78,CAD_Q!$C$6:$D$105,2,FALSE)))","v":""},{"$f":"IFERROR(VLOOKUP(I78,CAD_Q!$C$6:$E$109,3,FALSE)*F78,\"\")","v":""},null,null,"",1,0,1900,0,1,1900,"Nombre y el registro de entrada válida"]
[null,"",null,null,null,"",null,null,null,{"$f":"IF(I79=\"\",\"\",IF(VLOOKUP(I79,CAD_Q!$C$6:$D$105,2,FALSE)=0,\"\",VLOOKUP(I79,CAD_Q!$C$6:$D$105,2,FALSE)))","v":""},{"$f":"IFERROR(VLOOKUP(I79,CAD_Q!$C$6:$E$109,3,FALSE)*F79,\"\")","v":""},null,null,"",1,0,1900,0,1,1900,"Nombre y el registro de entrada válida"]
[null,"",null,null,null,"",null,null,null,{"$f":"IF(I80=\"\",\"\",IF(VLOOKUP(I80,CAD_Q!$C$6:$D$105,2,FALSE)=0,\"\",VLOOKUP(I80,CAD_Q!$C$6:$D$105,2,FALSE)))","v":""},{"$f":"IFERROR(VLOOKUP(I80,CAD_Q!$C$6:$E$109,3,FALSE)*F80,\"\")","v":""},null,null,"",1,0,1900,0,1,1900,"Nombre y el registro de entrada válida"]
[null,"",null,null,null,"",null,null,null,{"$f":"IF(I81=\"\",\"\",IF(VLOOKUP(I81,CAD_Q!$C$6:$D$105,2,FALSE)=0,\"\",VLOOKUP(I81,CAD_Q!$C$6:$D$105,2,FALSE)))","v":""},{"$f":"IFERROR(VLOOKUP(I81,CAD_Q!$C$6:$E$109,3,FALSE)*F81,\"\")","v":""},null,null,"",1,0,1900,0,1,1900,"Nombre y el registro de entrada válida"]
[null,"",null,null,null,"",null,null,null,{"$f":"IF(I82=\"\",\"\",IF(VLOOKUP(I82,CAD_Q!$C$6:$D$105,2,FALSE)=0,\"\",VLOOKUP(I82,CAD_Q!$C$6:$D$105,2,FALSE)))","v":""},{"$f":"IFERROR(VLOOKUP(I82,CAD_Q!$C$6:$E$109,3,FALSE)*F82,\"\")","v":""},null,null,"",1,0,1900,0,1,1900,"Nombre y el registro de entrada válida"]
[null,"",null,null,null,"",null,null,null,{"$f":"IF(I83=\"\",\"\",IF(VLOOKUP(I83,CAD_Q!$C$6:$D$105,2,FALSE)=0,\"\",VLOOKUP(I83,CAD_Q!$C$6:$D$105,2,FALSE)))","v":""},{"$f":"IFERROR(VLOOKUP(I83,CAD_Q!$C$6:$E$109,3,FALSE)*F83,\"\")","v":""},null,null,"",1,0,1900,0,1,1900,"Nombre y el registro de entrada válida"]
[null,"",null,null,null,"",null,null,null,{"$f":"IF(I84=\"\",\"\",IF(VLOOKUP(I84,CAD_Q!$C$6:$D$105,2,FALSE)=0,\"\",VLOOKUP(I84,CAD_Q!$C$6:$D$105,2,FALSE)))","v":""},{"$f":"IFERROR(VLOOKUP(I84,CAD_Q!$C$6:$E$109,3,FALSE)*F84,\"\")","v":""},null,null,"",1,0,1900,0,1,1900,"Nombre y el registro de entrada válida"]
[null,"",null,null,null,"",null,null,null,{"$f":"IF(I85=\"\",\"\",IF(VLOOKUP(I85,CAD_Q!$C$6:$D$105,2,FALSE)=0,\"\",VLOOKUP(I85,CAD_Q!$C$6:$D$105,2,FALSE)))","v":""},{"$f":"IFERROR(VLOOKUP(I85,CAD_Q!$C$6:$E$109,3,FALSE)*F85,\"\")","v":""},null,null,"",1,0,1900,0,1,1900,"Nombre y el registro de entrada válida"]
[null,"",null,null,null,"",null,null,null,{"$f":"IF(I86=\"\",\"\",IF(VLOOKUP(I86,CAD_Q!$C$6:$D$105,2,FALSE)=0,\"\",VLOOKUP(I86,CAD_Q!$C$6:$D$105,2,FALSE)))","v":""},{"$f":"IFERROR(VLOOKUP(I86,CAD_Q!$C$6:$E$109,3,FALSE)*F86,\"\")","v":""},null,null,"",1,0,1900,0,1,1900,"Nombre y el registro de entrada válida"]
[null,"",null,null,null,"",null,null,null,{"$f":"IF(I87=\"\",\"\",IF(VLOOKUP(I87,CAD_Q!$C$6:$D$105,2,FALSE)=0,\"\",VLOOKUP(I87,CAD_Q!$C$6:$D$105,2,FALSE)))","v":""},{"$f":"IFERROR(VLOOKUP(I87,CAD_Q!$C$6:$E$109,3,FALSE)*F87,\"\")","v":""},null,null,"",1,0,1900,0,1,1900,"Nombre y el registro de entrada válida"]
[null,"",null,null,null,"",null,null,null,{"$f":"IF(I88=\"\",\"\",IF(VLOOKUP(I88,CAD_Q!$C$6:$D$105,2,FALSE)=0,\"\",VLOOKUP(I88,CAD_Q!$C$6:$D$105,2,FALSE)))","v":""},{"$f":"IFERROR(VLOOKUP(I88,CAD_Q!$C$6:$E$109,3,FALSE)*F88,\"\")","v":""},null,null,"",1,0,1900,0,1,1900,"Nombre y el registro de entrada válida"]
[null,"",null,null,null,"",null,null,null,{"$f":"IF(I89=\"\",\"\",IF(VLOOKUP(I89,CAD_Q!$C$6:$D$105,2,FALSE)=0,\"\",VLOOKUP(I89,CAD_Q!$C$6:$D$105,2,FALSE)))","v":""},{"$f":"IFERROR(VLOOKUP(I89,CAD_Q!$C$6:$E$109,3,FALSE)*F89,\"\")","v":""},null,null,"",1,0,1900,0,1,1900,"Nombre y el registro de entrada válida"]
[null,"",null,null,null,"",null,null,null,{"$f":"IF(I90=\"\",\"\",IF(VLOOKUP(I90,CAD_Q!$C$6:$D$105,2,FALSE)=0,\"\",VLOOKUP(I90,CAD_Q!$C$6:$D$105,2,FALSE)))","v":""},{"$f":"IFERROR(VLOOKUP(I90,CAD_Q!$C$6:$E$109,3,FALSE)*F90,\"\")","v":""},null,null,"",1,0,1900,0,1,1900,"Nombre y el registro de entrada válida"]
[null,"",null,null,null,"",null,null,null,{"$f":"IF(I91=\"\",\"\",IF(VLOOKUP(I91,CAD_Q!$C$6:$D$105,2,FALSE)=0,\"\",VLOOKUP(I91,CAD_Q!$C$6:$D$105,2,FALSE)))","v":""},{"$f":"IFERROR(VLOOKUP(I91,CAD_Q!$C$6:$E$109,3,FALSE)*F91,\"\")","v":""},null,null,"",1,0,1900,0,1,1900,"Nombre y el registro de entrada válida"]
[null,"",null,null,null,"",null,null,null,{"$f":"IF(I92=\"\",\"\",IF(VLOOKUP(I92,CAD_Q!$C$6:$D$105,2,FALSE)=0,\"\",VLOOKUP(I92,CAD_Q!$C$6:$D$105,2,FALSE)))","v":""},{"$f":"IFERROR(VLOOKUP(I92,CAD_Q!$C$6:$E$109,3,FALSE)*F92,\"\")","v":""},null,null,"",1,0,1900,0,1,1900,"Nombre y el registro de entrada válida"]
[null,"",null,null,null,"",null,null,null,{"$f":"IF(I93=\"\",\"\",IF(VLOOKUP(I93,CAD_Q!$C$6:$D$105,2,FALSE)=0,\"\",VLOOKUP(I93,CAD_Q!$C$6:$D$105,2,FALSE)))","v":""},{"$f":"IFERROR(VLOOKUP(I93,CAD_Q!$C$6:$E$109,3,FALSE)*F93,\"\")","v":""},null,null,"",1,0,1900,0,1,1900,"Nombre y el registro de entrada válida"]
[null,"",null,null,null,"",null,null,null,{"$f":"IF(I94=\"\",\"\",IF(VLOOKUP(I94,CAD_Q!$C$6:$D$105,2,FALSE)=0,\"\",VLOOKUP(I94,CAD_Q!$C$6:$D$105,2,FALSE)))","v":""},{"$f":"IFERROR(VLOOKUP(I94,CAD_Q!$C$6:$E$109,3,FALSE)*F94,\"\")","v":""},null,null,"",1,0,1900,0,1,1900,"Nombre y el registro de entrada válida"]
[null,"",null,null,null,"",null,null,null,{"$f":"IF(I95=\"\",\"\",IF(VLOOKUP(I95,CAD_Q!$C$6:$D$105,2,FALSE)=0,\"\",VLOOKUP(I95,CAD_Q!$C$6:$D$105,2,FALSE)))","v":""},{"$f":"IFERROR(VLOOKUP(I95,CAD_Q!$C$6:$E$109,3,FALSE)*F95,\"\")","v":""},null,null,"",1,0,1900,0,1,1900,"Nombre y el registro de entrada válida"]
[null,"",null,null,null,"",null,null,null,{"$f":"IF(I96=\"\",\"\",IF(VLOOKUP(I96,CAD_Q!$C$6:$D$105,2,FALSE)=0,\"\",VLOOKUP(I96,CAD_Q!$C$6:$D$105,2,FALSE)))","v":""},{"$f":"IFERROR(VLOOKUP(I96,CAD_Q!$C$6:$E$109,3,FALSE)*F96,\"\")","v":""},null,null,"",1,0,1900,0,1,1900,"Nombre y el registro de entrada válida"]
[null,"",null,null,null,"",null,null,null,{"$f":"IF(I97=\"\",\"\",IF(VLOOKUP(I97,CAD_Q!$C$6:$D$105,2,FALSE)=0,\"\",VLOOKUP(I97,CAD_Q!$C$6:$D$105,2,FALSE)))","v":""},{"$f":"IFERROR(VLOOKUP(I97,CAD_Q!$C$6:$E$109,3,FALSE)*F97,\"\")","v":""},null,null,"",1,0,1900,0,1,1900,"Nombre y el registro de entrada válida"]
[null,"",null,null,null,"",null,null,null,{"$f":"IF(I98=\"\",\"\",IF(VLOOKUP(I98,CAD_Q!$C$6:$D$105,2,FALSE)=0,\"\",VLOOKUP(I98,CAD_Q!$C$6:$D$105,2,FALSE)))","v":""},{"$f":"IFERROR(VLOOKUP(I98,CAD_Q!$C$6:$E$109,3,FALSE)*F98,\"\")","v":""},null,null,"",1,0,1900,0,1,1900,"Nombre y el registro de entrada válida"]
[null,"",null,null,null,"",null,null,null,{"$f":"IF(I99=\"\",\"\",IF(VLOOKUP(I99,CAD_Q!$C$6:$D$105,2,FALSE)=0,\"\",VLOOKUP(I99,CAD_Q!$C$6:$D$105,2,FALSE)))","v":""},{"$f":"IFERROR(VLOOKUP(I99,CAD_Q!$C$6:$E$109,3,FALSE)*F99,\"\")","v":""},null,null,"",1,0,1900,0,1,1900,"Nombre y el registro de entrada válida"]
[null,"",null,null,null,{"$f":"IF(OR(D100=\"\",E100=\"\"),\"\",E100-D100)","v":""},null,null,null,{"$f":"IF(I100=\"\",\"\",IF(VLOOKUP(I100,CAD_Q!$C$6:$D$105,2,FALSE)=0,\"\",VLOOKUP(I100,CAD_Q!$C$6:$D$105,2,FALSE)))","v":""},{"$f":"IFERROR(VLOOKUP(I100,CAD_Q!$C$6:$E$109,3,FALSE)*F100,\"\")","v":""},null,null,"",1,0,1900,0,1,1900,"Nombre y el registro de entrada válida"]
[null,"",null,null,null,"",null,null,null,{"$f":"IF(I101=\"\",\"\",IF(VLOOKUP(I101,CAD_Q!$C$6:$D$105,2,FALSE)=0,\"\",VLOOKUP(I101,CAD_Q!$C$6:$D$105,2,FALSE)))","v":""},{"$f":"IFERROR(VLOOKUP(I101,CAD_Q!$C$6:$E$109,3,FALSE)*F101,\"\")","v":""},null,null,"",1,0,1900,0,1,1900,"Nombre y el registro de entrada válida"]
[null,"",null,null,null,"",null,null,null,{"$f":"IF(I102=\"\",\"\",IF(VLOOKUP(I102,CAD_Q!$C$6:$D$105,2,FALSE)=0,\"\",VLOOKUP(I102,CAD_Q!$C$6:$D$105,2,FALSE)))","v":""},{"$f":"IFERROR(VLOOKUP(I102,CAD_Q!$C$6:$E$109,3,FALSE)*F102,\"\")","v":""},null,null,"",1,0,1900,0,1,1900,"Nombre y el registro de entrada válida"]
[null,"",null,null,null,"",null,null,null,{"$f":"IF(I103=\"\",\"\",IF(VLOOKUP(I103,CAD_Q!$C$6:$D$105,2,FALSE)=0,\"\",VLOOKUP(I103,CAD_Q!$C$6:$D$105,2,FALSE)))","v":""},{"$f":"IFERROR(VLOOKUP(I103,CAD_Q!$C$6:$E$109,3,FALSE)*F103,\"\")","v":""},null,null,"",1,0,1900,0,1,1900,"Nombre y el registro de entrada válida"]
[null,"",null,null,null,"",null,null,null,{"$f":"IF(I104=\"\",\"\",IF(VLOOKUP(I104,CAD_Q!$C$6:$D$105,2,FALSE)=0,\"\",VLOOKUP(I104,CAD_Q!$C$6:$D$105,2,FALSE)))","v":""},{"$f":"IFERROR(VLOOKUP(I104,CAD_Q!$C$6:$E$109,3,FALSE)*F104,\"\")","v":""},null,null,"",1,0,1900,0,1,1900,"Nombre y el registro de entrada válida"]
[null,"",null,null,null,"",null,null,null,{"$f":"IF(I105=\"\",\"\",IF(VLOOKUP(I105,CAD_Q!$C$6:$D$105,2,FALSE)=0,\"\",VLOOKUP(I105,CAD_Q!$C$6:$D$105,2,FALSE)))","v":""},{"$f":"IFERROR(VLOOKUP(I105,CAD_Q!$C$6:$E$109,3,FALSE)*F105,\"\")","v":""},null,null,"",1,0,1900,0,1,1900,"Nombre y el registro de entrada válida"]
[null,"",null,null,null,"",null,null,null,{"$f":"IF(I106=\"\",\"\",IF(VLOOKUP(I106,CAD_Q!$C$6:$D$105,2,FALSE)=0,\"\",VLOOKUP(I106,CAD_Q!$C$6:$D$105,2,FALSE)))","v":""},{"$f":"IFERROR(VLOOKUP(I106,CAD_Q!$C$6:$E$109,3,FALSE)*F106,\"\")","v":""},null,null,"",1,0,1900,0,1,1900,"Nombre y el registro de entrada válida"]
[null,"",null,null,null,"",null,null,null,{"$f":"IF(I107=\"\",\"\",IF(VLOOKUP(I107,CAD_Q!$C$6:$D$105,2,FALSE)=0,\"\",VLOOKUP(I107,CAD_Q!$C$6:$D$105,2,FALSE)))","v":""},{"$f":"IFERROR(VLOOKUP(I107,CAD_Q!$C$6:$E$109,3,FALSE)*F107,\"\")","v":""},null,null,"",1,0,1900,0,1,1900,"Nombre y el registro de entrada válida"]
[null,"",null,null,null,"",null,null,null,{"$f":"IF(I108=\"\",\"\",IF(VLOOKUP(I108,CAD_Q!$C$6:$D$105,2,FALSE)=0,\"\",VLOOKUP(I108,CAD_Q!$C$6:$D$105,2,FALSE)))","v":""},{"$f":"IFERROR(VLOOKUP(I108,CAD_Q!$C$6:$E$109,3,FALSE)*F108,\"\")","v":""},null,null,"",1,0,1900,0,1,1900,"Nombre y el registro de entrada válida"]
[null,"",null,null,null,"",null,null,null,{"$f":"IF(I109=\"\",\"\",IF(VLOOKUP(I109,CAD_Q!$C$6:$D$105,2,FALSE)=0,\"\",VLOOKUP(I109,CAD_Q!$C$6:$D$105,2,FALSE)))","v":""},{"$f":"IFERROR(VLOOKUP(I109,CAD_Q!$C$6:$E$109,3,FALSE)*F109,\"\")","v":""},null,null,"",1,0,1900,0,1,1900,"Nombre y el registro de entrada válida"]
[null,"",null,null,null,"",null,null,null,{"$f":"IF(I110=\"\",\"\",IF(VLOOKUP(I110,CAD_Q!$C$6:$D$105,2,FALSE)=0,\"\",VLOOKUP(I110,CAD_Q!$C$6:$D$105,2,FALSE)))","v":""},{"$f":"IFERROR(VLOOKUP(I110,CAD_Q!$C$6:$E$109,3,FALSE)*F110,\"\")","v":""},null,null,"",1,0,1900,0,1,1900,"Nombre y el registro de entrada válida"]
[null,"",null,null,null,"",null,null,null,{"$f":"IF(I111=\"\",\"\",IF(VLOOKUP(I111,CAD_Q!$C$6:$D$105,2,FALSE)=0,\"\",VLOOKUP(I111,CAD_Q!$C$6:$D$105,2,FALSE)))","v":""},{"$f":"IFERROR(VLOOKUP(I111,CAD_Q!$C$6:$E$109,3,FALSE)*F111,\"\")","v":""},null,null,"",1,0,1900,0,1,1900,"Nombre y el registro de entrada válida"]
[null,"",null,null,null,"",null,null,null,{"$f":"IF(I112=\"\",\"\",IF(VLOOKUP(I112,CAD_Q!$C$6:$D$105,2,FALSE)=0,\"\",VLOOKUP(I112,CAD_Q!$C$6:$D$105,2,FALSE)))","v":""},{"$f":"IFERROR(VLOOKUP(I112,CAD_Q!$C$6:$E$109,3,FALSE)*F112,\"\")","v":""},null,null,"",1,0,1900,0,1,1900,"Nombre y el registro de entrada válida"]
[null,"",null,null,null,"",null,null,null,{"$f":"IF(I113=\"\",\"\",IF(VLOOKUP(I113,CAD_Q!$C$6:$D$105,2,FALSE)=0,\"\",VLOOKUP(I113,CAD_Q!$C$6:$D$105,2,FALSE)))","v":""},{"$f":"IFERROR(VLOOKUP(I113,CAD_Q!$C$6:$E$109,3,FALSE)*F113,\"\")","v":""},null,null,"",1,0,1900,0,1,1900,"Nombre y el registro de entrada válida"]
[null,"",null,null,null,"",null,null,null,{"$f":"IF(I114=\"\",\"\",IF(VLOOKUP(I114,CAD_Q!$C$6:$D$105,2,FALSE)=0,\"\",VLOOKUP(I114,CAD_Q!$C$6:$D$105,2,FALSE)))","v":""},{"$f":"IFERROR(VLOOKUP(I114,CAD_Q!$C$6:$E$109,3,FALSE)*F114,\"\")","v":""},null,null,"",1,0,1900,0,1,1900,"Nombre y el registro de entrada válida"]
[null,"",null,null,null,"",null,null,null,{"$f":"IF(I115=\"\",\"\",IF(VLOOKUP(I115,CAD_Q!$C$6:$D$105,2,FALSE)=0,\"\",VLOOKUP(I115,CAD_Q!$C$6:$D$105,2,FALSE)))","v":""},{"$f":"IFERROR(VLOOKUP(I115,CAD_Q!$C$6:$E$109,3,FALSE)*F115,\"\")","v":""},null,null,"",1,0,1900,0,1,1900,"Nombre y el registro de entrada válida"]
[null,"",null,null,null,"",null,null,null,{"$f":"IF(I116=\"\",\"\",IF(VLOOKUP(I116,CAD_Q!$C$6:$D$105,2,FALSE)=0,\"\",VLOOKUP(I116,CAD_Q!$C$6:$D$105,2,FALSE)))","v":""},{"$f":"IFERROR(VLOOKUP(I116,CAD_Q!$C$6:$E$109,3,FALSE)*F116,\"\")","v":""},null,null,"",1,0,1900,0,1,1900,"Nombre y el registro de entrada válida"]
[null,"",null,null,null,"",null,null,null,{"$f":"IF(I117=\"\",\"\",IF(VLOOKUP(I117,CAD_Q!$C$6:$D$105,2,FALSE)=0,\"\",VLOOKUP(I117,CAD_Q!$C$6:$D$105,2,FALSE)))","v":""},{"$f":"IFERROR(VLOOKUP(I117,CAD_Q!$C$6:$E$109,3,FALSE)*F117,\"\")","v":""},null,null,"",1,0,1900,0,1,1900,"Nombre y el registro de entrada válida"]
[null,"",null,null,null,"",null,null,null,{"$f":"IF(I118=\"\",\"\",IF(VLOOKUP(I118,CAD_Q!$C$6:$D$105,2,FALSE)=0,\"\",VLOOKUP(I118,CAD_Q!$C$6:$D$105,2,FALSE)))","v":""},{"$f":"IFERROR(VLOOKUP(I118,CAD_Q!$C$6:$E$109,3,FALSE)*F118,\"\")","v":""},null,null,"",1,0,1900,0,1,1900,"Nombre y el registro de entrada válida"]
[null,"",null,null,null,"",null,null,null,{"$f":"IF(I119=\"\",\"\",IF(VLOOKUP(I119,CAD_Q!$C$6:$D$105,2,FALSE)=0,\"\",VLOOKUP(I119,CAD_Q!$C$6:$D$105,2,FALSE)))","v":""},{"$f":"IFERROR(VLOOKUP(I119,CAD_Q!$C$6:$E$109,3,FALSE)*F119,\"\")","v":""},null,null,"",1,0,1900,0,1,1900,"Nombre y el registro de entrada válida"]
[null,"",null,null,null,"",null,null,null,{"$f":"IF(I120=\"\",\"\",IF(VLOOKUP(I120,CAD_Q!$C$6:$D$105,2,FALSE)=0,\"\",VLOOKUP(I120,CAD_Q!$C$6:$D$105,2,FALSE)))","v":""},{"$f":"IFERROR(VLOOKUP(I120,CAD_Q!$C$6:$E$109,3,FALSE)*F120,\"\")","v":""},null,null,"",1,0,1900,0,1,1900,"Nombre y el registro de entrada válida"]
[null,"",null,null,null,"",null,null,null,{"$f":"IF(I121=\"\",\"\",IF(VLOOKUP(I121,CAD_Q!$C$6:$D$105,2,FALSE)=0,\"\",VLOOKUP(I121,CAD_Q!$C$6:$D$105,2,FALSE)))","v":""},{"$f":"IFERROR(VLOOKUP(I121,CAD_Q!$C$6:$E$109,3,FALSE)*F121,\"\")","v":""},null,null,"",1,0,1900,0,1,1900,"Nombre y el registro de entrada válida"]
[null,"",null,null,null,"",null,null,null,{"$f":"IF(I122=\"\",\"\",IF(VLOOKUP(I122,CAD_Q!$C$6:$D$105,2,FALSE)=0,\"\",VLOOKUP(I122,CAD_Q!$C$6:$D$105,2,FALSE)))","v":""},{"$f":"IFERROR(VLOOKUP(I122,CAD_Q!$C$6:$E$109,3,FALSE)*F122,\"\")","v":""},null,null,"",1,0,1900,0,1,1900,"Nombre y el registro de entrada válida"]
[null,"",null,null,null,"",null,null,null,{"$f":"IF(I123=\"\",\"\",IF(VLOOKUP(I123,CAD_Q!$C$6:$D$105,2,FALSE)=0,\"\",VLOOKUP(I123,CAD_Q!$C$6:$D$105,2,FALSE)))","v":""},{"$f":"IFERROR(VLOOKUP(I123,CAD_Q!$C$6:$E$109,3,FALSE)*F123,\"\")","v":""},null,null,"",1,0,1900,0,1,1900,"Nombre y el registro de entrada válida"]
[null,"",null,null,null,"",null,null,null,{"$f":"IF(I124=\"\",\"\",IF(VLOOKUP(I124,CAD_Q!$C$6:$D$105,2,FALSE)=0,\"\",VLOOKUP(I124,CAD_Q!$C$6:$D$105,2,FALSE)))","v":""},{"$f":"IFERROR(VLOOKUP(I124,CAD_Q!$C$6:$E$109,3,FALSE)*F124,\"\")","v":""},null,null,"",1,0,1900,0,1,1900,"Nombre y el registro de entrada válida"]
[null,"",null,null,null,"",null,null,null,{"$f":"IF(I125=\"\",\"\",IF(VLOOKUP(I125,CAD_Q!$C$6:$D$105,2,FALSE)=0,\"\",VLOOKUP(I125,CAD_Q!$C$6:$D$105,2,FALSE)))","v":""},{"$f":"IFERROR(VLOOKUP(I125,CAD_Q!$C$6:$E$109,3,FALSE)*F125,\"\")","v":""},null,null,"",1,0,1900,0,1,1900,"Nombre y el registro de entrada válida"]
[null,"",null,null,null,"",null,null,null,{"$f":"IF(I126=\"\",\"\",IF(VLOOKUP(I126,CAD_Q!$C$6:$D$105,2,FALSE)=0,\"\",VLOOKUP(I126,CAD_Q!$C$6:$D$105,2,FALSE)))","v":""},{"$f":"IFERROR(VLOOKUP(I126,CAD_Q!$C$6:$E$109,3,FALSE)*F126,\"\")","v":""},null,null,"",1,0,1900,0,1,1900,"Nombre y el registro de entrada válida"]
[null,"",null,null,null,"",null,null,null,{"$f":"IF(I127=\"\",\"\",IF(VLOOKUP(I127,CAD_Q!$C$6:$D$105,2,FALSE)=0,\"\",VLOOKUP(I127,CAD_Q!$C$6:$D$105,2,FALSE)))","v":""},{"$f":"IFERROR(VLOOKUP(I127,CAD_Q!$C$6:$E$109,3,FALSE)*F127,\"\")","v":""},null,null,"",1,0,1900,0,1,1900,"Nombre y el registro de entrada válida"]
[null,"",null,null,null,"",null,null,null,{"$f":"IF(I128=\"\",\"\",IF(VLOOKUP(I128,CAD_Q!$C$6:$D$105,2,FALSE)=0,\"\",VLOOKUP(I128,CAD_Q!$C$6:$D$105,2,FALSE)))","v":""},{"$f":"IFERROR(VLOOKUP(I128,CAD_Q!$C$6:$E$109,3,FALSE)*F128,\"\")","v":""},null,null,"",1,0,1900,0,1,1900,"Nombre y el registro de entrada válida"]
[null,"",null,null,null,"",null,null,null,{"$f":"IF(I129=\"\",\"\",IF(VLOOKUP(I129,CAD_Q!$C$6:$D$105,2,FALSE)=0,\"\",VLOOKUP(I129,CAD_Q!$C$6:$D$105,2,FALSE)))","v":""},{"$f":"IFERROR(VLOOKUP(I129,CAD_Q!$C$6:$E$109,3,FALSE)*F129,\"\")","v":""},null,null,"",1,0,1900,0,1,1900,"Nombre y el registro de entrada válida"]
[null,"",null,null,null,"",null,null,null,{"$f":"IF(I130=\"\",\"\",IF(VLOOKUP(I130,CAD_Q!$C$6:$D$105,2,FALSE)=0,\"\",VLOOKUP(I130,CAD_Q!$C$6:$D$105,2,FALSE)))","v":""},{"$f":"IFERROR(VLOOKUP(I130,CAD_Q!$C$6:$E$109,3,FALSE)*F130,\"\")","v":""},null,null,"",1,0,1900,0,1,1900,"Nombre y el registro de entrada válida"]
[null,"",null,null,null,"",null,null,null,{"$f":"IF(I131=\"\",\"\",IF(VLOOKUP(I131,CAD_Q!$C$6:$D$105,2,FALSE)=0,\"\",VLOOKUP(I131,CAD_Q!$C$6:$D$105,2,FALSE)))","v":""},{"$f":"IFERROR(VLOOKUP(I131,CAD_Q!$C$6:$E$109,3,FALSE)*F131,\"\")","v":""},null,null,"",1,0,1900,0,1,1900,"Nombre y el registro de entrada válida"]
[null,"",null,null,null,"",null,null,null,{"$f":"IF(I132=\"\",\"\",IF(VLOOKUP(I132,CAD_Q!$C$6:$D$105,2,FALSE)=0,\"\",VLOOKUP(I132,CAD_Q!$C$6:$D$105,2,FALSE)))","v":""},{"$f":"IFERROR(VLOOKUP(I132,CAD_Q!$C$6:$E$109,3,FALSE)*F132,\"\")","v":""},null,null,"",1,0,1900,0,1,1900,"Nombre y el registro de entrada válida"]
[null,"",null,null,null,"",null,null,null,{"$f":"IF(I133=\"\",\"\",IF(VLOOKUP(I133,CAD_Q!$C$6:$D$105,2,FALSE)=0,\"\",VLOOKUP(I133,CAD_Q!$C$6:$D$105,2,FALSE)))","v":""},{"$f":"IFERROR(VLOOKUP(I133,CAD_Q!$C$6:$E$109,3,FALSE)*F133,\"\")","v":""},null,null,"",1,0,1900,0,1,1900,"Nombre y el registro de entrada válida"]
[null,"",null,null,null,"",null,null,null,{"$f":"IF(I134=\"\",\"\",IF(VLOOKUP(I134,CAD_Q!$C$6:$D$105,2,FALSE)=0,\"\",VLOOKUP(I134,CAD_Q!$C$6:$D$105,2,FALSE)))","v":""},{"$f":"IFERROR(VLOOKUP(I134,CAD_Q!$C$6:$E$109,3,FALSE)*F134,\"\")","v":""},null,null,"",1,0,1900,0,1,1900,"Nombre y el registro de entrada válida"]
[null,{"$f":"CONCATENATE(C135,D135)","v":""},null,null,null,"",null,null,null,{"$f":"IF(I135=\"\",\"\",IF(VLOOKUP(I135,CAD_Q!$C$6:$D$105,2,FALSE)=0,\"\",VLOOKUP(I135,CAD_Q!$C$6:$D$105,2,FALSE)))","v":""},{"$f":"IFERROR(VLOOKUP(I135,CAD_Q!$C$6:$E$109,3,FALSE)*F135,\"\")","v":""},null,null,{"$f":"IFERROR(K135-L135+M135,\"\")","v":""},1,0,1900,0,1,1900,"Nombre y el registro de entrada válida"]
[null,"",null,null,null,"",null,null,null,{"$f":"IF(I136=\"\",\"\",IF(VLOOKUP(I136,CAD_Q!$C$6:$D$105,2,FALSE)=0,\"\",VLOOKUP(I136,CAD_Q!$C$6:$D$105,2,FALSE)))","v":""},{"$f":"IFERROR(VLOOKUP(I136,CAD_Q!$C$6:$E$109,3,FALSE)*F136,\"\")","v":""},null,null,"",1,0,1900,0,1,1900,"Nombre y el registro de entrada válida"]
[null,"",null,null,null,"",null,null,null,{"$f":"IF(I137=\"\",\"\",IF(VLOOKUP(I137,CAD_Q!$C$6:$D$105,2,FALSE)=0,\"\",VLOOKUP(I137,CAD_Q!$C$6:$D$105,2,FALSE)))","v":""},{"$f":"IFERROR(VLOOKUP(I137,CAD_Q!$C$6:$E$109,3,FALSE)*F137,\"\")","v":""},null,null,"",1,0,1900,0,1,1900,"Nombre y el registro de entrada válida"]
[null,"",null,null,null,"",null,null,null,{"$f":"IF(I138=\"\",\"\",IF(VLOOKUP(I138,CAD_Q!$C$6:$D$105,2,FALSE)=0,\"\",VLOOKUP(I138,CAD_Q!$C$6:$D$105,2,FALSE)))","v":""},{"$f":"IFERROR(VLOOKUP(I138,CAD_Q!$C$6:$E$109,3,FALSE)*F138,\"\")","v":""},null,null,"",{"$f":"MONTH(D138)","v":1},{"$f":"DAY(D138)","v":0},{"$f":"YEAR(D138)","v":1900},{"$f":"DAY(E138)","v":0},{"$f":"MONTH(E138)","v":1},{"$f":"YEAR(E138)","v":1900},"Nombre y el registro de entrada válida"]
[null,"",null,null,null,"",null,null,null,{"$f":"IF(I139=\"\",\"\",IF(VLOOKUP(I139,CAD_Q!$C$6:$D$105,2,FALSE)=0,\"\",VLOOKUP(I139,CAD_Q!$C$6:$D$105,2,FALSE)))","v":""},{"$f":"IFERROR(VLOOKUP(I139,CAD_Q!$C$6:$E$109,3,FALSE)*F139,\"\")","v":""},null,null,"",1,0,1900,0,1,1900,"Nombre y el registro de entrada válida"]
[null,"",null,null,null,"",null,null,null,{"$f":"IF(I140=\"\",\"\",IF(VLOOKUP(I140,CAD_Q!$C$6:$D$105,2,FALSE)=0,\"\",VLOOKUP(I140,CAD_Q!$C$6:$D$105,2,FALSE)))","v":""},{"$f":"IFERROR(VLOOKUP(I140,CAD_Q!$C$6:$E$109,3,FALSE)*F140,\"\")","v":""},null,null,"",1,0,1900,0,1,1900,"Nombre y el registro de entrada válida"]
[null,"",null,null,null,"",null,null,null,{"$f":"IF(I141=\"\",\"\",IF(VLOOKUP(I141,CAD_Q!$C$6:$D$105,2,FALSE)=0,\"\",VLOOKUP(I141,CAD_Q!$C$6:$D$105,2,FALSE)))","v":""},{"$f":"IFERROR(VLOOKUP(I141,CAD_Q!$C$6:$E$109,3,FALSE)*F141,\"\")","v":""},null,null,"",1,0,1900,0,1,1900,"Nombre y el registro de entrada válida"]
[null,"",null,null,null,"",null,null,null,{"$f":"IF(I142=\"\",\"\",IF(VLOOKUP(I142,CAD_Q!$C$6:$D$105,2,FALSE)=0,\"\",VLOOKUP(I142,CAD_Q!$C$6:$D$105,2,FALSE)))","v":""},{"$f":"IFERROR(VLOOKUP(I142,CAD_Q!$C$6:$E$109,3,FALSE)*F142,\"\")","v":""},null,null,"",1,0,1900,0,1,1900,"Nombre y el registro de entrada válida"]
[null,"",null,null,null,"",null,null,null,{"$f":"IF(I143=\"\",\"\",IF(VLOOKUP(I143,CAD_Q!$C$6:$D$105,2,FALSE)=0,\"\",VLOOKUP(I143,CAD_Q!$C$6:$D$105,2,FALSE)))","v":""},{"$f":"IFERROR(VLOOKUP(I143,CAD_Q!$C$6:$E$109,3,FALSE)*F143,\"\")","v":""},null,null,"",1,0,1900,0,1,1900,"Nombre y el registro de entrada válida"]
[null,"",null,null,null,"",null,null,null,{"$f":"IF(I144=\"\",\"\",IF(VLOOKUP(I144,CAD_Q!$C$6:$D$105,2,FALSE)=0,\"\",VLOOKUP(I144,CAD_Q!$C$6:$D$105,2,FALSE)))","v":""},{"$f":"IFERROR(VLOOKUP(I144,CAD_Q!$C$6:$E$109,3,FALSE)*F144,\"\")","v":""},null,null,"",1,0,1900,0,1,1900,"Nombre y el registro de entrada válida"]
[null,"",null,null,null,"",null,null,null,{"$f":"IF(I145=\"\",\"\",IF(VLOOKUP(I145,CAD_Q!$C$6:$D$105,2,FALSE)=0,\"\",VLOOKUP(I145,CAD_Q!$C$6:$D$105,2,FALSE)))","v":""},{"$f":"IFERROR(VLOOKUP(I145,CAD_Q!$C$6:$E$109,3,FALSE)*F145,\"\")","v":""},null,null,"",1,0,1900,0,1,1900,"Nombre y el registro de entrada válida"]
[null,"",null,null,null,"",null,null,null,{"$f":"IF(I146=\"\",\"\",IF(VLOOKUP(I146,CAD_Q!$C$6:$D$105,2,FALSE)=0,\"\",VLOOKUP(I146,CAD_Q!$C$6:$D$105,2,FALSE)))","v":""},{"$f":"IFERROR(VLOOKUP(I146,CAD_Q!$C$6:$E$109,3,FALSE)*F146,\"\")","v":""},null,null,"",1,0,1900,0,1,1900,"Nombre y el registro de entrada válida"]
[null,"",null,null,null,"",null,null,null,{"$f":"IF(I147=\"\",\"\",IF(VLOOKUP(I147,CAD_Q!$C$6:$D$105,2,FALSE)=0,\"\",VLOOKUP(I147,CAD_Q!$C$6:$D$105,2,FALSE)))","v":""},{"$f":"IFERROR(VLOOKUP(I147,CAD_Q!$C$6:$E$109,3,FALSE)*F147,\"\")","v":""},null,null,"",1,0,1900,0,1,1900,"Nombre y el registro de entrada válida"]
[null,"",null,null,null,"",null,null,null,{"$f":"IF(I148=\"\",\"\",IF(VLOOKUP(I148,CAD_Q!$C$6:$D$105,2,FALSE)=0,\"\",VLOOKUP(I148,CAD_Q!$C$6:$D$105,2,FALSE)))","v":""},{"$f":"IFERROR(VLOOKUP(I148,CAD_Q!$C$6:$E$109,3,FALSE)*F148,\"\")","v":""},null,null,"",1,0,1900,0,1,1900,"Nombre y el registro de entrada válida"]
[null,"",null,null,null,"",null,null,null,{"$f":"IF(I149=\"\",\"\",IF(VLOOKUP(I149,CAD_Q!$C$6:$D$105,2,FALSE)=0,\"\",VLOOKUP(I149,CAD_Q!$C$6:$D$105,2,FALSE)))","v":""},{"$f":"IFERROR(VLOOKUP(I149,CAD_Q!$C$6:$E$109,3,FALSE)*F149,\"\")","v":""},null,null,"",1,0,1900,0,1,1900,"Nombre y el registro de entrada válida"]
[null,"",null,null,null,"",null,null,null,{"$f":"IF(I150=\"\",\"\",IF(VLOOKUP(I150,CAD_Q!$C$6:$D$105,2,FALSE)=0,\"\",VLOOKUP(I150,CAD_Q!$C$6:$D$105,2,FALSE)))","v":""},{"$f":"IFERROR(VLOOKUP(I150,CAD_Q!$C$6:$E$109,3,FALSE)*F150,\"\")","v":""},null,null,"",1,0,1900,0,1,1900,"Nombre y el registro de entrada válida"]
[null,"",null,null,null,"",null,null,null,{"$f":"IF(I151=\"\",\"\",IF(VLOOKUP(I151,CAD_Q!$C$6:$D$105,2,FALSE)=0,\"\",VLOOKUP(I151,CAD_Q!$C$6:$D$105,2,FALSE)))","v":""},{"$f":"IFERROR(VLOOKUP(I151,CAD_Q!$C$6:$E$109,3,FALSE)*F151,\"\")","v":""},null,null,"",1,0,1900,0,1,1900,"Nombre y el registro de entrada válida"]
[null,"",null,null,null,"",null,null,null,{"$f":"IF(I152=\"\",\"\",IF(VLOOKUP(I152,CAD_Q!$C$6:$D$105,2,FALSE)=0,\"\",VLOOKUP(I152,CAD_Q!$C$6:$D$105,2,FALSE)))","v":""},{"$f":"IFERROR(VLOOKUP(I152,CAD_Q!$C$6:$E$109,3,FALSE)*F152,\"\")","v":""},null,null,"",1,0,1900,0,1,1900,"Nombre y el registro de entrada válida"]
[null,"",null,null,null,"",null,null,null,{"$f":"IF(I153=\"\",\"\",IF(VLOOKUP(I153,CAD_Q!$C$6:$D$105,2,FALSE)=0,\"\",VLOOKUP(I153,CAD_Q!$C$6:$D$105,2,FALSE)))","v":""},{"$f":"IFERROR(VLOOKUP(I153,CAD_Q!$C$6:$E$109,3,FALSE)*F153,\"\")","v":""},null,null,"",1,0,1900,0,1,1900,"Nombre y el registro de entrada válida"]
[null,"",null,null,null,"",null,null,null,{"$f":"IF(I154=\"\",\"\",IF(VLOOKUP(I154,CAD_Q!$C$6:$D$105,2,FALSE)=0,\"\",VLOOKUP(I154,CAD_Q!$C$6:$D$105,2,FALSE)))","v":""},{"$f":"IFERROR(VLOOKUP(I154,CAD_Q!$C$6:$E$109,3,FALSE)*F154,\"\")","v":""},null,null,"",1,0,1900,0,1,1900,"Nombre y el registro de entrada válida"]
[null,"",null,null,null,"",null,null,null,{"$f":"IF(I155=\"\",\"\",IF(VLOOKUP(I155,CAD_Q!$C$6:$D$105,2,FALSE)=0,\"\",VLOOKUP(I155,CAD_Q!$C$6:$D$105,2,FALSE)))","v":""},{"$f":"IFERROR(VLOOKUP(I155,CAD_Q!$C$6:$E$109,3,FALSE)*F155,\"\")","v":""},null,null,"",1,0,1900,0,1,1900,"Nombre y el registro de entrada válida"]
[null,"",null,null,null,"",null,null,null,{"$f":"IF(I156=\"\",\"\",IF(VLOOKUP(I156,CAD_Q!$C$6:$D$105,2,FALSE)=0,\"\",VLOOKUP(I156,CAD_Q!$C$6:$D$105,2,FALSE)))","v":""},{"$f":"IFERROR(VLOOKUP(I156,CAD_Q!$C$6:$E$109,3,FALSE)*F156,\"\")","v":""},null,null,"",1,0,1900,0,1,1900,"Nombre y el registro de entrada válida"]
[null,"",null,null,null,"",null,null,null,{"$f":"IF(I157=\"\",\"\",IF(VLOOKUP(I157,CAD_Q!$C$6:$D$105,2,FALSE)=0,\"\",VLOOKUP(I157,CAD_Q!$C$6:$D$105,2,FALSE)))","v":""},{"$f":"IFERROR(VLOOKUP(I157,CAD_Q!$C$6:$E$109,3,FALSE)*F157,\"\")","v":""},null,null,"",1,0,1900,0,1,1900,"Nombre y el registro de entrada válida"]
[null,"",null,null,null,"",null,null,null,{"$f":"IF(I158=\"\",\"\",IF(VLOOKUP(I158,CAD_Q!$C$6:$D$105,2,FALSE)=0,\"\",VLOOKUP(I158,CAD_Q!$C$6:$D$105,2,FALSE)))","v":""},{"$f":"IFERROR(VLOOKUP(I158,CAD_Q!$C$6:$E$109,3,FALSE)*F158,\"\")","v":""},null,null,"",1,0,1900,0,1,1900,"Nombre y el registro de entrada válida"]
[null,"",null,null,null,"",null,null,null,{"$f":"IF(I159=\"\",\"\",IF(VLOOKUP(I159,CAD_Q!$C$6:$D$105,2,FALSE)=0,\"\",VLOOKUP(I159,CAD_Q!$C$6:$D$105,2,FALSE)))","v":""},{"$f":"IFERROR(VLOOKUP(I159,CAD_Q!$C$6:$E$109,3,FALSE)*F159,\"\")","v":""},null,null,"",1,0,1900,0,1,1900,"Nombre y el registro de entrada válida"]
[null,"",null,null,null,"",null,null,null,{"$f":"IF(I160=\"\",\"\",IF(VLOOKUP(I160,CAD_Q!$C$6:$D$105,2,FALSE)=0,\"\",VLOOKUP(I160,CAD_Q!$C$6:$D$105,2,FALSE)))","v":""},{"$f":"IFERROR(VLOOKUP(I160,CAD_Q!$C$6:$E$109,3,FALSE)*F160,\"\")","v":""},null,null,"",1,0,1900,0,1,1900,"Nombre y el registro de entrada válida"]
[null,"",null,null,null,"",null,null,null,{"$f":"IF(I161=\"\",\"\",IF(VLOOKUP(I161,CAD_Q!$C$6:$D$105,2,FALSE)=0,\"\",VLOOKUP(I161,CAD_Q!$C$6:$D$105,2,FALSE)))","v":""},{"$f":"IFERROR(VLOOKUP(I161,CAD_Q!$C$6:$E$109,3,FALSE)*F161,\"\")","v":""},null,null,"",1,0,1900,0,1,1900,"Nombre y el registro de entrada válida"]
[null,"",null,null,null,"",null,null,null,{"$f":"IF(I162=\"\",\"\",IF(VLOOKUP(I162,CAD_Q!$C$6:$D$105,2,FALSE)=0,\"\",VLOOKUP(I162,CAD_Q!$C$6:$D$105,2,FALSE)))","v":""},{"$f":"IFERROR(VLOOKUP(I162,CAD_Q!$C$6:$E$109,3,FALSE)*F162,\"\")","v":""},null,null,"",1,0,1900,0,1,1900,"Nombre y el registro de entrada válida"]
[null,"",null,null,null,"",null,null,null,{"$f":"IF(I163=\"\",\"\",IF(VLOOKUP(I163,CAD_Q!$C$6:$D$105,2,FALSE)=0,\"\",VLOOKUP(I163,CAD_Q!$C$6:$D$105,2,FALSE)))","v":""},{"$f":"IFERROR(VLOOKUP(I163,CAD_Q!$C$6:$E$109,3,FALSE)*F163,\"\")","v":""},null,null,"",1,0,1900,0,1,1900,"Nombre y el registro de entrada válida"]
[null,"",null,null,null,{"$f":"IF(OR(D164=\"\",E164=\"\"),\"\",E164-D164)","v":""},null,null,null,{"$f":"IF(I164=\"\",\"\",IF(VLOOKUP(I164,CAD_Q!$C$6:$D$105,2,FALSE)=0,\"\",VLOOKUP(I164,CAD_Q!$C$6:$D$105,2,FALSE)))","v":""},{"$f":"IFERROR(VLOOKUP(I164,CAD_Q!$C$6:$E$109,3,FALSE)*F164,\"\")","v":""},null,null,"",1,0,1900,0,1,1900,"Nombre y el registro de entrada válida"]
[null,"",null,null,null,"",null,null,null,{"$f":"IF(I165=\"\",\"\",IF(VLOOKUP(I165,CAD_Q!$C$6:$D$105,2,FALSE)=0,\"\",VLOOKUP(I165,CAD_Q!$C$6:$D$105,2,FALSE)))","v":""},{"$f":"IFERROR(VLOOKUP(I165,CAD_Q!$C$6:$E$109,3,FALSE)*F165,\"\")","v":""},null,null,"",1,0,1900,0,1,1900,"Nombre y el registro de entrada válida"]
[null,"",null,null,null,"",null,null,null,{"$f":"IF(I166=\"\",\"\",IF(VLOOKUP(I166,CAD_Q!$C$6:$D$105,2,FALSE)=0,\"\",VLOOKUP(I166,CAD_Q!$C$6:$D$105,2,FALSE)))","v":""},{"$f":"IFERROR(VLOOKUP(I166,CAD_Q!$C$6:$E$109,3,FALSE)*F166,\"\")","v":""},null,null,"",1,0,1900,0,1,1900,"Nombre y el registro de entrada válida"]
[null,"",null,null,null,"",null,null,null,{"$f":"IF(I167=\"\",\"\",IF(VLOOKUP(I167,CAD_Q!$C$6:$D$105,2,FALSE)=0,\"\",VLOOKUP(I167,CAD_Q!$C$6:$D$105,2,FALSE)))","v":""},{"$f":"IFERROR(VLOOKUP(I167,CAD_Q!$C$6:$E$109,3,FALSE)*F167,\"\")","v":""},null,null,"",1,0,1900,0,1,1900,"Nombre y el registro de entrada válida"]
[null,"",null,null,null,"",null,null,null,{"$f":"IF(I168=\"\",\"\",IF(VLOOKUP(I168,CAD_Q!$C$6:$D$105,2,FALSE)=0,\"\",VLOOKUP(I168,CAD_Q!$C$6:$D$105,2,FALSE)))","v":""},{"$f":"IFERROR(VLOOKUP(I168,CAD_Q!$C$6:$E$109,3,FALSE)*F168,\"\")","v":""},null,null,"",1,0,1900,0,1,1900,"Nombre y el registro de entrada válida"]
[null,"",null,null,null,"",null,null,null,{"$f":"IF(I169=\"\",\"\",IF(VLOOKUP(I169,CAD_Q!$C$6:$D$105,2,FALSE)=0,\"\",VLOOKUP(I169,CAD_Q!$C$6:$D$105,2,FALSE)))","v":""},{"$f":"IFERROR(VLOOKUP(I169,CAD_Q!$C$6:$E$109,3,FALSE)*F169,\"\")","v":""},null,null,"",1,0,1900,0,1,1900,"Nombre y el registro de entrada válida"]
[null,"",null,null,null,"",null,null,null,{"$f":"IF(I170=\"\",\"\",IF(VLOOKUP(I170,CAD_Q!$C$6:$D$105,2,FALSE)=0,\"\",VLOOKUP(I170,CAD_Q!$C$6:$D$105,2,FALSE)))","v":""},{"$f":"IFERROR(VLOOKUP(I170,CAD_Q!$C$6:$E$109,3,FALSE)*F170,\"\")","v":""},null,null,"",1,0,1900,0,1,1900,"Nombre y el registro de entrada válida"]
[null,"",null,null,null,"",null,null,null,{"$f":"IF(I171=\"\",\"\",IF(VLOOKUP(I171,CAD_Q!$C$6:$D$105,2,FALSE)=0,\"\",VLOOKUP(I171,CAD_Q!$C$6:$D$105,2,FALSE)))","v":""},{"$f":"IFERROR(VLOOKUP(I171,CAD_Q!$C$6:$E$109,3,FALSE)*F171,\"\")","v":""},null,null,"",1,0,1900,0,1,1900,"Nombre y el registro de entrada válida"]
[null,"",null,null,null,"",null,null,null,{"$f":"IF(I172=\"\",\"\",IF(VLOOKUP(I172,CAD_Q!$C$6:$D$105,2,FALSE)=0,\"\",VLOOKUP(I172,CAD_Q!$C$6:$D$105,2,FALSE)))","v":""},{"$f":"IFERROR(VLOOKUP(I172,CAD_Q!$C$6:$E$109,3,FALSE)*F172,\"\")","v":""},null,null,"",1,0,1900,0,1,1900,"Nombre y el registro de entrada válida"]
[null,"",null,null,null,"",null,null,null,{"$f":"IF(I173=\"\",\"\",IF(VLOOKUP(I173,CAD_Q!$C$6:$D$105,2,FALSE)=0,\"\",VLOOKUP(I173,CAD_Q!$C$6:$D$105,2,FALSE)))","v":""},{"$f":"IFERROR(VLOOKUP(I173,CAD_Q!$C$6:$E$109,3,FALSE)*F173,\"\")","v":""},null,null,"",1,0,1900,0,1,1900,"Nombre y el registro de entrada válida"]
[null,"",null,null,null,"",null,null,null,{"$f":"IF(I174=\"\",\"\",IF(VLOOKUP(I174,CAD_Q!$C$6:$D$105,2,FALSE)=0,\"\",VLOOKUP(I174,CAD_Q!$C$6:$D$105,2,FALSE)))","v":""},{"$f":"IFERROR(VLOOKUP(I174,CAD_Q!$C$6:$E$109,3,FALSE)*F174,\"\")","v":""},null,null,"",1,0,1900,0,1,1900,"Nombre y el registro de entrada válida"]
[null,"",null,null,null,"",null,null,null,{"$f":"IF(I175=\"\",\"\",IF(VLOOKUP(I175,CAD_Q!$C$6:$D$105,2,FALSE)=0,\"\",VLOOKUP(I175,CAD_Q!$C$6:$D$105,2,FALSE)))","v":""},{"$f":"IFERROR(VLOOKUP(I175,CAD_Q!$C$6:$E$109,3,FALSE)*F175,\"\")","v":""},null,null,"",1,0,1900,0,1,1900,"Nombre y el registro de entrada válida"]
[null,"",null,null,null,"",null,null,null,{"$f":"IF(I176=\"\",\"\",IF(VLOOKUP(I176,CAD_Q!$C$6:$D$105,2,FALSE)=0,\"\",VLOOKUP(I176,CAD_Q!$C$6:$D$105,2,FALSE)))","v":""},{"$f":"IFERROR(VLOOKUP(I176,CAD_Q!$C$6:$E$109,3,FALSE)*F176,\"\")","v":""},null,null,"",1,0,1900,0,1,1900,"Nombre y el registro de entrada válida"]
[null,"",null,null,null,"",null,null,null,{"$f":"IF(I177=\"\",\"\",IF(VLOOKUP(I177,CAD_Q!$C$6:$D$105,2,FALSE)=0,\"\",VLOOKUP(I177,CAD_Q!$C$6:$D$105,2,FALSE)))","v":""},{"$f":"IFERROR(VLOOKUP(I177,CAD_Q!$C$6:$E$109,3,FALSE)*F177,\"\")","v":""},null,null,"",1,0,1900,0,1,1900,"Nombre y el registro de entrada válida"]
[null,"",null,null,null,"",null,null,null,{"$f":"IF(I178=\"\",\"\",IF(VLOOKUP(I178,CAD_Q!$C$6:$D$105,2,FALSE)=0,\"\",VLOOKUP(I178,CAD_Q!$C$6:$D$105,2,FALSE)))","v":""},{"$f":"IFERROR(VLOOKUP(I178,CAD_Q!$C$6:$E$109,3,FALSE)*F178,\"\")","v":""},null,null,"",1,0,1900,0,1,1900,"Nombre y el registro de entrada válida"]
[null,"",null,null,null,"",null,null,null,{"$f":"IF(I179=\"\",\"\",IF(VLOOKUP(I179,CAD_Q!$C$6:$D$105,2,FALSE)=0,\"\",VLOOKUP(I179,CAD_Q!$C$6:$D$105,2,FALSE)))","v":""},{"$f":"IFERROR(VLOOKUP(I179,CAD_Q!$C$6:$E$109,3,FALSE)*F179,\"\")","v":""},null,null,"",1,0,1900,0,1,1900,"Nombre y el registro de entrada válida"]
[null,"",null,null,null,"",null,null,null,{"$f":"IF(I180=\"\",\"\",IF(VLOOKUP(I180,CAD_Q!$C$6:$D$105,2,FALSE)=0,\"\",VLOOKUP(I180,CAD_Q!$C$6:$D$105,2,FALSE)))","v":""},{"$f":"IFERROR(VLOOKUP(I180,CAD_Q!$C$6:$E$109,3,FALSE)*F180,\"\")","v":""},null,null,"",1,0,1900,0,1,1900,"Nombre y el registro de entrada válida"]
[null,"",null,null,null,"",null,null,null,{"$f":"IF(I181=\"\",\"\",IF(VLOOKUP(I181,CAD_Q!$C$6:$D$105,2,FALSE)=0,\"\",VLOOKUP(I181,CAD_Q!$C$6:$D$105,2,FALSE)))","v":""},{"$f":"IFERROR(VLOOKUP(I181,CAD_Q!$C$6:$E$109,3,FALSE)*F181,\"\")","v":""},null,null,"",1,0,1900,0,1,1900,"Nombre y el registro de entrada válida"]
[null,"",null,null,null,"",null,null,null,{"$f":"IF(I182=\"\",\"\",IF(VLOOKUP(I182,CAD_Q!$C$6:$D$105,2,FALSE)=0,\"\",VLOOKUP(I182,CAD_Q!$C$6:$D$105,2,FALSE)))","v":""},{"$f":"IFERROR(VLOOKUP(I182,CAD_Q!$C$6:$E$109,3,FALSE)*F182,\"\")","v":""},null,null,"",1,0,1900,0,1,1900,"Nombre y el registro de entrada válida"]
[null,"",null,null,null,"",null,null,null,{"$f":"IF(I183=\"\",\"\",IF(VLOOKUP(I183,CAD_Q!$C$6:$D$105,2,FALSE)=0,\"\",VLOOKUP(I183,CAD_Q!$C$6:$D$105,2,FALSE)))","v":""},{"$f":"IFERROR(VLOOKUP(I183,CAD_Q!$C$6:$E$109,3,FALSE)*F183,\"\")","v":""},null,null,"",1,0,1900,0,1,1900,"Nombre y el registro de entrada válida"]
[null,"",null,null,null,"",null,null,null,{"$f":"IF(I184=\"\",\"\",IF(VLOOKUP(I184,CAD_Q!$C$6:$D$105,2,FALSE)=0,\"\",VLOOKUP(I184,CAD_Q!$C$6:$D$105,2,FALSE)))","v":""},{"$f":"IFERROR(VLOOKUP(I184,CAD_Q!$C$6:$E$109,3,FALSE)*F184,\"\")","v":""},null,null,"",1,0,1900,0,1,1900,"Nombre y el registro de entrada válida"]
[null,"",null,null,null,"",null,null,null,{"$f":"IF(I185=\"\",\"\",IF(VLOOKUP(I185,CAD_Q!$C$6:$D$105,2,FALSE)=0,\"\",VLOOKUP(I185,CAD_Q!$C$6:$D$105,2,FALSE)))","v":""},{"$f":"IFERROR(VLOOKUP(I185,CAD_Q!$C$6:$E$109,3,FALSE)*F185,\"\")","v":""},null,null,"",1,0,1900,0,1,1900,"Nombre y el registro de entrada válida"]
[null,"",null,null,null,"",null,null,null,{"$f":"IF(I186=\"\",\"\",IF(VLOOKUP(I186,CAD_Q!$C$6:$D$105,2,FALSE)=0,\"\",VLOOKUP(I186,CAD_Q!$C$6:$D$105,2,FALSE)))","v":""},{"$f":"IFERROR(VLOOKUP(I186,CAD_Q!$C$6:$E$109,3,FALSE)*F186,\"\")","v":""},null,null,"",1,0,1900,0,1,1900,"Nombre y el registro de entrada válida"]
[null,"",null,null,null,"",null,null,null,{"$f":"IF(I187=\"\",\"\",IF(VLOOKUP(I187,CAD_Q!$C$6:$D$105,2,FALSE)=0,\"\",VLOOKUP(I187,CAD_Q!$C$6:$D$105,2,FALSE)))","v":""},{"$f":"IFERROR(VLOOKUP(I187,CAD_Q!$C$6:$E$109,3,FALSE)*F187,\"\")","v":""},null,null,"",1,0,1900,0,1,1900,"Nombre y el registro de entrada válida"]
[null,"",null,null,null,"",null,null,null,{"$f":"IF(I188=\"\",\"\",IF(VLOOKUP(I188,CAD_Q!$C$6:$D$105,2,FALSE)=0,\"\",VLOOKUP(I188,CAD_Q!$C$6:$D$105,2,FALSE)))","v":""},{"$f":"IFERROR(VLOOKUP(I188,CAD_Q!$C$6:$E$109,3,FALSE)*F188,\"\")","v":""},null,null,"",1,0,1900,0,1,1900,"Nombre y el registro de entrada válida"]
[null,"",null,null,null,"",null,null,null,{"$f":"IF(I189=\"\",\"\",IF(VLOOKUP(I189,CAD_Q!$C$6:$D$105,2,FALSE)=0,\"\",VLOOKUP(I189,CAD_Q!$C$6:$D$105,2,FALSE)))","v":""},{"$f":"IFERROR(VLOOKUP(I189,CAD_Q!$C$6:$E$109,3,FALSE)*F189,\"\")","v":""},null,null,"",1,0,1900,0,1,1900,"Nombre y el registro de entrada válida"]
[null,"",null,null,null,"",null,null,null,{"$f":"IF(I190=\"\",\"\",IF(VLOOKUP(I190,CAD_Q!$C$6:$D$105,2,FALSE)=0,\"\",VLOOKUP(I190,CAD_Q!$C$6:$D$105,2,FALSE)))","v":""},{"$f":"IFERROR(VLOOKUP(I190,CAD_Q!$C$6:$E$109,3,FALSE)*F190,\"\")","v":""},null,null,"",1,0,1900,0,1,1900,"Nombre y el registro de entrada válida"]
[null,"",null,null,null,"",null,null,null,{"$f":"IF(I191=\"\",\"\",IF(VLOOKUP(I191,CAD_Q!$C$6:$D$105,2,FALSE)=0,\"\",VLOOKUP(I191,CAD_Q!$C$6:$D$105,2,FALSE)))","v":""},{"$f":"IFERROR(VLOOKUP(I191,CAD_Q!$C$6:$E$109,3,FALSE)*F191,\"\")","v":""},null,null,"",1,0,1900,0,1,1900,"Nombre y el registro de entrada válida"]
[null,"",null,null,null,"",null,null,null,{"$f":"IF(I192=\"\",\"\",IF(VLOOKUP(I192,CAD_Q!$C$6:$D$105,2,FALSE)=0,\"\",VLOOKUP(I192,CAD_Q!$C$6:$D$105,2,FALSE)))","v":""},{"$f":"IFERROR(VLOOKUP(I192,CAD_Q!$C$6:$E$109,3,FALSE)*F192,\"\")","v":""},null,null,"",1,0,1900,0,1,1900,"Nombre y el registro de entrada válida"]
[null,"",null,null,null,"",null,null,null,{"$f":"IF(I193=\"\",\"\",IF(VLOOKUP(I193,CAD_Q!$C$6:$D$105,2,FALSE)=0,\"\",VLOOKUP(I193,CAD_Q!$C$6:$D$105,2,FALSE)))","v":""},{"$f":"IFERROR(VLOOKUP(I193,CAD_Q!$C$6:$E$109,3,FALSE)*F193,\"\")","v":""},null,null,"",1,0,1900,0,1,1900,"Nombre y el registro de entrada válida"]
[null,"",null,null,null,"",null,null,null,{"$f":"IF(I194=\"\",\"\",IF(VLOOKUP(I194,CAD_Q!$C$6:$D$105,2,FALSE)=0,\"\",VLOOKUP(I194,CAD_Q!$C$6:$D$105,2,FALSE)))","v":""},{"$f":"IFERROR(VLOOKUP(I194,CAD_Q!$C$6:$E$109,3,FALSE)*F194,\"\")","v":""},null,null,"",1,0,1900,0,1,1900,"Nombre y el registro de entrada válida"]
[null,"",null,null,null,"",null,null,null,{"$f":"IF(I195=\"\",\"\",IF(VLOOKUP(I195,CAD_Q!$C$6:$D$105,2,FALSE)=0,\"\",VLOOKUP(I195,CAD_Q!$C$6:$D$105,2,FALSE)))","v":""},{"$f":"IFERROR(VLOOKUP(I195,CAD_Q!$C$6:$E$109,3,FALSE)*F195,\"\")","v":""},null,null,"",1,0,1900,0,1,1900,"Nombre y el registro de entrada válida"]
[null,"",null,null,null,"",null,null,null,{"$f":"IF(I196=\"\",\"\",IF(VLOOKUP(I196,CAD_Q!$C$6:$D$105,2,FALSE)=0,\"\",VLOOKUP(I196,CAD_Q!$C$6:$D$105,2,FALSE)))","v":""},{"$f":"IFERROR(VLOOKUP(I196,CAD_Q!$C$6:$E$109,3,FALSE)*F196,\"\")","v":""},null,null,"",1,0,1900,0,1,1900,"Nombre y el registro de entrada válida"]
[null,"",null,null,null,"",null,null,null,{"$f":"IF(I197=\"\",\"\",IF(VLOOKUP(I197,CAD_Q!$C$6:$D$105,2,FALSE)=0,\"\",VLOOKUP(I197,CAD_Q!$C$6:$D$105,2,FALSE)))","v":""},{"$f":"IFERROR(VLOOKUP(I197,CAD_Q!$C$6:$E$109,3,FALSE)*F197,\"\")","v":""},null,null,"",1,0,1900,0,1,1900,"Nombre y el registro de entrada válida"]
[null,"",null,null,null,"",null,null,null,{"$f":"IF(I198=\"\",\"\",IF(VLOOKUP(I198,CAD_Q!$C$6:$D$105,2,FALSE)=0,\"\",VLOOKUP(I198,CAD_Q!$C$6:$D$105,2,FALSE)))","v":""},{"$f":"IFERROR(VLOOKUP(I198,CAD_Q!$C$6:$E$109,3,FALSE)*F198,\"\")","v":""},null,null,"",1,0,1900,0,1,1900,"Nombre y el registro de entrada válida"]
[null,{"$f":"CONCATENATE(C199,D199)","v":""},null,null,null,"",null,null,null,{"$f":"IF(I199=\"\",\"\",IF(VLOOKUP(I199,CAD_Q!$C$6:$D$105,2,FALSE)=0,\"\",VLOOKUP(I199,CAD_Q!$C$6:$D$105,2,FALSE)))","v":""},{"$f":"IFERROR(VLOOKUP(I199,CAD_Q!$C$6:$E$109,3,FALSE)*F199,\"\")","v":""},null,null,{"$f":"IFERROR(K199-L199+M199,\"\")","v":""},1,0,1900,0,1,1900,"Nombre y el registro de entrada válida"]
[null,"",null,null,null,"",null,null,null,{"$f":"IF(I200=\"\",\"\",IF(VLOOKUP(I200,CAD_Q!$C$6:$D$105,2,FALSE)=0,\"\",VLOOKUP(I200,CAD_Q!$C$6:$D$105,2,FALSE)))","v":""},{"$f":"IFERROR(VLOOKUP(I200,CAD_Q!$C$6:$E$109,3,FALSE)*F200,\"\")","v":""},null,null,"",1,0,1900,0,1,1900,"Nombre y el registro de entrada válida"]
[null,"",null,null,null,"",null,null,null,{"$f":"IF(I201=\"\",\"\",IF(VLOOKUP(I201,CAD_Q!$C$6:$D$105,2,FALSE)=0,\"\",VLOOKUP(I201,CAD_Q!$C$6:$D$105,2,FALSE)))","v":""},{"$f":"IFERROR(VLOOKUP(I201,CAD_Q!$C$6:$E$109,3,FALSE)*F201,\"\")","v":""},null,null,"",1,0,1900,0,1,1900,"Nombre y el registro de entrada válida"]
[null,"",null,null,null,"",null,null,null,{"$f":"IF(I202=\"\",\"\",IF(VLOOKUP(I202,CAD_Q!$C$6:$D$105,2,FALSE)=0,\"\",VLOOKUP(I202,CAD_Q!$C$6:$D$105,2,FALSE)))","v":""},{"$f":"IFERROR(VLOOKUP(I202,CAD_Q!$C$6:$E$109,3,FALSE)*F202,\"\")","v":""},null,null,"",{"$f":"MONTH(D202)","v":1},{"$f":"DAY(D202)","v":0},{"$f":"YEAR(D202)","v":1900},{"$f":"DAY(E202)","v":0},{"$f":"MONTH(E202)","v":1},{"$f":"YEAR(E202)","v":1900},"Nombre y el registro de entrada válida"]
[null,"",null,null,null,"",null,null,null,{"$f":"IF(I203=\"\",\"\",IF(VLOOKUP(I203,CAD_Q!$C$6:$D$105,2,FALSE)=0,\"\",VLOOKUP(I203,CAD_Q!$C$6:$D$105,2,FALSE)))","v":""},{"$f":"IFERROR(VLOOKUP(I203,CAD_Q!$C$6:$E$109,3,FALSE)*F203,\"\")","v":""},null,null,"",1,0,1900,0,1,1900,"Nombre y el registro de entrada válida"]
[null,"",null,null,null,"",null,null,null,{"$f":"IF(I204=\"\",\"\",IF(VLOOKUP(I204,CAD_Q!$C$6:$D$105,2,FALSE)=0,\"\",VLOOKUP(I204,CAD_Q!$C$6:$D$105,2,FALSE)))","v":""},{"$f":"IFERROR(VLOOKUP(I204,CAD_Q!$C$6:$E$109,3,FALSE)*F204,\"\")","v":""},null,null,"",1,0,1900,0,1,1900,"Nombre y el registro de entrada válida"]
[null,"",null,null,null,"",null,null,null,{"$f":"IF(I205=\"\",\"\",IF(VLOOKUP(I205,CAD_Q!$C$6:$D$105,2,FALSE)=0,\"\",VLOOKUP(I205,CAD_Q!$C$6:$D$105,2,FALSE)))","v":""},{"$f":"IFERROR(VLOOKUP(I205,CAD_Q!$C$6:$E$109,3,FALSE)*F205,\"\")","v":""},null,null,"",1,0,1900,0,1,1900,"Nombre y el registro de entrada válida"]
[null,"",null,null,null,"",null,null,null,{"$f":"IF(I206=\"\",\"\",IF(VLOOKUP(I206,CAD_Q!$C$6:$D$105,2,FALSE)=0,\"\",VLOOKUP(I206,CAD_Q!$C$6:$D$105,2,FALSE)))","v":""},{"$f":"IFERROR(VLOOKUP(I206,CAD_Q!$C$6:$E$109,3,FALSE)*F206,\"\")","v":""},null,null,"",1,0,1900,0,1,1900,"Nombre y el registro de entrada válida"]
[null,"",null,null,null,"",null,null,null,{"$f":"IF(I207=\"\",\"\",IF(VLOOKUP(I207,CAD_Q!$C$6:$D$105,2,FALSE)=0,\"\",VLOOKUP(I207,CAD_Q!$C$6:$D$105,2,FALSE)))","v":""},{"$f":"IFERROR(VLOOKUP(I207,CAD_Q!$C$6:$E$109,3,FALSE)*F207,\"\")","v":""},null,null,"",1,0,1900,0,1,1900,"Nombre y el registro de entrada válida"]
[null,"",null,null,null,"",null,null,null,{"$f":"IF(I208=\"\",\"\",IF(VLOOKUP(I208,CAD_Q!$C$6:$D$105,2,FALSE)=0,\"\",VLOOKUP(I208,CAD_Q!$C$6:$D$105,2,FALSE)))","v":""},{"$f":"IFERROR(VLOOKUP(I208,CAD_Q!$C$6:$E$109,3,FALSE)*F208,\"\")","v":""},null,null,"",1,0,1900,0,1,1900,"Nombre y el registro de entrada válida"]
[null,"",null,null,null,"",null,null,null,{"$f":"IF(I209=\"\",\"\",IF(VLOOKUP(I209,CAD_Q!$C$6:$D$105,2,FALSE)=0,\"\",VLOOKUP(I209,CAD_Q!$C$6:$D$105,2,FALSE)))","v":""},{"$f":"IFERROR(VLOOKUP(I209,CAD_Q!$C$6:$E$109,3,FALSE)*F209,\"\")","v":""},null,null,"",1,0,1900,0,1,1900,"Nombre y el registro de entrada válida"]
[null,"",null,null,null,"",null,null,null,{"$f":"IF(I210=\"\",\"\",IF(VLOOKUP(I210,CAD_Q!$C$6:$D$105,2,FALSE)=0,\"\",VLOOKUP(I210,CAD_Q!$C$6:$D$105,2,FALSE)))","v":""},{"$f":"IFERROR(VLOOKUP(I210,CAD_Q!$C$6:$E$109,3,FALSE)*F210,\"\")","v":""},null,null,"",1,0,1900,0,1,1900,"Nombre y el registro de entrada válida"]
[null,"",null,null,null,"",null,null,null,{"$f":"IF(I211=\"\",\"\",IF(VLOOKUP(I211,CAD_Q!$C$6:$D$105,2,FALSE)=0,\"\",VLOOKUP(I211,CAD_Q!$C$6:$D$105,2,FALSE)))","v":""},{"$f":"IFERROR(VLOOKUP(I211,CAD_Q!$C$6:$E$109,3,FALSE)*F211,\"\")","v":""},null,null,"",1,0,1900,0,1,1900,"Nombre y el registro de entrada válida"]
[null,"",null,null,null,"",null,null,null,{"$f":"IF(I212=\"\",\"\",IF(VLOOKUP(I212,CAD_Q!$C$6:$D$105,2,FALSE)=0,\"\",VLOOKUP(I212,CAD_Q!$C$6:$D$105,2,FALSE)))","v":""},{"$f":"IFERROR(VLOOKUP(I212,CAD_Q!$C$6:$E$109,3,FALSE)*F212,\"\")","v":""},null,null,"",1,0,1900,0,1,1900,"Nombre y el registro de entrada válida"]
[null,"",null,null,null,"",null,null,null,{"$f":"IF(I213=\"\",\"\",IF(VLOOKUP(I213,CAD_Q!$C$6:$D$105,2,FALSE)=0,\"\",VLOOKUP(I213,CAD_Q!$C$6:$D$105,2,FALSE)))","v":""},{"$f":"IFERROR(VLOOKUP(I213,CAD_Q!$C$6:$E$109,3,FALSE)*F213,\"\")","v":""},null,null,"",1,0,1900,0,1,1900,"Nombre y el registro de entrada válida"]
[null,"",null,null,null,"",null,null,null,{"$f":"IF(I214=\"\",\"\",IF(VLOOKUP(I214,CAD_Q!$C$6:$D$105,2,FALSE)=0,\"\",VLOOKUP(I214,CAD_Q!$C$6:$D$105,2,FALSE)))","v":""},{"$f":"IFERROR(VLOOKUP(I214,CAD_Q!$C$6:$E$109,3,FALSE)*F214,\"\")","v":""},null,null,"",1,0,1900,0,1,1900,"Nombre y el registro de entrada válida"]
[null,"",null,null,null,"",null,null,null,{"$f":"IF(I215=\"\",\"\",IF(VLOOKUP(I215,CAD_Q!$C$6:$D$105,2,FALSE)=0,\"\",VLOOKUP(I215,CAD_Q!$C$6:$D$105,2,FALSE)))","v":""},{"$f":"IFERROR(VLOOKUP(I215,CAD_Q!$C$6:$E$109,3,FALSE)*F215,\"\")","v":""},null,null,"",1,0,1900,0,1,1900,"Nombre y el registro de entrada válida"]
[null,"",null,null,null,"",null,null,null,{"$f":"IF(I216=\"\",\"\",IF(VLOOKUP(I216,CAD_Q!$C$6:$D$105,2,FALSE)=0,\"\",VLOOKUP(I216,CAD_Q!$C$6:$D$105,2,FALSE)))","v":""},{"$f":"IFERROR(VLOOKUP(I216,CAD_Q!$C$6:$E$109,3,FALSE)*F216,\"\")","v":""},null,null,"",1,0,1900,0,1,1900,"Nombre y el registro de entrada válida"]
[null,"",null,null,null,"",null,null,null,{"$f":"IF(I217=\"\",\"\",IF(VLOOKUP(I217,CAD_Q!$C$6:$D$105,2,FALSE)=0,\"\",VLOOKUP(I217,CAD_Q!$C$6:$D$105,2,FALSE)))","v":""},{"$f":"IFERROR(VLOOKUP(I217,CAD_Q!$C$6:$E$109,3,FALSE)*F217,\"\")","v":""},null,null,"",1,0,1900,0,1,1900,"Nombre y el registro de entrada válida"]
[null,"",null,null,null,"",null,null,null,{"$f":"IF(I218=\"\",\"\",IF(VLOOKUP(I218,CAD_Q!$C$6:$D$105,2,FALSE)=0,\"\",VLOOKUP(I218,CAD_Q!$C$6:$D$105,2,FALSE)))","v":""},{"$f":"IFERROR(VLOOKUP(I218,CAD_Q!$C$6:$E$109,3,FALSE)*F218,\"\")","v":""},null,null,"",1,0,1900,0,1,1900,"Nombre y el registro de entrada válida"]
[null,"",null,null,null,"",null,null,null,{"$f":"IF(I219=\"\",\"\",IF(VLOOKUP(I219,CAD_Q!$C$6:$D$105,2,FALSE)=0,\"\",VLOOKUP(I219,CAD_Q!$C$6:$D$105,2,FALSE)))","v":""},{"$f":"IFERROR(VLOOKUP(I219,CAD_Q!$C$6:$E$109,3,FALSE)*F219,\"\")","v":""},null,null,"",1,0,1900,0,1,1900,"Nombre y el registro de entrada válida"]
[null,"",null,null,null,"",null,null,null,{"$f":"IF(I220=\"\",\"\",IF(VLOOKUP(I220,CAD_Q!$C$6:$D$105,2,FALSE)=0,\"\",VLOOKUP(I220,CAD_Q!$C$6:$D$105,2,FALSE)))","v":""},{"$f":"IFERROR(VLOOKUP(I220,CAD_Q!$C$6:$E$109,3,FALSE)*F220,\"\")","v":""},null,null,"",1,0,1900,0,1,1900,"Nombre y el registro de entrada válida"]
[null,"",null,null,null,"",null,null,null,{"$f":"IF(I221=\"\",\"\",IF(VLOOKUP(I221,CAD_Q!$C$6:$D$105,2,FALSE)=0,\"\",VLOOKUP(I221,CAD_Q!$C$6:$D$105,2,FALSE)))","v":""},{"$f":"IFERROR(VLOOKUP(I221,CAD_Q!$C$6:$E$109,3,FALSE)*F221,\"\")","v":""},null,null,"",1,0,1900,0,1,1900,"Nombre y el registro de entrada válida"]
[null,"",null,null,null,"",null,null,null,{"$f":"IF(I222=\"\",\"\",IF(VLOOKUP(I222,CAD_Q!$C$6:$D$105,2,FALSE)=0,\"\",VLOOKUP(I222,CAD_Q!$C$6:$D$105,2,FALSE)))","v":""},{"$f":"IFERROR(VLOOKUP(I222,CAD_Q!$C$6:$E$109,3,FALSE)*F222,\"\")","v":""},null,null,"",1,0,1900,0,1,1900,"Nombre y el registro de entrada válida"]
[null,"",null,null,null,"",null,null,null,{"$f":"IF(I223=\"\",\"\",IF(VLOOKUP(I223,CAD_Q!$C$6:$D$105,2,FALSE)=0,\"\",VLOOKUP(I223,CAD_Q!$C$6:$D$105,2,FALSE)))","v":""},{"$f":"IFERROR(VLOOKUP(I223,CAD_Q!$C$6:$E$109,3,FALSE)*F223,\"\")","v":""},null,null,"",1,0,1900,0,1,1900,"Nombre y el registro de entrada válida"]
[null,"",null,null,null,"",null,null,null,{"$f":"IF(I224=\"\",\"\",IF(VLOOKUP(I224,CAD_Q!$C$6:$D$105,2,FALSE)=0,\"\",VLOOKUP(I224,CAD_Q!$C$6:$D$105,2,FALSE)))","v":""},{"$f":"IFERROR(VLOOKUP(I224,CAD_Q!$C$6:$E$109,3,FALSE)*F224,\"\")","v":""},null,null,"",1,0,1900,0,1,1900,"Nombre y el registro de entrada válida"]
[null,"",null,null,null,"",null,null,null,{"$f":"IF(I225=\"\",\"\",IF(VLOOKUP(I225,CAD_Q!$C$6:$D$105,2,FALSE)=0,\"\",VLOOKUP(I225,CAD_Q!$C$6:$D$105,2,FALSE)))","v":""},{"$f":"IFERROR(VLOOKUP(I225,CAD_Q!$C$6:$E$109,3,FALSE)*F225,\"\")","v":""},null,null,"",1,0,1900,0,1,1900,"Nombre y el registro de entrada válida"]
[null,"",null,null,null,"",null,null,null,{"$f":"IF(I226=\"\",\"\",IF(VLOOKUP(I226,CAD_Q!$C$6:$D$105,2,FALSE)=0,\"\",VLOOKUP(I226,CAD_Q!$C$6:$D$105,2,FALSE)))","v":""},{"$f":"IFERROR(VLOOKUP(I226,CAD_Q!$C$6:$E$109,3,FALSE)*F226,\"\")","v":""},null,null,"",1,0,1900,0,1,1900,"Nombre y el registro de entrada válida"]
[null,"",null,null,null,"",null,null,null,{"$f":"IF(I227=\"\",\"\",IF(VLOOKUP(I227,CAD_Q!$C$6:$D$105,2,FALSE)=0,\"\",VLOOKUP(I227,CAD_Q!$C$6:$D$105,2,FALSE)))","v":""},{"$f":"IFERROR(VLOOKUP(I227,CAD_Q!$C$6:$E$109,3,FALSE)*F227,\"\")","v":""},null,null,"",1,0,1900,0,1,1900,"Nombre y el registro de entrada válida"]
[null,"",null,null,null,{"$f":"IF(OR(D228=\"\",E228=\"\"),\"\",E228-D228)","v":""},null,null,null,{"$f":"IF(I228=\"\",\"\",IF(VLOOKUP(I228,CAD_Q!$C$6:$D$105,2,FALSE)=0,\"\",VLOOKUP(I228,CAD_Q!$C$6:$D$105,2,FALSE)))","v":""},{"$f":"IFERROR(VLOOKUP(I228,CAD_Q!$C$6:$E$109,3,FALSE)*F228,\"\")","v":""},null,null,"",1,0,1900,0,1,1900,"Nombre y el registro de entrada válida"]
[null,"",null,null,null,"",null,null,null,{"$f":"IF(I229=\"\",\"\",IF(VLOOKUP(I229,CAD_Q!$C$6:$D$105,2,FALSE)=0,\"\",VLOOKUP(I229,CAD_Q!$C$6:$D$105,2,FALSE)))","v":""},{"$f":"IFERROR(VLOOKUP(I229,CAD_Q!$C$6:$E$109,3,FALSE)*F229,\"\")","v":""},null,null,"",1,0,1900,0,1,1900,"Nombre y el registro de entrada válida"]
[null,"",null,null,null,"",null,null,null,{"$f":"IF(I230=\"\",\"\",IF(VLOOKUP(I230,CAD_Q!$C$6:$D$105,2,FALSE)=0,\"\",VLOOKUP(I230,CAD_Q!$C$6:$D$105,2,FALSE)))","v":""},{"$f":"IFERROR(VLOOKUP(I230,CAD_Q!$C$6:$E$109,3,FALSE)*F230,\"\")","v":""},null,null,"",1,0,1900,0,1,1900,"Nombre y el registro de entrada válida"]
[null,"",null,null,null,"",null,null,null,{"$f":"IF(I231=\"\",\"\",IF(VLOOKUP(I231,CAD_Q!$C$6:$D$105,2,FALSE)=0,\"\",VLOOKUP(I231,CAD_Q!$C$6:$D$105,2,FALSE)))","v":""},{"$f":"IFERROR(VLOOKUP(I231,CAD_Q!$C$6:$E$109,3,FALSE)*F231,\"\")","v":""},null,null,"",1,0,1900,0,1,1900,"Nombre y el registro de entrada válida"]
[null,"",null,null,null,"",null,null,null,{"$f":"IF(I232=\"\",\"\",IF(VLOOKUP(I232,CAD_Q!$C$6:$D$105,2,FALSE)=0,\"\",VLOOKUP(I232,CAD_Q!$C$6:$D$105,2,FALSE)))","v":""},{"$f":"IFERROR(VLOOKUP(I232,CAD_Q!$C$6:$E$109,3,FALSE)*F232,\"\")","v":""},null,null,"",1,0,1900,0,1,1900,"Nombre y el registro de entrada válida"]
[null,"",null,null,null,"",null,null,null,{"$f":"IF(I233=\"\",\"\",IF(VLOOKUP(I233,CAD_Q!$C$6:$D$105,2,FALSE)=0,\"\",VLOOKUP(I233,CAD_Q!$C$6:$D$105,2,FALSE)))","v":""},{"$f":"IFERROR(VLOOKUP(I233,CAD_Q!$C$6:$E$109,3,FALSE)*F233,\"\")","v":""},null,null,"",1,0,1900,0,1,1900,"Nombre y el registro de entrada válida"]
[null,"",null,null,null,"",null,null,null,{"$f":"IF(I234=\"\",\"\",IF(VLOOKUP(I234,CAD_Q!$C$6:$D$105,2,FALSE)=0,\"\",VLOOKUP(I234,CAD_Q!$C$6:$D$105,2,FALSE)))","v":""},{"$f":"IFERROR(VLOOKUP(I234,CAD_Q!$C$6:$E$109,3,FALSE)*F234,\"\")","v":""},null,null,"",1,0,1900,0,1,1900,"Nombre y el registro de entrada válida"]
[null,"",null,null,null,"",null,null,null,{"$f":"IF(I235=\"\",\"\",IF(VLOOKUP(I235,CAD_Q!$C$6:$D$105,2,FALSE)=0,\"\",VLOOKUP(I235,CAD_Q!$C$6:$D$105,2,FALSE)))","v":""},{"$f":"IFERROR(VLOOKUP(I235,CAD_Q!$C$6:$E$109,3,FALSE)*F235,\"\")","v":""},null,null,"",1,0,1900,0,1,1900,"Nombre y el registro de entrada válida"]
[null,"",null,null,null,"",null,null,null,{"$f":"IF(I236=\"\",\"\",IF(VLOOKUP(I236,CAD_Q!$C$6:$D$105,2,FALSE)=0,\"\",VLOOKUP(I236,CAD_Q!$C$6:$D$105,2,FALSE)))","v":""},{"$f":"IFERROR(VLOOKUP(I236,CAD_Q!$C$6:$E$109,3,FALSE)*F236,\"\")","v":""},null,null,"",1,0,1900,0,1,1900,"Nombre y el registro de entrada válida"]
[null,"",null,null,null,"",null,null,null,{"$f":"IF(I237=\"\",\"\",IF(VLOOKUP(I237,CAD_Q!$C$6:$D$105,2,FALSE)=0,\"\",VLOOKUP(I237,CAD_Q!$C$6:$D$105,2,FALSE)))","v":""},{"$f":"IFERROR(VLOOKUP(I237,CAD_Q!$C$6:$E$109,3,FALSE)*F237,\"\")","v":""},null,null,"",1,0,1900,0,1,1900,"Nombre y el registro de entrada válida"]
[null,"",null,null,null,"",null,null,null,{"$f":"IF(I238=\"\",\"\",IF(VLOOKUP(I238,CAD_Q!$C$6:$D$105,2,FALSE)=0,\"\",VLOOKUP(I238,CAD_Q!$C$6:$D$105,2,FALSE)))","v":""},{"$f":"IFERROR(VLOOKUP(I238,CAD_Q!$C$6:$E$109,3,FALSE)*F238,\"\")","v":""},null,null,"",1,0,1900,0,1,1900,"Nombre y el registro de entrada válida"]
[null,"",null,null,null,"",null,null,null,{"$f":"IF(I239=\"\",\"\",IF(VLOOKUP(I239,CAD_Q!$C$6:$D$105,2,FALSE)=0,\"\",VLOOKUP(I239,CAD_Q!$C$6:$D$105,2,FALSE)))","v":""},{"$f":"IFERROR(VLOOKUP(I239,CAD_Q!$C$6:$E$109,3,FALSE)*F239,\"\")","v":""},null,null,"",1,0,1900,0,1,1900,"Nombre y el registro de entrada válida"]
[null,"",null,null,null,"",null,null,null,{"$f":"IF(I240=\"\",\"\",IF(VLOOKUP(I240,CAD_Q!$C$6:$D$105,2,FALSE)=0,\"\",VLOOKUP(I240,CAD_Q!$C$6:$D$105,2,FALSE)))","v":""},{"$f":"IFERROR(VLOOKUP(I240,CAD_Q!$C$6:$E$109,3,FALSE)*F240,\"\")","v":""},null,null,"",1,0,1900,0,1,1900,"Nombre y el registro de entrada válida"]
[null,"",null,null,null,"",null,null,null,{"$f":"IF(I241=\"\",\"\",IF(VLOOKUP(I241,CAD_Q!$C$6:$D$105,2,FALSE)=0,\"\",VLOOKUP(I241,CAD_Q!$C$6:$D$105,2,FALSE)))","v":""},{"$f":"IFERROR(VLOOKUP(I241,CAD_Q!$C$6:$E$109,3,FALSE)*F241,\"\")","v":""},null,null,"",1,0,1900,0,1,1900,"Nombre y el registro de entrada válida"]
[null,"",null,null,null,"",null,null,null,{"$f":"IF(I242=\"\",\"\",IF(VLOOKUP(I242,CAD_Q!$C$6:$D$105,2,FALSE)=0,\"\",VLOOKUP(I242,CAD_Q!$C$6:$D$105,2,FALSE)))","v":""},{"$f":"IFERROR(VLOOKUP(I242,CAD_Q!$C$6:$E$109,3,FALSE)*F242,\"\")","v":""},null,null,"",1,0,1900,0,1,1900,"Nombre y el registro de entrada válida"]
[null,"",null,null,null,"",null,null,null,{"$f":"IF(I243=\"\",\"\",IF(VLOOKUP(I243,CAD_Q!$C$6:$D$105,2,FALSE)=0,\"\",VLOOKUP(I243,CAD_Q!$C$6:$D$105,2,FALSE)))","v":""},{"$f":"IFERROR(VLOOKUP(I243,CAD_Q!$C$6:$E$109,3,FALSE)*F243,\"\")","v":""},null,null,"",1,0,1900,0,1,1900,"Nombre y el registro de entrada válida"]
[null,"",null,null,null,"",null,null,null,{"$f":"IF(I244=\"\",\"\",IF(VLOOKUP(I244,CAD_Q!$C$6:$D$105,2,FALSE)=0,\"\",VLOOKUP(I244,CAD_Q!$C$6:$D$105,2,FALSE)))","v":""},{"$f":"IFERROR(VLOOKUP(I244,CAD_Q!$C$6:$E$109,3,FALSE)*F244,\"\")","v":""},null,null,"",1,0,1900,0,1,1900,"Nombre y el registro de entrada válida"]
[null,"",null,null,null,"",null,null,null,{"$f":"IF(I245=\"\",\"\",IF(VLOOKUP(I245,CAD_Q!$C$6:$D$105,2,FALSE)=0,\"\",VLOOKUP(I245,CAD_Q!$C$6:$D$105,2,FALSE)))","v":""},{"$f":"IFERROR(VLOOKUP(I245,CAD_Q!$C$6:$E$109,3,FALSE)*F245,\"\")","v":""},null,null,"",1,0,1900,0,1,1900,"Nombre y el registro de entrada válida"]
[null,"",null,null,null,"",null,null,null,{"$f":"IF(I246=\"\",\"\",IF(VLOOKUP(I246,CAD_Q!$C$6:$D$105,2,FALSE)=0,\"\",VLOOKUP(I246,CAD_Q!$C$6:$D$105,2,FALSE)))","v":""},{"$f":"IFERROR(VLOOKUP(I246,CAD_Q!$C$6:$E$109,3,FALSE)*F246,\"\")","v":""},null,null,"",1,0,1900,0,1,1900,"Nombre y el registro de entrada válida"]
[null,"",null,null,null,"",null,null,null,{"$f":"IF(I247=\"\",\"\",IF(VLOOKUP(I247,CAD_Q!$C$6:$D$105,2,FALSE)=0,\"\",VLOOKUP(I247,CAD_Q!$C$6:$D$105,2,FALSE)))","v":""},{"$f":"IFERROR(VLOOKUP(I247,CAD_Q!$C$6:$E$109,3,FALSE)*F247,\"\")","v":""},null,null,"",1,0,1900,0,1,1900,"Nombre y el registro de entrada válida"]
[null,"",null,null,null,"",null,null,null,{"$f":"IF(I248=\"\",\"\",IF(VLOOKUP(I248,CAD_Q!$C$6:$D$105,2,FALSE)=0,\"\",VLOOKUP(I248,CAD_Q!$C$6:$D$105,2,FALSE)))","v":""},{"$f":"IFERROR(VLOOKUP(I248,CAD_Q!$C$6:$E$109,3,FALSE)*F248,\"\")","v":""},null,null,"",1,0,1900,0,1,1900,"Nombre y el registro de entrada válida"]
[null,"",null,null,null,"",null,null,null,{"$f":"IF(I249=\"\",\"\",IF(VLOOKUP(I249,CAD_Q!$C$6:$D$105,2,FALSE)=0,\"\",VLOOKUP(I249,CAD_Q!$C$6:$D$105,2,FALSE)))","v":""},{"$f":"IFERROR(VLOOKUP(I249,CAD_Q!$C$6:$E$109,3,FALSE)*F249,\"\")","v":""},null,null,"",1,0,1900,0,1,1900,"Nombre y el registro de entrada válida"]
[null,"",null,null,null,"",null,null,null,{"$f":"IF(I250=\"\",\"\",IF(VLOOKUP(I250,CAD_Q!$C$6:$D$105,2,FALSE)=0,\"\",VLOOKUP(I250,CAD_Q!$C$6:$D$105,2,FALSE)))","v":""},{"$f":"IFERROR(VLOOKUP(I250,CAD_Q!$C$6:$E$109,3,FALSE)*F250,\"\")","v":""},null,null,"",1,0,1900,0,1,1900,"Nombre y el registro de entrada válida"]
[null,"",null,null,null,"",null,null,null,{"$f":"IF(I251=\"\",\"\",IF(VLOOKUP(I251,CAD_Q!$C$6:$D$105,2,FALSE)=0,\"\",VLOOKUP(I251,CAD_Q!$C$6:$D$105,2,FALSE)))","v":""},{"$f":"IFERROR(VLOOKUP(I251,CAD_Q!$C$6:$E$109,3,FALSE)*F251,\"\")","v":""},null,null,"",1,0,1900,0,1,1900,"Nombre y el registro de entrada válida"]
[null,"",null,null,null,"",null,null,null,{"$f":"IF(I252=\"\",\"\",IF(VLOOKUP(I252,CAD_Q!$C$6:$D$105,2,FALSE)=0,\"\",VLOOKUP(I252,CAD_Q!$C$6:$D$105,2,FALSE)))","v":""},{"$f":"IFERROR(VLOOKUP(I252,CAD_Q!$C$6:$E$109,3,FALSE)*F252,\"\")","v":""},null,null,"",1,0,1900,0,1,1900,"Nombre y el registro de entrada válida"]
[null,"",null,null,null,"",null,null,null,{"$f":"IF(I253=\"\",\"\",IF(VLOOKUP(I253,CAD_Q!$C$6:$D$105,2,FALSE)=0,\"\",VLOOKUP(I253,CAD_Q!$C$6:$D$105,2,FALSE)))","v":""},{"$f":"IFERROR(VLOOKUP(I253,CAD_Q!$C$6:$E$109,3,FALSE)*F253,\"\")","v":""},null,null,"",1,0,1900,0,1,1900,"Nombre y el registro de entrada válida"]
[null,"",null,null,null,"",null,null,null,{"$f":"IF(I254=\"\",\"\",IF(VLOOKUP(I254,CAD_Q!$C$6:$D$105,2,FALSE)=0,\"\",VLOOKUP(I254,CAD_Q!$C$6:$D$105,2,FALSE)))","v":""},{"$f":"IFERROR(VLOOKUP(I254,CAD_Q!$C$6:$E$109,3,FALSE)*F254,\"\")","v":""},null,null,"",1,0,1900,0,1,1900,"Nombre y el registro de entrada válida"]
[null,"",null,null,null,"",null,null,null,{"$f":"IF(I255=\"\",\"\",IF(VLOOKUP(I255,CAD_Q!$C$6:$D$105,2,FALSE)=0,\"\",VLOOKUP(I255,CAD_Q!$C$6:$D$105,2,FALSE)))","v":""},{"$f":"IFERROR(VLOOKUP(I255,CAD_Q!$C$6:$E$109,3,FALSE)*F255,\"\")","v":""},null,null,"",1,0,1900,0,1,1900,"Nombre y el registro de entrada válida"]
[null,"",null,null,null,"",null,null,null,{"$f":"IF(I256=\"\",\"\",IF(VLOOKUP(I256,CAD_Q!$C$6:$D$105,2,FALSE)=0,\"\",VLOOKUP(I256,CAD_Q!$C$6:$D$105,2,FALSE)))","v":""},{"$f":"IFERROR(VLOOKUP(I256,CAD_Q!$C$6:$E$109,3,FALSE)*F256,\"\")","v":""},null,null,"",1,0,1900,0,1,1900,"Nombre y el registro de entrada válida"]
[null,"",null,null,null,"",null,null,null,{"$f":"IF(I257=\"\",\"\",IF(VLOOKUP(I257,CAD_Q!$C$6:$D$105,2,FALSE)=0,\"\",VLOOKUP(I257,CAD_Q!$C$6:$D$105,2,FALSE)))","v":""},{"$f":"IFERROR(VLOOKUP(I257,CAD_Q!$C$6:$E$109,3,FALSE)*F257,\"\")","v":""},null,null,"",1,0,1900,0,1,1900,"Nombre y el registro de entrada válida"]
[null,"",null,null,null,"",null,null,null,{"$f":"IF(I258=\"\",\"\",IF(VLOOKUP(I258,CAD_Q!$C$6:$D$105,2,FALSE)=0,\"\",VLOOKUP(I258,CAD_Q!$C$6:$D$105,2,FALSE)))","v":""},{"$f":"IFERROR(VLOOKUP(I258,CAD_Q!$C$6:$E$109,3,FALSE)*F258,\"\")","v":""},null,null,"",1,0,1900,0,1,1900,"Nombre y el registro de entrada válida"]
[null,"",null,null,null,"",null,null,null,{"$f":"IF(I259=\"\",\"\",IF(VLOOKUP(I259,CAD_Q!$C$6:$D$105,2,FALSE)=0,\"\",VLOOKUP(I259,CAD_Q!$C$6:$D$105,2,FALSE)))","v":""},{"$f":"IFERROR(VLOOKUP(I259,CAD_Q!$C$6:$E$109,3,FALSE)*F259,\"\")","v":""},null,null,"",1,0,1900,0,1,1900,"Nombre y el registro de entrada válida"]
[null,"",null,null,null,"",null,null,null,{"$f":"IF(I260=\"\",\"\",IF(VLOOKUP(I260,CAD_Q!$C$6:$D$105,2,FALSE)=0,\"\",VLOOKUP(I260,CAD_Q!$C$6:$D$105,2,FALSE)))","v":""},{"$f":"IFERROR(VLOOKUP(I260,CAD_Q!$C$6:$E$109,3,FALSE)*F260,\"\")","v":""},null,null,"",1,0,1900,0,1,1900,"Nombre y el registro de entrada válida"]
[null,"",null,null,null,"",null,null,null,{"$f":"IF(I261=\"\",\"\",IF(VLOOKUP(I261,CAD_Q!$C$6:$D$105,2,FALSE)=0,\"\",VLOOKUP(I261,CAD_Q!$C$6:$D$105,2,FALSE)))","v":""},{"$f":"IFERROR(VLOOKUP(I261,CAD_Q!$C$6:$E$109,3,FALSE)*F261,\"\")","v":""},null,null,"",1,0,1900,0,1,1900,"Nombre y el registro de entrada válida"]
[null,"",null,null,null,"",null,null,null,{"$f":"IF(I262=\"\",\"\",IF(VLOOKUP(I262,CAD_Q!$C$6:$D$105,2,FALSE)=0,\"\",VLOOKUP(I262,CAD_Q!$C$6:$D$105,2,FALSE)))","v":""},{"$f":"IFERROR(VLOOKUP(I262,CAD_Q!$C$6:$E$109,3,FALSE)*F262,\"\")","v":""},null,null,"",1,0,1900,0,1,1900,"Nombre y el registro de entrada válida"]
[null,{"$f":"CONCATENATE(C263,D263)","v":""},null,null,null,"",null,null,null,{"$f":"IF(I263=\"\",\"\",IF(VLOOKUP(I263,CAD_Q!$C$6:$D$105,2,FALSE)=0,\"\",VLOOKUP(I263,CAD_Q!$C$6:$D$105,2,FALSE)))","v":""},{"$f":"IFERROR(VLOOKUP(I263,CAD_Q!$C$6:$E$109,3,FALSE)*F263,\"\")","v":""},null,null,{"$f":"IFERROR(K263-L263+M263,\"\")","v":""},1,0,1900,0,1,1900,"Nombre y el registro de entrada válida"]
[null,"",null,null,null,"",null,null,null,{"$f":"IF(I264=\"\",\"\",IF(VLOOKUP(I264,CAD_Q!$C$6:$D$105,2,FALSE)=0,\"\",VLOOKUP(I264,CAD_Q!$C$6:$D$105,2,FALSE)))","v":""},{"$f":"IFERROR(VLOOKUP(I264,CAD_Q!$C$6:$E$109,3,FALSE)*F264,\"\")","v":""},null,null,"",1,0,1900,0,1,1900,"Nombre y el registro de entrada válida"]
[null,"",null,null,null,"",null,null,null,{"$f":"IF(I265=\"\",\"\",IF(VLOOKUP(I265,CAD_Q!$C$6:$D$105,2,FALSE)=0,\"\",VLOOKUP(I265,CAD_Q!$C$6:$D$105,2,FALSE)))","v":""},{"$f":"IFERROR(VLOOKUP(I265,CAD_Q!$C$6:$E$109,3,FALSE)*F265,\"\")","v":""},null,null,"",1,0,1900,0,1,1900,"Nombre y el registro de entrada válida"]
[null,"",null,null,null,"",null,null,null,{"$f":"IF(I266=\"\",\"\",IF(VLOOKUP(I266,CAD_Q!$C$6:$D$105,2,FALSE)=0,\"\",VLOOKUP(I266,CAD_Q!$C$6:$D$105,2,FALSE)))","v":""},{"$f":"IFERROR(VLOOKUP(I266,CAD_Q!$C$6:$E$109,3,FALSE)*F266,\"\")","v":""},null,null,"",{"$f":"MONTH(D266)","v":1},{"$f":"DAY(D266)","v":0},{"$f":"YEAR(D266)","v":1900},{"$f":"DAY(E266)","v":0},{"$f":"MONTH(E266)","v":1},{"$f":"YEAR(E266)","v":1900},"Nombre y el registro de entrada válida"]
[null,"",null,null,null,"",null,null,null,{"$f":"IF(I267=\"\",\"\",IF(VLOOKUP(I267,CAD_Q!$C$6:$D$105,2,FALSE)=0,\"\",VLOOKUP(I267,CAD_Q!$C$6:$D$105,2,FALSE)))","v":""},{"$f":"IFERROR(VLOOKUP(I267,CAD_Q!$C$6:$E$109,3,FALSE)*F267,\"\")","v":""},null,null,"",1,0,1900,0,1,1900,"Nombre y el registro de entrada válida"]
[null,"",null,null,null,"",null,null,null,{"$f":"IF(I268=\"\",\"\",IF(VLOOKUP(I268,CAD_Q!$C$6:$D$105,2,FALSE)=0,\"\",VLOOKUP(I268,CAD_Q!$C$6:$D$105,2,FALSE)))","v":""},{"$f":"IFERROR(VLOOKUP(I268,CAD_Q!$C$6:$E$109,3,FALSE)*F268,\"\")","v":""},null,null,"",1,0,1900,0,1,1900,"Nombre y el registro de entrada válida"]
[null,"",null,null,null,"",null,null,null,{"$f":"IF(I269=\"\",\"\",IF(VLOOKUP(I269,CAD_Q!$C$6:$D$105,2,FALSE)=0,\"\",VLOOKUP(I269,CAD_Q!$C$6:$D$105,2,FALSE)))","v":""},{"$f":"IFERROR(VLOOKUP(I269,CAD_Q!$C$6:$E$109,3,FALSE)*F269,\"\")","v":""},null,null,"",1,0,1900,0,1,1900,"Nombre y el registro de entrada válida"]
[null,"",null,null,null,"",null,null,null,{"$f":"IF(I270=\"\",\"\",IF(VLOOKUP(I270,CAD_Q!$C$6:$D$105,2,FALSE)=0,\"\",VLOOKUP(I270,CAD_Q!$C$6:$D$105,2,FALSE)))","v":""},{"$f":"IFERROR(VLOOKUP(I270,CAD_Q!$C$6:$E$109,3,FALSE)*F270,\"\")","v":""},null,null,"",1,0,1900,0,1,1900,"Nombre y el registro de entrada válida"]
[null,"",null,null,null,"",null,null,null,{"$f":"IF(I271=\"\",\"\",IF(VLOOKUP(I271,CAD_Q!$C$6:$D$105,2,FALSE)=0,\"\",VLOOKUP(I271,CAD_Q!$C$6:$D$105,2,FALSE)))","v":""},{"$f":"IFERROR(VLOOKUP(I271,CAD_Q!$C$6:$E$109,3,FALSE)*F271,\"\")","v":""},null,null,"",1,0,1900,0,1,1900,"Nombre y el registro de entrada válida"]
[null,"",null,null,null,"",null,null,null,{"$f":"IF(I272=\"\",\"\",IF(VLOOKUP(I272,CAD_Q!$C$6:$D$105,2,FALSE)=0,\"\",VLOOKUP(I272,CAD_Q!$C$6:$D$105,2,FALSE)))","v":""},{"$f":"IFERROR(VLOOKUP(I272,CAD_Q!$C$6:$E$109,3,FALSE)*F272,\"\")","v":""},null,null,"",1,0,1900,0,1,1900,"Nombre y el registro de entrada válida"]
[null,"",null,null,null,"",null,null,null,{"$f":"IF(I273=\"\",\"\",IF(VLOOKUP(I273,CAD_Q!$C$6:$D$105,2,FALSE)=0,\"\",VLOOKUP(I273,CAD_Q!$C$6:$D$105,2,FALSE)))","v":""},{"$f":"IFERROR(VLOOKUP(I273,CAD_Q!$C$6:$E$109,3,FALSE)*F273,\"\")","v":""},null,null,"",1,0,1900,0,1,1900,"Nombre y el registro de entrada válida"]
[null,"",null,null,null,"",null,null,null,{"$f":"IF(I274=\"\",\"\",IF(VLOOKUP(I274,CAD_Q!$C$6:$D$105,2,FALSE)=0,\"\",VLOOKUP(I274,CAD_Q!$C$6:$D$105,2,FALSE)))","v":""},{"$f":"IFERROR(VLOOKUP(I274,CAD_Q!$C$6:$E$109,3,FALSE)*F274,\"\")","v":""},null,null,"",1,0,1900,0,1,1900,"Nombre y el registro de entrada válida"]
[null,"",null,null,null,"",null,null,null,{"$f":"IF(I275=\"\",\"\",IF(VLOOKUP(I275,CAD_Q!$C$6:$D$105,2,FALSE)=0,\"\",VLOOKUP(I275,CAD_Q!$C$6:$D$105,2,FALSE)))","v":""},{"$f":"IFERROR(VLOOKUP(I275,CAD_Q!$C$6:$E$109,3,FALSE)*F275,\"\")","v":""},null,null,"",1,0,1900,0,1,1900,"Nombre y el registro de entrada válida"]
[null,"",null,null,null,"",null,null,null,{"$f":"IF(I276=\"\",\"\",IF(VLOOKUP(I276,CAD_Q!$C$6:$D$105,2,FALSE)=0,\"\",VLOOKUP(I276,CAD_Q!$C$6:$D$105,2,FALSE)))","v":""},{"$f":"IFERROR(VLOOKUP(I276,CAD_Q!$C$6:$E$109,3,FALSE)*F276,\"\")","v":""},null,null,"",1,0,1900,0,1,1900,"Nombre y el registro de entrada válida"]
[null,"",null,null,null,"",null,null,null,{"$f":"IF(I277=\"\",\"\",IF(VLOOKUP(I277,CAD_Q!$C$6:$D$105,2,FALSE)=0,\"\",VLOOKUP(I277,CAD_Q!$C$6:$D$105,2,FALSE)))","v":""},{"$f":"IFERROR(VLOOKUP(I277,CAD_Q!$C$6:$E$109,3,FALSE)*F277,\"\")","v":""},null,null,"",1,0,1900,0,1,1900,"Nombre y el registro de entrada válida"]
[null,"",null,null,null,"",null,null,null,{"$f":"IF(I278=\"\",\"\",IF(VLOOKUP(I278,CAD_Q!$C$6:$D$105,2,FALSE)=0,\"\",VLOOKUP(I278,CAD_Q!$C$6:$D$105,2,FALSE)))","v":""},{"$f":"IFERROR(VLOOKUP(I278,CAD_Q!$C$6:$E$109,3,FALSE)*F278,\"\")","v":""},null,null,"",1,0,1900,0,1,1900,"Nombre y el registro de entrada válida"]
[null,"",null,null,null,"",null,null,null,{"$f":"IF(I279=\"\",\"\",IF(VLOOKUP(I279,CAD_Q!$C$6:$D$105,2,FALSE)=0,\"\",VLOOKUP(I279,CAD_Q!$C$6:$D$105,2,FALSE)))","v":""},{"$f":"IFERROR(VLOOKUP(I279,CAD_Q!$C$6:$E$109,3,FALSE)*F279,\"\")","v":""},null,null,"",1,0,1900,0,1,1900,"Nombre y el registro de entrada válida"]
[null,"",null,null,null,"",null,null,null,{"$f":"IF(I280=\"\",\"\",IF(VLOOKUP(I280,CAD_Q!$C$6:$D$105,2,FALSE)=0,\"\",VLOOKUP(I280,CAD_Q!$C$6:$D$105,2,FALSE)))","v":""},{"$f":"IFERROR(VLOOKUP(I280,CAD_Q!$C$6:$E$109,3,FALSE)*F280,\"\")","v":""},null,null,"",1,0,1900,0,1,1900,"Nombre y el registro de entrada válida"]
[null,"",null,null,null,"",null,null,null,{"$f":"IF(I281=\"\",\"\",IF(VLOOKUP(I281,CAD_Q!$C$6:$D$105,2,FALSE)=0,\"\",VLOOKUP(I281,CAD_Q!$C$6:$D$105,2,FALSE)))","v":""},{"$f":"IFERROR(VLOOKUP(I281,CAD_Q!$C$6:$E$109,3,FALSE)*F281,\"\")","v":""},null,null,"",1,0,1900,0,1,1900,"Nombre y el registro de entrada válida"]
[null,"",null,null,null,"",null,null,null,{"$f":"IF(I282=\"\",\"\",IF(VLOOKUP(I282,CAD_Q!$C$6:$D$105,2,FALSE)=0,\"\",VLOOKUP(I282,CAD_Q!$C$6:$D$105,2,FALSE)))","v":""},{"$f":"IFERROR(VLOOKUP(I282,CAD_Q!$C$6:$E$109,3,FALSE)*F282,\"\")","v":""},null,null,"",1,0,1900,0,1,1900,"Nombre y el registro de entrada válida"]
[null,"",null,null,null,"",null,null,null,{"$f":"IF(I283=\"\",\"\",IF(VLOOKUP(I283,CAD_Q!$C$6:$D$105,2,FALSE)=0,\"\",VLOOKUP(I283,CAD_Q!$C$6:$D$105,2,FALSE)))","v":""},{"$f":"IFERROR(VLOOKUP(I283,CAD_Q!$C$6:$E$109,3,FALSE)*F283,\"\")","v":""},null,null,"",1,0,1900,0,1,1900,"Nombre y el registro de entrada válida"]
[null,"",null,null,null,"",null,null,null,{"$f":"IF(I284=\"\",\"\",IF(VLOOKUP(I284,CAD_Q!$C$6:$D$105,2,FALSE)=0,\"\",VLOOKUP(I284,CAD_Q!$C$6:$D$105,2,FALSE)))","v":""},{"$f":"IFERROR(VLOOKUP(I284,CAD_Q!$C$6:$E$109,3,FALSE)*F284,\"\")","v":""},null,null,"",1,0,1900,0,1,1900,"Nombre y el registro de entrada válida"]
[null,"",null,null,null,"",null,null,null,{"$f":"IF(I285=\"\",\"\",IF(VLOOKUP(I285,CAD_Q!$C$6:$D$105,2,FALSE)=0,\"\",VLOOKUP(I285,CAD_Q!$C$6:$D$105,2,FALSE)))","v":""},{"$f":"IFERROR(VLOOKUP(I285,CAD_Q!$C$6:$E$109,3,FALSE)*F285,\"\")","v":""},null,null,"",1,0,1900,0,1,1900,"Nombre y el registro de entrada válida"]
[null,"",null,null,null,"",null,null,null,{"$f":"IF(I286=\"\",\"\",IF(VLOOKUP(I286,CAD_Q!$C$6:$D$105,2,FALSE)=0,\"\",VLOOKUP(I286,CAD_Q!$C$6:$D$105,2,FALSE)))","v":""},{"$f":"IFERROR(VLOOKUP(I286,CAD_Q!$C$6:$E$109,3,FALSE)*F286,\"\")","v":""},null,null,"",1,0,1900,0,1,1900,"Nombre y el registro de entrada válida"]
[null,"",null,null,null,"",null,null,null,{"$f":"IF(I287=\"\",\"\",IF(VLOOKUP(I287,CAD_Q!$C$6:$D$105,2,FALSE)=0,\"\",VLOOKUP(I287,CAD_Q!$C$6:$D$105,2,FALSE)))","v":""},{"$f":"IFERROR(VLOOKUP(I287,CAD_Q!$C$6:$E$109,3,FALSE)*F287,\"\")","v":""},null,null,"",1,0,1900,0,1,1900,"Nombre y el registro de entrada válida"]
[null,"",null,null,null,"",null,null,null,{"$f":"IF(I288=\"\",\"\",IF(VLOOKUP(I288,CAD_Q!$C$6:$D$105,2,FALSE)=0,\"\",VLOOKUP(I288,CAD_Q!$C$6:$D$105,2,FALSE)))","v":""},{"$f":"IFERROR(VLOOKUP(I288,CAD_Q!$C$6:$E$109,3,FALSE)*F288,\"\")","v":""},null,null,"",1,0,1900,0,1,1900,"Nombre y el registro de entrada válida"]
[null,"",null,null,null,"",null,null,null,{"$f":"IF(I289=\"\",\"\",IF(VLOOKUP(I289,CAD_Q!$C$6:$D$105,2,FALSE)=0,\"\",VLOOKUP(I289,CAD_Q!$C$6:$D$105,2,FALSE)))","v":""},{"$f":"IFERROR(VLOOKUP(I289,CAD_Q!$C$6:$E$109,3,FALSE)*F289,\"\")","v":""},null,null,"",1,0,1900,0,1,1900,"Nombre y el registro de entrada válida"]
[null,"",null,null,null,"",null,null,null,{"$f":"IF(I290=\"\",\"\",IF(VLOOKUP(I290,CAD_Q!$C$6:$D$105,2,FALSE)=0,\"\",VLOOKUP(I290,CAD_Q!$C$6:$D$105,2,FALSE)))","v":""},{"$f":"IFERROR(VLOOKUP(I290,CAD_Q!$C$6:$E$109,3,FALSE)*F290,\"\")","v":""},null,null,"",1,0,1900,0,1,1900,"Nombre y el registro de entrada válida"]
[null,"",null,null,null,"",null,null,null,{"$f":"IF(I291=\"\",\"\",IF(VLOOKUP(I291,CAD_Q!$C$6:$D$105,2,FALSE)=0,\"\",VLOOKUP(I291,CAD_Q!$C$6:$D$105,2,FALSE)))","v":""},{"$f":"IFERROR(VLOOKUP(I291,CAD_Q!$C$6:$E$109,3,FALSE)*F291,\"\")","v":""},null,null,"",1,0,1900,0,1,1900,"Nombre y el registro de entrada válida"]
[null,"",null,null,null,{"$f":"IF(OR(D292=\"\",E292=\"\"),\"\",E292-D292)","v":""},null,null,null,{"$f":"IF(I292=\"\",\"\",IF(VLOOKUP(I292,CAD_Q!$C$6:$D$105,2,FALSE)=0,\"\",VLOOKUP(I292,CAD_Q!$C$6:$D$105,2,FALSE)))","v":""},{"$f":"IFERROR(VLOOKUP(I292,CAD_Q!$C$6:$E$109,3,FALSE)*F292,\"\")","v":""},null,null,"",1,0,1900,0,1,1900,"Nombre y el registro de entrada válida"]
[null,"",null,null,null,"",null,null,null,{"$f":"IF(I293=\"\",\"\",IF(VLOOKUP(I293,CAD_Q!$C$6:$D$105,2,FALSE)=0,\"\",VLOOKUP(I293,CAD_Q!$C$6:$D$105,2,FALSE)))","v":""},{"$f":"IFERROR(VLOOKUP(I293,CAD_Q!$C$6:$E$109,3,FALSE)*F293,\"\")","v":""},null,null,"",1,0,1900,0,1,1900,"Nombre y el registro de entrada válida"]
[null,"",null,null,null,"",null,null,null,{"$f":"IF(I294=\"\",\"\",IF(VLOOKUP(I294,CAD_Q!$C$6:$D$105,2,FALSE)=0,\"\",VLOOKUP(I294,CAD_Q!$C$6:$D$105,2,FALSE)))","v":""},{"$f":"IFERROR(VLOOKUP(I294,CAD_Q!$C$6:$E$109,3,FALSE)*F294,\"\")","v":""},null,null,"",1,0,1900,0,1,1900,"Nombre y el registro de entrada válida"]
[null,"",null,null,null,"",null,null,null,{"$f":"IF(I295=\"\",\"\",IF(VLOOKUP(I295,CAD_Q!$C$6:$D$105,2,FALSE)=0,\"\",VLOOKUP(I295,CAD_Q!$C$6:$D$105,2,FALSE)))","v":""},{"$f":"IFERROR(VLOOKUP(I295,CAD_Q!$C$6:$E$109,3,FALSE)*F295,\"\")","v":""},null,null,"",1,0,1900,0,1,1900,"Nombre y el registro de entrada válida"]
[null,"",null,null,null,"",null,null,null,{"$f":"IF(I296=\"\",\"\",IF(VLOOKUP(I296,CAD_Q!$C$6:$D$105,2,FALSE)=0,\"\",VLOOKUP(I296,CAD_Q!$C$6:$D$105,2,FALSE)))","v":""},{"$f":"IFERROR(VLOOKUP(I296,CAD_Q!$C$6:$E$109,3,FALSE)*F296,\"\")","v":""},null,null,"",1,0,1900,0,1,1900,"Nombre y el registro de entrada válida"]
[null,"",null,null,null,"",null,null,null,{"$f":"IF(I297=\"\",\"\",IF(VLOOKUP(I297,CAD_Q!$C$6:$D$105,2,FALSE)=0,\"\",VLOOKUP(I297,CAD_Q!$C$6:$D$105,2,FALSE)))","v":""},{"$f":"IFERROR(VLOOKUP(I297,CAD_Q!$C$6:$E$109,3,FALSE)*F297,\"\")","v":""},null,null,"",1,0,1900,0,1,1900,"Nombre y el registro de entrada válida"]
[null,"",null,null,null,"",null,null,null,{"$f":"IF(I298=\"\",\"\",IF(VLOOKUP(I298,CAD_Q!$C$6:$D$105,2,FALSE)=0,\"\",VLOOKUP(I298,CAD_Q!$C$6:$D$105,2,FALSE)))","v":""},{"$f":"IFERROR(VLOOKUP(I298,CAD_Q!$C$6:$E$109,3,FALSE)*F298,\"\")","v":""},null,null,"",1,0,1900,0,1,1900,"Nombre y el registro de entrada válida"]
[null,"",null,null,null,"",null,null,null,{"$f":"IF(I299=\"\",\"\",IF(VLOOKUP(I299,CAD_Q!$C$6:$D$105,2,FALSE)=0,\"\",VLOOKUP(I299,CAD_Q!$C$6:$D$105,2,FALSE)))","v":""},{"$f":"IFERROR(VLOOKUP(I299,CAD_Q!$C$6:$E$109,3,FALSE)*F299,\"\")","v":""},null,null,"",1,0,1900,0,1,1900,"Nombre y el registro de entrada válida"]
[null,"",null,null,null,"",null,null,null,{"$f":"IF(I300=\"\",\"\",IF(VLOOKUP(I300,CAD_Q!$C$6:$D$105,2,FALSE)=0,\"\",VLOOKUP(I300,CAD_Q!$C$6:$D$105,2,FALSE)))","v":""},{"$f":"IFERROR(VLOOKUP(I300,CAD_Q!$C$6:$E$109,3,FALSE)*F300,\"\")","v":""},null,null,"",1,0,1900,0,1,1900,"Nombre y el registro de entrada válida"]
[null,"",null,null,null,"",null,null,null,{"$f":"IF(I301=\"\",\"\",IF(VLOOKUP(I301,CAD_Q!$C$6:$D$105,2,FALSE)=0,\"\",VLOOKUP(I301,CAD_Q!$C$6:$D$105,2,FALSE)))","v":""},{"$f":"IFERROR(VLOOKUP(I301,CAD_Q!$C$6:$E$109,3,FALSE)*F301,\"\")","v":""},null,null,"",1,0,1900,0,1,1900,"Nombre y el registro de entrada válida"]
[null,"",null,null,null,"",null,null,null,{"$f":"IF(I302=\"\",\"\",IF(VLOOKUP(I302,CAD_Q!$C$6:$D$105,2,FALSE)=0,\"\",VLOOKUP(I302,CAD_Q!$C$6:$D$105,2,FALSE)))","v":""},{"$f":"IFERROR(VLOOKUP(I302,CAD_Q!$C$6:$E$109,3,FALSE)*F302,\"\")","v":""},null,null,"",1,0,1900,0,1,1900,"Nombre y el registro de entrada válida"]
[null,"",null,null,null,"",null,null,null,{"$f":"IF(I303=\"\",\"\",IF(VLOOKUP(I303,CAD_Q!$C$6:$D$105,2,FALSE)=0,\"\",VLOOKUP(I303,CAD_Q!$C$6:$D$105,2,FALSE)))","v":""},{"$f":"IFERROR(VLOOKUP(I303,CAD_Q!$C$6:$E$109,3,FALSE)*F303,\"\")","v":""},null,null,"",1,0,1900,0,1,1900,"Nombre y el registro de entrada válida"]
[null,"",null,null,null,"",null,null,null,{"$f":"IF(I304=\"\",\"\",IF(VLOOKUP(I304,CAD_Q!$C$6:$D$105,2,FALSE)=0,\"\",VLOOKUP(I304,CAD_Q!$C$6:$D$105,2,FALSE)))","v":""},{"$f":"IFERROR(VLOOKUP(I304,CAD_Q!$C$6:$E$109,3,FALSE)*F304,\"\")","v":""},null,null,"",1,0,1900,0,1,1900,"Nombre y el registro de entrada válida"]
[null,"",null,null,null,"",null,null,null,{"$f":"IF(I305=\"\",\"\",IF(VLOOKUP(I305,CAD_Q!$C$6:$D$105,2,FALSE)=0,\"\",VLOOKUP(I305,CAD_Q!$C$6:$D$105,2,FALSE)))","v":""},{"$f":"IFERROR(VLOOKUP(I305,CAD_Q!$C$6:$E$109,3,FALSE)*F305,\"\")","v":""},null,null,"",1,0,1900,0,1,1900,"Nombre y el registro de entrada válida"]
[null,"",null,null,null,"",null,null,null,{"$f":"IF(I306=\"\",\"\",IF(VLOOKUP(I306,CAD_Q!$C$6:$D$105,2,FALSE)=0,\"\",VLOOKUP(I306,CAD_Q!$C$6:$D$105,2,FALSE)))","v":""},{"$f":"IFERROR(VLOOKUP(I306,CAD_Q!$C$6:$E$109,3,FALSE)*F306,\"\")","v":""},null,null,"",1,0,1900,0,1,1900,"Nombre y el registro de entrada válida"]
[null,"",null,null,null,"",null,null,null,{"$f":"IF(I307=\"\",\"\",IF(VLOOKUP(I307,CAD_Q!$C$6:$D$105,2,FALSE)=0,\"\",VLOOKUP(I307,CAD_Q!$C$6:$D$105,2,FALSE)))","v":""},{"$f":"IFERROR(VLOOKUP(I307,CAD_Q!$C$6:$E$109,3,FALSE)*F307,\"\")","v":""},null,null,"",1,0,1900,0,1,1900,"Nombre y el registro de entrada válida"]
[null,"",null,null,null,"",null,null,null,{"$f":"IF(I308=\"\",\"\",IF(VLOOKUP(I308,CAD_Q!$C$6:$D$105,2,FALSE)=0,\"\",VLOOKUP(I308,CAD_Q!$C$6:$D$105,2,FALSE)))","v":""},{"$f":"IFERROR(VLOOKUP(I308,CAD_Q!$C$6:$E$109,3,FALSE)*F308,\"\")","v":""},null,null,"",1,0,1900,0,1,1900,"Nombre y el registro de entrada válida"]
[null,"",null,null,null,"",null,null,null,{"$f":"IF(I309=\"\",\"\",IF(VLOOKUP(I309,CAD_Q!$C$6:$D$105,2,FALSE)=0,\"\",VLOOKUP(I309,CAD_Q!$C$6:$D$105,2,FALSE)))","v":""},{"$f":"IFERROR(VLOOKUP(I309,CAD_Q!$C$6:$E$109,3,FALSE)*F309,\"\")","v":""},null,null,"",1,0,1900,0,1,1900,"Nombre y el registro de entrada válida"]
[null,"",null,null,null,"",null,null,null,{"$f":"IF(I310=\"\",\"\",IF(VLOOKUP(I310,CAD_Q!$C$6:$D$105,2,FALSE)=0,\"\",VLOOKUP(I310,CAD_Q!$C$6:$D$105,2,FALSE)))","v":""},{"$f":"IFERROR(VLOOKUP(I310,CAD_Q!$C$6:$E$109,3,FALSE)*F310,\"\")","v":""},null,null,"",1,0,1900,0,1,1900,"Nombre y el registro de entrada válida"]
[null,"",null,null,null,"",null,null,null,{"$f":"IF(I311=\"\",\"\",IF(VLOOKUP(I311,CAD_Q!$C$6:$D$105,2,FALSE)=0,\"\",VLOOKUP(I311,CAD_Q!$C$6:$D$105,2,FALSE)))","v":""},{"$f":"IFERROR(VLOOKUP(I311,CAD_Q!$C$6:$E$109,3,FALSE)*F311,\"\")","v":""},null,null,"",1,0,1900,0,1,1900,"Nombre y el registro de entrada válida"]
[null,"",null,null,null,"",null,null,null,{"$f":"IF(I312=\"\",\"\",IF(VLOOKUP(I312,CAD_Q!$C$6:$D$105,2,FALSE)=0,\"\",VLOOKUP(I312,CAD_Q!$C$6:$D$105,2,FALSE)))","v":""},{"$f":"IFERROR(VLOOKUP(I312,CAD_Q!$C$6:$E$109,3,FALSE)*F312,\"\")","v":""},null,null,"",1,0,1900,0,1,1900,"Nombre y el registro de entrada válida"]
[null,"",null,null,null,"",null,null,null,{"$f":"IF(I313=\"\",\"\",IF(VLOOKUP(I313,CAD_Q!$C$6:$D$105,2,FALSE)=0,\"\",VLOOKUP(I313,CAD_Q!$C$6:$D$105,2,FALSE)))","v":""},{"$f":"IFERROR(VLOOKUP(I313,CAD_Q!$C$6:$E$109,3,FALSE)*F313,\"\")","v":""},null,null,"",1,0,1900,0,1,1900,"Nombre y el registro de entrada válida"]
[null,"",null,null,null,"",null,null,null,{"$f":"IF(I314=\"\",\"\",IF(VLOOKUP(I314,CAD_Q!$C$6:$D$105,2,FALSE)=0,\"\",VLOOKUP(I314,CAD_Q!$C$6:$D$105,2,FALSE)))","v":""},{"$f":"IFERROR(VLOOKUP(I314,CAD_Q!$C$6:$E$109,3,FALSE)*F314,\"\")","v":""},null,null,"",1,0,1900,0,1,1900,"Nombre y el registro de entrada válida"]
[null,"",null,null,null,"",null,null,null,{"$f":"IF(I315=\"\",\"\",IF(VLOOKUP(I315,CAD_Q!$C$6:$D$105,2,FALSE)=0,\"\",VLOOKUP(I315,CAD_Q!$C$6:$D$105,2,FALSE)))","v":""},{"$f":"IFERROR(VLOOKUP(I315,CAD_Q!$C$6:$E$109,3,FALSE)*F315,\"\")","v":""},null,null,"",1,0,1900,0,1,1900,"Nombre y el registro de entrada válida"]
[null,"",null,null,null,"",null,null,null,{"$f":"IF(I316=\"\",\"\",IF(VLOOKUP(I316,CAD_Q!$C$6:$D$105,2,FALSE)=0,\"\",VLOOKUP(I316,CAD_Q!$C$6:$D$105,2,FALSE)))","v":""},{"$f":"IFERROR(VLOOKUP(I316,CAD_Q!$C$6:$E$109,3,FALSE)*F316,\"\")","v":""},null,null,"",1,0,1900,0,1,1900,"Nombre y el registro de entrada válida"]
[null,"",null,null,null,"",null,null,null,{"$f":"IF(I317=\"\",\"\",IF(VLOOKUP(I317,CAD_Q!$C$6:$D$105,2,FALSE)=0,\"\",VLOOKUP(I317,CAD_Q!$C$6:$D$105,2,FALSE)))","v":""},{"$f":"IFERROR(VLOOKUP(I317,CAD_Q!$C$6:$E$109,3,FALSE)*F317,\"\")","v":""},null,null,"",1,0,1900,0,1,1900,"Nombre y el registro de entrada válida"]
[null,"",null,null,null,"",null,null,null,{"$f":"IF(I318=\"\",\"\",IF(VLOOKUP(I318,CAD_Q!$C$6:$D$105,2,FALSE)=0,\"\",VLOOKUP(I318,CAD_Q!$C$6:$D$105,2,FALSE)))","v":""},{"$f":"IFERROR(VLOOKUP(I318,CAD_Q!$C$6:$E$109,3,FALSE)*F318,\"\")","v":""},null,null,"",1,0,1900,0,1,1900,"Nombre y el registro de entrada válida"]
[null,"",null,null,null,"",null,null,null,{"$f":"IF(I319=\"\",\"\",IF(VLOOKUP(I319,CAD_Q!$C$6:$D$105,2,FALSE)=0,\"\",VLOOKUP(I319,CAD_Q!$C$6:$D$105,2,FALSE)))","v":""},{"$f":"IFERROR(VLOOKUP(I319,CAD_Q!$C$6:$E$109,3,FALSE)*F319,\"\")","v":""},null,null,"",1,0,1900,0,1,1900,"Nombre y el registro de entrada válida"]
[null,"",null,null,null,"",null,null,null,{"$f":"IF(I320=\"\",\"\",IF(VLOOKUP(I320,CAD_Q!$C$6:$D$105,2,FALSE)=0,\"\",VLOOKUP(I320,CAD_Q!$C$6:$D$105,2,FALSE)))","v":""},{"$f":"IFERROR(VLOOKUP(I320,CAD_Q!$C$6:$E$109,3,FALSE)*F320,\"\")","v":""},null,null,"",1,0,1900,0,1,1900,"Nombre y el registro de entrada válida"]
[null,"",null,null,null,"",null,null,null,{"$f":"IF(I321=\"\",\"\",IF(VLOOKUP(I321,CAD_Q!$C$6:$D$105,2,FALSE)=0,\"\",VLOOKUP(I321,CAD_Q!$C$6:$D$105,2,FALSE)))","v":""},{"$f":"IFERROR(VLOOKUP(I321,CAD_Q!$C$6:$E$109,3,FALSE)*F321,\"\")","v":""},null,null,"",1,0,1900,0,1,1900,"Nombre y el registro de entrada válida"]
[null,"",null,null,null,"",null,null,null,{"$f":"IF(I322=\"\",\"\",IF(VLOOKUP(I322,CAD_Q!$C$6:$D$105,2,FALSE)=0,\"\",VLOOKUP(I322,CAD_Q!$C$6:$D$105,2,FALSE)))","v":""},{"$f":"IFERROR(VLOOKUP(I322,CAD_Q!$C$6:$E$109,3,FALSE)*F322,\"\")","v":""},null,null,"",1,0,1900,0,1,1900,"Nombre y el registro de entrada válida"]
[null,"",null,null,null,"",null,null,null,{"$f":"IF(I323=\"\",\"\",IF(VLOOKUP(I323,CAD_Q!$C$6:$D$105,2,FALSE)=0,\"\",VLOOKUP(I323,CAD_Q!$C$6:$D$105,2,FALSE)))","v":""},{"$f":"IFERROR(VLOOKUP(I323,CAD_Q!$C$6:$E$109,3,FALSE)*F323,\"\")","v":""},null,null,"",1,0,1900,0,1,1900,"Nombre y el registro de entrada válida"]
[null,"",null,null,null,"",null,null,null,{"$f":"IF(I324=\"\",\"\",IF(VLOOKUP(I324,CAD_Q!$C$6:$D$105,2,FALSE)=0,\"\",VLOOKUP(I324,CAD_Q!$C$6:$D$105,2,FALSE)))","v":""},{"$f":"IFERROR(VLOOKUP(I324,CAD_Q!$C$6:$E$109,3,FALSE)*F324,\"\")","v":""},null,null,"",1,0,1900,0,1,1900,"Nombre y el registro de entrada válida"]
[null,"",null,null,null,"",null,null,null,{"$f":"IF(I325=\"\",\"\",IF(VLOOKUP(I325,CAD_Q!$C$6:$D$105,2,FALSE)=0,\"\",VLOOKUP(I325,CAD_Q!$C$6:$D$105,2,FALSE)))","v":""},{"$f":"IFERROR(VLOOKUP(I325,CAD_Q!$C$6:$E$109,3,FALSE)*F325,\"\")","v":""},null,null,"",1,0,1900,0,1,1900,"Nombre y el registro de entrada válida"]
[null,"",null,null,null,"",null,null,null,{"$f":"IF(I326=\"\",\"\",IF(VLOOKUP(I326,CAD_Q!$C$6:$D$105,2,FALSE)=0,\"\",VLOOKUP(I326,CAD_Q!$C$6:$D$105,2,FALSE)))","v":""},{"$f":"IFERROR(VLOOKUP(I326,CAD_Q!$C$6:$E$109,3,FALSE)*F326,\"\")","v":""},null,null,"",1,0,1900,0,1,1900,"Nombre y el registro de entrada válida"]
[null,{"$f":"CONCATENATE(C327,D327)","v":""},null,null,null,"",null,null,null,{"$f":"IF(I327=\"\",\"\",IF(VLOOKUP(I327,CAD_Q!$C$6:$D$105,2,FALSE)=0,\"\",VLOOKUP(I327,CAD_Q!$C$6:$D$105,2,FALSE)))","v":""},{"$f":"IFERROR(VLOOKUP(I327,CAD_Q!$C$6:$E$109,3,FALSE)*F327,\"\")","v":""},null,null,{"$f":"IFERROR(K327-L327+M327,\"\")","v":""},1,0,1900,0,1,1900,"Nombre y el registro de entrada válida"]
[null,"",null,null,null,"",null,null,null,{"$f":"IF(I328=\"\",\"\",IF(VLOOKUP(I328,CAD_Q!$C$6:$D$105,2,FALSE)=0,\"\",VLOOKUP(I328,CAD_Q!$C$6:$D$105,2,FALSE)))","v":""},{"$f":"IFERROR(VLOOKUP(I328,CAD_Q!$C$6:$E$109,3,FALSE)*F328,\"\")","v":""},null,null,"",1,0,1900,0,1,1900,"Nombre y el registro de entrada válida"]
[null,"",null,null,null,"",null,null,null,{"$f":"IF(I329=\"\",\"\",IF(VLOOKUP(I329,CAD_Q!$C$6:$D$105,2,FALSE)=0,\"\",VLOOKUP(I329,CAD_Q!$C$6:$D$105,2,FALSE)))","v":""},{"$f":"IFERROR(VLOOKUP(I329,CAD_Q!$C$6:$E$109,3,FALSE)*F329,\"\")","v":""},null,null,"",1,0,1900,0,1,1900,"Nombre y el registro de entrada válida"]
[null,"",null,null,null,"",null,null,null,{"$f":"IF(I330=\"\",\"\",IF(VLOOKUP(I330,CAD_Q!$C$6:$D$105,2,FALSE)=0,\"\",VLOOKUP(I330,CAD_Q!$C$6:$D$105,2,FALSE)))","v":""},{"$f":"IFERROR(VLOOKUP(I330,CAD_Q!$C$6:$E$109,3,FALSE)*F330,\"\")","v":""},null,null,"",{"$f":"MONTH(D330)","v":1},{"$f":"DAY(D330)","v":0},{"$f":"YEAR(D330)","v":1900},{"$f":"DAY(E330)","v":0},{"$f":"MONTH(E330)","v":1},{"$f":"YEAR(E330)","v":1900},"Nombre y el registro de entrada válida"]
[null,"",null,null,null,"",null,null,null,{"$f":"IF(I331=\"\",\"\",IF(VLOOKUP(I331,CAD_Q!$C$6:$D$105,2,FALSE)=0,\"\",VLOOKUP(I331,CAD_Q!$C$6:$D$105,2,FALSE)))","v":""},{"$f":"IFERROR(VLOOKUP(I331,CAD_Q!$C$6:$E$109,3,FALSE)*F331,\"\")","v":""},null,null,"",1,0,1900,0,1,1900,"Nombre y el registro de entrada válida"]
[null,"",null,null,null,"",null,null,null,{"$f":"IF(I332=\"\",\"\",IF(VLOOKUP(I332,CAD_Q!$C$6:$D$105,2,FALSE)=0,\"\",VLOOKUP(I332,CAD_Q!$C$6:$D$105,2,FALSE)))","v":""},{"$f":"IFERROR(VLOOKUP(I332,CAD_Q!$C$6:$E$109,3,FALSE)*F332,\"\")","v":""},null,null,"",1,0,1900,0,1,1900,"Nombre y el registro de entrada válida"]
[null,"",null,null,null,"",null,null,null,{"$f":"IF(I333=\"\",\"\",IF(VLOOKUP(I333,CAD_Q!$C$6:$D$105,2,FALSE)=0,\"\",VLOOKUP(I333,CAD_Q!$C$6:$D$105,2,FALSE)))","v":""},{"$f":"IFERROR(VLOOKUP(I333,CAD_Q!$C$6:$E$109,3,FALSE)*F333,\"\")","v":""},null,null,"",1,0,1900,0,1,1900,"Nombre y el registro de entrada válida"]
[null,"",null,null,null,"",null,null,null,{"$f":"IF(I334=\"\",\"\",IF(VLOOKUP(I334,CAD_Q!$C$6:$D$105,2,FALSE)=0,\"\",VLOOKUP(I334,CAD_Q!$C$6:$D$105,2,FALSE)))","v":""},{"$f":"IFERROR(VLOOKUP(I334,CAD_Q!$C$6:$E$109,3,FALSE)*F334,\"\")","v":""},null,null,"",1,0,1900,0,1,1900,"Nombre y el registro de entrada válida"]
[null,"",null,null,null,"",null,null,null,{"$f":"IF(I335=\"\",\"\",IF(VLOOKUP(I335,CAD_Q!$C$6:$D$105,2,FALSE)=0,\"\",VLOOKUP(I335,CAD_Q!$C$6:$D$105,2,FALSE)))","v":""},{"$f":"IFERROR(VLOOKUP(I335,CAD_Q!$C$6:$E$109,3,FALSE)*F335,\"\")","v":""},null,null,"",1,0,1900,0,1,1900,"Nombre y el registro de entrada válida"]
[null,"",null,null,null,"",null,null,null,{"$f":"IF(I336=\"\",\"\",IF(VLOOKUP(I336,CAD_Q!$C$6:$D$105,2,FALSE)=0,\"\",VLOOKUP(I336,CAD_Q!$C$6:$D$105,2,FALSE)))","v":""},{"$f":"IFERROR(VLOOKUP(I336,CAD_Q!$C$6:$E$109,3,FALSE)*F336,\"\")","v":""},null,null,"",1,0,1900,0,1,1900,"Nombre y el registro de entrada válida"]
[null,"",null,null,null,"",null,null,null,{"$f":"IF(I337=\"\",\"\",IF(VLOOKUP(I337,CAD_Q!$C$6:$D$105,2,FALSE)=0,\"\",VLOOKUP(I337,CAD_Q!$C$6:$D$105,2,FALSE)))","v":""},{"$f":"IFERROR(VLOOKUP(I337,CAD_Q!$C$6:$E$109,3,FALSE)*F337,\"\")","v":""},null,null,"",1,0,1900,0,1,1900,"Nombre y el registro de entrada válida"]
[null,"",null,null,null,"",null,null,null,{"$f":"IF(I338=\"\",\"\",IF(VLOOKUP(I338,CAD_Q!$C$6:$D$105,2,FALSE)=0,\"\",VLOOKUP(I338,CAD_Q!$C$6:$D$105,2,FALSE)))","v":""},{"$f":"IFERROR(VLOOKUP(I338,CAD_Q!$C$6:$E$109,3,FALSE)*F338,\"\")","v":""},null,null,"",1,0,1900,0,1,1900,"Nombre y el registro de entrada válida"]
[null,"",null,null,null,"",null,null,null,{"$f":"IF(I339=\"\",\"\",IF(VLOOKUP(I339,CAD_Q!$C$6:$D$105,2,FALSE)=0,\"\",VLOOKUP(I339,CAD_Q!$C$6:$D$105,2,FALSE)))","v":""},{"$f":"IFERROR(VLOOKUP(I339,CAD_Q!$C$6:$E$109,3,FALSE)*F339,\"\")","v":""},null,null,"",1,0,1900,0,1,1900,"Nombre y el registro de entrada válida"]
[null,"",null,null,null,"",null,null,null,{"$f":"IF(I340=\"\",\"\",IF(VLOOKUP(I340,CAD_Q!$C$6:$D$105,2,FALSE)=0,\"\",VLOOKUP(I340,CAD_Q!$C$6:$D$105,2,FALSE)))","v":""},{"$f":"IFERROR(VLOOKUP(I340,CAD_Q!$C$6:$E$109,3,FALSE)*F340,\"\")","v":""},null,null,"",1,0,1900,0,1,1900,"Nombre y el registro de entrada válida"]
[null,"",null,null,null,"",null,null,null,{"$f":"IF(I341=\"\",\"\",IF(VLOOKUP(I341,CAD_Q!$C$6:$D$105,2,FALSE)=0,\"\",VLOOKUP(I341,CAD_Q!$C$6:$D$105,2,FALSE)))","v":""},{"$f":"IFERROR(VLOOKUP(I341,CAD_Q!$C$6:$E$109,3,FALSE)*F341,\"\")","v":""},null,null,"",1,0,1900,0,1,1900,"Nombre y el registro de entrada válida"]
[null,"",null,null,null,"",null,null,null,{"$f":"IF(I342=\"\",\"\",IF(VLOOKUP(I342,CAD_Q!$C$6:$D$105,2,FALSE)=0,\"\",VLOOKUP(I342,CAD_Q!$C$6:$D$105,2,FALSE)))","v":""},{"$f":"IFERROR(VLOOKUP(I342,CAD_Q!$C$6:$E$109,3,FALSE)*F342,\"\")","v":""},null,null,"",1,0,1900,0,1,1900,"Nombre y el registro de entrada válida"]
[null,"",null,null,null,"",null,null,null,{"$f":"IF(I343=\"\",\"\",IF(VLOOKUP(I343,CAD_Q!$C$6:$D$105,2,FALSE)=0,\"\",VLOOKUP(I343,CAD_Q!$C$6:$D$105,2,FALSE)))","v":""},{"$f":"IFERROR(VLOOKUP(I343,CAD_Q!$C$6:$E$109,3,FALSE)*F343,\"\")","v":""},null,null,"",1,0,1900,0,1,1900,"Nombre y el registro de entrada válida"]
[null,"",null,null,null,"",null,null,null,{"$f":"IF(I344=\"\",\"\",IF(VLOOKUP(I344,CAD_Q!$C$6:$D$105,2,FALSE)=0,\"\",VLOOKUP(I344,CAD_Q!$C$6:$D$105,2,FALSE)))","v":""},{"$f":"IFERROR(VLOOKUP(I344,CAD_Q!$C$6:$E$109,3,FALSE)*F344,\"\")","v":""},null,null,"",1,0,1900,0,1,1900,"Nombre y el registro de entrada válida"]
[null,"",null,null,null,"",null,null,null,{"$f":"IF(I345=\"\",\"\",IF(VLOOKUP(I345,CAD_Q!$C$6:$D$105,2,FALSE)=0,\"\",VLOOKUP(I345,CAD_Q!$C$6:$D$105,2,FALSE)))","v":""},{"$f":"IFERROR(VLOOKUP(I345,CAD_Q!$C$6:$E$109,3,FALSE)*F345,\"\")","v":""},null,null,"",1,0,1900,0,1,1900,"Nombre y el registro de entrada válida"]
[null,"",null,null,null,"",null,null,null,{"$f":"IF(I346=\"\",\"\",IF(VLOOKUP(I346,CAD_Q!$C$6:$D$105,2,FALSE)=0,\"\",VLOOKUP(I346,CAD_Q!$C$6:$D$105,2,FALSE)))","v":""},{"$f":"IFERROR(VLOOKUP(I346,CAD_Q!$C$6:$E$109,3,FALSE)*F346,\"\")","v":""},null,null,"",1,0,1900,0,1,1900,"Nombre y el registro de entrada válida"]
[null,"",null,null,null,"",null,null,null,{"$f":"IF(I347=\"\",\"\",IF(VLOOKUP(I347,CAD_Q!$C$6:$D$105,2,FALSE)=0,\"\",VLOOKUP(I347,CAD_Q!$C$6:$D$105,2,FALSE)))","v":""},{"$f":"IFERROR(VLOOKUP(I347,CAD_Q!$C$6:$E$109,3,FALSE)*F347,\"\")","v":""},null,null,"",1,0,1900,0,1,1900,"Nombre y el registro de entrada válida"]
[null,"",null,null,null,"",null,null,null,{"$f":"IF(I348=\"\",\"\",IF(VLOOKUP(I348,CAD_Q!$C$6:$D$105,2,FALSE)=0,\"\",VLOOKUP(I348,CAD_Q!$C$6:$D$105,2,FALSE)))","v":""},{"$f":"IFERROR(VLOOKUP(I348,CAD_Q!$C$6:$E$109,3,FALSE)*F348,\"\")","v":""},null,null,"",1,0,1900,0,1,1900,"Nombre y el registro de entrada válida"]
[null,"",null,null,null,"",null,null,null,{"$f":"IF(I349=\"\",\"\",IF(VLOOKUP(I349,CAD_Q!$C$6:$D$105,2,FALSE)=0,\"\",VLOOKUP(I349,CAD_Q!$C$6:$D$105,2,FALSE)))","v":""},{"$f":"IFERROR(VLOOKUP(I349,CAD_Q!$C$6:$E$109,3,FALSE)*F349,\"\")","v":""},null,null,"",1,0,1900,0,1,1900,"Nombre y el registro de entrada válida"]
[null,"",null,null,null,"",null,null,null,{"$f":"IF(I350=\"\",\"\",IF(VLOOKUP(I350,CAD_Q!$C$6:$D$105,2,FALSE)=0,\"\",VLOOKUP(I350,CAD_Q!$C$6:$D$105,2,FALSE)))","v":""},{"$f":"IFERROR(VLOOKUP(I350,CAD_Q!$C$6:$E$109,3,FALSE)*F350,\"\")","v":""},null,null,"",1,0,1900,0,1,1900,"Nombre y el registro de entrada válida"]
[null,"",null,null,null,"",null,null,null,{"$f":"IF(I351=\"\",\"\",IF(VLOOKUP(I351,CAD_Q!$C$6:$D$105,2,FALSE)=0,\"\",VLOOKUP(I351,CAD_Q!$C$6:$D$105,2,FALSE)))","v":""},{"$f":"IFERROR(VLOOKUP(I351,CAD_Q!$C$6:$E$109,3,FALSE)*F351,\"\")","v":""},null,null,"",1,0,1900,0,1,1900,"Nombre y el registro de entrada válida"]
[null,"",null,null,null,"",null,null,null,{"$f":"IF(I352=\"\",\"\",IF(VLOOKUP(I352,CAD_Q!$C$6:$D$105,2,FALSE)=0,\"\",VLOOKUP(I352,CAD_Q!$C$6:$D$105,2,FALSE)))","v":""},{"$f":"IFERROR(VLOOKUP(I352,CAD_Q!$C$6:$E$109,3,FALSE)*F352,\"\")","v":""},null,null,"",1,0,1900,0,1,1900,"Nombre y el registro de entrada válida"]
[null,"",null,null,null,"",null,null,null,{"$f":"IF(I353=\"\",\"\",IF(VLOOKUP(I353,CAD_Q!$C$6:$D$105,2,FALSE)=0,\"\",VLOOKUP(I353,CAD_Q!$C$6:$D$105,2,FALSE)))","v":""},{"$f":"IFERROR(VLOOKUP(I353,CAD_Q!$C$6:$E$109,3,FALSE)*F353,\"\")","v":""},null,null,"",1,0,1900,0,1,1900,"Nombre y el registro de entrada válida"]
[null,"",null,null,null,"",null,null,null,{"$f":"IF(I354=\"\",\"\",IF(VLOOKUP(I354,CAD_Q!$C$6:$D$105,2,FALSE)=0,\"\",VLOOKUP(I354,CAD_Q!$C$6:$D$105,2,FALSE)))","v":""},{"$f":"IFERROR(VLOOKUP(I354,CAD_Q!$C$6:$E$109,3,FALSE)*F354,\"\")","v":""},null,null,"",1,0,1900,0,1,1900,"Nombre y el registro de entrada válida"]
[null,"",null,null,null,"",null,null,null,{"$f":"IF(I355=\"\",\"\",IF(VLOOKUP(I355,CAD_Q!$C$6:$D$105,2,FALSE)=0,\"\",VLOOKUP(I355,CAD_Q!$C$6:$D$105,2,FALSE)))","v":""},{"$f":"IFERROR(VLOOKUP(I355,CAD_Q!$C$6:$E$109,3,FALSE)*F355,\"\")","v":""},null,null,"",1,0,1900,0,1,1900,"Nombre y el registro de entrada válida"]
[null,"",null,null,null,{"$f":"IF(OR(D356=\"\",E356=\"\"),\"\",E356-D356)","v":""},null,null,null,{"$f":"IF(I356=\"\",\"\",IF(VLOOKUP(I356,CAD_Q!$C$6:$D$105,2,FALSE)=0,\"\",VLOOKUP(I356,CAD_Q!$C$6:$D$105,2,FALSE)))","v":""},{"$f":"IFERROR(VLOOKUP(I356,CAD_Q!$C$6:$E$109,3,FALSE)*F356,\"\")","v":""},null,null,"",1,0,1900,0,1,1900,"Nombre y el registro de entrada válida"]
[null,"",null,null,null,"",null,null,null,{"$f":"IF(I357=\"\",\"\",IF(VLOOKUP(I357,CAD_Q!$C$6:$D$105,2,FALSE)=0,\"\",VLOOKUP(I357,CAD_Q!$C$6:$D$105,2,FALSE)))","v":""},{"$f":"IFERROR(VLOOKUP(I357,CAD_Q!$C$6:$E$109,3,FALSE)*F357,\"\")","v":""},null,null,"",1,0,1900,0,1,1900,"Nombre y el registro de entrada válida"]
[null,"",null,null,null,"",null,null,null,{"$f":"IF(I358=\"\",\"\",IF(VLOOKUP(I358,CAD_Q!$C$6:$D$105,2,FALSE)=0,\"\",VLOOKUP(I358,CAD_Q!$C$6:$D$105,2,FALSE)))","v":""},{"$f":"IFERROR(VLOOKUP(I358,CAD_Q!$C$6:$E$109,3,FALSE)*F358,\"\")","v":""},null,null,"",1,0,1900,0,1,1900,"Nombre y el registro de entrada válida"]
[null,"",null,null,null,"",null,null,null,{"$f":"IF(I359=\"\",\"\",IF(VLOOKUP(I359,CAD_Q!$C$6:$D$105,2,FALSE)=0,\"\",VLOOKUP(I359,CAD_Q!$C$6:$D$105,2,FALSE)))","v":""},{"$f":"IFERROR(VLOOKUP(I359,CAD_Q!$C$6:$E$109,3,FALSE)*F359,\"\")","v":""},null,null,"",1,0,1900,0,1,1900,"Nombre y el registro de entrada válida"]
[null,"",null,null,null,"",null,null,null,{"$f":"IF(I360=\"\",\"\",IF(VLOOKUP(I360,CAD_Q!$C$6:$D$105,2,FALSE)=0,\"\",VLOOKUP(I360,CAD_Q!$C$6:$D$105,2,FALSE)))","v":""},{"$f":"IFERROR(VLOOKUP(I360,CAD_Q!$C$6:$E$109,3,FALSE)*F360,\"\")","v":""},null,null,"",1,0,1900,0,1,1900,"Nombre y el registro de entrada válida"]
[null,"",null,null,null,"",null,null,null,{"$f":"IF(I361=\"\",\"\",IF(VLOOKUP(I361,CAD_Q!$C$6:$D$105,2,FALSE)=0,\"\",VLOOKUP(I361,CAD_Q!$C$6:$D$105,2,FALSE)))","v":""},{"$f":"IFERROR(VLOOKUP(I361,CAD_Q!$C$6:$E$109,3,FALSE)*F361,\"\")","v":""},null,null,"",1,0,1900,0,1,1900,"Nombre y el registro de entrada válida"]
[null,"",null,null,null,"",null,null,null,{"$f":"IF(I362=\"\",\"\",IF(VLOOKUP(I362,CAD_Q!$C$6:$D$105,2,FALSE)=0,\"\",VLOOKUP(I362,CAD_Q!$C$6:$D$105,2,FALSE)))","v":""},{"$f":"IFERROR(VLOOKUP(I362,CAD_Q!$C$6:$E$109,3,FALSE)*F362,\"\")","v":""},null,null,"",1,0,1900,0,1,1900,"Nombre y el registro de entrada válida"]
[null,"",null,null,null,"",null,null,null,{"$f":"IF(I363=\"\",\"\",IF(VLOOKUP(I363,CAD_Q!$C$6:$D$105,2,FALSE)=0,\"\",VLOOKUP(I363,CAD_Q!$C$6:$D$105,2,FALSE)))","v":""},{"$f":"IFERROR(VLOOKUP(I363,CAD_Q!$C$6:$E$109,3,FALSE)*F363,\"\")","v":""},null,null,"",1,0,1900,0,1,1900,"Nombre y el registro de entrada válida"]
[null,"",null,null,null,"",null,null,null,{"$f":"IF(I364=\"\",\"\",IF(VLOOKUP(I364,CAD_Q!$C$6:$D$105,2,FALSE)=0,\"\",VLOOKUP(I364,CAD_Q!$C$6:$D$105,2,FALSE)))","v":""},{"$f":"IFERROR(VLOOKUP(I364,CAD_Q!$C$6:$E$109,3,FALSE)*F364,\"\")","v":""},null,null,"",1,0,1900,0,1,1900,"Nombre y el registro de entrada válida"]
[null,"",null,null,null,"",null,null,null,{"$f":"IF(I365=\"\",\"\",IF(VLOOKUP(I365,CAD_Q!$C$6:$D$105,2,FALSE)=0,\"\",VLOOKUP(I365,CAD_Q!$C$6:$D$105,2,FALSE)))","v":""},{"$f":"IFERROR(VLOOKUP(I365,CAD_Q!$C$6:$E$109,3,FALSE)*F365,\"\")","v":""},null,null,"",1,0,1900,0,1,1900,"Nombre y el registro de entrada válida"]
[null,"",null,null,null,"",null,null,null,{"$f":"IF(I366=\"\",\"\",IF(VLOOKUP(I366,CAD_Q!$C$6:$D$105,2,FALSE)=0,\"\",VLOOKUP(I366,CAD_Q!$C$6:$D$105,2,FALSE)))","v":""},{"$f":"IFERROR(VLOOKUP(I366,CAD_Q!$C$6:$E$109,3,FALSE)*F366,\"\")","v":""},null,null,"",1,0,1900,0,1,1900,"Nombre y el registro de entrada válida"]
[null,"",null,null,null,"",null,null,null,{"$f":"IF(I367=\"\",\"\",IF(VLOOKUP(I367,CAD_Q!$C$6:$D$105,2,FALSE)=0,\"\",VLOOKUP(I367,CAD_Q!$C$6:$D$105,2,FALSE)))","v":""},{"$f":"IFERROR(VLOOKUP(I367,CAD_Q!$C$6:$E$109,3,FALSE)*F367,\"\")","v":""},null,null,"",1,0,1900,0,1,1900,"Nombre y el registro de entrada válida"]
[null,"",null,null,null,"",null,null,null,{"$f":"IF(I368=\"\",\"\",IF(VLOOKUP(I368,CAD_Q!$C$6:$D$105,2,FALSE)=0,\"\",VLOOKUP(I368,CAD_Q!$C$6:$D$105,2,FALSE)))","v":""},{"$f":"IFERROR(VLOOKUP(I368,CAD_Q!$C$6:$E$109,3,FALSE)*F368,\"\")","v":""},null,null,"",1,0,1900,0,1,1900,"Nombre y el registro de entrada válida"]
[null,"",null,null,null,"",null,null,null,{"$f":"IF(I369=\"\",\"\",IF(VLOOKUP(I369,CAD_Q!$C$6:$D$105,2,FALSE)=0,\"\",VLOOKUP(I369,CAD_Q!$C$6:$D$105,2,FALSE)))","v":""},{"$f":"IFERROR(VLOOKUP(I369,CAD_Q!$C$6:$E$109,3,FALSE)*F369,\"\")","v":""},null,null,"",1,0,1900,0,1,1900,"Nombre y el registro de entrada válida"]
[null,"",null,null,null,"",null,null,null,{"$f":"IF(I370=\"\",\"\",IF(VLOOKUP(I370,CAD_Q!$C$6:$D$105,2,FALSE)=0,\"\",VLOOKUP(I370,CAD_Q!$C$6:$D$105,2,FALSE)))","v":""},{"$f":"IFERROR(VLOOKUP(I370,CAD_Q!$C$6:$E$109,3,FALSE)*F370,\"\")","v":""},null,null,"",1,0,1900,0,1,1900,"Nombre y el registro de entrada válida"]
[null,"",null,null,null,"",null,null,null,{"$f":"IF(I371=\"\",\"\",IF(VLOOKUP(I371,CAD_Q!$C$6:$D$105,2,FALSE)=0,\"\",VLOOKUP(I371,CAD_Q!$C$6:$D$105,2,FALSE)))","v":""},{"$f":"IFERROR(VLOOKUP(I371,CAD_Q!$C$6:$E$109,3,FALSE)*F371,\"\")","v":""},null,null,"",1,0,1900,0,1,1900,"Nombre y el registro de entrada válida"]
[null,"",null,null,null,"",null,null,null,{"$f":"IF(I372=\"\",\"\",IF(VLOOKUP(I372,CAD_Q!$C$6:$D$105,2,FALSE)=0,\"\",VLOOKUP(I372,CAD_Q!$C$6:$D$105,2,FALSE)))","v":""},{"$f":"IFERROR(VLOOKUP(I372,CAD_Q!$C$6:$E$109,3,FALSE)*F372,\"\")","v":""},null,null,"",1,0,1900,0,1,1900,"Nombre y el registro de entrada válida"]
[null,"",null,null,null,"",null,null,null,{"$f":"IF(I373=\"\",\"\",IF(VLOOKUP(I373,CAD_Q!$C$6:$D$105,2,FALSE)=0,\"\",VLOOKUP(I373,CAD_Q!$C$6:$D$105,2,FALSE)))","v":""},{"$f":"IFERROR(VLOOKUP(I373,CAD_Q!$C$6:$E$109,3,FALSE)*F373,\"\")","v":""},null,null,"",1,0,1900,0,1,1900,"Nombre y el registro de entrada válida"]
[null,"",null,null,null,"",null,null,null,{"$f":"IF(I374=\"\",\"\",IF(VLOOKUP(I374,CAD_Q!$C$6:$D$105,2,FALSE)=0,\"\",VLOOKUP(I374,CAD_Q!$C$6:$D$105,2,FALSE)))","v":""},{"$f":"IFERROR(VLOOKUP(I374,CAD_Q!$C$6:$E$109,3,FALSE)*F374,\"\")","v":""},null,null,"",1,0,1900,0,1,1900,"Nombre y el registro de entrada válida"]
[null,"",null,null,null,"",null,null,null,{"$f":"IF(I375=\"\",\"\",IF(VLOOKUP(I375,CAD_Q!$C$6:$D$105,2,FALSE)=0,\"\",VLOOKUP(I375,CAD_Q!$C$6:$D$105,2,FALSE)))","v":""},{"$f":"IFERROR(VLOOKUP(I375,CAD_Q!$C$6:$E$109,3,FALSE)*F375,\"\")","v":""},null,null,"",1,0,1900,0,1,1900,"Nombre y el registro de entrada válida"]
[null,"",null,null,null,"",null,null,null,{"$f":"IF(I376=\"\",\"\",IF(VLOOKUP(I376,CAD_Q!$C$6:$D$105,2,FALSE)=0,\"\",VLOOKUP(I376,CAD_Q!$C$6:$D$105,2,FALSE)))","v":""},{"$f":"IFERROR(VLOOKUP(I376,CAD_Q!$C$6:$E$109,3,FALSE)*F376,\"\")","v":""},null,null,"",1,0,1900,0,1,1900,"Nombre y el registro de entrada válida"]
[null,"",null,null,null,"",null,null,null,{"$f":"IF(I377=\"\",\"\",IF(VLOOKUP(I377,CAD_Q!$C$6:$D$105,2,FALSE)=0,\"\",VLOOKUP(I377,CAD_Q!$C$6:$D$105,2,FALSE)))","v":""},{"$f":"IFERROR(VLOOKUP(I377,CAD_Q!$C$6:$E$109,3,FALSE)*F377,\"\")","v":""},null,null,"",1,0,1900,0,1,1900,"Nombre y el registro de entrada válida"]
[null,"",null,null,null,"",null,null,null,{"$f":"IF(I378=\"\",\"\",IF(VLOOKUP(I378,CAD_Q!$C$6:$D$105,2,FALSE)=0,\"\",VLOOKUP(I378,CAD_Q!$C$6:$D$105,2,FALSE)))","v":""},{"$f":"IFERROR(VLOOKUP(I378,CAD_Q!$C$6:$E$109,3,FALSE)*F378,\"\")","v":""},null,null,"",1,0,1900,0,1,1900,"Nombre y el registro de entrada válida"]
[null,"",null,null,null,"",null,null,null,{"$f":"IF(I379=\"\",\"\",IF(VLOOKUP(I379,CAD_Q!$C$6:$D$105,2,FALSE)=0,\"\",VLOOKUP(I379,CAD_Q!$C$6:$D$105,2,FALSE)))","v":""},{"$f":"IFERROR(VLOOKUP(I379,CAD_Q!$C$6:$E$109,3,FALSE)*F379,\"\")","v":""},null,null,"",1,0,1900,0,1,1900,"Nombre y el registro de entrada válida"]
[null,"",null,null,null,"",null,null,null,{"$f":"IF(I380=\"\",\"\",IF(VLOOKUP(I380,CAD_Q!$C$6:$D$105,2,FALSE)=0,\"\",VLOOKUP(I380,CAD_Q!$C$6:$D$105,2,FALSE)))","v":""},{"$f":"IFERROR(VLOOKUP(I380,CAD_Q!$C$6:$E$109,3,FALSE)*F380,\"\")","v":""},null,null,"",1,0,1900,0,1,1900,"Nombre y el registro de entrada válida"]
[null,"",null,null,null,"",null,null,null,{"$f":"IF(I381=\"\",\"\",IF(VLOOKUP(I381,CAD_Q!$C$6:$D$105,2,FALSE)=0,\"\",VLOOKUP(I381,CAD_Q!$C$6:$D$105,2,FALSE)))","v":""},{"$f":"IFERROR(VLOOKUP(I381,CAD_Q!$C$6:$E$109,3,FALSE)*F381,\"\")","v":""},null,null,"",1,0,1900,0,1,1900,"Nombre y el registro de entrada válida"]
[null,"",null,null,null,"",null,null,null,{"$f":"IF(I382=\"\",\"\",IF(VLOOKUP(I382,CAD_Q!$C$6:$D$105,2,FALSE)=0,\"\",VLOOKUP(I382,CAD_Q!$C$6:$D$105,2,FALSE)))","v":""},{"$f":"IFERROR(VLOOKUP(I382,CAD_Q!$C$6:$E$109,3,FALSE)*F382,\"\")","v":""},null,null,"",1,0,1900,0,1,1900,"Nombre y el registro de entrada válida"]
[null,"",null,null,null,"",null,null,null,{"$f":"IF(I383=\"\",\"\",IF(VLOOKUP(I383,CAD_Q!$C$6:$D$105,2,FALSE)=0,\"\",VLOOKUP(I383,CAD_Q!$C$6:$D$105,2,FALSE)))","v":""},{"$f":"IFERROR(VLOOKUP(I383,CAD_Q!$C$6:$E$109,3,FALSE)*F383,\"\")","v":""},null,null,"",1,0,1900,0,1,1900,"Nombre y el registro de entrada válida"]
[null,"",null,null,null,"",null,null,null,{"$f":"IF(I384=\"\",\"\",IF(VLOOKUP(I384,CAD_Q!$C$6:$D$105,2,FALSE)=0,\"\",VLOOKUP(I384,CAD_Q!$C$6:$D$105,2,FALSE)))","v":""},{"$f":"IFERROR(VLOOKUP(I384,CAD_Q!$C$6:$E$109,3,FALSE)*F384,\"\")","v":""},null,null,"",1,0,1900,0,1,1900,"Nombre y el registro de entrada válida"]
[null,"",null,null,null,"",null,null,null,{"$f":"IF(I385=\"\",\"\",IF(VLOOKUP(I385,CAD_Q!$C$6:$D$105,2,FALSE)=0,\"\",VLOOKUP(I385,CAD_Q!$C$6:$D$105,2,FALSE)))","v":""},{"$f":"IFERROR(VLOOKUP(I385,CAD_Q!$C$6:$E$109,3,FALSE)*F385,\"\")","v":""},null,null,"",1,0,1900,0,1,1900,"Nombre y el registro de entrada válida"]
[null,"",null,null,null,"",null,null,null,{"$f":"IF(I386=\"\",\"\",IF(VLOOKUP(I386,CAD_Q!$C$6:$D$105,2,FALSE)=0,\"\",VLOOKUP(I386,CAD_Q!$C$6:$D$105,2,FALSE)))","v":""},{"$f":"IFERROR(VLOOKUP(I386,CAD_Q!$C$6:$E$109,3,FALSE)*F386,\"\")","v":""},null,null,"",1,0,1900,0,1,1900,"Nombre y el registro de entrada válida"]
[null,"",null,null,null,"",null,null,null,{"$f":"IF(I387=\"\",\"\",IF(VLOOKUP(I387,CAD_Q!$C$6:$D$105,2,FALSE)=0,\"\",VLOOKUP(I387,CAD_Q!$C$6:$D$105,2,FALSE)))","v":""},{"$f":"IFERROR(VLOOKUP(I387,CAD_Q!$C$6:$E$109,3,FALSE)*F387,\"\")","v":""},null,null,"",1,0,1900,0,1,1900,"Nombre y el registro de entrada válida"]
[null,"",null,null,null,"",null,null,null,{"$f":"IF(I388=\"\",\"\",IF(VLOOKUP(I388,CAD_Q!$C$6:$D$105,2,FALSE)=0,\"\",VLOOKUP(I388,CAD_Q!$C$6:$D$105,2,FALSE)))","v":""},{"$f":"IFERROR(VLOOKUP(I388,CAD_Q!$C$6:$E$109,3,FALSE)*F388,\"\")","v":""},null,null,"",1,0,1900,0,1,1900,"Nombre y el registro de entrada válida"]
[null,"",null,null,null,"",null,null,null,{"$f":"IF(I389=\"\",\"\",IF(VLOOKUP(I389,CAD_Q!$C$6:$D$105,2,FALSE)=0,\"\",VLOOKUP(I389,CAD_Q!$C$6:$D$105,2,FALSE)))","v":""},{"$f":"IFERROR(VLOOKUP(I389,CAD_Q!$C$6:$E$109,3,FALSE)*F389,\"\")","v":""},null,null,"",1,0,1900,0,1,1900,"Nombre y el registro de entrada válida"]
[null,"",null,null,null,"",null,null,null,{"$f":"IF(I390=\"\",\"\",IF(VLOOKUP(I390,CAD_Q!$C$6:$D$105,2,FALSE)=0,\"\",VLOOKUP(I390,CAD_Q!$C$6:$D$105,2,FALSE)))","v":""},{"$f":"IFERROR(VLOOKUP(I390,CAD_Q!$C$6:$E$109,3,FALSE)*F390,\"\")","v":""},null,null,"",1,0,1900,0,1,1900,"Nombre y el registro de entrada válida"]
[null,{"$f":"CONCATENATE(C391,D391)","v":""},null,null,null,"",null,null,null,{"$f":"IF(I391=\"\",\"\",IF(VLOOKUP(I391,CAD_Q!$C$6:$D$105,2,FALSE)=0,\"\",VLOOKUP(I391,CAD_Q!$C$6:$D$105,2,FALSE)))","v":""},{"$f":"IFERROR(VLOOKUP(I391,CAD_Q!$C$6:$E$109,3,FALSE)*F391,\"\")","v":""},null,null,{"$f":"IFERROR(K391-L391+M391,\"\")","v":""},1,0,1900,0,1,1900,"Nombre y el registro de entrada válida"]
[null,"",null,null,null,"",null,null,null,{"$f":"IF(I392=\"\",\"\",IF(VLOOKUP(I392,CAD_Q!$C$6:$D$105,2,FALSE)=0,\"\",VLOOKUP(I392,CAD_Q!$C$6:$D$105,2,FALSE)))","v":""},{"$f":"IFERROR(VLOOKUP(I392,CAD_Q!$C$6:$E$109,3,FALSE)*F392,\"\")","v":""},null,null,"",1,0,1900,0,1,1900,"Nombre y el registro de entrada válida"]
[null,"",null,null,null,"",null,null,null,{"$f":"IF(I393=\"\",\"\",IF(VLOOKUP(I393,CAD_Q!$C$6:$D$105,2,FALSE)=0,\"\",VLOOKUP(I393,CAD_Q!$C$6:$D$105,2,FALSE)))","v":""},{"$f":"IFERROR(VLOOKUP(I393,CAD_Q!$C$6:$E$109,3,FALSE)*F393,\"\")","v":""},null,null,"",1,0,1900,0,1,1900,"Nombre y el registro de entrada válida"]
[null,"",null,null,null,"",null,null,null,{"$f":"IF(I394=\"\",\"\",IF(VLOOKUP(I394,CAD_Q!$C$6:$D$105,2,FALSE)=0,\"\",VLOOKUP(I394,CAD_Q!$C$6:$D$105,2,FALSE)))","v":""},{"$f":"IFERROR(VLOOKUP(I394,CAD_Q!$C$6:$E$109,3,FALSE)*F394,\"\")","v":""},null,null,"",{"$f":"MONTH(D394)","v":1},{"$f":"DAY(D394)","v":0},{"$f":"YEAR(D394)","v":1900},{"$f":"DAY(E394)","v":0},{"$f":"MONTH(E394)","v":1},{"$f":"YEAR(E394)","v":1900},"Nombre y el registro de entrada válida"]
[null,"",null,null,null,"",null,null,null,{"$f":"IF(I395=\"\",\"\",IF(VLOOKUP(I395,CAD_Q!$C$6:$D$105,2,FALSE)=0,\"\",VLOOKUP(I395,CAD_Q!$C$6:$D$105,2,FALSE)))","v":""},{"$f":"IFERROR(VLOOKUP(I395,CAD_Q!$C$6:$E$109,3,FALSE)*F395,\"\")","v":""},null,null,"",1,0,1900,0,1,1900,"Nombre y el registro de entrada válida"]
[null,"",null,null,null,"",null,null,null,{"$f":"IF(I396=\"\",\"\",IF(VLOOKUP(I396,CAD_Q!$C$6:$D$105,2,FALSE)=0,\"\",VLOOKUP(I396,CAD_Q!$C$6:$D$105,2,FALSE)))","v":""},{"$f":"IFERROR(VLOOKUP(I396,CAD_Q!$C$6:$E$109,3,FALSE)*F396,\"\")","v":""},null,null,"",1,0,1900,0,1,1900,"Nombre y el registro de entrada válida"]
[null,"",null,null,null,"",null,null,null,{"$f":"IF(I397=\"\",\"\",IF(VLOOKUP(I397,CAD_Q!$C$6:$D$105,2,FALSE)=0,\"\",VLOOKUP(I397,CAD_Q!$C$6:$D$105,2,FALSE)))","v":""},{"$f":"IFERROR(VLOOKUP(I397,CAD_Q!$C$6:$E$109,3,FALSE)*F397,\"\")","v":""},null,null,"",1,0,1900,0,1,1900,"Nombre y el registro de entrada válida"]
[null,"",null,null,null,"",null,null,null,{"$f":"IF(I398=\"\",\"\",IF(VLOOKUP(I398,CAD_Q!$C$6:$D$105,2,FALSE)=0,\"\",VLOOKUP(I398,CAD_Q!$C$6:$D$105,2,FALSE)))","v":""},{"$f":"IFERROR(VLOOKUP(I398,CAD_Q!$C$6:$E$109,3,FALSE)*F398,\"\")","v":""},null,null,"",1,0,1900,0,1,1900,"Nombre y el registro de entrada válida"]
[null,"",null,null,null,"",null,null,null,{"$f":"IF(I399=\"\",\"\",IF(VLOOKUP(I399,CAD_Q!$C$6:$D$105,2,FALSE)=0,\"\",VLOOKUP(I399,CAD_Q!$C$6:$D$105,2,FALSE)))","v":""},{"$f":"IFERROR(VLOOKUP(I399,CAD_Q!$C$6:$E$109,3,FALSE)*F399,\"\")","v":""},null,null,"",1,0,1900,0,1,1900,"Nombre y el registro de entrada válida"]
[null,"",null,null,null,"",null,null,null,{"$f":"IF(I400=\"\",\"\",IF(VLOOKUP(I400,CAD_Q!$C$6:$D$105,2,FALSE)=0,\"\",VLOOKUP(I400,CAD_Q!$C$6:$D$105,2,FALSE)))","v":""},{"$f":"IFERROR(VLOOKUP(I400,CAD_Q!$C$6:$E$109,3,FALSE)*F400,\"\")","v":""},null,null,"",1,0,1900,0,1,1900,"Nombre y el registro de entrada válida"]
[null,"",null,null,null,"",null,null,null,{"$f":"IF(I401=\"\",\"\",IF(VLOOKUP(I401,CAD_Q!$C$6:$D$105,2,FALSE)=0,\"\",VLOOKUP(I401,CAD_Q!$C$6:$D$105,2,FALSE)))","v":""},{"$f":"IFERROR(VLOOKUP(I401,CAD_Q!$C$6:$E$109,3,FALSE)*F401,\"\")","v":""},null,null,"",1,0,1900,0,1,1900,"Nombre y el registro de entrada válida"]
[null,"",null,null,null,"",null,null,null,{"$f":"IF(I402=\"\",\"\",IF(VLOOKUP(I402,CAD_Q!$C$6:$D$105,2,FALSE)=0,\"\",VLOOKUP(I402,CAD_Q!$C$6:$D$105,2,FALSE)))","v":""},{"$f":"IFERROR(VLOOKUP(I402,CAD_Q!$C$6:$E$109,3,FALSE)*F402,\"\")","v":""},null,null,"",1,0,1900,0,1,1900,"Nombre y el registro de entrada válida"]
[null,"",null,null,null,"",null,null,null,{"$f":"IF(I403=\"\",\"\",IF(VLOOKUP(I403,CAD_Q!$C$6:$D$105,2,FALSE)=0,\"\",VLOOKUP(I403,CAD_Q!$C$6:$D$105,2,FALSE)))","v":""},{"$f":"IFERROR(VLOOKUP(I403,CAD_Q!$C$6:$E$109,3,FALSE)*F403,\"\")","v":""},null,null,"",1,0,1900,0,1,1900,"Nombre y el registro de entrada válida"]
[null,"",null,null,null,"",null,null,null,{"$f":"IF(I404=\"\",\"\",IF(VLOOKUP(I404,CAD_Q!$C$6:$D$105,2,FALSE)=0,\"\",VLOOKUP(I404,CAD_Q!$C$6:$D$105,2,FALSE)))","v":""},{"$f":"IFERROR(VLOOKUP(I404,CAD_Q!$C$6:$E$109,3,FALSE)*F404,\"\")","v":""},null,null,"",1,0,1900,0,1,1900,"Nombre y el registro de entrada válida"]
[null,"",null,null,null,"",null,null,null,{"$f":"IF(I405=\"\",\"\",IF(VLOOKUP(I405,CAD_Q!$C$6:$D$105,2,FALSE)=0,\"\",VLOOKUP(I405,CAD_Q!$C$6:$D$105,2,FALSE)))","v":""},{"$f":"IFERROR(VLOOKUP(I405,CAD_Q!$C$6:$E$109,3,FALSE)*F405,\"\")","v":""},null,null,"",1,0,1900,0,1,1900,"Nombre y el registro de entrada válida"]
[null,"",null,null,null,"",null,null,null,{"$f":"IF(I406=\"\",\"\",IF(VLOOKUP(I406,CAD_Q!$C$6:$D$105,2,FALSE)=0,\"\",VLOOKUP(I406,CAD_Q!$C$6:$D$105,2,FALSE)))","v":""},{"$f":"IFERROR(VLOOKUP(I406,CAD_Q!$C$6:$E$109,3,FALSE)*F406,\"\")","v":""},null,null,"",1,0,1900,0,1,1900,"Nombre y el registro de entrada válida"]
[null,"",null,null,null,"",null,null,null,{"$f":"IF(I407=\"\",\"\",IF(VLOOKUP(I407,CAD_Q!$C$6:$D$105,2,FALSE)=0,\"\",VLOOKUP(I407,CAD_Q!$C$6:$D$105,2,FALSE)))","v":""},{"$f":"IFERROR(VLOOKUP(I407,CAD_Q!$C$6:$E$109,3,FALSE)*F407,\"\")","v":""},null,null,"",1,0,1900,0,1,1900,"Nombre y el registro de entrada válida"]
[null,"",null,null,null,"",null,null,null,{"$f":"IF(I408=\"\",\"\",IF(VLOOKUP(I408,CAD_Q!$C$6:$D$105,2,FALSE)=0,\"\",VLOOKUP(I408,CAD_Q!$C$6:$D$105,2,FALSE)))","v":""},{"$f":"IFERROR(VLOOKUP(I408,CAD_Q!$C$6:$E$109,3,FALSE)*F408,\"\")","v":""},null,null,"",1,0,1900,0,1,1900,"Nombre y el registro de entrada válida"]
[null,"",null,null,null,"",null,null,null,{"$f":"IF(I409=\"\",\"\",IF(VLOOKUP(I409,CAD_Q!$C$6:$D$105,2,FALSE)=0,\"\",VLOOKUP(I409,CAD_Q!$C$6:$D$105,2,FALSE)))","v":""},{"$f":"IFERROR(VLOOKUP(I409,CAD_Q!$C$6:$E$109,3,FALSE)*F409,\"\")","v":""},null,null,"",1,0,1900,0,1,1900,"Nombre y el registro de entrada válida"]
[null,"",null,null,null,"",null,null,null,{"$f":"IF(I410=\"\",\"\",IF(VLOOKUP(I410,CAD_Q!$C$6:$D$105,2,FALSE)=0,\"\",VLOOKUP(I410,CAD_Q!$C$6:$D$105,2,FALSE)))","v":""},{"$f":"IFERROR(VLOOKUP(I410,CAD_Q!$C$6:$E$109,3,FALSE)*F410,\"\")","v":""},null,null,"",1,0,1900,0,1,1900,"Nombre y el registro de entrada válida"]
[null,"",null,null,null,"",null,null,null,{"$f":"IF(I411=\"\",\"\",IF(VLOOKUP(I411,CAD_Q!$C$6:$D$105,2,FALSE)=0,\"\",VLOOKUP(I411,CAD_Q!$C$6:$D$105,2,FALSE)))","v":""},{"$f":"IFERROR(VLOOKUP(I411,CAD_Q!$C$6:$E$109,3,FALSE)*F411,\"\")","v":""},null,null,"",1,0,1900,0,1,1900,"Nombre y el registro de entrada válida"]
[null,"",null,null,null,"",null,null,null,{"$f":"IF(I412=\"\",\"\",IF(VLOOKUP(I412,CAD_Q!$C$6:$D$105,2,FALSE)=0,\"\",VLOOKUP(I412,CAD_Q!$C$6:$D$105,2,FALSE)))","v":""},{"$f":"IFERROR(VLOOKUP(I412,CAD_Q!$C$6:$E$109,3,FALSE)*F412,\"\")","v":""},null,null,"",1,0,1900,0,1,1900,"Nombre y el registro de entrada válida"]
[null,"",null,null,null,"",null,null,null,{"$f":"IF(I413=\"\",\"\",IF(VLOOKUP(I413,CAD_Q!$C$6:$D$105,2,FALSE)=0,\"\",VLOOKUP(I413,CAD_Q!$C$6:$D$105,2,FALSE)))","v":""},{"$f":"IFERROR(VLOOKUP(I413,CAD_Q!$C$6:$E$109,3,FALSE)*F413,\"\")","v":""},null,null,"",1,0,1900,0,1,1900,"Nombre y el registro de entrada válida"]
[null,"",null,null,null,"",null,null,null,{"$f":"IF(I414=\"\",\"\",IF(VLOOKUP(I414,CAD_Q!$C$6:$D$105,2,FALSE)=0,\"\",VLOOKUP(I414,CAD_Q!$C$6:$D$105,2,FALSE)))","v":""},{"$f":"IFERROR(VLOOKUP(I414,CAD_Q!$C$6:$E$109,3,FALSE)*F414,\"\")","v":""},null,null,"",1,0,1900,0,1,1900,"Nombre y el registro de entrada válida"]
[null,"",null,null,null,"",null,null,null,{"$f":"IF(I415=\"\",\"\",IF(VLOOKUP(I415,CAD_Q!$C$6:$D$105,2,FALSE)=0,\"\",VLOOKUP(I415,CAD_Q!$C$6:$D$105,2,FALSE)))","v":""},{"$f":"IFERROR(VLOOKUP(I415,CAD_Q!$C$6:$E$109,3,FALSE)*F415,\"\")","v":""},null,null,"",1,0,1900,0,1,1900,"Nombre y el registro de entrada válida"]
[null,"",null,null,null,"",null,null,null,{"$f":"IF(I416=\"\",\"\",IF(VLOOKUP(I416,CAD_Q!$C$6:$D$105,2,FALSE)=0,\"\",VLOOKUP(I416,CAD_Q!$C$6:$D$105,2,FALSE)))","v":""},{"$f":"IFERROR(VLOOKUP(I416,CAD_Q!$C$6:$E$109,3,FALSE)*F416,\"\")","v":""},null,null,"",1,0,1900,0,1,1900,"Nombre y el registro de entrada válida"]
[null,"",null,null,null,"",null,null,null,{"$f":"IF(I417=\"\",\"\",IF(VLOOKUP(I417,CAD_Q!$C$6:$D$105,2,FALSE)=0,\"\",VLOOKUP(I417,CAD_Q!$C$6:$D$105,2,FALSE)))","v":""},{"$f":"IFERROR(VLOOKUP(I417,CAD_Q!$C$6:$E$109,3,FALSE)*F417,\"\")","v":""},null,null,"",1,0,1900,0,1,1900,"Nombre y el registro de entrada válida"]
[null,"",null,null,null,"",null,null,null,{"$f":"IF(I418=\"\",\"\",IF(VLOOKUP(I418,CAD_Q!$C$6:$D$105,2,FALSE)=0,\"\",VLOOKUP(I418,CAD_Q!$C$6:$D$105,2,FALSE)))","v":""},{"$f":"IFERROR(VLOOKUP(I418,CAD_Q!$C$6:$E$109,3,FALSE)*F418,\"\")","v":""},null,null,"",1,0,1900,0,1,1900,"Nombre y el registro de entrada válida"]
[null,"",null,null,null,"",null,null,null,{"$f":"IF(I419=\"\",\"\",IF(VLOOKUP(I419,CAD_Q!$C$6:$D$105,2,FALSE)=0,\"\",VLOOKUP(I419,CAD_Q!$C$6:$D$105,2,FALSE)))","v":""},{"$f":"IFERROR(VLOOKUP(I419,CAD_Q!$C$6:$E$109,3,FALSE)*F419,\"\")","v":""},null,null,"",1,0,1900,0,1,1900,"Nombre y el registro de entrada válida"]
[null,"",null,null,null,{"$f":"IF(OR(D420=\"\",E420=\"\"),\"\",E420-D420)","v":""},null,null,null,{"$f":"IF(I420=\"\",\"\",IF(VLOOKUP(I420,CAD_Q!$C$6:$D$105,2,FALSE)=0,\"\",VLOOKUP(I420,CAD_Q!$C$6:$D$105,2,FALSE)))","v":""},{"$f":"IFERROR(VLOOKUP(I420,CAD_Q!$C$6:$E$109,3,FALSE)*F420,\"\")","v":""},null,null,"",1,0,1900,0,1,1900,"Nombre y el registro de entrada válida"]
[null,"",null,null,null,"",null,null,null,{"$f":"IF(I421=\"\",\"\",IF(VLOOKUP(I421,CAD_Q!$C$6:$D$105,2,FALSE)=0,\"\",VLOOKUP(I421,CAD_Q!$C$6:$D$105,2,FALSE)))","v":""},{"$f":"IFERROR(VLOOKUP(I421,CAD_Q!$C$6:$E$109,3,FALSE)*F421,\"\")","v":""},null,null,"",1,0,1900,0,1,1900,"Nombre y el registro de entrada válida"]
[null,"",null,null,null,"",null,null,null,{"$f":"IF(I422=\"\",\"\",IF(VLOOKUP(I422,CAD_Q!$C$6:$D$105,2,FALSE)=0,\"\",VLOOKUP(I422,CAD_Q!$C$6:$D$105,2,FALSE)))","v":""},{"$f":"IFERROR(VLOOKUP(I422,CAD_Q!$C$6:$E$109,3,FALSE)*F422,\"\")","v":""},null,null,"",1,0,1900,0,1,1900,"Nombre y el registro de entrada válida"]
[null,"",null,null,null,"",null,null,null,{"$f":"IF(I423=\"\",\"\",IF(VLOOKUP(I423,CAD_Q!$C$6:$D$105,2,FALSE)=0,\"\",VLOOKUP(I423,CAD_Q!$C$6:$D$105,2,FALSE)))","v":""},{"$f":"IFERROR(VLOOKUP(I423,CAD_Q!$C$6:$E$109,3,FALSE)*F423,\"\")","v":""},null,null,"",1,0,1900,0,1,1900,"Nombre y el registro de entrada válida"]
[null,"",null,null,null,"",null,null,null,{"$f":"IF(I424=\"\",\"\",IF(VLOOKUP(I424,CAD_Q!$C$6:$D$105,2,FALSE)=0,\"\",VLOOKUP(I424,CAD_Q!$C$6:$D$105,2,FALSE)))","v":""},{"$f":"IFERROR(VLOOKUP(I424,CAD_Q!$C$6:$E$109,3,FALSE)*F424,\"\")","v":""},null,null,"",1,0,1900,0,1,1900,"Nombre y el registro de entrada válida"]
[null,"",null,null,null,"",null,null,null,{"$f":"IF(I425=\"\",\"\",IF(VLOOKUP(I425,CAD_Q!$C$6:$D$105,2,FALSE)=0,\"\",VLOOKUP(I425,CAD_Q!$C$6:$D$105,2,FALSE)))","v":""},{"$f":"IFERROR(VLOOKUP(I425,CAD_Q!$C$6:$E$109,3,FALSE)*F425,\"\")","v":""},null,null,"",1,0,1900,0,1,1900,"Nombre y el registro de entrada válida"]
[null,"",null,null,null,"",null,null,null,{"$f":"IF(I426=\"\",\"\",IF(VLOOKUP(I426,CAD_Q!$C$6:$D$105,2,FALSE)=0,\"\",VLOOKUP(I426,CAD_Q!$C$6:$D$105,2,FALSE)))","v":""},{"$f":"IFERROR(VLOOKUP(I426,CAD_Q!$C$6:$E$109,3,FALSE)*F426,\"\")","v":""},null,null,"",1,0,1900,0,1,1900,"Nombre y el registro de entrada válida"]
[null,"",null,null,null,"",null,null,null,{"$f":"IF(I427=\"\",\"\",IF(VLOOKUP(I427,CAD_Q!$C$6:$D$105,2,FALSE)=0,\"\",VLOOKUP(I427,CAD_Q!$C$6:$D$105,2,FALSE)))","v":""},{"$f":"IFERROR(VLOOKUP(I427,CAD_Q!$C$6:$E$109,3,FALSE)*F427,\"\")","v":""},null,null,"",1,0,1900,0,1,1900,"Nombre y el registro de entrada válida"]
[null,"",null,null,null,"",null,null,null,{"$f":"IF(I428=\"\",\"\",IF(VLOOKUP(I428,CAD_Q!$C$6:$D$105,2,FALSE)=0,\"\",VLOOKUP(I428,CAD_Q!$C$6:$D$105,2,FALSE)))","v":""},{"$f":"IFERROR(VLOOKUP(I428,CAD_Q!$C$6:$E$109,3,FALSE)*F428,\"\")","v":""},null,null,"",1,0,1900,0,1,1900,"Nombre y el registro de entrada válida"]
[null,"",null,null,null,"",null,null,null,{"$f":"IF(I429=\"\",\"\",IF(VLOOKUP(I429,CAD_Q!$C$6:$D$105,2,FALSE)=0,\"\",VLOOKUP(I429,CAD_Q!$C$6:$D$105,2,FALSE)))","v":""},{"$f":"IFERROR(VLOOKUP(I429,CAD_Q!$C$6:$E$109,3,FALSE)*F429,\"\")","v":""},null,null,"",1,0,1900,0,1,1900,"Nombre y el registro de entrada válida"]
[null,"",null,null,null,"",null,null,null,{"$f":"IF(I430=\"\",\"\",IF(VLOOKUP(I430,CAD_Q!$C$6:$D$105,2,FALSE)=0,\"\",VLOOKUP(I430,CAD_Q!$C$6:$D$105,2,FALSE)))","v":""},{"$f":"IFERROR(VLOOKUP(I430,CAD_Q!$C$6:$E$109,3,FALSE)*F430,\"\")","v":""},null,null,"",1,0,1900,0,1,1900,"Nombre y el registro de entrada válida"]
[null,"",null,null,null,"",null,null,null,{"$f":"IF(I431=\"\",\"\",IF(VLOOKUP(I431,CAD_Q!$C$6:$D$105,2,FALSE)=0,\"\",VLOOKUP(I431,CAD_Q!$C$6:$D$105,2,FALSE)))","v":""},{"$f":"IFERROR(VLOOKUP(I431,CAD_Q!$C$6:$E$109,3,FALSE)*F431,\"\")","v":""},null,null,"",1,0,1900,0,1,1900,"Nombre y el registro de entrada válida"]
[null,"",null,null,null,"",null,null,null,{"$f":"IF(I432=\"\",\"\",IF(VLOOKUP(I432,CAD_Q!$C$6:$D$105,2,FALSE)=0,\"\",VLOOKUP(I432,CAD_Q!$C$6:$D$105,2,FALSE)))","v":""},{"$f":"IFERROR(VLOOKUP(I432,CAD_Q!$C$6:$E$109,3,FALSE)*F432,\"\")","v":""},null,null,"",1,0,1900,0,1,1900,"Nombre y el registro de entrada válida"]
[null,"",null,null,null,"",null,null,null,{"$f":"IF(I433=\"\",\"\",IF(VLOOKUP(I433,CAD_Q!$C$6:$D$105,2,FALSE)=0,\"\",VLOOKUP(I433,CAD_Q!$C$6:$D$105,2,FALSE)))","v":""},{"$f":"IFERROR(VLOOKUP(I433,CAD_Q!$C$6:$E$109,3,FALSE)*F433,\"\")","v":""},null,null,"",1,0,1900,0,1,1900,"Nombre y el registro de entrada válida"]
[null,"",null,null,null,"",null,null,null,{"$f":"IF(I434=\"\",\"\",IF(VLOOKUP(I434,CAD_Q!$C$6:$D$105,2,FALSE)=0,\"\",VLOOKUP(I434,CAD_Q!$C$6:$D$105,2,FALSE)))","v":""},{"$f":"IFERROR(VLOOKUP(I434,CAD_Q!$C$6:$E$109,3,FALSE)*F434,\"\")","v":""},null,null,"",1,0,1900,0,1,1900,"Nombre y el registro de entrada válida"]
[null,"",null,null,null,"",null,null,null,{"$f":"IF(I435=\"\",\"\",IF(VLOOKUP(I435,CAD_Q!$C$6:$D$105,2,FALSE)=0,\"\",VLOOKUP(I435,CAD_Q!$C$6:$D$105,2,FALSE)))","v":""},{"$f":"IFERROR(VLOOKUP(I435,CAD_Q!$C$6:$E$109,3,FALSE)*F435,\"\")","v":""},null,null,"",1,0,1900,0,1,1900,"Nombre y el registro de entrada válida"]
[null,"",null,null,null,"",null,null,null,{"$f":"IF(I436=\"\",\"\",IF(VLOOKUP(I436,CAD_Q!$C$6:$D$105,2,FALSE)=0,\"\",VLOOKUP(I436,CAD_Q!$C$6:$D$105,2,FALSE)))","v":""},{"$f":"IFERROR(VLOOKUP(I436,CAD_Q!$C$6:$E$109,3,FALSE)*F436,\"\")","v":""},null,null,"",1,0,1900,0,1,1900,"Nombre y el registro de entrada válida"]
[null,"",null,null,null,"",null,null,null,{"$f":"IF(I437=\"\",\"\",IF(VLOOKUP(I437,CAD_Q!$C$6:$D$105,2,FALSE)=0,\"\",VLOOKUP(I437,CAD_Q!$C$6:$D$105,2,FALSE)))","v":""},{"$f":"IFERROR(VLOOKUP(I437,CAD_Q!$C$6:$E$109,3,FALSE)*F437,\"\")","v":""},null,null,"",1,0,1900,0,1,1900,"Nombre y el registro de entrada válida"]
[null,"",null,null,null,"",null,null,null,{"$f":"IF(I438=\"\",\"\",IF(VLOOKUP(I438,CAD_Q!$C$6:$D$105,2,FALSE)=0,\"\",VLOOKUP(I438,CAD_Q!$C$6:$D$105,2,FALSE)))","v":""},{"$f":"IFERROR(VLOOKUP(I438,CAD_Q!$C$6:$E$109,3,FALSE)*F438,\"\")","v":""},null,null,"",1,0,1900,0,1,1900,"Nombre y el registro de entrada válida"]
[null,"",null,null,null,"",null,null,null,{"$f":"IF(I439=\"\",\"\",IF(VLOOKUP(I439,CAD_Q!$C$6:$D$105,2,FALSE)=0,\"\",VLOOKUP(I439,CAD_Q!$C$6:$D$105,2,FALSE)))","v":""},{"$f":"IFERROR(VLOOKUP(I439,CAD_Q!$C$6:$E$109,3,FALSE)*F439,\"\")","v":""},null,null,"",1,0,1900,0,1,1900,"Nombre y el registro de entrada válida"]
[null,"",null,null,null,"",null,null,null,{"$f":"IF(I440=\"\",\"\",IF(VLOOKUP(I440,CAD_Q!$C$6:$D$105,2,FALSE)=0,\"\",VLOOKUP(I440,CAD_Q!$C$6:$D$105,2,FALSE)))","v":""},{"$f":"IFERROR(VLOOKUP(I440,CAD_Q!$C$6:$E$109,3,FALSE)*F440,\"\")","v":""},null,null,"",1,0,1900,0,1,1900,"Nombre y el registro de entrada válida"]
[null,"",null,null,null,"",null,null,null,{"$f":"IF(I441=\"\",\"\",IF(VLOOKUP(I441,CAD_Q!$C$6:$D$105,2,FALSE)=0,\"\",VLOOKUP(I441,CAD_Q!$C$6:$D$105,2,FALSE)))","v":""},{"$f":"IFERROR(VLOOKUP(I441,CAD_Q!$C$6:$E$109,3,FALSE)*F441,\"\")","v":""},null,null,"",1,0,1900,0,1,1900,"Nombre y el registro de entrada válida"]
[null,"",null,null,null,"",null,null,null,{"$f":"IF(I442=\"\",\"\",IF(VLOOKUP(I442,CAD_Q!$C$6:$D$105,2,FALSE)=0,\"\",VLOOKUP(I442,CAD_Q!$C$6:$D$105,2,FALSE)))","v":""},{"$f":"IFERROR(VLOOKUP(I442,CAD_Q!$C$6:$E$109,3,FALSE)*F442,\"\")","v":""},null,null,"",1,0,1900,0,1,1900,"Nombre y el registro de entrada válida"]
[null,"",null,null,null,"",null,null,null,{"$f":"IF(I443=\"\",\"\",IF(VLOOKUP(I443,CAD_Q!$C$6:$D$105,2,FALSE)=0,\"\",VLOOKUP(I443,CAD_Q!$C$6:$D$105,2,FALSE)))","v":""},{"$f":"IFERROR(VLOOKUP(I443,CAD_Q!$C$6:$E$109,3,FALSE)*F443,\"\")","v":""},null,null,"",1,0,1900,0,1,1900,"Nombre y el registro de entrada válida"]
[null,"",null,null,null,"",null,null,null,{"$f":"IF(I444=\"\",\"\",IF(VLOOKUP(I444,CAD_Q!$C$6:$D$105,2,FALSE)=0,\"\",VLOOKUP(I444,CAD_Q!$C$6:$D$105,2,FALSE)))","v":""},{"$f":"IFERROR(VLOOKUP(I444,CAD_Q!$C$6:$E$109,3,FALSE)*F444,\"\")","v":""},null,null,"",1,0,1900,0,1,1900,"Nombre y el registro de entrada válida"]
[null,"",null,null,null,"",null,null,null,{"$f":"IF(I445=\"\",\"\",IF(VLOOKUP(I445,CAD_Q!$C$6:$D$105,2,FALSE)=0,\"\",VLOOKUP(I445,CAD_Q!$C$6:$D$105,2,FALSE)))","v":""},{"$f":"IFERROR(VLOOKUP(I445,CAD_Q!$C$6:$E$109,3,FALSE)*F445,\"\")","v":""},null,null,"",1,0,1900,0,1,1900,"Nombre y el registro de entrada válida"]
[null,"",null,null,null,"",null,null,null,{"$f":"IF(I446=\"\",\"\",IF(VLOOKUP(I446,CAD_Q!$C$6:$D$105,2,FALSE)=0,\"\",VLOOKUP(I446,CAD_Q!$C$6:$D$105,2,FALSE)))","v":""},{"$f":"IFERROR(VLOOKUP(I446,CAD_Q!$C$6:$E$109,3,FALSE)*F446,\"\")","v":""},null,null,"",1,0,1900,0,1,1900,"Nombre y el registro de entrada válida"]
[null,"",null,null,null,"",null,null,null,{"$f":"IF(I447=\"\",\"\",IF(VLOOKUP(I447,CAD_Q!$C$6:$D$105,2,FALSE)=0,\"\",VLOOKUP(I447,CAD_Q!$C$6:$D$105,2,FALSE)))","v":""},{"$f":"IFERROR(VLOOKUP(I447,CAD_Q!$C$6:$E$109,3,FALSE)*F447,\"\")","v":""},null,null,"",1,0,1900,0,1,1900,"Nombre y el registro de entrada válida"]
[null,"",null,null,null,"",null,null,null,{"$f":"IF(I448=\"\",\"\",IF(VLOOKUP(I448,CAD_Q!$C$6:$D$105,2,FALSE)=0,\"\",VLOOKUP(I448,CAD_Q!$C$6:$D$105,2,FALSE)))","v":""},{"$f":"IFERROR(VLOOKUP(I448,CAD_Q!$C$6:$E$109,3,FALSE)*F448,\"\")","v":""},null,null,"",1,0,1900,0,1,1900,"Nombre y el registro de entrada válida"]
[null,"",null,null,null,"",null,null,null,{"$f":"IF(I449=\"\",\"\",IF(VLOOKUP(I449,CAD_Q!$C$6:$D$105,2,FALSE)=0,\"\",VLOOKUP(I449,CAD_Q!$C$6:$D$105,2,FALSE)))","v":""},{"$f":"IFERROR(VLOOKUP(I449,CAD_Q!$C$6:$E$109,3,FALSE)*F449,\"\")","v":""},null,null,"",1,0,1900,0,1,1900,"Nombre y el registro de entrada válida"]
[null,"",null,null,null,"",null,null,null,{"$f":"IF(I450=\"\",\"\",IF(VLOOKUP(I450,CAD_Q!$C$6:$D$105,2,FALSE)=0,\"\",VLOOKUP(I450,CAD_Q!$C$6:$D$105,2,FALSE)))","v":""},{"$f":"IFERROR(VLOOKUP(I450,CAD_Q!$C$6:$E$109,3,FALSE)*F450,\"\")","v":""},null,null,"",1,0,1900,0,1,1900,"Nombre y el registro de entrada válida"]
[null,"",null,null,null,"",null,null,null,{"$f":"IF(I451=\"\",\"\",IF(VLOOKUP(I451,CAD_Q!$C$6:$D$105,2,FALSE)=0,\"\",VLOOKUP(I451,CAD_Q!$C$6:$D$105,2,FALSE)))","v":""},{"$f":"IFERROR(VLOOKUP(I451,CAD_Q!$C$6:$E$109,3,FALSE)*F451,\"\")","v":""},null,null,"",1,0,1900,0,1,1900,"Nombre y el registro de entrada válida"]
[null,"",null,null,null,"",null,null,null,{"$f":"IF(I452=\"\",\"\",IF(VLOOKUP(I452,CAD_Q!$C$6:$D$105,2,FALSE)=0,\"\",VLOOKUP(I452,CAD_Q!$C$6:$D$105,2,FALSE)))","v":""},{"$f":"IFERROR(VLOOKUP(I452,CAD_Q!$C$6:$E$109,3,FALSE)*F452,\"\")","v":""},null,null,"",1,0,1900,0,1,1900,"Nombre y el registro de entrada válida"]
[null,"",null,null,null,"",null,null,null,{"$f":"IF(I453=\"\",\"\",IF(VLOOKUP(I453,CAD_Q!$C$6:$D$105,2,FALSE)=0,\"\",VLOOKUP(I453,CAD_Q!$C$6:$D$105,2,FALSE)))","v":""},{"$f":"IFERROR(VLOOKUP(I453,CAD_Q!$C$6:$E$109,3,FALSE)*F453,\"\")","v":""},null,null,"",1,0,1900,0,1,1900,"Nombre y el registro de entrada válida"]
[null,"",null,null,null,"",null,null,null,{"$f":"IF(I454=\"\",\"\",IF(VLOOKUP(I454,CAD_Q!$C$6:$D$105,2,FALSE)=0,\"\",VLOOKUP(I454,CAD_Q!$C$6:$D$105,2,FALSE)))","v":""},{"$f":"IFERROR(VLOOKUP(I454,CAD_Q!$C$6:$E$109,3,FALSE)*F454,\"\")","v":""},null,null,"",1,0,1900,0,1,1900,"Nombre y el registro de entrada válida"]
[null,{"$f":"CONCATENATE(C455,D455)","v":""},null,null,null,"",null,null,null,{"$f":"IF(I455=\"\",\"\",IF(VLOOKUP(I455,CAD_Q!$C$6:$D$105,2,FALSE)=0,\"\",VLOOKUP(I455,CAD_Q!$C$6:$D$105,2,FALSE)))","v":""},{"$f":"IFERROR(VLOOKUP(I455,CAD_Q!$C$6:$E$109,3,FALSE)*F455,\"\")","v":""},null,null,{"$f":"IFERROR(K455-L455+M455,\"\")","v":""},1,0,1900,0,1,1900,"Nombre y el registro de entrada válida"]
[null,"",null,null,null,"",null,null,null,{"$f":"IF(I456=\"\",\"\",IF(VLOOKUP(I456,CAD_Q!$C$6:$D$105,2,FALSE)=0,\"\",VLOOKUP(I456,CAD_Q!$C$6:$D$105,2,FALSE)))","v":""},{"$f":"IFERROR(VLOOKUP(I456,CAD_Q!$C$6:$E$109,3,FALSE)*F456,\"\")","v":""},null,null,"",1,0,1900,0,1,1900,"Nombre y el registro de entrada válida"]
[null,"",null,null,null,"",null,null,null,{"$f":"IF(I457=\"\",\"\",IF(VLOOKUP(I457,CAD_Q!$C$6:$D$105,2,FALSE)=0,\"\",VLOOKUP(I457,CAD_Q!$C$6:$D$105,2,FALSE)))","v":""},{"$f":"IFERROR(VLOOKUP(I457,CAD_Q!$C$6:$E$109,3,FALSE)*F457,\"\")","v":""},null,null,"",1,0,1900,0,1,1900,"Nombre y el registro de entrada válida"]
[null,"",null,null,null,"",null,null,null,{"$f":"IF(I458=\"\",\"\",IF(VLOOKUP(I458,CAD_Q!$C$6:$D$105,2,FALSE)=0,\"\",VLOOKUP(I458,CAD_Q!$C$6:$D$105,2,FALSE)))","v":""},{"$f":"IFERROR(VLOOKUP(I458,CAD_Q!$C$6:$E$109,3,FALSE)*F458,\"\")","v":""},null,null,"",{"$f":"MONTH(D458)","v":1},{"$f":"DAY(D458)","v":0},{"$f":"YEAR(D458)","v":1900},{"$f":"DAY(E458)","v":0},{"$f":"MONTH(E458)","v":1},{"$f":"YEAR(E458)","v":1900},"Nombre y el registro de entrada válida"]
[null,"",null,null,null,"",null,null,null,{"$f":"IF(I459=\"\",\"\",IF(VLOOKUP(I459,CAD_Q!$C$6:$D$105,2,FALSE)=0,\"\",VLOOKUP(I459,CAD_Q!$C$6:$D$105,2,FALSE)))","v":""},{"$f":"IFERROR(VLOOKUP(I459,CAD_Q!$C$6:$E$109,3,FALSE)*F459,\"\")","v":""},null,null,"",1,0,1900,0,1,1900,"Nombre y el registro de entrada válida"]
[null,"",null,null,null,"",null,null,null,{"$f":"IF(I460=\"\",\"\",IF(VLOOKUP(I460,CAD_Q!$C$6:$D$105,2,FALSE)=0,\"\",VLOOKUP(I460,CAD_Q!$C$6:$D$105,2,FALSE)))","v":""},{"$f":"IFERROR(VLOOKUP(I460,CAD_Q!$C$6:$E$109,3,FALSE)*F460,\"\")","v":""},null,null,"",1,0,1900,0,1,1900,"Nombre y el registro de entrada válida"]
[null,"",null,null,null,"",null,null,null,{"$f":"IF(I461=\"\",\"\",IF(VLOOKUP(I461,CAD_Q!$C$6:$D$105,2,FALSE)=0,\"\",VLOOKUP(I461,CAD_Q!$C$6:$D$105,2,FALSE)))","v":""},{"$f":"IFERROR(VLOOKUP(I461,CAD_Q!$C$6:$E$109,3,FALSE)*F461,\"\")","v":""},null,null,"",1,0,1900,0,1,1900,"Nombre y el registro de entrada válida"]
[null,"",null,null,null,"",null,null,null,{"$f":"IF(I462=\"\",\"\",IF(VLOOKUP(I462,CAD_Q!$C$6:$D$105,2,FALSE)=0,\"\",VLOOKUP(I462,CAD_Q!$C$6:$D$105,2,FALSE)))","v":""},{"$f":"IFERROR(VLOOKUP(I462,CAD_Q!$C$6:$E$109,3,FALSE)*F462,\"\")","v":""},null,null,"",1,0,1900,0,1,1900,"Nombre y el registro de entrada válida"]
[null,"",null,null,null,"",null,null,null,{"$f":"IF(I463=\"\",\"\",IF(VLOOKUP(I463,CAD_Q!$C$6:$D$105,2,FALSE)=0,\"\",VLOOKUP(I463,CAD_Q!$C$6:$D$105,2,FALSE)))","v":""},{"$f":"IFERROR(VLOOKUP(I463,CAD_Q!$C$6:$E$109,3,FALSE)*F463,\"\")","v":""},null,null,"",1,0,1900,0,1,1900,"Nombre y el registro de entrada válida"]
[null,"",null,null,null,"",null,null,null,{"$f":"IF(I464=\"\",\"\",IF(VLOOKUP(I464,CAD_Q!$C$6:$D$105,2,FALSE)=0,\"\",VLOOKUP(I464,CAD_Q!$C$6:$D$105,2,FALSE)))","v":""},{"$f":"IFERROR(VLOOKUP(I464,CAD_Q!$C$6:$E$109,3,FALSE)*F464,\"\")","v":""},null,null,"",1,0,1900,0,1,1900,"Nombre y el registro de entrada válida"]
[null,"",null,null,null,"",null,null,null,{"$f":"IF(I465=\"\",\"\",IF(VLOOKUP(I465,CAD_Q!$C$6:$D$105,2,FALSE)=0,\"\",VLOOKUP(I465,CAD_Q!$C$6:$D$105,2,FALSE)))","v":""},{"$f":"IFERROR(VLOOKUP(I465,CAD_Q!$C$6:$E$109,3,FALSE)*F465,\"\")","v":""},null,null,"",1,0,1900,0,1,1900,"Nombre y el registro de entrada válida"]
[null,"",null,null,null,"",null,null,null,{"$f":"IF(I466=\"\",\"\",IF(VLOOKUP(I466,CAD_Q!$C$6:$D$105,2,FALSE)=0,\"\",VLOOKUP(I466,CAD_Q!$C$6:$D$105,2,FALSE)))","v":""},{"$f":"IFERROR(VLOOKUP(I466,CAD_Q!$C$6:$E$109,3,FALSE)*F466,\"\")","v":""},null,null,"",1,0,1900,0,1,1900,"Nombre y el registro de entrada válida"]
[null,"",null,null,null,"",null,null,null,{"$f":"IF(I467=\"\",\"\",IF(VLOOKUP(I467,CAD_Q!$C$6:$D$105,2,FALSE)=0,\"\",VLOOKUP(I467,CAD_Q!$C$6:$D$105,2,FALSE)))","v":""},{"$f":"IFERROR(VLOOKUP(I467,CAD_Q!$C$6:$E$109,3,FALSE)*F467,\"\")","v":""},null,null,"",1,0,1900,0,1,1900,"Nombre y el registro de entrada válida"]
[null,"",null,null,null,"",null,null,null,{"$f":"IF(I468=\"\",\"\",IF(VLOOKUP(I468,CAD_Q!$C$6:$D$105,2,FALSE)=0,\"\",VLOOKUP(I468,CAD_Q!$C$6:$D$105,2,FALSE)))","v":""},{"$f":"IFERROR(VLOOKUP(I468,CAD_Q!$C$6:$E$109,3,FALSE)*F468,\"\")","v":""},null,null,"",1,0,1900,0,1,1900,"Nombre y el registro de entrada válida"]
[null,"",null,null,null,"",null,null,null,{"$f":"IF(I469=\"\",\"\",IF(VLOOKUP(I469,CAD_Q!$C$6:$D$105,2,FALSE)=0,\"\",VLOOKUP(I469,CAD_Q!$C$6:$D$105,2,FALSE)))","v":""},{"$f":"IFERROR(VLOOKUP(I469,CAD_Q!$C$6:$E$109,3,FALSE)*F469,\"\")","v":""},null,null,"",1,0,1900,0,1,1900,"Nombre y el registro de entrada válida"]
[null,"",null,null,null,"",null,null,null,{"$f":"IF(I470=\"\",\"\",IF(VLOOKUP(I470,CAD_Q!$C$6:$D$105,2,FALSE)=0,\"\",VLOOKUP(I470,CAD_Q!$C$6:$D$105,2,FALSE)))","v":""},{"$f":"IFERROR(VLOOKUP(I470,CAD_Q!$C$6:$E$109,3,FALSE)*F470,\"\")","v":""},null,null,"",1,0,1900,0,1,1900,"Nombre y el registro de entrada válida"]
[null,"",null,null,null,"",null,null,null,{"$f":"IF(I471=\"\",\"\",IF(VLOOKUP(I471,CAD_Q!$C$6:$D$105,2,FALSE)=0,\"\",VLOOKUP(I471,CAD_Q!$C$6:$D$105,2,FALSE)))","v":""},{"$f":"IFERROR(VLOOKUP(I471,CAD_Q!$C$6:$E$109,3,FALSE)*F471,\"\")","v":""},null,null,"",1,0,1900,0,1,1900,"Nombre y el registro de entrada válida"]
[null,"",null,null,null,"",null,null,null,{"$f":"IF(I472=\"\",\"\",IF(VLOOKUP(I472,CAD_Q!$C$6:$D$105,2,FALSE)=0,\"\",VLOOKUP(I472,CAD_Q!$C$6:$D$105,2,FALSE)))","v":""},{"$f":"IFERROR(VLOOKUP(I472,CAD_Q!$C$6:$E$109,3,FALSE)*F472,\"\")","v":""},null,null,"",1,0,1900,0,1,1900,"Nombre y el registro de entrada válida"]
[null,"",null,null,null,"",null,null,null,{"$f":"IF(I473=\"\",\"\",IF(VLOOKUP(I473,CAD_Q!$C$6:$D$105,2,FALSE)=0,\"\",VLOOKUP(I473,CAD_Q!$C$6:$D$105,2,FALSE)))","v":""},{"$f":"IFERROR(VLOOKUP(I473,CAD_Q!$C$6:$E$109,3,FALSE)*F473,\"\")","v":""},null,null,"",1,0,1900,0,1,1900,"Nombre y el registro de entrada válida"]
[null,"",null,null,null,"",null,null,null,{"$f":"IF(I474=\"\",\"\",IF(VLOOKUP(I474,CAD_Q!$C$6:$D$105,2,FALSE)=0,\"\",VLOOKUP(I474,CAD_Q!$C$6:$D$105,2,FALSE)))","v":""},{"$f":"IFERROR(VLOOKUP(I474,CAD_Q!$C$6:$E$109,3,FALSE)*F474,\"\")","v":""},null,null,"",1,0,1900,0,1,1900,"Nombre y el registro de entrada válida"]
[null,"",null,null,null,"",null,null,null,{"$f":"IF(I475=\"\",\"\",IF(VLOOKUP(I475,CAD_Q!$C$6:$D$105,2,FALSE)=0,\"\",VLOOKUP(I475,CAD_Q!$C$6:$D$105,2,FALSE)))","v":""},{"$f":"IFERROR(VLOOKUP(I475,CAD_Q!$C$6:$E$109,3,FALSE)*F475,\"\")","v":""},null,null,"",1,0,1900,0,1,1900,"Nombre y el registro de entrada válida"]
[null,"",null,null,null,"",null,null,null,{"$f":"IF(I476=\"\",\"\",IF(VLOOKUP(I476,CAD_Q!$C$6:$D$105,2,FALSE)=0,\"\",VLOOKUP(I476,CAD_Q!$C$6:$D$105,2,FALSE)))","v":""},{"$f":"IFERROR(VLOOKUP(I476,CAD_Q!$C$6:$E$109,3,FALSE)*F476,\"\")","v":""},null,null,"",1,0,1900,0,1,1900,"Nombre y el registro de entrada válida"]
[null,"",null,null,null,"",null,null,null,{"$f":"IF(I477=\"\",\"\",IF(VLOOKUP(I477,CAD_Q!$C$6:$D$105,2,FALSE)=0,\"\",VLOOKUP(I477,CAD_Q!$C$6:$D$105,2,FALSE)))","v":""},{"$f":"IFERROR(VLOOKUP(I477,CAD_Q!$C$6:$E$109,3,FALSE)*F477,\"\")","v":""},null,null,"",1,0,1900,0,1,1900,"Nombre y el registro de entrada válida"]
[null,"",null,null,null,"",null,null,null,{"$f":"IF(I478=\"\",\"\",IF(VLOOKUP(I478,CAD_Q!$C$6:$D$105,2,FALSE)=0,\"\",VLOOKUP(I478,CAD_Q!$C$6:$D$105,2,FALSE)))","v":""},{"$f":"IFERROR(VLOOKUP(I478,CAD_Q!$C$6:$E$109,3,FALSE)*F478,\"\")","v":""},null,null,"",1,0,1900,0,1,1900,"Nombre y el registro de entrada válida"]
[null,"",null,null,null,"",null,null,null,{"$f":"IF(I479=\"\",\"\",IF(VLOOKUP(I479,CAD_Q!$C$6:$D$105,2,FALSE)=0,\"\",VLOOKUP(I479,CAD_Q!$C$6:$D$105,2,FALSE)))","v":""},{"$f":"IFERROR(VLOOKUP(I479,CAD_Q!$C$6:$E$109,3,FALSE)*F479,\"\")","v":""},null,null,"",1,0,1900,0,1,1900,"Nombre y el registro de entrada válida"]
[null,"",null,null,null,"",null,null,null,{"$f":"IF(I480=\"\",\"\",IF(VLOOKUP(I480,CAD_Q!$C$6:$D$105,2,FALSE)=0,\"\",VLOOKUP(I480,CAD_Q!$C$6:$D$105,2,FALSE)))","v":""},{"$f":"IFERROR(VLOOKUP(I480,CAD_Q!$C$6:$E$109,3,FALSE)*F480,\"\")","v":""},null,null,"",1,0,1900,0,1,1900,"Nombre y el registro de entrada válida"]
[null,"",null,null,null,"",null,null,null,{"$f":"IF(I481=\"\",\"\",IF(VLOOKUP(I481,CAD_Q!$C$6:$D$105,2,FALSE)=0,\"\",VLOOKUP(I481,CAD_Q!$C$6:$D$105,2,FALSE)))","v":""},{"$f":"IFERROR(VLOOKUP(I481,CAD_Q!$C$6:$E$109,3,FALSE)*F481,\"\")","v":""},null,null,"",1,0,1900,0,1,1900,"Nombre y el registro de entrada válida"]
[null,"",null,null,null,"",null,null,null,{"$f":"IF(I482=\"\",\"\",IF(VLOOKUP(I482,CAD_Q!$C$6:$D$105,2,FALSE)=0,\"\",VLOOKUP(I482,CAD_Q!$C$6:$D$105,2,FALSE)))","v":""},{"$f":"IFERROR(VLOOKUP(I482,CAD_Q!$C$6:$E$109,3,FALSE)*F482,\"\")","v":""},null,null,"",1,0,1900,0,1,1900,"Nombre y el registro de entrada válida"]
[null,"",null,null,null,"",null,null,null,{"$f":"IF(I483=\"\",\"\",IF(VLOOKUP(I483,CAD_Q!$C$6:$D$105,2,FALSE)=0,\"\",VLOOKUP(I483,CAD_Q!$C$6:$D$105,2,FALSE)))","v":""},{"$f":"IFERROR(VLOOKUP(I483,CAD_Q!$C$6:$E$109,3,FALSE)*F483,\"\")","v":""},null,null,"",1,0,1900,0,1,1900,"Nombre y el registro de entrada válida"]
[null,"",null,null,null,{"$f":"IF(OR(D484=\"\",E484=\"\"),\"\",E484-D484)","v":""},null,null,null,{"$f":"IF(I484=\"\",\"\",IF(VLOOKUP(I484,CAD_Q!$C$6:$D$105,2,FALSE)=0,\"\",VLOOKUP(I484,CAD_Q!$C$6:$D$105,2,FALSE)))","v":""},{"$f":"IFERROR(VLOOKUP(I484,CAD_Q!$C$6:$E$109,3,FALSE)*F484,\"\")","v":""},null,null,"",1,0,1900,0,1,1900,"Nombre y el registro de entrada válida"]
[null,"",null,null,null,"",null,null,null,{"$f":"IF(I485=\"\",\"\",IF(VLOOKUP(I485,CAD_Q!$C$6:$D$105,2,FALSE)=0,\"\",VLOOKUP(I485,CAD_Q!$C$6:$D$105,2,FALSE)))","v":""},{"$f":"IFERROR(VLOOKUP(I485,CAD_Q!$C$6:$E$109,3,FALSE)*F485,\"\")","v":""},null,null,"",1,0,1900,0,1,1900,"Nombre y el registro de entrada válida"]
[null,"",null,null,null,"",null,null,null,{"$f":"IF(I486=\"\",\"\",IF(VLOOKUP(I486,CAD_Q!$C$6:$D$105,2,FALSE)=0,\"\",VLOOKUP(I486,CAD_Q!$C$6:$D$105,2,FALSE)))","v":""},{"$f":"IFERROR(VLOOKUP(I486,CAD_Q!$C$6:$E$109,3,FALSE)*F486,\"\")","v":""},null,null,"",1,0,1900,0,1,1900,"Nombre y el registro de entrada válida"]
[null,"",null,null,null,"",null,null,null,{"$f":"IF(I487=\"\",\"\",IF(VLOOKUP(I487,CAD_Q!$C$6:$D$105,2,FALSE)=0,\"\",VLOOKUP(I487,CAD_Q!$C$6:$D$105,2,FALSE)))","v":""},{"$f":"IFERROR(VLOOKUP(I487,CAD_Q!$C$6:$E$109,3,FALSE)*F487,\"\")","v":""},null,null,"",1,0,1900,0,1,1900,"Nombre y el registro de entrada válida"]
[null,"",null,null,null,"",null,null,null,{"$f":"IF(I488=\"\",\"\",IF(VLOOKUP(I488,CAD_Q!$C$6:$D$105,2,FALSE)=0,\"\",VLOOKUP(I488,CAD_Q!$C$6:$D$105,2,FALSE)))","v":""},{"$f":"IFERROR(VLOOKUP(I488,CAD_Q!$C$6:$E$109,3,FALSE)*F488,\"\")","v":""},null,null,"",1,0,1900,0,1,1900,"Nombre y el registro de entrada válida"]
[null,"",null,null,null,"",null,null,null,{"$f":"IF(I489=\"\",\"\",IF(VLOOKUP(I489,CAD_Q!$C$6:$D$105,2,FALSE)=0,\"\",VLOOKUP(I489,CAD_Q!$C$6:$D$105,2,FALSE)))","v":""},{"$f":"IFERROR(VLOOKUP(I489,CAD_Q!$C$6:$E$109,3,FALSE)*F489,\"\")","v":""},null,null,"",1,0,1900,0,1,1900,"Nombre y el registro de entrada válida"]
[null,"",null,null,null,"",null,null,null,{"$f":"IF(I490=\"\",\"\",IF(VLOOKUP(I490,CAD_Q!$C$6:$D$105,2,FALSE)=0,\"\",VLOOKUP(I490,CAD_Q!$C$6:$D$105,2,FALSE)))","v":""},{"$f":"IFERROR(VLOOKUP(I490,CAD_Q!$C$6:$E$109,3,FALSE)*F490,\"\")","v":""},null,null,"",1,0,1900,0,1,1900,"Nombre y el registro de entrada válida"]
[null,"",null,null,null,"",null,null,null,{"$f":"IF(I491=\"\",\"\",IF(VLOOKUP(I491,CAD_Q!$C$6:$D$105,2,FALSE)=0,\"\",VLOOKUP(I491,CAD_Q!$C$6:$D$105,2,FALSE)))","v":""},{"$f":"IFERROR(VLOOKUP(I491,CAD_Q!$C$6:$E$109,3,FALSE)*F491,\"\")","v":""},null,null,"",1,0,1900,0,1,1900,"Nombre y el registro de entrada válida"]
[null,"",null,null,null,"",null,null,null,{"$f":"IF(I492=\"\",\"\",IF(VLOOKUP(I492,CAD_Q!$C$6:$D$105,2,FALSE)=0,\"\",VLOOKUP(I492,CAD_Q!$C$6:$D$105,2,FALSE)))","v":""},{"$f":"IFERROR(VLOOKUP(I492,CAD_Q!$C$6:$E$109,3,FALSE)*F492,\"\")","v":""},null,null,"",1,0,1900,0,1,1900,"Nombre y el registro de entrada válida"]
[null,"",null,null,null,"",null,null,null,{"$f":"IF(I493=\"\",\"\",IF(VLOOKUP(I493,CAD_Q!$C$6:$D$105,2,FALSE)=0,\"\",VLOOKUP(I493,CAD_Q!$C$6:$D$105,2,FALSE)))","v":""},{"$f":"IFERROR(VLOOKUP(I493,CAD_Q!$C$6:$E$109,3,FALSE)*F493,\"\")","v":""},null,null,"",1,0,1900,0,1,1900,"Nombre y el registro de entrada válida"]
[null,"",null,null,null,"",null,null,null,{"$f":"IF(I494=\"\",\"\",IF(VLOOKUP(I494,CAD_Q!$C$6:$D$105,2,FALSE)=0,\"\",VLOOKUP(I494,CAD_Q!$C$6:$D$105,2,FALSE)))","v":""},{"$f":"IFERROR(VLOOKUP(I494,CAD_Q!$C$6:$E$109,3,FALSE)*F494,\"\")","v":""},null,null,"",1,0,1900,0,1,1900,"Nombre y el registro de entrada válida"]
[null,"",null,null,null,"",null,null,null,{"$f":"IF(I495=\"\",\"\",IF(VLOOKUP(I495,CAD_Q!$C$6:$D$105,2,FALSE)=0,\"\",VLOOKUP(I495,CAD_Q!$C$6:$D$105,2,FALSE)))","v":""},{"$f":"IFERROR(VLOOKUP(I495,CAD_Q!$C$6:$E$109,3,FALSE)*F495,\"\")","v":""},null,null,"",1,0,1900,0,1,1900,"Nombre y el registro de entrada válida"]
[null,"",null,null,null,"",null,null,null,{"$f":"IF(I496=\"\",\"\",IF(VLOOKUP(I496,CAD_Q!$C$6:$D$105,2,FALSE)=0,\"\",VLOOKUP(I496,CAD_Q!$C$6:$D$105,2,FALSE)))","v":""},{"$f":"IFERROR(VLOOKUP(I496,CAD_Q!$C$6:$E$109,3,FALSE)*F496,\"\")","v":""},null,null,"",1,0,1900,0,1,1900,"Nombre y el registro de entrada válida"]
[null,"",null,null,null,"",null,null,null,{"$f":"IF(I497=\"\",\"\",IF(VLOOKUP(I497,CAD_Q!$C$6:$D$105,2,FALSE)=0,\"\",VLOOKUP(I497,CAD_Q!$C$6:$D$105,2,FALSE)))","v":""},{"$f":"IFERROR(VLOOKUP(I497,CAD_Q!$C$6:$E$109,3,FALSE)*F497,\"\")","v":""},null,null,"",1,0,1900,0,1,1900,"Nombre y el registro de entrada válida"]
[null,"",null,null,null,"",null,null,null,{"$f":"IF(I498=\"\",\"\",IF(VLOOKUP(I498,CAD_Q!$C$6:$D$105,2,FALSE)=0,\"\",VLOOKUP(I498,CAD_Q!$C$6:$D$105,2,FALSE)))","v":""},{"$f":"IFERROR(VLOOKUP(I498,CAD_Q!$C$6:$E$109,3,FALSE)*F498,\"\")","v":""},null,null,"",1,0,1900,0,1,1900,"Nombre y el registro de entrada válida"]
[null,"",null,null,null,"",null,null,null,{"$f":"IF(I499=\"\",\"\",IF(VLOOKUP(I499,CAD_Q!$C$6:$D$105,2,FALSE)=0,\"\",VLOOKUP(I499,CAD_Q!$C$6:$D$105,2,FALSE)))","v":""},{"$f":"IFERROR(VLOOKUP(I499,CAD_Q!$C$6:$E$109,3,FALSE)*F499,\"\")","v":""},null,null,"",1,0,1900,0,1,1900,"Nombre y el registro de entrada válida"]
[null,"",null,null,null,"",null,null,null,{"$f":"IF(I500=\"\",\"\",IF(VLOOKUP(I500,CAD_Q!$C$6:$D$105,2,FALSE)=0,\"\",VLOOKUP(I500,CAD_Q!$C$6:$D$105,2,FALSE)))","v":""},{"$f":"IFERROR(VLOOKUP(I500,CAD_Q!$C$6:$E$109,3,FALSE)*F500,\"\")","v":""},null,null,"",1,0,1900,0,1,1900,"Nombre y el registro de entrada válida"]
[null,"",null,null,null,"",null,null,null,{"$f":"IF(I501=\"\",\"\",IF(VLOOKUP(I501,CAD_Q!$C$6:$D$105,2,FALSE)=0,\"\",VLOOKUP(I501,CAD_Q!$C$6:$D$105,2,FALSE)))","v":""},{"$f":"IFERROR(VLOOKUP(I501,CAD_Q!$C$6:$E$109,3,FALSE)*F501,\"\")","v":""},null,null,"",1,0,1900,0,1,1900,"Nombre y el registro de entrada válida"]
[null,"",null,null,null,"",null,null,null,{"$f":"IF(I502=\"\",\"\",IF(VLOOKUP(I502,CAD_Q!$C$6:$D$105,2,FALSE)=0,\"\",VLOOKUP(I502,CAD_Q!$C$6:$D$105,2,FALSE)))","v":""},{"$f":"IFERROR(VLOOKUP(I502,CAD_Q!$C$6:$E$109,3,FALSE)*F502,\"\")","v":""},null,null,"",1,0,1900,0,1,1900,"Nombre y el registro de entrada válida"]
[null,"",null,null,null,"",null,null,null,{"$f":"IF(I503=\"\",\"\",IF(VLOOKUP(I503,CAD_Q!$C$6:$D$105,2,FALSE)=0,\"\",VLOOKUP(I503,CAD_Q!$C$6:$D$105,2,FALSE)))","v":""},{"$f":"IFERROR(VLOOKUP(I503,CAD_Q!$C$6:$E$109,3,FALSE)*F503,\"\")","v":""},null,null,"",1,0,1900,0,1,1900,"Nombre y el registro de entrada válida"]
[null,"",null,null,null,"",null,null,null,{"$f":"IF(I504=\"\",\"\",IF(VLOOKUP(I504,CAD_Q!$C$6:$D$105,2,FALSE)=0,\"\",VLOOKUP(I504,CAD_Q!$C$6:$D$105,2,FALSE)))","v":""},{"$f":"IFERROR(VLOOKUP(I504,CAD_Q!$C$6:$E$109,3,FALSE)*F504,\"\")","v":""},null,null,"",1,0,1900,0,1,1900,"Nombre y el registro de entrada válida"]
[null,"",null,null,null,"",null,null,null,{"$f":"IF(I505=\"\",\"\",IF(VLOOKUP(I505,CAD_Q!$C$6:$D$105,2,FALSE)=0,\"\",VLOOKUP(I505,CAD_Q!$C$6:$D$105,2,FALSE)))","v":""},{"$f":"IFERROR(VLOOKUP(I505,CAD_Q!$C$6:$E$109,3,FALSE)*F505,\"\")","v":""},null,null,"",1,0,1900,0,1,1900,"Nombre y el registro de entrada válida"]
[null,"",null,null,null,"",null,null,null,{"$f":"IF(I506=\"\",\"\",IF(VLOOKUP(I506,CAD_Q!$C$6:$D$105,2,FALSE)=0,\"\",VLOOKUP(I506,CAD_Q!$C$6:$D$105,2,FALSE)))","v":""},{"$f":"IFERROR(VLOOKUP(I506,CAD_Q!$C$6:$E$109,3,FALSE)*F506,\"\")","v":""},null,null,"",1,0,1900,0,1,1900,"Nombre y el registro de entrada válida"]
[null,"",null,null,null,"",null,null,null,{"$f":"IF(I507=\"\",\"\",IF(VLOOKUP(I507,CAD_Q!$C$6:$D$105,2,FALSE)=0,\"\",VLOOKUP(I507,CAD_Q!$C$6:$D$105,2,FALSE)))","v":""},{"$f":"IFERROR(VLOOKUP(I507,CAD_Q!$C$6:$E$109,3,FALSE)*F507,\"\")","v":""},null,null,"",1,0,1900,0,1,1900,"Nombre y el registro de entrada válida"]
[null,"",null,null,null,"",null,null,null,{"$f":"IF(I508=\"\",\"\",IF(VLOOKUP(I508,CAD_Q!$C$6:$D$105,2,FALSE)=0,\"\",VLOOKUP(I508,CAD_Q!$C$6:$D$105,2,FALSE)))","v":""},{"$f":"IFERROR(VLOOKUP(I508,CAD_Q!$C$6:$E$109,3,FALSE)*F508,\"\")","v":""},null,null,"",1,0,1900,0,1,1900,"Nombre y el registro de entrada válida"]
[null,"",null,null,null,"",null,null,null,{"$f":"IF(I509=\"\",\"\",IF(VLOOKUP(I509,CAD_Q!$C$6:$D$105,2,FALSE)=0,\"\",VLOOKUP(I509,CAD_Q!$C$6:$D$105,2,FALSE)))","v":""},{"$f":"IFERROR(VLOOKUP(I509,CAD_Q!$C$6:$E$109,3,FALSE)*F509,\"\")","v":""},null,null,"",1,0,1900,0,1,1900,"Nombre y el registro de entrada válida"]
[null,"",null,null,null,"",null,null,null,{"$f":"IF(I510=\"\",\"\",IF(VLOOKUP(I510,CAD_Q!$C$6:$D$105,2,FALSE)=0,\"\",VLOOKUP(I510,CAD_Q!$C$6:$D$105,2,FALSE)))","v":""},{"$f":"IFERROR(VLOOKUP(I510,CAD_Q!$C$6:$E$109,3,FALSE)*F510,\"\")","v":""},null,null,"",1,0,1900,0,1,1900,"Nombre y el registro de entrada válida"]
[null,"",null,null,null,"",null,null,null,{"$f":"IF(I511=\"\",\"\",IF(VLOOKUP(I511,CAD_Q!$C$6:$D$105,2,FALSE)=0,\"\",VLOOKUP(I511,CAD_Q!$C$6:$D$105,2,FALSE)))","v":""},{"$f":"IFERROR(VLOOKUP(I511,CAD_Q!$C$6:$E$109,3,FALSE)*F511,\"\")","v":""},null,null,"",1,0,1900,0,1,1900,"Nombre y el registro de entrada válida"]
[null,"",null,null,null,"",null,null,null,{"$f":"IF(I512=\"\",\"\",IF(VLOOKUP(I512,CAD_Q!$C$6:$D$105,2,FALSE)=0,\"\",VLOOKUP(I512,CAD_Q!$C$6:$D$105,2,FALSE)))","v":""},{"$f":"IFERROR(VLOOKUP(I512,CAD_Q!$C$6:$E$109,3,FALSE)*F512,\"\")","v":""},null,null,"",1,0,1900,0,1,1900,"Nombre y el registro de entrada válida"]
[null,"",null,null,null,"",null,null,null,{"$f":"IF(I513=\"\",\"\",IF(VLOOKUP(I513,CAD_Q!$C$6:$D$105,2,FALSE)=0,\"\",VLOOKUP(I513,CAD_Q!$C$6:$D$105,2,FALSE)))","v":""},{"$f":"IFERROR(VLOOKUP(I513,CAD_Q!$C$6:$E$109,3,FALSE)*F513,\"\")","v":""},null,null,"",1,0,1900,0,1,1900,"Nombre y el registro de entrada válida"]
[null,"",null,null,null,"",null,null,null,{"$f":"IF(I514=\"\",\"\",IF(VLOOKUP(I514,CAD_Q!$C$6:$D$105,2,FALSE)=0,\"\",VLOOKUP(I514,CAD_Q!$C$6:$D$105,2,FALSE)))","v":""},{"$f":"IFERROR(VLOOKUP(I514,CAD_Q!$C$6:$E$109,3,FALSE)*F514,\"\")","v":""},null,null,"",1,0,1900,0,1,1900,"Nombre y el registro de entrada válida"]
[null,"",null,null,null,"",null,null,null,{"$f":"IF(I515=\"\",\"\",IF(VLOOKUP(I515,CAD_Q!$C$6:$D$105,2,FALSE)=0,\"\",VLOOKUP(I515,CAD_Q!$C$6:$D$105,2,FALSE)))","v":""},{"$f":"IFERROR(VLOOKUP(I515,CAD_Q!$C$6:$E$109,3,FALSE)*F515,\"\")","v":""},null,null,"",1,0,1900,0,1,1900,"Nombre y el registro de entrada válida"]
[null,"",null,null,null,"",null,null,null,{"$f":"IF(I516=\"\",\"\",IF(VLOOKUP(I516,CAD_Q!$C$6:$D$105,2,FALSE)=0,\"\",VLOOKUP(I516,CAD_Q!$C$6:$D$105,2,FALSE)))","v":""},{"$f":"IFERROR(VLOOKUP(I516,CAD_Q!$C$6:$E$109,3,FALSE)*F516,\"\")","v":""},null,null,"",1,0,1900,0,1,1900,"Nombre y el registro de entrada válida"]
[null,"",null,null,null,"",null,null,null,{"$f":"IF(I517=\"\",\"\",IF(VLOOKUP(I517,CAD_Q!$C$6:$D$105,2,FALSE)=0,\"\",VLOOKUP(I517,CAD_Q!$C$6:$D$105,2,FALSE)))","v":""},{"$f":"IFERROR(VLOOKUP(I517,CAD_Q!$C$6:$E$109,3,FALSE)*F517,\"\")","v":""},null,null,"",1,0,1900,0,1,1900,"Nombre y el registro de entrada válida"]
[null,"",null,null,null,"",null,null,null,{"$f":"IF(I518=\"\",\"\",IF(VLOOKUP(I518,CAD_Q!$C$6:$D$105,2,FALSE)=0,\"\",VLOOKUP(I518,CAD_Q!$C$6:$D$105,2,FALSE)))","v":""},{"$f":"IFERROR(VLOOKUP(I518,CAD_Q!$C$6:$E$109,3,FALSE)*F518,\"\")","v":""},null,null,"",1,0,1900,0,1,1900,"Nombre y el registro de entrada válida"]
[null,{"$f":"CONCATENATE(C519,D519)","v":""},null,null,null,"",null,null,null,{"$f":"IF(I519=\"\",\"\",IF(VLOOKUP(I519,CAD_Q!$C$6:$D$105,2,FALSE)=0,\"\",VLOOKUP(I519,CAD_Q!$C$6:$D$105,2,FALSE)))","v":""},{"$f":"IFERROR(VLOOKUP(I519,CAD_Q!$C$6:$E$109,3,FALSE)*F519,\"\")","v":""},null,null,{"$f":"IFERROR(K519-L519+M519,\"\")","v":""},1,0,1900,0,1,1900,"Nombre y el registro de entrada válida"]
[null,"",null,null,null,"",null,null,null,{"$f":"IF(I520=\"\",\"\",IF(VLOOKUP(I520,CAD_Q!$C$6:$D$105,2,FALSE)=0,\"\",VLOOKUP(I520,CAD_Q!$C$6:$D$105,2,FALSE)))","v":""},{"$f":"IFERROR(VLOOKUP(I520,CAD_Q!$C$6:$E$109,3,FALSE)*F520,\"\")","v":""},null,null,"",1,0,1900,0,1,1900,"Nombre y el registro de entrada válida"]
[null,"",null,null,null,"",null,null,null,{"$f":"IF(I521=\"\",\"\",IF(VLOOKUP(I521,CAD_Q!$C$6:$D$105,2,FALSE)=0,\"\",VLOOKUP(I521,CAD_Q!$C$6:$D$105,2,FALSE)))","v":""},{"$f":"IFERROR(VLOOKUP(I521,CAD_Q!$C$6:$E$109,3,FALSE)*F521,\"\")","v":""},null,null,"",1,0,1900,0,1,1900,"Nombre y el registro de entrada válida"]
[null,"",null,null,null,"",null,null,null,{"$f":"IF(I522=\"\",\"\",IF(VLOOKUP(I522,CAD_Q!$C$6:$D$105,2,FALSE)=0,\"\",VLOOKUP(I522,CAD_Q!$C$6:$D$105,2,FALSE)))","v":""},{"$f":"IFERROR(VLOOKUP(I522,CAD_Q!$C$6:$E$109,3,FALSE)*F522,\"\")","v":""},null,null,"",{"$f":"MONTH(D522)","v":1},{"$f":"DAY(D522)","v":0},{"$f":"YEAR(D522)","v":1900},{"$f":"DAY(E522)","v":0},{"$f":"MONTH(E522)","v":1},{"$f":"YEAR(E522)","v":1900},"Nombre y el registro de entrada válida"]
[null,"",null,null,null,"",null,null,null,{"$f":"IF(I523=\"\",\"\",IF(VLOOKUP(I523,CAD_Q!$C$6:$D$105,2,FALSE)=0,\"\",VLOOKUP(I523,CAD_Q!$C$6:$D$105,2,FALSE)))","v":""},{"$f":"IFERROR(VLOOKUP(I523,CAD_Q!$C$6:$E$109,3,FALSE)*F523,\"\")","v":""},null,null,"",1,0,1900,0,1,1900,"Nombre y el registro de entrada válida"]
[null,"",null,null,null,"",null,null,null,{"$f":"IF(I524=\"\",\"\",IF(VLOOKUP(I524,CAD_Q!$C$6:$D$105,2,FALSE)=0,\"\",VLOOKUP(I524,CAD_Q!$C$6:$D$105,2,FALSE)))","v":""},{"$f":"IFERROR(VLOOKUP(I524,CAD_Q!$C$6:$E$109,3,FALSE)*F524,\"\")","v":""},null,null,"",1,0,1900,0,1,1900,"Nombre y el registro de entrada válida"]
[null,"",null,null,null,"",null,null,null,{"$f":"IF(I525=\"\",\"\",IF(VLOOKUP(I525,CAD_Q!$C$6:$D$105,2,FALSE)=0,\"\",VLOOKUP(I525,CAD_Q!$C$6:$D$105,2,FALSE)))","v":""},{"$f":"IFERROR(VLOOKUP(I525,CAD_Q!$C$6:$E$109,3,FALSE)*F525,\"\")","v":""},null,null,"",1,0,1900,0,1,1900,"Nombre y el registro de entrada válida"]
[null,"",null,null,null,"",null,null,null,{"$f":"IF(I526=\"\",\"\",IF(VLOOKUP(I526,CAD_Q!$C$6:$D$105,2,FALSE)=0,\"\",VLOOKUP(I526,CAD_Q!$C$6:$D$105,2,FALSE)))","v":""},{"$f":"IFERROR(VLOOKUP(I526,CAD_Q!$C$6:$E$109,3,FALSE)*F526,\"\")","v":""},null,null,"",1,0,1900,0,1,1900,"Nombre y el registro de entrada válida"]
[null,"",null,null,null,"",null,null,null,{"$f":"IF(I527=\"\",\"\",IF(VLOOKUP(I527,CAD_Q!$C$6:$D$105,2,FALSE)=0,\"\",VLOOKUP(I527,CAD_Q!$C$6:$D$105,2,FALSE)))","v":""},{"$f":"IFERROR(VLOOKUP(I527,CAD_Q!$C$6:$E$109,3,FALSE)*F527,\"\")","v":""},null,null,"",1,0,1900,0,1,1900,"Nombre y el registro de entrada válida"]
[null,"",null,null,null,"",null,null,null,{"$f":"IF(I528=\"\",\"\",IF(VLOOKUP(I528,CAD_Q!$C$6:$D$105,2,FALSE)=0,\"\",VLOOKUP(I528,CAD_Q!$C$6:$D$105,2,FALSE)))","v":""},{"$f":"IFERROR(VLOOKUP(I528,CAD_Q!$C$6:$E$109,3,FALSE)*F528,\"\")","v":""},null,null,"",1,0,1900,0,1,1900,"Nombre y el registro de entrada válida"]
[null,"",null,null,null,"",null,null,null,{"$f":"IF(I529=\"\",\"\",IF(VLOOKUP(I529,CAD_Q!$C$6:$D$105,2,FALSE)=0,\"\",VLOOKUP(I529,CAD_Q!$C$6:$D$105,2,FALSE)))","v":""},{"$f":"IFERROR(VLOOKUP(I529,CAD_Q!$C$6:$E$109,3,FALSE)*F529,\"\")","v":""},null,null,"",1,0,1900,0,1,1900,"Nombre y el registro de entrada válida"]
[null,"",null,null,null,"",null,null,null,{"$f":"IF(I530=\"\",\"\",IF(VLOOKUP(I530,CAD_Q!$C$6:$D$105,2,FALSE)=0,\"\",VLOOKUP(I530,CAD_Q!$C$6:$D$105,2,FALSE)))","v":""},{"$f":"IFERROR(VLOOKUP(I530,CAD_Q!$C$6:$E$109,3,FALSE)*F530,\"\")","v":""},null,null,"",1,0,1900,0,1,1900,"Nombre y el registro de entrada válida"]
[null,"",null,null,null,"",null,null,null,{"$f":"IF(I531=\"\",\"\",IF(VLOOKUP(I531,CAD_Q!$C$6:$D$105,2,FALSE)=0,\"\",VLOOKUP(I531,CAD_Q!$C$6:$D$105,2,FALSE)))","v":""},{"$f":"IFERROR(VLOOKUP(I531,CAD_Q!$C$6:$E$109,3,FALSE)*F531,\"\")","v":""},null,null,"",1,0,1900,0,1,1900,"Nombre y el registro de entrada válida"]
[null,"",null,null,null,"",null,null,null,{"$f":"IF(I532=\"\",\"\",IF(VLOOKUP(I532,CAD_Q!$C$6:$D$105,2,FALSE)=0,\"\",VLOOKUP(I532,CAD_Q!$C$6:$D$105,2,FALSE)))","v":""},{"$f":"IFERROR(VLOOKUP(I532,CAD_Q!$C$6:$E$109,3,FALSE)*F532,\"\")","v":""},null,null,"",1,0,1900,0,1,1900,"Nombre y el registro de entrada válida"]
[null,"",null,null,null,"",null,null,null,{"$f":"IF(I533=\"\",\"\",IF(VLOOKUP(I533,CAD_Q!$C$6:$D$105,2,FALSE)=0,\"\",VLOOKUP(I533,CAD_Q!$C$6:$D$105,2,FALSE)))","v":""},{"$f":"IFERROR(VLOOKUP(I533,CAD_Q!$C$6:$E$109,3,FALSE)*F533,\"\")","v":""},null,null,"",1,0,1900,0,1,1900,"Nombre y el registro de entrada válida"]
[null,"",null,null,null,"",null,null,null,{"$f":"IF(I534=\"\",\"\",IF(VLOOKUP(I534,CAD_Q!$C$6:$D$105,2,FALSE)=0,\"\",VLOOKUP(I534,CAD_Q!$C$6:$D$105,2,FALSE)))","v":""},{"$f":"IFERROR(VLOOKUP(I534,CAD_Q!$C$6:$E$109,3,FALSE)*F534,\"\")","v":""},null,null,"",1,0,1900,0,1,1900,"Nombre y el registro de entrada válida"]
[null,"",null,null,null,"",null,null,null,{"$f":"IF(I535=\"\",\"\",IF(VLOOKUP(I535,CAD_Q!$C$6:$D$105,2,FALSE)=0,\"\",VLOOKUP(I535,CAD_Q!$C$6:$D$105,2,FALSE)))","v":""},{"$f":"IFERROR(VLOOKUP(I535,CAD_Q!$C$6:$E$109,3,FALSE)*F535,\"\")","v":""},null,null,"",1,0,1900,0,1,1900,"Nombre y el registro de entrada válida"]
[null,"",null,null,null,"",null,null,null,{"$f":"IF(I536=\"\",\"\",IF(VLOOKUP(I536,CAD_Q!$C$6:$D$105,2,FALSE)=0,\"\",VLOOKUP(I536,CAD_Q!$C$6:$D$105,2,FALSE)))","v":""},{"$f":"IFERROR(VLOOKUP(I536,CAD_Q!$C$6:$E$109,3,FALSE)*F536,\"\")","v":""},null,null,"",1,0,1900,0,1,1900,"Nombre y el registro de entrada válida"]
[null,"",null,null,null,"",null,null,null,{"$f":"IF(I537=\"\",\"\",IF(VLOOKUP(I537,CAD_Q!$C$6:$D$105,2,FALSE)=0,\"\",VLOOKUP(I537,CAD_Q!$C$6:$D$105,2,FALSE)))","v":""},{"$f":"IFERROR(VLOOKUP(I537,CAD_Q!$C$6:$E$109,3,FALSE)*F537,\"\")","v":""},null,null,"",1,0,1900,0,1,1900,"Nombre y el registro de entrada válida"]
[null,"",null,null,null,"",null,null,null,{"$f":"IF(I538=\"\",\"\",IF(VLOOKUP(I538,CAD_Q!$C$6:$D$105,2,FALSE)=0,\"\",VLOOKUP(I538,CAD_Q!$C$6:$D$105,2,FALSE)))","v":""},{"$f":"IFERROR(VLOOKUP(I538,CAD_Q!$C$6:$E$109,3,FALSE)*F538,\"\")","v":""},null,null,"",1,0,1900,0,1,1900,"Nombre y el registro de entrada válida"]
[null,"",null,null,null,"",null,null,null,{"$f":"IF(I539=\"\",\"\",IF(VLOOKUP(I539,CAD_Q!$C$6:$D$105,2,FALSE)=0,\"\",VLOOKUP(I539,CAD_Q!$C$6:$D$105,2,FALSE)))","v":""},{"$f":"IFERROR(VLOOKUP(I539,CAD_Q!$C$6:$E$109,3,FALSE)*F539,\"\")","v":""},null,null,"",1,0,1900,0,1,1900,"Nombre y el registro de entrada válida"]
[null,"",null,null,null,"",null,null,null,{"$f":"IF(I540=\"\",\"\",IF(VLOOKUP(I540,CAD_Q!$C$6:$D$105,2,FALSE)=0,\"\",VLOOKUP(I540,CAD_Q!$C$6:$D$105,2,FALSE)))","v":""},{"$f":"IFERROR(VLOOKUP(I540,CAD_Q!$C$6:$E$109,3,FALSE)*F540,\"\")","v":""},null,null,"",1,0,1900,0,1,1900,"Nombre y el registro de entrada válida"]
[null,"",null,null,null,"",null,null,null,{"$f":"IF(I541=\"\",\"\",IF(VLOOKUP(I541,CAD_Q!$C$6:$D$105,2,FALSE)=0,\"\",VLOOKUP(I541,CAD_Q!$C$6:$D$105,2,FALSE)))","v":""},{"$f":"IFERROR(VLOOKUP(I541,CAD_Q!$C$6:$E$109,3,FALSE)*F541,\"\")","v":""},null,null,"",1,0,1900,0,1,1900,"Nombre y el registro de entrada válida"]
[null,"",null,null,null,"",null,null,null,{"$f":"IF(I542=\"\",\"\",IF(VLOOKUP(I542,CAD_Q!$C$6:$D$105,2,FALSE)=0,\"\",VLOOKUP(I542,CAD_Q!$C$6:$D$105,2,FALSE)))","v":""},{"$f":"IFERROR(VLOOKUP(I542,CAD_Q!$C$6:$E$109,3,FALSE)*F542,\"\")","v":""},null,null,"",1,0,1900,0,1,1900,"Nombre y el registro de entrada válida"]
[null,"",null,null,null,"",null,null,null,{"$f":"IF(I543=\"\",\"\",IF(VLOOKUP(I543,CAD_Q!$C$6:$D$105,2,FALSE)=0,\"\",VLOOKUP(I543,CAD_Q!$C$6:$D$105,2,FALSE)))","v":""},{"$f":"IFERROR(VLOOKUP(I543,CAD_Q!$C$6:$E$109,3,FALSE)*F543,\"\")","v":""},null,null,"",1,0,1900,0,1,1900,"Nombre y el registro de entrada válida"]
[null,"",null,null,null,"",null,null,null,{"$f":"IF(I544=\"\",\"\",IF(VLOOKUP(I544,CAD_Q!$C$6:$D$105,2,FALSE)=0,\"\",VLOOKUP(I544,CAD_Q!$C$6:$D$105,2,FALSE)))","v":""},{"$f":"IFERROR(VLOOKUP(I544,CAD_Q!$C$6:$E$109,3,FALSE)*F544,\"\")","v":""},null,null,"",1,0,1900,0,1,1900,"Nombre y el registro de entrada válida"]
[null,"",null,null,null,"",null,null,null,{"$f":"IF(I545=\"\",\"\",IF(VLOOKUP(I545,CAD_Q!$C$6:$D$105,2,FALSE)=0,\"\",VLOOKUP(I545,CAD_Q!$C$6:$D$105,2,FALSE)))","v":""},{"$f":"IFERROR(VLOOKUP(I545,CAD_Q!$C$6:$E$109,3,FALSE)*F545,\"\")","v":""},null,null,"",1,0,1900,0,1,1900,"Nombre y el registro de entrada válida"]
[null,"",null,null,null,"",null,null,null,{"$f":"IF(I546=\"\",\"\",IF(VLOOKUP(I546,CAD_Q!$C$6:$D$105,2,FALSE)=0,\"\",VLOOKUP(I546,CAD_Q!$C$6:$D$105,2,FALSE)))","v":""},{"$f":"IFERROR(VLOOKUP(I546,CAD_Q!$C$6:$E$109,3,FALSE)*F546,\"\")","v":""},null,null,"",1,0,1900,0,1,1900,"Nombre y el registro de entrada válida"]
[null,"",null,null,null,"",null,null,null,{"$f":"IF(I547=\"\",\"\",IF(VLOOKUP(I547,CAD_Q!$C$6:$D$105,2,FALSE)=0,\"\",VLOOKUP(I547,CAD_Q!$C$6:$D$105,2,FALSE)))","v":""},{"$f":"IFERROR(VLOOKUP(I547,CAD_Q!$C$6:$E$109,3,FALSE)*F547,\"\")","v":""},null,null,"",1,0,1900,0,1,1900,"Nombre y el registro de entrada válida"]
[null,"",null,null,null,{"$f":"IF(OR(D548=\"\",E548=\"\"),\"\",E548-D548)","v":""},null,null,null,{"$f":"IF(I548=\"\",\"\",IF(VLOOKUP(I548,CAD_Q!$C$6:$D$105,2,FALSE)=0,\"\",VLOOKUP(I548,CAD_Q!$C$6:$D$105,2,FALSE)))","v":""},{"$f":"IFERROR(VLOOKUP(I548,CAD_Q!$C$6:$E$109,3,FALSE)*F548,\"\")","v":""},null,null,"",1,0,1900,0,1,1900,"Nombre y el registro de entrada válida"]
[null,"",null,null,null,"",null,null,null,{"$f":"IF(I549=\"\",\"\",IF(VLOOKUP(I549,CAD_Q!$C$6:$D$105,2,FALSE)=0,\"\",VLOOKUP(I549,CAD_Q!$C$6:$D$105,2,FALSE)))","v":""},{"$f":"IFERROR(VLOOKUP(I549,CAD_Q!$C$6:$E$109,3,FALSE)*F549,\"\")","v":""},null,null,"",1,0,1900,0,1,1900,"Nombre y el registro de entrada válida"]
[null,"",null,null,null,"",null,null,null,{"$f":"IF(I550=\"\",\"\",IF(VLOOKUP(I550,CAD_Q!$C$6:$D$105,2,FALSE)=0,\"\",VLOOKUP(I550,CAD_Q!$C$6:$D$105,2,FALSE)))","v":""},{"$f":"IFERROR(VLOOKUP(I550,CAD_Q!$C$6:$E$109,3,FALSE)*F550,\"\")","v":""},null,null,"",1,0,1900,0,1,1900,"Nombre y el registro de entrada válida"]
[null,"",null,null,null,"",null,null,null,{"$f":"IF(I551=\"\",\"\",IF(VLOOKUP(I551,CAD_Q!$C$6:$D$105,2,FALSE)=0,\"\",VLOOKUP(I551,CAD_Q!$C$6:$D$105,2,FALSE)))","v":""},{"$f":"IFERROR(VLOOKUP(I551,CAD_Q!$C$6:$E$109,3,FALSE)*F551,\"\")","v":""},null,null,"",1,0,1900,0,1,1900,"Nombre y el registro de entrada válida"]
[null,"",null,null,null,"",null,null,null,{"$f":"IF(I552=\"\",\"\",IF(VLOOKUP(I552,CAD_Q!$C$6:$D$105,2,FALSE)=0,\"\",VLOOKUP(I552,CAD_Q!$C$6:$D$105,2,FALSE)))","v":""},{"$f":"IFERROR(VLOOKUP(I552,CAD_Q!$C$6:$E$109,3,FALSE)*F552,\"\")","v":""},null,null,"",1,0,1900,0,1,1900,"Nombre y el registro de entrada válida"]
[null,"",null,null,null,"",null,null,null,{"$f":"IF(I553=\"\",\"\",IF(VLOOKUP(I553,CAD_Q!$C$6:$D$105,2,FALSE)=0,\"\",VLOOKUP(I553,CAD_Q!$C$6:$D$105,2,FALSE)))","v":""},{"$f":"IFERROR(VLOOKUP(I553,CAD_Q!$C$6:$E$109,3,FALSE)*F553,\"\")","v":""},null,null,"",1,0,1900,0,1,1900,"Nombre y el registro de entrada válida"]
[null,"",null,null,null,"",null,null,null,{"$f":"IF(I554=\"\",\"\",IF(VLOOKUP(I554,CAD_Q!$C$6:$D$105,2,FALSE)=0,\"\",VLOOKUP(I554,CAD_Q!$C$6:$D$105,2,FALSE)))","v":""},{"$f":"IFERROR(VLOOKUP(I554,CAD_Q!$C$6:$E$109,3,FALSE)*F554,\"\")","v":""},null,null,"",1,0,1900,0,1,1900,"Nombre y el registro de entrada válida"]
[null,"",null,null,null,"",null,null,null,{"$f":"IF(I555=\"\",\"\",IF(VLOOKUP(I555,CAD_Q!$C$6:$D$105,2,FALSE)=0,\"\",VLOOKUP(I555,CAD_Q!$C$6:$D$105,2,FALSE)))","v":""},{"$f":"IFERROR(VLOOKUP(I555,CAD_Q!$C$6:$E$109,3,FALSE)*F555,\"\")","v":""},null,null,"",1,0,1900,0,1,1900,"Nombre y el registro de entrada válida"]
[null,"",null,null,null,"",null,null,null,{"$f":"IF(I556=\"\",\"\",IF(VLOOKUP(I556,CAD_Q!$C$6:$D$105,2,FALSE)=0,\"\",VLOOKUP(I556,CAD_Q!$C$6:$D$105,2,FALSE)))","v":""},{"$f":"IFERROR(VLOOKUP(I556,CAD_Q!$C$6:$E$109,3,FALSE)*F556,\"\")","v":""},null,null,"",1,0,1900,0,1,1900,"Nombre y el registro de entrada válida"]
[null,"",null,null,null,"",null,null,null,{"$f":"IF(I557=\"\",\"\",IF(VLOOKUP(I557,CAD_Q!$C$6:$D$105,2,FALSE)=0,\"\",VLOOKUP(I557,CAD_Q!$C$6:$D$105,2,FALSE)))","v":""},{"$f":"IFERROR(VLOOKUP(I557,CAD_Q!$C$6:$E$109,3,FALSE)*F557,\"\")","v":""},null,null,"",1,0,1900,0,1,1900,"Nombre y el registro de entrada válida"]
[null,"",null,null,null,"",null,null,null,{"$f":"IF(I558=\"\",\"\",IF(VLOOKUP(I558,CAD_Q!$C$6:$D$105,2,FALSE)=0,\"\",VLOOKUP(I558,CAD_Q!$C$6:$D$105,2,FALSE)))","v":""},{"$f":"IFERROR(VLOOKUP(I558,CAD_Q!$C$6:$E$109,3,FALSE)*F558,\"\")","v":""},null,null,"",1,0,1900,0,1,1900,"Nombre y el registro de entrada válida"]
[null,"",null,null,null,"",null,null,null,{"$f":"IF(I559=\"\",\"\",IF(VLOOKUP(I559,CAD_Q!$C$6:$D$105,2,FALSE)=0,\"\",VLOOKUP(I559,CAD_Q!$C$6:$D$105,2,FALSE)))","v":""},{"$f":"IFERROR(VLOOKUP(I559,CAD_Q!$C$6:$E$109,3,FALSE)*F559,\"\")","v":""},null,null,"",1,0,1900,0,1,1900,"Nombre y el registro de entrada válida"]
[null,"",null,null,null,"",null,null,null,{"$f":"IF(I560=\"\",\"\",IF(VLOOKUP(I560,CAD_Q!$C$6:$D$105,2,FALSE)=0,\"\",VLOOKUP(I560,CAD_Q!$C$6:$D$105,2,FALSE)))","v":""},{"$f":"IFERROR(VLOOKUP(I560,CAD_Q!$C$6:$E$109,3,FALSE)*F560,\"\")","v":""},null,null,"",1,0,1900,0,1,1900,"Nombre y el registro de entrada válida"]
[null,"",null,null,null,"",null,null,null,{"$f":"IF(I561=\"\",\"\",IF(VLOOKUP(I561,CAD_Q!$C$6:$D$105,2,FALSE)=0,\"\",VLOOKUP(I561,CAD_Q!$C$6:$D$105,2,FALSE)))","v":""},{"$f":"IFERROR(VLOOKUP(I561,CAD_Q!$C$6:$E$109,3,FALSE)*F561,\"\")","v":""},null,null,"",1,0,1900,0,1,1900,"Nombre y el registro de entrada válida"]
[null,"",null,null,null,"",null,null,null,{"$f":"IF(I562=\"\",\"\",IF(VLOOKUP(I562,CAD_Q!$C$6:$D$105,2,FALSE)=0,\"\",VLOOKUP(I562,CAD_Q!$C$6:$D$105,2,FALSE)))","v":""},{"$f":"IFERROR(VLOOKUP(I562,CAD_Q!$C$6:$E$109,3,FALSE)*F562,\"\")","v":""},null,null,"",1,0,1900,0,1,1900,"Nombre y el registro de entrada válida"]
[null,"",null,null,null,"",null,null,null,{"$f":"IF(I563=\"\",\"\",IF(VLOOKUP(I563,CAD_Q!$C$6:$D$105,2,FALSE)=0,\"\",VLOOKUP(I563,CAD_Q!$C$6:$D$105,2,FALSE)))","v":""},{"$f":"IFERROR(VLOOKUP(I563,CAD_Q!$C$6:$E$109,3,FALSE)*F563,\"\")","v":""},null,null,"",1,0,1900,0,1,1900,"Nombre y el registro de entrada válida"]
[null,"",null,null,null,"",null,null,null,{"$f":"IF(I564=\"\",\"\",IF(VLOOKUP(I564,CAD_Q!$C$6:$D$105,2,FALSE)=0,\"\",VLOOKUP(I564,CAD_Q!$C$6:$D$105,2,FALSE)))","v":""},{"$f":"IFERROR(VLOOKUP(I564,CAD_Q!$C$6:$E$109,3,FALSE)*F564,\"\")","v":""},null,null,"",1,0,1900,0,1,1900,"Nombre y el registro de entrada válida"]
[null,"",null,null,null,"",null,null,null,{"$f":"IF(I565=\"\",\"\",IF(VLOOKUP(I565,CAD_Q!$C$6:$D$105,2,FALSE)=0,\"\",VLOOKUP(I565,CAD_Q!$C$6:$D$105,2,FALSE)))","v":""},{"$f":"IFERROR(VLOOKUP(I565,CAD_Q!$C$6:$E$109,3,FALSE)*F565,\"\")","v":""},null,null,"",1,0,1900,0,1,1900,"Nombre y el registro de entrada válida"]
[null,"",null,null,null,"",null,null,null,{"$f":"IF(I566=\"\",\"\",IF(VLOOKUP(I566,CAD_Q!$C$6:$D$105,2,FALSE)=0,\"\",VLOOKUP(I566,CAD_Q!$C$6:$D$105,2,FALSE)))","v":""},{"$f":"IFERROR(VLOOKUP(I566,CAD_Q!$C$6:$E$109,3,FALSE)*F566,\"\")","v":""},null,null,"",1,0,1900,0,1,1900,"Nombre y el registro de entrada válida"]
[null,"",null,null,null,"",null,null,null,{"$f":"IF(I567=\"\",\"\",IF(VLOOKUP(I567,CAD_Q!$C$6:$D$105,2,FALSE)=0,\"\",VLOOKUP(I567,CAD_Q!$C$6:$D$105,2,FALSE)))","v":""},{"$f":"IFERROR(VLOOKUP(I567,CAD_Q!$C$6:$E$109,3,FALSE)*F567,\"\")","v":""},null,null,"",1,0,1900,0,1,1900,"Nombre y el registro de entrada válida"]
[null,"",null,null,null,"",null,null,null,{"$f":"IF(I568=\"\",\"\",IF(VLOOKUP(I568,CAD_Q!$C$6:$D$105,2,FALSE)=0,\"\",VLOOKUP(I568,CAD_Q!$C$6:$D$105,2,FALSE)))","v":""},{"$f":"IFERROR(VLOOKUP(I568,CAD_Q!$C$6:$E$109,3,FALSE)*F568,\"\")","v":""},null,null,"",1,0,1900,0,1,1900,"Nombre y el registro de entrada válida"]
[null,"",null,null,null,"",null,null,null,{"$f":"IF(I569=\"\",\"\",IF(VLOOKUP(I569,CAD_Q!$C$6:$D$105,2,FALSE)=0,\"\",VLOOKUP(I569,CAD_Q!$C$6:$D$105,2,FALSE)))","v":""},{"$f":"IFERROR(VLOOKUP(I569,CAD_Q!$C$6:$E$109,3,FALSE)*F569,\"\")","v":""},null,null,"",1,0,1900,0,1,1900,"Nombre y el registro de entrada válida"]
[null,"",null,null,null,"",null,null,null,{"$f":"IF(I570=\"\",\"\",IF(VLOOKUP(I570,CAD_Q!$C$6:$D$105,2,FALSE)=0,\"\",VLOOKUP(I570,CAD_Q!$C$6:$D$105,2,FALSE)))","v":""},{"$f":"IFERROR(VLOOKUP(I570,CAD_Q!$C$6:$E$109,3,FALSE)*F570,\"\")","v":""},null,null,"",1,0,1900,0,1,1900,"Nombre y el registro de entrada válida"]
[null,"",null,null,null,"",null,null,null,{"$f":"IF(I571=\"\",\"\",IF(VLOOKUP(I571,CAD_Q!$C$6:$D$105,2,FALSE)=0,\"\",VLOOKUP(I571,CAD_Q!$C$6:$D$105,2,FALSE)))","v":""},{"$f":"IFERROR(VLOOKUP(I571,CAD_Q!$C$6:$E$109,3,FALSE)*F571,\"\")","v":""},null,null,"",1,0,1900,0,1,1900,"Nombre y el registro de entrada válida"]
[null,"",null,null,null,"",null,null,null,{"$f":"IF(I572=\"\",\"\",IF(VLOOKUP(I572,CAD_Q!$C$6:$D$105,2,FALSE)=0,\"\",VLOOKUP(I572,CAD_Q!$C$6:$D$105,2,FALSE)))","v":""},{"$f":"IFERROR(VLOOKUP(I572,CAD_Q!$C$6:$E$109,3,FALSE)*F572,\"\")","v":""},null,null,"",1,0,1900,0,1,1900,"Nombre y el registro de entrada válida"]
[null,"",null,null,null,"",null,null,null,{"$f":"IF(I573=\"\",\"\",IF(VLOOKUP(I573,CAD_Q!$C$6:$D$105,2,FALSE)=0,\"\",VLOOKUP(I573,CAD_Q!$C$6:$D$105,2,FALSE)))","v":""},{"$f":"IFERROR(VLOOKUP(I573,CAD_Q!$C$6:$E$109,3,FALSE)*F573,\"\")","v":""},null,null,"",1,0,1900,0,1,1900,"Nombre y el registro de entrada válida"]
[null,"",null,null,null,"",null,null,null,{"$f":"IF(I574=\"\",\"\",IF(VLOOKUP(I574,CAD_Q!$C$6:$D$105,2,FALSE)=0,\"\",VLOOKUP(I574,CAD_Q!$C$6:$D$105,2,FALSE)))","v":""},{"$f":"IFERROR(VLOOKUP(I574,CAD_Q!$C$6:$E$109,3,FALSE)*F574,\"\")","v":""},null,null,"",1,0,1900,0,1,1900,"Nombre y el registro de entrada válida"]
[null,"",null,null,null,"",null,null,null,{"$f":"IF(I575=\"\",\"\",IF(VLOOKUP(I575,CAD_Q!$C$6:$D$105,2,FALSE)=0,\"\",VLOOKUP(I575,CAD_Q!$C$6:$D$105,2,FALSE)))","v":""},{"$f":"IFERROR(VLOOKUP(I575,CAD_Q!$C$6:$E$109,3,FALSE)*F575,\"\")","v":""},null,null,"",1,0,1900,0,1,1900,"Nombre y el registro de entrada válida"]
[null,"",null,null,null,"",null,null,null,{"$f":"IF(I576=\"\",\"\",IF(VLOOKUP(I576,CAD_Q!$C$6:$D$105,2,FALSE)=0,\"\",VLOOKUP(I576,CAD_Q!$C$6:$D$105,2,FALSE)))","v":""},{"$f":"IFERROR(VLOOKUP(I576,CAD_Q!$C$6:$E$109,3,FALSE)*F576,\"\")","v":""},null,null,"",1,0,1900,0,1,1900,"Nombre y el registro de entrada válida"]
[null,"",null,null,null,"",null,null,null,{"$f":"IF(I577=\"\",\"\",IF(VLOOKUP(I577,CAD_Q!$C$6:$D$105,2,FALSE)=0,\"\",VLOOKUP(I577,CAD_Q!$C$6:$D$105,2,FALSE)))","v":""},{"$f":"IFERROR(VLOOKUP(I577,CAD_Q!$C$6:$E$109,3,FALSE)*F577,\"\")","v":""},null,null,"",1,0,1900,0,1,1900,"Nombre y el registro de entrada válida"]
[null,"",null,null,null,"",null,null,null,{"$f":"IF(I578=\"\",\"\",IF(VLOOKUP(I578,CAD_Q!$C$6:$D$105,2,FALSE)=0,\"\",VLOOKUP(I578,CAD_Q!$C$6:$D$105,2,FALSE)))","v":""},{"$f":"IFERROR(VLOOKUP(I578,CAD_Q!$C$6:$E$109,3,FALSE)*F578,\"\")","v":""},null,null,"",1,0,1900,0,1,1900,"Nombre y el registro de entrada válida"]
[null,"",null,null,null,"",null,null,null,{"$f":"IF(I579=\"\",\"\",IF(VLOOKUP(I579,CAD_Q!$C$6:$D$105,2,FALSE)=0,\"\",VLOOKUP(I579,CAD_Q!$C$6:$D$105,2,FALSE)))","v":""},{"$f":"IFERROR(VLOOKUP(I579,CAD_Q!$C$6:$E$109,3,FALSE)*F579,\"\")","v":""},null,null,"",1,0,1900,0,1,1900,"Nombre y el registro de entrada válida"]
[null,"",null,null,null,"",null,null,null,{"$f":"IF(I580=\"\",\"\",IF(VLOOKUP(I580,CAD_Q!$C$6:$D$105,2,FALSE)=0,\"\",VLOOKUP(I580,CAD_Q!$C$6:$D$105,2,FALSE)))","v":""},{"$f":"IFERROR(VLOOKUP(I580,CAD_Q!$C$6:$E$109,3,FALSE)*F580,\"\")","v":""},null,null,"",1,0,1900,0,1,1900,"Nombre y el registro de entrada válida"]
[null,"",null,null,null,"",null,null,null,{"$f":"IF(I581=\"\",\"\",IF(VLOOKUP(I581,CAD_Q!$C$6:$D$105,2,FALSE)=0,\"\",VLOOKUP(I581,CAD_Q!$C$6:$D$105,2,FALSE)))","v":""},{"$f":"IFERROR(VLOOKUP(I581,CAD_Q!$C$6:$E$109,3,FALSE)*F581,\"\")","v":""},null,null,"",1,0,1900,0,1,1900,"Nombre y el registro de entrada válida"]
[null,"",null,null,null,"",null,null,null,{"$f":"IF(I582=\"\",\"\",IF(VLOOKUP(I582,CAD_Q!$C$6:$D$105,2,FALSE)=0,\"\",VLOOKUP(I582,CAD_Q!$C$6:$D$105,2,FALSE)))","v":""},{"$f":"IFERROR(VLOOKUP(I582,CAD_Q!$C$6:$E$109,3,FALSE)*F582,\"\")","v":""},null,null,"",1,0,1900,0,1,1900,"Nombre y el registro de entrada válida"]
[null,{"$f":"CONCATENATE(C583,D583)","v":""},null,null,null,"",null,null,null,{"$f":"IF(I583=\"\",\"\",IF(VLOOKUP(I583,CAD_Q!$C$6:$D$105,2,FALSE)=0,\"\",VLOOKUP(I583,CAD_Q!$C$6:$D$105,2,FALSE)))","v":""},{"$f":"IFERROR(VLOOKUP(I583,CAD_Q!$C$6:$E$109,3,FALSE)*F583,\"\")","v":""},null,null,{"$f":"IFERROR(K583-L583+M583,\"\")","v":""},1,0,1900,0,1,1900,"Nombre y el registro de entrada válida"]
[null,"",null,null,null,"",null,null,null,{"$f":"IF(I584=\"\",\"\",IF(VLOOKUP(I584,CAD_Q!$C$6:$D$105,2,FALSE)=0,\"\",VLOOKUP(I584,CAD_Q!$C$6:$D$105,2,FALSE)))","v":""},{"$f":"IFERROR(VLOOKUP(I584,CAD_Q!$C$6:$E$109,3,FALSE)*F584,\"\")","v":""},null,null,"",1,0,1900,0,1,1900,"Nombre y el registro de entrada válida"]
[null,"",null,null,null,"",null,null,null,{"$f":"IF(I585=\"\",\"\",IF(VLOOKUP(I585,CAD_Q!$C$6:$D$105,2,FALSE)=0,\"\",VLOOKUP(I585,CAD_Q!$C$6:$D$105,2,FALSE)))","v":""},{"$f":"IFERROR(VLOOKUP(I585,CAD_Q!$C$6:$E$109,3,FALSE)*F585,\"\")","v":""},null,null,"",1,0,1900,0,1,1900,"Nombre y el registro de entrada válida"]
[null,"",null,null,null,"",null,null,null,{"$f":"IF(I586=\"\",\"\",IF(VLOOKUP(I586,CAD_Q!$C$6:$D$105,2,FALSE)=0,\"\",VLOOKUP(I586,CAD_Q!$C$6:$D$105,2,FALSE)))","v":""},{"$f":"IFERROR(VLOOKUP(I586,CAD_Q!$C$6:$E$109,3,FALSE)*F586,\"\")","v":""},null,null,"",{"$f":"MONTH(D586)","v":1},{"$f":"DAY(D586)","v":0},{"$f":"YEAR(D586)","v":1900},{"$f":"DAY(E586)","v":0},{"$f":"MONTH(E586)","v":1},{"$f":"YEAR(E586)","v":1900},"Nombre y el registro de entrada válida"]
[null,"",null,null,null,"",null,null,null,{"$f":"IF(I587=\"\",\"\",IF(VLOOKUP(I587,CAD_Q!$C$6:$D$105,2,FALSE)=0,\"\",VLOOKUP(I587,CAD_Q!$C$6:$D$105,2,FALSE)))","v":""},{"$f":"IFERROR(VLOOKUP(I587,CAD_Q!$C$6:$E$109,3,FALSE)*F587,\"\")","v":""},null,null,"",1,0,1900,0,1,1900,"Nombre y el registro de entrada válida"]
[null,"",null,null,null,"",null,null,null,{"$f":"IF(I588=\"\",\"\",IF(VLOOKUP(I588,CAD_Q!$C$6:$D$105,2,FALSE)=0,\"\",VLOOKUP(I588,CAD_Q!$C$6:$D$105,2,FALSE)))","v":""},{"$f":"IFERROR(VLOOKUP(I588,CAD_Q!$C$6:$E$109,3,FALSE)*F588,\"\")","v":""},null,null,"",1,0,1900,0,1,1900,"Nombre y el registro de entrada válida"]
[null,"",null,null,null,"",null,null,null,{"$f":"IF(I589=\"\",\"\",IF(VLOOKUP(I589,CAD_Q!$C$6:$D$105,2,FALSE)=0,\"\",VLOOKUP(I589,CAD_Q!$C$6:$D$105,2,FALSE)))","v":""},{"$f":"IFERROR(VLOOKUP(I589,CAD_Q!$C$6:$E$109,3,FALSE)*F589,\"\")","v":""},null,null,"",1,0,1900,0,1,1900,"Nombre y el registro de entrada válida"]
[null,"",null,null,null,"",null,null,null,{"$f":"IF(I590=\"\",\"\",IF(VLOOKUP(I590,CAD_Q!$C$6:$D$105,2,FALSE)=0,\"\",VLOOKUP(I590,CAD_Q!$C$6:$D$105,2,FALSE)))","v":""},{"$f":"IFERROR(VLOOKUP(I590,CAD_Q!$C$6:$E$109,3,FALSE)*F590,\"\")","v":""},null,null,"",1,0,1900,0,1,1900,"Nombre y el registro de entrada válida"]
[null,"",null,null,null,"",null,null,null,{"$f":"IF(I591=\"\",\"\",IF(VLOOKUP(I591,CAD_Q!$C$6:$D$105,2,FALSE)=0,\"\",VLOOKUP(I591,CAD_Q!$C$6:$D$105,2,FALSE)))","v":""},{"$f":"IFERROR(VLOOKUP(I591,CAD_Q!$C$6:$E$109,3,FALSE)*F591,\"\")","v":""},null,null,"",1,0,1900,0,1,1900,"Nombre y el registro de entrada válida"]
[null,"",null,null,null,"",null,null,null,{"$f":"IF(I592=\"\",\"\",IF(VLOOKUP(I592,CAD_Q!$C$6:$D$105,2,FALSE)=0,\"\",VLOOKUP(I592,CAD_Q!$C$6:$D$105,2,FALSE)))","v":""},{"$f":"IFERROR(VLOOKUP(I592,CAD_Q!$C$6:$E$109,3,FALSE)*F592,\"\")","v":""},null,null,"",1,0,1900,0,1,1900,"Nombre y el registro de entrada válida"]
[null,"",null,null,null,"",null,null,null,{"$f":"IF(I593=\"\",\"\",IF(VLOOKUP(I593,CAD_Q!$C$6:$D$105,2,FALSE)=0,\"\",VLOOKUP(I593,CAD_Q!$C$6:$D$105,2,FALSE)))","v":""},{"$f":"IFERROR(VLOOKUP(I593,CAD_Q!$C$6:$E$109,3,FALSE)*F593,\"\")","v":""},null,null,"",1,0,1900,0,1,1900,"Nombre y el registro de entrada válida"]
[null,"",null,null,null,"",null,null,null,{"$f":"IF(I594=\"\",\"\",IF(VLOOKUP(I594,CAD_Q!$C$6:$D$105,2,FALSE)=0,\"\",VLOOKUP(I594,CAD_Q!$C$6:$D$105,2,FALSE)))","v":""},{"$f":"IFERROR(VLOOKUP(I594,CAD_Q!$C$6:$E$109,3,FALSE)*F594,\"\")","v":""},null,null,"",1,0,1900,0,1,1900,"Nombre y el registro de entrada válida"]
[null,"",null,null,null,"",null,null,null,{"$f":"IF(I595=\"\",\"\",IF(VLOOKUP(I595,CAD_Q!$C$6:$D$105,2,FALSE)=0,\"\",VLOOKUP(I595,CAD_Q!$C$6:$D$105,2,FALSE)))","v":""},{"$f":"IFERROR(VLOOKUP(I595,CAD_Q!$C$6:$E$109,3,FALSE)*F595,\"\")","v":""},null,null,"",1,0,1900,0,1,1900,"Nombre y el registro de entrada válida"]
[null,"",null,null,null,"",null,null,null,{"$f":"IF(I596=\"\",\"\",IF(VLOOKUP(I596,CAD_Q!$C$6:$D$105,2,FALSE)=0,\"\",VLOOKUP(I596,CAD_Q!$C$6:$D$105,2,FALSE)))","v":""},{"$f":"IFERROR(VLOOKUP(I596,CAD_Q!$C$6:$E$109,3,FALSE)*F596,\"\")","v":""},null,null,"",1,0,1900,0,1,1900,"Nombre y el registro de entrada válida"]
[null,"",null,null,null,"",null,null,null,{"$f":"IF(I597=\"\",\"\",IF(VLOOKUP(I597,CAD_Q!$C$6:$D$105,2,FALSE)=0,\"\",VLOOKUP(I597,CAD_Q!$C$6:$D$105,2,FALSE)))","v":""},{"$f":"IFERROR(VLOOKUP(I597,CAD_Q!$C$6:$E$109,3,FALSE)*F597,\"\")","v":""},null,null,"",1,0,1900,0,1,1900,"Nombre y el registro de entrada válida"]
[null,"",null,null,null,"",null,null,null,{"$f":"IF(I598=\"\",\"\",IF(VLOOKUP(I598,CAD_Q!$C$6:$D$105,2,FALSE)=0,\"\",VLOOKUP(I598,CAD_Q!$C$6:$D$105,2,FALSE)))","v":""},{"$f":"IFERROR(VLOOKUP(I598,CAD_Q!$C$6:$E$109,3,FALSE)*F598,\"\")","v":""},null,null,"",1,0,1900,0,1,1900,"Nombre y el registro de entrada válida"]
[null,"",null,null,null,"",null,null,null,{"$f":"IF(I599=\"\",\"\",IF(VLOOKUP(I599,CAD_Q!$C$6:$D$105,2,FALSE)=0,\"\",VLOOKUP(I599,CAD_Q!$C$6:$D$105,2,FALSE)))","v":""},{"$f":"IFERROR(VLOOKUP(I599,CAD_Q!$C$6:$E$109,3,FALSE)*F599,\"\")","v":""},null,null,"",1,0,1900,0,1,1900,"Nombre y el registro de entrada válida"]
[null,"",null,null,null,"",null,null,null,{"$f":"IF(I600=\"\",\"\",IF(VLOOKUP(I600,CAD_Q!$C$6:$D$105,2,FALSE)=0,\"\",VLOOKUP(I600,CAD_Q!$C$6:$D$105,2,FALSE)))","v":""},{"$f":"IFERROR(VLOOKUP(I600,CAD_Q!$C$6:$E$109,3,FALSE)*F600,\"\")","v":""},null,null,"",1,0,1900,0,1,1900,"Nombre y el registro de entrada válida"]
[null,"",null,null,null,"",null,null,null,{"$f":"IF(I601=\"\",\"\",IF(VLOOKUP(I601,CAD_Q!$C$6:$D$105,2,FALSE)=0,\"\",VLOOKUP(I601,CAD_Q!$C$6:$D$105,2,FALSE)))","v":""},{"$f":"IFERROR(VLOOKUP(I601,CAD_Q!$C$6:$E$109,3,FALSE)*F601,\"\")","v":""},null,null,"",1,0,1900,0,1,1900,"Nombre y el registro de entrada válida"]
[null,"",null,null,null,"",null,null,null,{"$f":"IF(I602=\"\",\"\",IF(VLOOKUP(I602,CAD_Q!$C$6:$D$105,2,FALSE)=0,\"\",VLOOKUP(I602,CAD_Q!$C$6:$D$105,2,FALSE)))","v":""},{"$f":"IFERROR(VLOOKUP(I602,CAD_Q!$C$6:$E$109,3,FALSE)*F602,\"\")","v":""},null,null,"",1,0,1900,0,1,1900,"Nombre y el registro de entrada válida"]
[null,"",null,null,null,"",null,null,null,{"$f":"IF(I603=\"\",\"\",IF(VLOOKUP(I603,CAD_Q!$C$6:$D$105,2,FALSE)=0,\"\",VLOOKUP(I603,CAD_Q!$C$6:$D$105,2,FALSE)))","v":""},{"$f":"IFERROR(VLOOKUP(I603,CAD_Q!$C$6:$E$109,3,FALSE)*F603,\"\")","v":""},null,null,"",1,0,1900,0,1,1900,"Nombre y el registro de entrada válida"]
[null,"",null,null,null,"",null,null,null,{"$f":"IF(I604=\"\",\"\",IF(VLOOKUP(I604,CAD_Q!$C$6:$D$105,2,FALSE)=0,\"\",VLOOKUP(I604,CAD_Q!$C$6:$D$105,2,FALSE)))","v":""},{"$f":"IFERROR(VLOOKUP(I604,CAD_Q!$C$6:$E$109,3,FALSE)*F604,\"\")","v":""},null,null,"",1,0,1900,0,1,1900,"Nombre y el registro de entrada válida"]
[null,"",null,null,null,"",null,null,null,{"$f":"IF(I605=\"\",\"\",IF(VLOOKUP(I605,CAD_Q!$C$6:$D$105,2,FALSE)=0,\"\",VLOOKUP(I605,CAD_Q!$C$6:$D$105,2,FALSE)))","v":""},{"$f":"IFERROR(VLOOKUP(I605,CAD_Q!$C$6:$E$109,3,FALSE)*F605,\"\")","v":""},null,null,"",1,0,1900,0,1,1900,"Nombre y el registro de entrada válida"]
[null,"",null,null,null,"",null,null,null,{"$f":"IF(I606=\"\",\"\",IF(VLOOKUP(I606,CAD_Q!$C$6:$D$105,2,FALSE)=0,\"\",VLOOKUP(I606,CAD_Q!$C$6:$D$105,2,FALSE)))","v":""},{"$f":"IFERROR(VLOOKUP(I606,CAD_Q!$C$6:$E$109,3,FALSE)*F606,\"\")","v":""},null,null,"",1,0,1900,0,1,1900,"Nombre y el registro de entrada válida"]
[null,"",null,null,null,"",null,null,null,{"$f":"IF(I607=\"\",\"\",IF(VLOOKUP(I607,CAD_Q!$C$6:$D$105,2,FALSE)=0,\"\",VLOOKUP(I607,CAD_Q!$C$6:$D$105,2,FALSE)))","v":""},{"$f":"IFERROR(VLOOKUP(I607,CAD_Q!$C$6:$E$109,3,FALSE)*F607,\"\")","v":""},null,null,"",1,0,1900,0,1,1900,"Nombre y el registro de entrada válida"]
[null,"",null,null,null,"",null,null,null,{"$f":"IF(I608=\"\",\"\",IF(VLOOKUP(I608,CAD_Q!$C$6:$D$105,2,FALSE)=0,\"\",VLOOKUP(I608,CAD_Q!$C$6:$D$105,2,FALSE)))","v":""},{"$f":"IFERROR(VLOOKUP(I608,CAD_Q!$C$6:$E$109,3,FALSE)*F608,\"\")","v":""},null,null,"",1,0,1900,0,1,1900,"Nombre y el registro de entrada válida"]
[null,"",null,null,null,"",null,null,null,{"$f":"IF(I609=\"\",\"\",IF(VLOOKUP(I609,CAD_Q!$C$6:$D$105,2,FALSE)=0,\"\",VLOOKUP(I609,CAD_Q!$C$6:$D$105,2,FALSE)))","v":""},{"$f":"IFERROR(VLOOKUP(I609,CAD_Q!$C$6:$E$109,3,FALSE)*F609,\"\")","v":""},null,null,"",1,0,1900,0,1,1900,"Nombre y el registro de entrada válida"]
[null,"",null,null,null,"",null,null,null,{"$f":"IF(I610=\"\",\"\",IF(VLOOKUP(I610,CAD_Q!$C$6:$D$105,2,FALSE)=0,\"\",VLOOKUP(I610,CAD_Q!$C$6:$D$105,2,FALSE)))","v":""},{"$f":"IFERROR(VLOOKUP(I610,CAD_Q!$C$6:$E$109,3,FALSE)*F610,\"\")","v":""},null,null,"",1,0,1900,0,1,1900,"Nombre y el registro de entrada válida"]
[null,"",null,null,null,"",null,null,null,{"$f":"IF(I611=\"\",\"\",IF(VLOOKUP(I611,CAD_Q!$C$6:$D$105,2,FALSE)=0,\"\",VLOOKUP(I611,CAD_Q!$C$6:$D$105,2,FALSE)))","v":""},{"$f":"IFERROR(VLOOKUP(I611,CAD_Q!$C$6:$E$109,3,FALSE)*F611,\"\")","v":""},null,null,"",1,0,1900,0,1,1900,"Nombre y el registro de entrada válida"]
[null,"",null,null,null,{"$f":"IF(OR(D612=\"\",E612=\"\"),\"\",E612-D612)","v":""},null,null,null,{"$f":"IF(I612=\"\",\"\",IF(VLOOKUP(I612,CAD_Q!$C$6:$D$105,2,FALSE)=0,\"\",VLOOKUP(I612,CAD_Q!$C$6:$D$105,2,FALSE)))","v":""},{"$f":"IFERROR(VLOOKUP(I612,CAD_Q!$C$6:$E$109,3,FALSE)*F612,\"\")","v":""},null,null,"",1,0,1900,0,1,1900,"Nombre y el registro de entrada válida"]
[null,"",null,null,null,"",null,null,null,{"$f":"IF(I613=\"\",\"\",IF(VLOOKUP(I613,CAD_Q!$C$6:$D$105,2,FALSE)=0,\"\",VLOOKUP(I613,CAD_Q!$C$6:$D$105,2,FALSE)))","v":""},{"$f":"IFERROR(VLOOKUP(I613,CAD_Q!$C$6:$E$109,3,FALSE)*F613,\"\")","v":""},null,null,"",1,0,1900,0,1,1900,"Nombre y el registro de entrada válida"]
[null,"",null,null,null,"",null,null,null,{"$f":"IF(I614=\"\",\"\",IF(VLOOKUP(I614,CAD_Q!$C$6:$D$105,2,FALSE)=0,\"\",VLOOKUP(I614,CAD_Q!$C$6:$D$105,2,FALSE)))","v":""},{"$f":"IFERROR(VLOOKUP(I614,CAD_Q!$C$6:$E$109,3,FALSE)*F614,\"\")","v":""},null,null,"",1,0,1900,0,1,1900,"Nombre y el registro de entrada válida"]
[null,"",null,null,null,"",null,null,null,{"$f":"IF(I615=\"\",\"\",IF(VLOOKUP(I615,CAD_Q!$C$6:$D$105,2,FALSE)=0,\"\",VLOOKUP(I615,CAD_Q!$C$6:$D$105,2,FALSE)))","v":""},{"$f":"IFERROR(VLOOKUP(I615,CAD_Q!$C$6:$E$109,3,FALSE)*F615,\"\")","v":""},null,null,"",1,0,1900,0,1,1900,"Nombre y el registro de entrada válida"]
[null,"",null,null,null,"",null,null,null,{"$f":"IF(I616=\"\",\"\",IF(VLOOKUP(I616,CAD_Q!$C$6:$D$105,2,FALSE)=0,\"\",VLOOKUP(I616,CAD_Q!$C$6:$D$105,2,FALSE)))","v":""},{"$f":"IFERROR(VLOOKUP(I616,CAD_Q!$C$6:$E$109,3,FALSE)*F616,\"\")","v":""},null,null,"",1,0,1900,0,1,1900,"Nombre y el registro de entrada válida"]
[null,"",null,null,null,"",null,null,null,{"$f":"IF(I617=\"\",\"\",IF(VLOOKUP(I617,CAD_Q!$C$6:$D$105,2,FALSE)=0,\"\",VLOOKUP(I617,CAD_Q!$C$6:$D$105,2,FALSE)))","v":""},{"$f":"IFERROR(VLOOKUP(I617,CAD_Q!$C$6:$E$109,3,FALSE)*F617,\"\")","v":""},null,null,"",1,0,1900,0,1,1900,"Nombre y el registro de entrada válida"]
[null,"",null,null,null,"",null,null,null,{"$f":"IF(I618=\"\",\"\",IF(VLOOKUP(I618,CAD_Q!$C$6:$D$105,2,FALSE)=0,\"\",VLOOKUP(I618,CAD_Q!$C$6:$D$105,2,FALSE)))","v":""},{"$f":"IFERROR(VLOOKUP(I618,CAD_Q!$C$6:$E$109,3,FALSE)*F618,\"\")","v":""},null,null,"",1,0,1900,0,1,1900,"Nombre y el registro de entrada válida"]
[null,"",null,null,null,"",null,null,null,{"$f":"IF(I619=\"\",\"\",IF(VLOOKUP(I619,CAD_Q!$C$6:$D$105,2,FALSE)=0,\"\",VLOOKUP(I619,CAD_Q!$C$6:$D$105,2,FALSE)))","v":""},{"$f":"IFERROR(VLOOKUP(I619,CAD_Q!$C$6:$E$109,3,FALSE)*F619,\"\")","v":""},null,null,"",1,0,1900,0,1,1900,"Nombre y el registro de entrada válida"]
[null,"",null,null,null,"",null,null,null,{"$f":"IF(I620=\"\",\"\",IF(VLOOKUP(I620,CAD_Q!$C$6:$D$105,2,FALSE)=0,\"\",VLOOKUP(I620,CAD_Q!$C$6:$D$105,2,FALSE)))","v":""},{"$f":"IFERROR(VLOOKUP(I620,CAD_Q!$C$6:$E$109,3,FALSE)*F620,\"\")","v":""},null,null,"",1,0,1900,0,1,1900,"Nombre y el registro de entrada válida"]
[null,"",null,null,null,"",null,null,null,{"$f":"IF(I621=\"\",\"\",IF(VLOOKUP(I621,CAD_Q!$C$6:$D$105,2,FALSE)=0,\"\",VLOOKUP(I621,CAD_Q!$C$6:$D$105,2,FALSE)))","v":""},{"$f":"IFERROR(VLOOKUP(I621,CAD_Q!$C$6:$E$109,3,FALSE)*F621,\"\")","v":""},null,null,"",1,0,1900,0,1,1900,"Nombre y el registro de entrada válida"]
[null,"",null,null,null,"",null,null,null,{"$f":"IF(I622=\"\",\"\",IF(VLOOKUP(I622,CAD_Q!$C$6:$D$105,2,FALSE)=0,\"\",VLOOKUP(I622,CAD_Q!$C$6:$D$105,2,FALSE)))","v":""},{"$f":"IFERROR(VLOOKUP(I622,CAD_Q!$C$6:$E$109,3,FALSE)*F622,\"\")","v":""},null,null,"",1,0,1900,0,1,1900,"Nombre y el registro de entrada válida"]
[null,"",null,null,null,"",null,null,null,{"$f":"IF(I623=\"\",\"\",IF(VLOOKUP(I623,CAD_Q!$C$6:$D$105,2,FALSE)=0,\"\",VLOOKUP(I623,CAD_Q!$C$6:$D$105,2,FALSE)))","v":""},{"$f":"IFERROR(VLOOKUP(I623,CAD_Q!$C$6:$E$109,3,FALSE)*F623,\"\")","v":""},null,null,"",1,0,1900,0,1,1900,"Nombre y el registro de entrada válida"]
[null,"",null,null,null,"",null,null,null,{"$f":"IF(I624=\"\",\"\",IF(VLOOKUP(I624,CAD_Q!$C$6:$D$105,2,FALSE)=0,\"\",VLOOKUP(I624,CAD_Q!$C$6:$D$105,2,FALSE)))","v":""},{"$f":"IFERROR(VLOOKUP(I624,CAD_Q!$C$6:$E$109,3,FALSE)*F624,\"\")","v":""},null,null,"",1,0,1900,0,1,1900,"Nombre y el registro de entrada válida"]
[null,"",null,null,null,"",null,null,null,{"$f":"IF(I625=\"\",\"\",IF(VLOOKUP(I625,CAD_Q!$C$6:$D$105,2,FALSE)=0,\"\",VLOOKUP(I625,CAD_Q!$C$6:$D$105,2,FALSE)))","v":""},{"$f":"IFERROR(VLOOKUP(I625,CAD_Q!$C$6:$E$109,3,FALSE)*F625,\"\")","v":""},null,null,"",1,0,1900,0,1,1900,"Nombre y el registro de entrada válida"]
[null,"",null,null,null,"",null,null,null,{"$f":"IF(I626=\"\",\"\",IF(VLOOKUP(I626,CAD_Q!$C$6:$D$105,2,FALSE)=0,\"\",VLOOKUP(I626,CAD_Q!$C$6:$D$105,2,FALSE)))","v":""},{"$f":"IFERROR(VLOOKUP(I626,CAD_Q!$C$6:$E$109,3,FALSE)*F626,\"\")","v":""},null,null,"",1,0,1900,0,1,1900,"Nombre y el registro de entrada válida"]
[null,"",null,null,null,"",null,null,null,{"$f":"IF(I627=\"\",\"\",IF(VLOOKUP(I627,CAD_Q!$C$6:$D$105,2,FALSE)=0,\"\",VLOOKUP(I627,CAD_Q!$C$6:$D$105,2,FALSE)))","v":""},{"$f":"IFERROR(VLOOKUP(I627,CAD_Q!$C$6:$E$109,3,FALSE)*F627,\"\")","v":""},null,null,"",1,0,1900,0,1,1900,"Nombre y el registro de entrada válida"]
[null,"",null,null,null,"",null,null,null,{"$f":"IF(I628=\"\",\"\",IF(VLOOKUP(I628,CAD_Q!$C$6:$D$105,2,FALSE)=0,\"\",VLOOKUP(I628,CAD_Q!$C$6:$D$105,2,FALSE)))","v":""},{"$f":"IFERROR(VLOOKUP(I628,CAD_Q!$C$6:$E$109,3,FALSE)*F628,\"\")","v":""},null,null,"",1,0,1900,0,1,1900,"Nombre y el registro de entrada válida"]
[null,"",null,null,null,"",null,null,null,{"$f":"IF(I629=\"\",\"\",IF(VLOOKUP(I629,CAD_Q!$C$6:$D$105,2,FALSE)=0,\"\",VLOOKUP(I629,CAD_Q!$C$6:$D$105,2,FALSE)))","v":""},{"$f":"IFERROR(VLOOKUP(I629,CAD_Q!$C$6:$E$109,3,FALSE)*F629,\"\")","v":""},null,null,"",1,0,1900,0,1,1900,"Nombre y el registro de entrada válida"]
[null,"",null,null,null,"",null,null,null,{"$f":"IF(I630=\"\",\"\",IF(VLOOKUP(I630,CAD_Q!$C$6:$D$105,2,FALSE)=0,\"\",VLOOKUP(I630,CAD_Q!$C$6:$D$105,2,FALSE)))","v":""},{"$f":"IFERROR(VLOOKUP(I630,CAD_Q!$C$6:$E$109,3,FALSE)*F630,\"\")","v":""},null,null,"",1,0,1900,0,1,1900,"Nombre y el registro de entrada válida"]
[null,"",null,null,null,"",null,null,null,{"$f":"IF(I631=\"\",\"\",IF(VLOOKUP(I631,CAD_Q!$C$6:$D$105,2,FALSE)=0,\"\",VLOOKUP(I631,CAD_Q!$C$6:$D$105,2,FALSE)))","v":""},{"$f":"IFERROR(VLOOKUP(I631,CAD_Q!$C$6:$E$109,3,FALSE)*F631,\"\")","v":""},null,null,"",1,0,1900,0,1,1900,"Nombre y el registro de entrada válida"]
[null,"",null,null,null,"",null,null,null,{"$f":"IF(I632=\"\",\"\",IF(VLOOKUP(I632,CAD_Q!$C$6:$D$105,2,FALSE)=0,\"\",VLOOKUP(I632,CAD_Q!$C$6:$D$105,2,FALSE)))","v":""},{"$f":"IFERROR(VLOOKUP(I632,CAD_Q!$C$6:$E$109,3,FALSE)*F632,\"\")","v":""},null,null,"",1,0,1900,0,1,1900,"Nombre y el registro de entrada válida"]
[null,"",null,null,null,"",null,null,null,{"$f":"IF(I633=\"\",\"\",IF(VLOOKUP(I633,CAD_Q!$C$6:$D$105,2,FALSE)=0,\"\",VLOOKUP(I633,CAD_Q!$C$6:$D$105,2,FALSE)))","v":""},{"$f":"IFERROR(VLOOKUP(I633,CAD_Q!$C$6:$E$109,3,FALSE)*F633,\"\")","v":""},null,null,"",1,0,1900,0,1,1900,"Nombre y el registro de entrada válida"]
[null,"",null,null,null,"",null,null,null,{"$f":"IF(I634=\"\",\"\",IF(VLOOKUP(I634,CAD_Q!$C$6:$D$105,2,FALSE)=0,\"\",VLOOKUP(I634,CAD_Q!$C$6:$D$105,2,FALSE)))","v":""},{"$f":"IFERROR(VLOOKUP(I634,CAD_Q!$C$6:$E$109,3,FALSE)*F634,\"\")","v":""},null,null,"",1,0,1900,0,1,1900,"Nombre y el registro de entrada válida"]
[null,"",null,null,null,"",null,null,null,{"$f":"IF(I635=\"\",\"\",IF(VLOOKUP(I635,CAD_Q!$C$6:$D$105,2,FALSE)=0,\"\",VLOOKUP(I635,CAD_Q!$C$6:$D$105,2,FALSE)))","v":""},{"$f":"IFERROR(VLOOKUP(I635,CAD_Q!$C$6:$E$109,3,FALSE)*F635,\"\")","v":""},null,null,"",1,0,1900,0,1,1900,"Nombre y el registro de entrada válida"]
[null,"",null,null,null,"",null,null,null,{"$f":"IF(I636=\"\",\"\",IF(VLOOKUP(I636,CAD_Q!$C$6:$D$105,2,FALSE)=0,\"\",VLOOKUP(I636,CAD_Q!$C$6:$D$105,2,FALSE)))","v":""},{"$f":"IFERROR(VLOOKUP(I636,CAD_Q!$C$6:$E$109,3,FALSE)*F636,\"\")","v":""},null,null,"",1,0,1900,0,1,1900,"Nombre y el registro de entrada válida"]
[null,"",null,null,null,"",null,null,null,{"$f":"IF(I637=\"\",\"\",IF(VLOOKUP(I637,CAD_Q!$C$6:$D$105,2,FALSE)=0,\"\",VLOOKUP(I637,CAD_Q!$C$6:$D$105,2,FALSE)))","v":""},{"$f":"IFERROR(VLOOKUP(I637,CAD_Q!$C$6:$E$109,3,FALSE)*F637,\"\")","v":""},null,null,"",1,0,1900,0,1,1900,"Nombre y el registro de entrada válida"]
[null,"",null,null,null,"",null,null,null,{"$f":"IF(I638=\"\",\"\",IF(VLOOKUP(I638,CAD_Q!$C$6:$D$105,2,FALSE)=0,\"\",VLOOKUP(I638,CAD_Q!$C$6:$D$105,2,FALSE)))","v":""},{"$f":"IFERROR(VLOOKUP(I638,CAD_Q!$C$6:$E$109,3,FALSE)*F638,\"\")","v":""},null,null,"",1,0,1900,0,1,1900,"Nombre y el registro de entrada válida"]
[null,"",null,null,null,"",null,null,null,{"$f":"IF(I639=\"\",\"\",IF(VLOOKUP(I639,CAD_Q!$C$6:$D$105,2,FALSE)=0,\"\",VLOOKUP(I639,CAD_Q!$C$6:$D$105,2,FALSE)))","v":""},{"$f":"IFERROR(VLOOKUP(I639,CAD_Q!$C$6:$E$109,3,FALSE)*F639,\"\")","v":""},null,null,"",1,0,1900,0,1,1900,"Nombre y el registro de entrada válida"]
[null,"",null,null,null,"",null,null,null,{"$f":"IF(I640=\"\",\"\",IF(VLOOKUP(I640,CAD_Q!$C$6:$D$105,2,FALSE)=0,\"\",VLOOKUP(I640,CAD_Q!$C$6:$D$105,2,FALSE)))","v":""},{"$f":"IFERROR(VLOOKUP(I640,CAD_Q!$C$6:$E$109,3,FALSE)*F640,\"\")","v":""},null,null,"",1,0,1900,0,1,1900,"Nombre y el registro de entrada válida"]
[null,"",null,null,null,"",null,null,null,{"$f":"IF(I641=\"\",\"\",IF(VLOOKUP(I641,CAD_Q!$C$6:$D$105,2,FALSE)=0,\"\",VLOOKUP(I641,CAD_Q!$C$6:$D$105,2,FALSE)))","v":""},{"$f":"IFERROR(VLOOKUP(I641,CAD_Q!$C$6:$E$109,3,FALSE)*F641,\"\")","v":""},null,null,"",1,0,1900,0,1,1900,"Nombre y el registro de entrada válida"]
[null,"",null,null,null,"",null,null,null,{"$f":"IF(I642=\"\",\"\",IF(VLOOKUP(I642,CAD_Q!$C$6:$D$105,2,FALSE)=0,\"\",VLOOKUP(I642,CAD_Q!$C$6:$D$105,2,FALSE)))","v":""},{"$f":"IFERROR(VLOOKUP(I642,CAD_Q!$C$6:$E$109,3,FALSE)*F642,\"\")","v":""},null,null,"",1,0,1900,0,1,1900,"Nombre y el registro de entrada válida"]
[null,"",null,null,null,"",null,null,null,{"$f":"IF(I643=\"\",\"\",IF(VLOOKUP(I643,CAD_Q!$C$6:$D$105,2,FALSE)=0,\"\",VLOOKUP(I643,CAD_Q!$C$6:$D$105,2,FALSE)))","v":""},{"$f":"IFERROR(VLOOKUP(I643,CAD_Q!$C$6:$E$109,3,FALSE)*F643,\"\")","v":""},null,null,"",1,0,1900,0,1,1900,"Nombre y el registro de entrada válida"]
[null,"",null,null,null,"",null,null,null,{"$f":"IF(I644=\"\",\"\",IF(VLOOKUP(I644,CAD_Q!$C$6:$D$105,2,FALSE)=0,\"\",VLOOKUP(I644,CAD_Q!$C$6:$D$105,2,FALSE)))","v":""},{"$f":"IFERROR(VLOOKUP(I644,CAD_Q!$C$6:$E$109,3,FALSE)*F644,\"\")","v":""},null,null,"",1,0,1900,0,1,1900,"Nombre y el registro de entrada válida"]
[null,"",null,null,null,"",null,null,null,{"$f":"IF(I645=\"\",\"\",IF(VLOOKUP(I645,CAD_Q!$C$6:$D$105,2,FALSE)=0,\"\",VLOOKUP(I645,CAD_Q!$C$6:$D$105,2,FALSE)))","v":""},{"$f":"IFERROR(VLOOKUP(I645,CAD_Q!$C$6:$E$109,3,FALSE)*F645,\"\")","v":""},null,null,"",1,0,1900,0,1,1900,"Nombre y el registro de entrada válida"]
[null,"",null,null,null,"",null,null,null,{"$f":"IF(I646=\"\",\"\",IF(VLOOKUP(I646,CAD_Q!$C$6:$D$105,2,FALSE)=0,\"\",VLOOKUP(I646,CAD_Q!$C$6:$D$105,2,FALSE)))","v":""},{"$f":"IFERROR(VLOOKUP(I646,CAD_Q!$C$6:$E$109,3,FALSE)*F646,\"\")","v":""},null,null,"",1,0,1900,0,1,1900,"Nombre y el registro de entrada válida"]
[null,{"$f":"CONCATENATE(C647,D647)","v":""},null,null,null,"",null,null,null,{"$f":"IF(I647=\"\",\"\",IF(VLOOKUP(I647,CAD_Q!$C$6:$D$105,2,FALSE)=0,\"\",VLOOKUP(I647,CAD_Q!$C$6:$D$105,2,FALSE)))","v":""},{"$f":"IFERROR(VLOOKUP(I647,CAD_Q!$C$6:$E$109,3,FALSE)*F647,\"\")","v":""},null,null,{"$f":"IFERROR(K647-L647+M647,\"\")","v":""},1,0,1900,0,1,1900,"Nombre y el registro de entrada válida"]
[null,"",null,null,null,"",null,null,null,{"$f":"IF(I648=\"\",\"\",IF(VLOOKUP(I648,CAD_Q!$C$6:$D$105,2,FALSE)=0,\"\",VLOOKUP(I648,CAD_Q!$C$6:$D$105,2,FALSE)))","v":""},{"$f":"IFERROR(VLOOKUP(I648,CAD_Q!$C$6:$E$109,3,FALSE)*F648,\"\")","v":""},null,null,"",1,0,1900,0,1,1900,"Nombre y el registro de entrada válida"]
[null,"",null,null,null,"",null,null,null,{"$f":"IF(I649=\"\",\"\",IF(VLOOKUP(I649,CAD_Q!$C$6:$D$105,2,FALSE)=0,\"\",VLOOKUP(I649,CAD_Q!$C$6:$D$105,2,FALSE)))","v":""},{"$f":"IFERROR(VLOOKUP(I649,CAD_Q!$C$6:$E$109,3,FALSE)*F649,\"\")","v":""},null,null,"",1,0,1900,0,1,1900,"Nombre y el registro de entrada válida"]
[null,"",null,null,null,"",null,null,null,{"$f":"IF(I650=\"\",\"\",IF(VLOOKUP(I650,CAD_Q!$C$6:$D$105,2,FALSE)=0,\"\",VLOOKUP(I650,CAD_Q!$C$6:$D$105,2,FALSE)))","v":""},{"$f":"IFERROR(VLOOKUP(I650,CAD_Q!$C$6:$E$109,3,FALSE)*F650,\"\")","v":""},null,null,"",{"$f":"MONTH(D650)","v":1},{"$f":"DAY(D650)","v":0},{"$f":"YEAR(D650)","v":1900},{"$f":"DAY(E650)","v":0},{"$f":"MONTH(E650)","v":1},{"$f":"YEAR(E650)","v":1900},"Nombre y el registro de entrada válida"]
[null,"",null,null,null,"",null,null,null,{"$f":"IF(I651=\"\",\"\",IF(VLOOKUP(I651,CAD_Q!$C$6:$D$105,2,FALSE)=0,\"\",VLOOKUP(I651,CAD_Q!$C$6:$D$105,2,FALSE)))","v":""},{"$f":"IFERROR(VLOOKUP(I651,CAD_Q!$C$6:$E$109,3,FALSE)*F651,\"\")","v":""},null,null,"",1,0,1900,0,1,1900,"Nombre y el registro de entrada válida"]
[null,"",null,null,null,"",null,null,null,{"$f":"IF(I652=\"\",\"\",IF(VLOOKUP(I652,CAD_Q!$C$6:$D$105,2,FALSE)=0,\"\",VLOOKUP(I652,CAD_Q!$C$6:$D$105,2,FALSE)))","v":""},{"$f":"IFERROR(VLOOKUP(I652,CAD_Q!$C$6:$E$109,3,FALSE)*F652,\"\")","v":""},null,null,"",1,0,1900,0,1,1900,"Nombre y el registro de entrada válida"]
[null,"",null,null,null,"",null,null,null,{"$f":"IF(I653=\"\",\"\",IF(VLOOKUP(I653,CAD_Q!$C$6:$D$105,2,FALSE)=0,\"\",VLOOKUP(I653,CAD_Q!$C$6:$D$105,2,FALSE)))","v":""},{"$f":"IFERROR(VLOOKUP(I653,CAD_Q!$C$6:$E$109,3,FALSE)*F653,\"\")","v":""},null,null,"",1,0,1900,0,1,1900,"Nombre y el registro de entrada válida"]
[null,"",null,null,null,"",null,null,null,{"$f":"IF(I654=\"\",\"\",IF(VLOOKUP(I654,CAD_Q!$C$6:$D$105,2,FALSE)=0,\"\",VLOOKUP(I654,CAD_Q!$C$6:$D$105,2,FALSE)))","v":""},{"$f":"IFERROR(VLOOKUP(I654,CAD_Q!$C$6:$E$109,3,FALSE)*F654,\"\")","v":""},null,null,"",1,0,1900,0,1,1900,"Nombre y el registro de entrada válida"]
[null,"",null,null,null,"",null,null,null,{"$f":"IF(I655=\"\",\"\",IF(VLOOKUP(I655,CAD_Q!$C$6:$D$105,2,FALSE)=0,\"\",VLOOKUP(I655,CAD_Q!$C$6:$D$105,2,FALSE)))","v":""},{"$f":"IFERROR(VLOOKUP(I655,CAD_Q!$C$6:$E$109,3,FALSE)*F655,\"\")","v":""},null,null,"",1,0,1900,0,1,1900,"Nombre y el registro de entrada válida"]
[null,"",null,null,null,"",null,null,null,{"$f":"IF(I656=\"\",\"\",IF(VLOOKUP(I656,CAD_Q!$C$6:$D$105,2,FALSE)=0,\"\",VLOOKUP(I656,CAD_Q!$C$6:$D$105,2,FALSE)))","v":""},{"$f":"IFERROR(VLOOKUP(I656,CAD_Q!$C$6:$E$109,3,FALSE)*F656,\"\")","v":""},null,null,"",1,0,1900,0,1,1900,"Nombre y el registro de entrada válida"]
[null,"",null,null,null,"",null,null,null,{"$f":"IF(I657=\"\",\"\",IF(VLOOKUP(I657,CAD_Q!$C$6:$D$105,2,FALSE)=0,\"\",VLOOKUP(I657,CAD_Q!$C$6:$D$105,2,FALSE)))","v":""},{"$f":"IFERROR(VLOOKUP(I657,CAD_Q!$C$6:$E$109,3,FALSE)*F657,\"\")","v":""},null,null,"",1,0,1900,0,1,1900,"Nombre y el registro de entrada válida"]
[null,"",null,null,null,"",null,null,null,{"$f":"IF(I658=\"\",\"\",IF(VLOOKUP(I658,CAD_Q!$C$6:$D$105,2,FALSE)=0,\"\",VLOOKUP(I658,CAD_Q!$C$6:$D$105,2,FALSE)))","v":""},{"$f":"IFERROR(VLOOKUP(I658,CAD_Q!$C$6:$E$109,3,FALSE)*F658,\"\")","v":""},null,null,"",1,0,1900,0,1,1900,"Nombre y el registro de entrada válida"]
[null,"",null,null,null,"",null,null,null,{"$f":"IF(I659=\"\",\"\",IF(VLOOKUP(I659,CAD_Q!$C$6:$D$105,2,FALSE)=0,\"\",VLOOKUP(I659,CAD_Q!$C$6:$D$105,2,FALSE)))","v":""},{"$f":"IFERROR(VLOOKUP(I659,CAD_Q!$C$6:$E$109,3,FALSE)*F659,\"\")","v":""},null,null,"",1,0,1900,0,1,1900,"Nombre y el registro de entrada válida"]
[null,"",null,null,null,"",null,null,null,{"$f":"IF(I660=\"\",\"\",IF(VLOOKUP(I660,CAD_Q!$C$6:$D$105,2,FALSE)=0,\"\",VLOOKUP(I660,CAD_Q!$C$6:$D$105,2,FALSE)))","v":""},{"$f":"IFERROR(VLOOKUP(I660,CAD_Q!$C$6:$E$109,3,FALSE)*F660,\"\")","v":""},null,null,"",1,0,1900,0,1,1900,"Nombre y el registro de entrada válida"]
[null,"",null,null,null,"",null,null,null,{"$f":"IF(I661=\"\",\"\",IF(VLOOKUP(I661,CAD_Q!$C$6:$D$105,2,FALSE)=0,\"\",VLOOKUP(I661,CAD_Q!$C$6:$D$105,2,FALSE)))","v":""},{"$f":"IFERROR(VLOOKUP(I661,CAD_Q!$C$6:$E$109,3,FALSE)*F661,\"\")","v":""},null,null,"",1,0,1900,0,1,1900,"Nombre y el registro de entrada válida"]
[null,"",null,null,null,"",null,null,null,{"$f":"IF(I662=\"\",\"\",IF(VLOOKUP(I662,CAD_Q!$C$6:$D$105,2,FALSE)=0,\"\",VLOOKUP(I662,CAD_Q!$C$6:$D$105,2,FALSE)))","v":""},{"$f":"IFERROR(VLOOKUP(I662,CAD_Q!$C$6:$E$109,3,FALSE)*F662,\"\")","v":""},null,null,"",1,0,1900,0,1,1900,"Nombre y el registro de entrada válida"]
[null,"",null,null,null,"",null,null,null,{"$f":"IF(I663=\"\",\"\",IF(VLOOKUP(I663,CAD_Q!$C$6:$D$105,2,FALSE)=0,\"\",VLOOKUP(I663,CAD_Q!$C$6:$D$105,2,FALSE)))","v":""},{"$f":"IFERROR(VLOOKUP(I663,CAD_Q!$C$6:$E$109,3,FALSE)*F663,\"\")","v":""},null,null,"",1,0,1900,0,1,1900,"Nombre y el registro de entrada válida"]
[null,"",null,null,null,"",null,null,null,{"$f":"IF(I664=\"\",\"\",IF(VLOOKUP(I664,CAD_Q!$C$6:$D$105,2,FALSE)=0,\"\",VLOOKUP(I664,CAD_Q!$C$6:$D$105,2,FALSE)))","v":""},{"$f":"IFERROR(VLOOKUP(I664,CAD_Q!$C$6:$E$109,3,FALSE)*F664,\"\")","v":""},null,null,"",1,0,1900,0,1,1900,"Nombre y el registro de entrada válida"]
[null,"",null,null,null,"",null,null,null,{"$f":"IF(I665=\"\",\"\",IF(VLOOKUP(I665,CAD_Q!$C$6:$D$105,2,FALSE)=0,\"\",VLOOKUP(I665,CAD_Q!$C$6:$D$105,2,FALSE)))","v":""},{"$f":"IFERROR(VLOOKUP(I665,CAD_Q!$C$6:$E$109,3,FALSE)*F665,\"\")","v":""},null,null,"",1,0,1900,0,1,1900,"Nombre y el registro de entrada válida"]
[null,"",null,null,null,"",null,null,null,{"$f":"IF(I666=\"\",\"\",IF(VLOOKUP(I666,CAD_Q!$C$6:$D$105,2,FALSE)=0,\"\",VLOOKUP(I666,CAD_Q!$C$6:$D$105,2,FALSE)))","v":""},{"$f":"IFERROR(VLOOKUP(I666,CAD_Q!$C$6:$E$109,3,FALSE)*F666,\"\")","v":""},null,null,"",1,0,1900,0,1,1900,"Nombre y el registro de entrada válida"]
[null,"",null,null,null,"",null,null,null,{"$f":"IF(I667=\"\",\"\",IF(VLOOKUP(I667,CAD_Q!$C$6:$D$105,2,FALSE)=0,\"\",VLOOKUP(I667,CAD_Q!$C$6:$D$105,2,FALSE)))","v":""},{"$f":"IFERROR(VLOOKUP(I667,CAD_Q!$C$6:$E$109,3,FALSE)*F667,\"\")","v":""},null,null,"",1,0,1900,0,1,1900,"Nombre y el registro de entrada válida"]
[null,"",null,null,null,"",null,null,null,{"$f":"IF(I668=\"\",\"\",IF(VLOOKUP(I668,CAD_Q!$C$6:$D$105,2,FALSE)=0,\"\",VLOOKUP(I668,CAD_Q!$C$6:$D$105,2,FALSE)))","v":""},{"$f":"IFERROR(VLOOKUP(I668,CAD_Q!$C$6:$E$109,3,FALSE)*F668,\"\")","v":""},null,null,"",1,0,1900,0,1,1900,"Nombre y el registro de entrada válida"]
[null,"",null,null,null,"",null,null,null,{"$f":"IF(I669=\"\",\"\",IF(VLOOKUP(I669,CAD_Q!$C$6:$D$105,2,FALSE)=0,\"\",VLOOKUP(I669,CAD_Q!$C$6:$D$105,2,FALSE)))","v":""},{"$f":"IFERROR(VLOOKUP(I669,CAD_Q!$C$6:$E$109,3,FALSE)*F669,\"\")","v":""},null,null,"",1,0,1900,0,1,1900,"Nombre y el registro de entrada válida"]
[null,"",null,null,null,"",null,null,null,{"$f":"IF(I670=\"\",\"\",IF(VLOOKUP(I670,CAD_Q!$C$6:$D$105,2,FALSE)=0,\"\",VLOOKUP(I670,CAD_Q!$C$6:$D$105,2,FALSE)))","v":""},{"$f":"IFERROR(VLOOKUP(I670,CAD_Q!$C$6:$E$109,3,FALSE)*F670,\"\")","v":""},null,null,"",1,0,1900,0,1,1900,"Nombre y el registro de entrada válida"]
[null,"",null,null,null,"",null,null,null,{"$f":"IF(I671=\"\",\"\",IF(VLOOKUP(I671,CAD_Q!$C$6:$D$105,2,FALSE)=0,\"\",VLOOKUP(I671,CAD_Q!$C$6:$D$105,2,FALSE)))","v":""},{"$f":"IFERROR(VLOOKUP(I671,CAD_Q!$C$6:$E$109,3,FALSE)*F671,\"\")","v":""},null,null,"",1,0,1900,0,1,1900,"Nombre y el registro de entrada válida"]
[null,"",null,null,null,"",null,null,null,{"$f":"IF(I672=\"\",\"\",IF(VLOOKUP(I672,CAD_Q!$C$6:$D$105,2,FALSE)=0,\"\",VLOOKUP(I672,CAD_Q!$C$6:$D$105,2,FALSE)))","v":""},{"$f":"IFERROR(VLOOKUP(I672,CAD_Q!$C$6:$E$109,3,FALSE)*F672,\"\")","v":""},null,null,"",1,0,1900,0,1,1900,"Nombre y el registro de entrada válida"]
[null,"",null,null,null,"",null,null,null,{"$f":"IF(I673=\"\",\"\",IF(VLOOKUP(I673,CAD_Q!$C$6:$D$105,2,FALSE)=0,\"\",VLOOKUP(I673,CAD_Q!$C$6:$D$105,2,FALSE)))","v":""},{"$f":"IFERROR(VLOOKUP(I673,CAD_Q!$C$6:$E$109,3,FALSE)*F673,\"\")","v":""},null,null,"",1,0,1900,0,1,1900,"Nombre y el registro de entrada válida"]
[null,"",null,null,null,"",null,null,null,{"$f":"IF(I674=\"\",\"\",IF(VLOOKUP(I674,CAD_Q!$C$6:$D$105,2,FALSE)=0,\"\",VLOOKUP(I674,CAD_Q!$C$6:$D$105,2,FALSE)))","v":""},{"$f":"IFERROR(VLOOKUP(I674,CAD_Q!$C$6:$E$109,3,FALSE)*F674,\"\")","v":""},null,null,"",1,0,1900,0,1,1900,"Nombre y el registro de entrada válida"]
[null,"",null,null,null,"",null,null,null,{"$f":"IF(I675=\"\",\"\",IF(VLOOKUP(I675,CAD_Q!$C$6:$D$105,2,FALSE)=0,\"\",VLOOKUP(I675,CAD_Q!$C$6:$D$105,2,FALSE)))","v":""},{"$f":"IFERROR(VLOOKUP(I675,CAD_Q!$C$6:$E$109,3,FALSE)*F675,\"\")","v":""},null,null,"",1,0,1900,0,1,1900,"Nombre y el registro de entrada válida"]
[null,"",null,null,null,{"$f":"IF(OR(D676=\"\",E676=\"\"),\"\",E676-D676)","v":""},null,null,null,{"$f":"IF(I676=\"\",\"\",IF(VLOOKUP(I676,CAD_Q!$C$6:$D$105,2,FALSE)=0,\"\",VLOOKUP(I676,CAD_Q!$C$6:$D$105,2,FALSE)))","v":""},{"$f":"IFERROR(VLOOKUP(I676,CAD_Q!$C$6:$E$109,3,FALSE)*F676,\"\")","v":""},null,null,"",1,0,1900,0,1,1900,"Nombre y el registro de entrada válida"]
[null,"",null,null,null,"",null,null,null,{"$f":"IF(I677=\"\",\"\",IF(VLOOKUP(I677,CAD_Q!$C$6:$D$105,2,FALSE)=0,\"\",VLOOKUP(I677,CAD_Q!$C$6:$D$105,2,FALSE)))","v":""},{"$f":"IFERROR(VLOOKUP(I677,CAD_Q!$C$6:$E$109,3,FALSE)*F677,\"\")","v":""},null,null,"",1,0,1900,0,1,1900,"Nombre y el registro de entrada válida"]
[null,"",null,null,null,"",null,null,null,{"$f":"IF(I678=\"\",\"\",IF(VLOOKUP(I678,CAD_Q!$C$6:$D$105,2,FALSE)=0,\"\",VLOOKUP(I678,CAD_Q!$C$6:$D$105,2,FALSE)))","v":""},{"$f":"IFERROR(VLOOKUP(I678,CAD_Q!$C$6:$E$109,3,FALSE)*F678,\"\")","v":""},null,null,"",1,0,1900,0,1,1900,"Nombre y el registro de entrada válida"]
[null,"",null,null,null,"",null,null,null,{"$f":"IF(I679=\"\",\"\",IF(VLOOKUP(I679,CAD_Q!$C$6:$D$105,2,FALSE)=0,\"\",VLOOKUP(I679,CAD_Q!$C$6:$D$105,2,FALSE)))","v":""},{"$f":"IFERROR(VLOOKUP(I679,CAD_Q!$C$6:$E$109,3,FALSE)*F679,\"\")","v":""},null,null,"",1,0,1900,0,1,1900,"Nombre y el registro de entrada válida"]
[null,"",null,null,null,"",null,null,null,{"$f":"IF(I680=\"\",\"\",IF(VLOOKUP(I680,CAD_Q!$C$6:$D$105,2,FALSE)=0,\"\",VLOOKUP(I680,CAD_Q!$C$6:$D$105,2,FALSE)))","v":""},{"$f":"IFERROR(VLOOKUP(I680,CAD_Q!$C$6:$E$109,3,FALSE)*F680,\"\")","v":""},null,null,"",1,0,1900,0,1,1900,"Nombre y el registro de entrada válida"]
[null,"",null,null,null,"",null,null,null,{"$f":"IF(I681=\"\",\"\",IF(VLOOKUP(I681,CAD_Q!$C$6:$D$105,2,FALSE)=0,\"\",VLOOKUP(I681,CAD_Q!$C$6:$D$105,2,FALSE)))","v":""},{"$f":"IFERROR(VLOOKUP(I681,CAD_Q!$C$6:$E$109,3,FALSE)*F681,\"\")","v":""},null,null,"",1,0,1900,0,1,1900,"Nombre y el registro de entrada válida"]
[null,"",null,null,null,"",null,null,null,{"$f":"IF(I682=\"\",\"\",IF(VLOOKUP(I682,CAD_Q!$C$6:$D$105,2,FALSE)=0,\"\",VLOOKUP(I682,CAD_Q!$C$6:$D$105,2,FALSE)))","v":""},{"$f":"IFERROR(VLOOKUP(I682,CAD_Q!$C$6:$E$109,3,FALSE)*F682,\"\")","v":""},null,null,"",1,0,1900,0,1,1900,"Nombre y el registro de entrada válida"]
[null,"",null,null,null,"",null,null,null,{"$f":"IF(I683=\"\",\"\",IF(VLOOKUP(I683,CAD_Q!$C$6:$D$105,2,FALSE)=0,\"\",VLOOKUP(I683,CAD_Q!$C$6:$D$105,2,FALSE)))","v":""},{"$f":"IFERROR(VLOOKUP(I683,CAD_Q!$C$6:$E$109,3,FALSE)*F683,\"\")","v":""},null,null,"",1,0,1900,0,1,1900,"Nombre y el registro de entrada válida"]
[null,"",null,null,null,"",null,null,null,{"$f":"IF(I684=\"\",\"\",IF(VLOOKUP(I684,CAD_Q!$C$6:$D$105,2,FALSE)=0,\"\",VLOOKUP(I684,CAD_Q!$C$6:$D$105,2,FALSE)))","v":""},{"$f":"IFERROR(VLOOKUP(I684,CAD_Q!$C$6:$E$109,3,FALSE)*F684,\"\")","v":""},null,null,"",1,0,1900,0,1,1900,"Nombre y el registro de entrada válida"]
[null,"",null,null,null,"",null,null,null,{"$f":"IF(I685=\"\",\"\",IF(VLOOKUP(I685,CAD_Q!$C$6:$D$105,2,FALSE)=0,\"\",VLOOKUP(I685,CAD_Q!$C$6:$D$105,2,FALSE)))","v":""},{"$f":"IFERROR(VLOOKUP(I685,CAD_Q!$C$6:$E$109,3,FALSE)*F685,\"\")","v":""},null,null,"",1,0,1900,0,1,1900,"Nombre y el registro de entrada válida"]
[null,"",null,null,null,"",null,null,null,{"$f":"IF(I686=\"\",\"\",IF(VLOOKUP(I686,CAD_Q!$C$6:$D$105,2,FALSE)=0,\"\",VLOOKUP(I686,CAD_Q!$C$6:$D$105,2,FALSE)))","v":""},{"$f":"IFERROR(VLOOKUP(I686,CAD_Q!$C$6:$E$109,3,FALSE)*F686,\"\")","v":""},null,null,"",1,0,1900,0,1,1900,"Nombre y el registro de entrada válida"]
[null,"",null,null,null,"",null,null,null,{"$f":"IF(I687=\"\",\"\",IF(VLOOKUP(I687,CAD_Q!$C$6:$D$105,2,FALSE)=0,\"\",VLOOKUP(I687,CAD_Q!$C$6:$D$105,2,FALSE)))","v":""},{"$f":"IFERROR(VLOOKUP(I687,CAD_Q!$C$6:$E$109,3,FALSE)*F687,\"\")","v":""},null,null,"",1,0,1900,0,1,1900,"Nombre y el registro de entrada válida"]
[null,"",null,null,null,"",null,null,null,{"$f":"IF(I688=\"\",\"\",IF(VLOOKUP(I688,CAD_Q!$C$6:$D$105,2,FALSE)=0,\"\",VLOOKUP(I688,CAD_Q!$C$6:$D$105,2,FALSE)))","v":""},{"$f":"IFERROR(VLOOKUP(I688,CAD_Q!$C$6:$E$109,3,FALSE)*F688,\"\")","v":""},null,null,"",1,0,1900,0,1,1900,"Nombre y el registro de entrada válida"]
[null,"",null,null,null,"",null,null,null,{"$f":"IF(I689=\"\",\"\",IF(VLOOKUP(I689,CAD_Q!$C$6:$D$105,2,FALSE)=0,\"\",VLOOKUP(I689,CAD_Q!$C$6:$D$105,2,FALSE)))","v":""},{"$f":"IFERROR(VLOOKUP(I689,CAD_Q!$C$6:$E$109,3,FALSE)*F689,\"\")","v":""},null,null,"",1,0,1900,0,1,1900,"Nombre y el registro de entrada válida"]
[null,"",null,null,null,"",null,null,null,{"$f":"IF(I690=\"\",\"\",IF(VLOOKUP(I690,CAD_Q!$C$6:$D$105,2,FALSE)=0,\"\",VLOOKUP(I690,CAD_Q!$C$6:$D$105,2,FALSE)))","v":""},{"$f":"IFERROR(VLOOKUP(I690,CAD_Q!$C$6:$E$109,3,FALSE)*F690,\"\")","v":""},null,null,"",1,0,1900,0,1,1900,"Nombre y el registro de entrada válida"]
[null,"",null,null,null,"",null,null,null,{"$f":"IF(I691=\"\",\"\",IF(VLOOKUP(I691,CAD_Q!$C$6:$D$105,2,FALSE)=0,\"\",VLOOKUP(I691,CAD_Q!$C$6:$D$105,2,FALSE)))","v":""},{"$f":"IFERROR(VLOOKUP(I691,CAD_Q!$C$6:$E$109,3,FALSE)*F691,\"\")","v":""},null,null,"",1,0,1900,0,1,1900,"Nombre y el registro de entrada válida"]
[null,"",null,null,null,"",null,null,null,{"$f":"IF(I692=\"\",\"\",IF(VLOOKUP(I692,CAD_Q!$C$6:$D$105,2,FALSE)=0,\"\",VLOOKUP(I692,CAD_Q!$C$6:$D$105,2,FALSE)))","v":""},{"$f":"IFERROR(VLOOKUP(I692,CAD_Q!$C$6:$E$109,3,FALSE)*F692,\"\")","v":""},null,null,"",1,0,1900,0,1,1900,"Nombre y el registro de entrada válida"]
[null,"",null,null,null,"",null,null,null,{"$f":"IF(I693=\"\",\"\",IF(VLOOKUP(I693,CAD_Q!$C$6:$D$105,2,FALSE)=0,\"\",VLOOKUP(I693,CAD_Q!$C$6:$D$105,2,FALSE)))","v":""},{"$f":"IFERROR(VLOOKUP(I693,CAD_Q!$C$6:$E$109,3,FALSE)*F693,\"\")","v":""},null,null,"",1,0,1900,0,1,1900,"Nombre y el registro de entrada válida"]
[null,"",null,null,null,"",null,null,null,{"$f":"IF(I694=\"\",\"\",IF(VLOOKUP(I694,CAD_Q!$C$6:$D$105,2,FALSE)=0,\"\",VLOOKUP(I694,CAD_Q!$C$6:$D$105,2,FALSE)))","v":""},{"$f":"IFERROR(VLOOKUP(I694,CAD_Q!$C$6:$E$109,3,FALSE)*F694,\"\")","v":""},null,null,"",1,0,1900,0,1,1900,"Nombre y el registro de entrada válida"]
[null,"",null,null,null,"",null,null,null,{"$f":"IF(I695=\"\",\"\",IF(VLOOKUP(I695,CAD_Q!$C$6:$D$105,2,FALSE)=0,\"\",VLOOKUP(I695,CAD_Q!$C$6:$D$105,2,FALSE)))","v":""},{"$f":"IFERROR(VLOOKUP(I695,CAD_Q!$C$6:$E$109,3,FALSE)*F695,\"\")","v":""},null,null,"",1,0,1900,0,1,1900,"Nombre y el registro de entrada válida"]
[null,"",null,null,null,"",null,null,null,{"$f":"IF(I696=\"\",\"\",IF(VLOOKUP(I696,CAD_Q!$C$6:$D$105,2,FALSE)=0,\"\",VLOOKUP(I696,CAD_Q!$C$6:$D$105,2,FALSE)))","v":""},{"$f":"IFERROR(VLOOKUP(I696,CAD_Q!$C$6:$E$109,3,FALSE)*F696,\"\")","v":""},null,null,"",1,0,1900,0,1,1900,"Nombre y el registro de entrada válida"]
[null,"",null,null,null,"",null,null,null,{"$f":"IF(I697=\"\",\"\",IF(VLOOKUP(I697,CAD_Q!$C$6:$D$105,2,FALSE)=0,\"\",VLOOKUP(I697,CAD_Q!$C$6:$D$105,2,FALSE)))","v":""},{"$f":"IFERROR(VLOOKUP(I697,CAD_Q!$C$6:$E$109,3,FALSE)*F697,\"\")","v":""},null,null,"",1,0,1900,0,1,1900,"Nombre y el registro de entrada válida"]
[null,"",null,null,null,"",null,null,null,{"$f":"IF(I698=\"\",\"\",IF(VLOOKUP(I698,CAD_Q!$C$6:$D$105,2,FALSE)=0,\"\",VLOOKUP(I698,CAD_Q!$C$6:$D$105,2,FALSE)))","v":""},{"$f":"IFERROR(VLOOKUP(I698,CAD_Q!$C$6:$E$109,3,FALSE)*F698,\"\")","v":""},null,null,"",1,0,1900,0,1,1900,"Nombre y el registro de entrada válida"]
[null,"",null,null,null,"",null,null,null,{"$f":"IF(I699=\"\",\"\",IF(VLOOKUP(I699,CAD_Q!$C$6:$D$105,2,FALSE)=0,\"\",VLOOKUP(I699,CAD_Q!$C$6:$D$105,2,FALSE)))","v":""},{"$f":"IFERROR(VLOOKUP(I699,CAD_Q!$C$6:$E$109,3,FALSE)*F699,\"\")","v":""},null,null,"",1,0,1900,0,1,1900,"Nombre y el registro de entrada válida"]
[null,"",null,null,null,"",null,null,null,{"$f":"IF(I700=\"\",\"\",IF(VLOOKUP(I700,CAD_Q!$C$6:$D$105,2,FALSE)=0,\"\",VLOOKUP(I700,CAD_Q!$C$6:$D$105,2,FALSE)))","v":""},{"$f":"IFERROR(VLOOKUP(I700,CAD_Q!$C$6:$E$109,3,FALSE)*F700,\"\")","v":""},null,null,"",1,0,1900,0,1,1900,"Nombre y el registro de entrada válida"]
[null,"",null,null,null,"",null,null,null,{"$f":"IF(I701=\"\",\"\",IF(VLOOKUP(I701,CAD_Q!$C$6:$D$105,2,FALSE)=0,\"\",VLOOKUP(I701,CAD_Q!$C$6:$D$105,2,FALSE)))","v":""},{"$f":"IFERROR(VLOOKUP(I701,CAD_Q!$C$6:$E$109,3,FALSE)*F701,\"\")","v":""},null,null,"",1,0,1900,0,1,1900,"Nombre y el registro de entrada válida"]
[null,"",null,null,null,"",null,null,null,{"$f":"IF(I702=\"\",\"\",IF(VLOOKUP(I702,CAD_Q!$C$6:$D$105,2,FALSE)=0,\"\",VLOOKUP(I702,CAD_Q!$C$6:$D$105,2,FALSE)))","v":""},{"$f":"IFERROR(VLOOKUP(I702,CAD_Q!$C$6:$E$109,3,FALSE)*F702,\"\")","v":""},null,null,"",1,0,1900,0,1,1900,"Nombre y el registro de entrada válida"]
[null,"",null,null,null,"",null,null,null,{"$f":"IF(I703=\"\",\"\",IF(VLOOKUP(I703,CAD_Q!$C$6:$D$105,2,FALSE)=0,\"\",VLOOKUP(I703,CAD_Q!$C$6:$D$105,2,FALSE)))","v":""},{"$f":"IFERROR(VLOOKUP(I703,CAD_Q!$C$6:$E$109,3,FALSE)*F703,\"\")","v":""},null,null,"",1,0,1900,0,1,1900,"Nombre y el registro de entrada válida"]
[null,"",null,null,null,"",null,null,null,{"$f":"IF(I704=\"\",\"\",IF(VLOOKUP(I704,CAD_Q!$C$6:$D$105,2,FALSE)=0,\"\",VLOOKUP(I704,CAD_Q!$C$6:$D$105,2,FALSE)))","v":""},{"$f":"IFERROR(VLOOKUP(I704,CAD_Q!$C$6:$E$109,3,FALSE)*F704,\"\")","v":""},null,null,"",1,0,1900,0,1,1900,"Nombre y el registro de entrada válida"]
[null,"",null,null,null,"",null,null,null,{"$f":"IF(I705=\"\",\"\",IF(VLOOKUP(I705,CAD_Q!$C$6:$D$105,2,FALSE)=0,\"\",VLOOKUP(I705,CAD_Q!$C$6:$D$105,2,FALSE)))","v":""},{"$f":"IFERROR(VLOOKUP(I705,CAD_Q!$C$6:$E$109,3,FALSE)*F705,\"\")","v":""},null,null,"",1,0,1900,0,1,1900,"Nombre y el registro de entrada válida"]
[null,"",null,null,null,"",null,null,null,{"$f":"IF(I706=\"\",\"\",IF(VLOOKUP(I706,CAD_Q!$C$6:$D$105,2,FALSE)=0,\"\",VLOOKUP(I706,CAD_Q!$C$6:$D$105,2,FALSE)))","v":""},{"$f":"IFERROR(VLOOKUP(I706,CAD_Q!$C$6:$E$109,3,FALSE)*F706,\"\")","v":""},null,null,"",1,0,1900,0,1,1900,"Nombre y el registro de entrada válida"]
[null,"",null,null,null,"",null,null,null,{"$f":"IF(I707=\"\",\"\",IF(VLOOKUP(I707,CAD_Q!$C$6:$D$105,2,FALSE)=0,\"\",VLOOKUP(I707,CAD_Q!$C$6:$D$105,2,FALSE)))","v":""},{"$f":"IFERROR(VLOOKUP(I707,CAD_Q!$C$6:$E$109,3,FALSE)*F707,\"\")","v":""},null,null,"",1,0,1900,0,1,1900,"Nombre y el registro de entrada válida"]
[null,"",null,null,null,"",null,null,null,{"$f":"IF(I708=\"\",\"\",IF(VLOOKUP(I708,CAD_Q!$C$6:$D$105,2,FALSE)=0,\"\",VLOOKUP(I708,CAD_Q!$C$6:$D$105,2,FALSE)))","v":""},{"$f":"IFERROR(VLOOKUP(I708,CAD_Q!$C$6:$E$109,3,FALSE)*F708,\"\")","v":""},null,null,"",1,0,1900,0,1,1900,"Nombre y el registro de entrada válida"]
[null,"",null,null,null,"",null,null,null,{"$f":"IF(I709=\"\",\"\",IF(VLOOKUP(I709,CAD_Q!$C$6:$D$105,2,FALSE)=0,\"\",VLOOKUP(I709,CAD_Q!$C$6:$D$105,2,FALSE)))","v":""},{"$f":"IFERROR(VLOOKUP(I709,CAD_Q!$C$6:$E$109,3,FALSE)*F709,\"\")","v":""},null,null,"",1,0,1900,0,1,1900,"Nombre y el registro de entrada válida"]
[null,"",null,null,null,"",null,null,null,{"$f":"IF(I710=\"\",\"\",IF(VLOOKUP(I710,CAD_Q!$C$6:$D$105,2,FALSE)=0,\"\",VLOOKUP(I710,CAD_Q!$C$6:$D$105,2,FALSE)))","v":""},{"$f":"IFERROR(VLOOKUP(I710,CAD_Q!$C$6:$E$109,3,FALSE)*F710,\"\")","v":""},null,null,"",1,0,1900,0,1,1900,"Nombre y el registro de entrada válida"]
[null,{"$f":"CONCATENATE(C711,D711)","v":""},null,null,null,"",null,null,null,{"$f":"IF(I711=\"\",\"\",IF(VLOOKUP(I711,CAD_Q!$C$6:$D$105,2,FALSE)=0,\"\",VLOOKUP(I711,CAD_Q!$C$6:$D$105,2,FALSE)))","v":""},{"$f":"IFERROR(VLOOKUP(I711,CAD_Q!$C$6:$E$109,3,FALSE)*F711,\"\")","v":""},null,null,{"$f":"IFERROR(K711-L711+M711,\"\")","v":""},1,0,1900,0,1,1900,"Nombre y el registro de entrada válida"]
[null,"",null,null,null,"",null,null,null,{"$f":"IF(I712=\"\",\"\",IF(VLOOKUP(I712,CAD_Q!$C$6:$D$105,2,FALSE)=0,\"\",VLOOKUP(I712,CAD_Q!$C$6:$D$105,2,FALSE)))","v":""},{"$f":"IFERROR(VLOOKUP(I712,CAD_Q!$C$6:$E$109,3,FALSE)*F712,\"\")","v":""},null,null,"",1,0,1900,0,1,1900,"Nombre y el registro de entrada válida"]
[null,"",null,null,null,"",null,null,null,{"$f":"IF(I713=\"\",\"\",IF(VLOOKUP(I713,CAD_Q!$C$6:$D$105,2,FALSE)=0,\"\",VLOOKUP(I713,CAD_Q!$C$6:$D$105,2,FALSE)))","v":""},{"$f":"IFERROR(VLOOKUP(I713,CAD_Q!$C$6:$E$109,3,FALSE)*F713,\"\")","v":""},null,null,"",1,0,1900,0,1,1900,"Nombre y el registro de entrada válida"]
[null,"",null,null,null,"",null,null,null,{"$f":"IF(I714=\"\",\"\",IF(VLOOKUP(I714,CAD_Q!$C$6:$D$105,2,FALSE)=0,\"\",VLOOKUP(I714,CAD_Q!$C$6:$D$105,2,FALSE)))","v":""},{"$f":"IFERROR(VLOOKUP(I714,CAD_Q!$C$6:$E$109,3,FALSE)*F714,\"\")","v":""},null,null,"",{"$f":"MONTH(D714)","v":1},{"$f":"DAY(D714)","v":0},{"$f":"YEAR(D714)","v":1900},{"$f":"DAY(E714)","v":0},{"$f":"MONTH(E714)","v":1},{"$f":"YEAR(E714)","v":1900},"Nombre y el registro de entrada válida"]
[null,"",null,null,null,"",null,null,null,{"$f":"IF(I715=\"\",\"\",IF(VLOOKUP(I715,CAD_Q!$C$6:$D$105,2,FALSE)=0,\"\",VLOOKUP(I715,CAD_Q!$C$6:$D$105,2,FALSE)))","v":""},{"$f":"IFERROR(VLOOKUP(I715,CAD_Q!$C$6:$E$109,3,FALSE)*F715,\"\")","v":""},null,null,"",1,0,1900,0,1,1900,"Nombre y el registro de entrada válida"]
[null,"",null,null,null,"",null,null,null,{"$f":"IF(I716=\"\",\"\",IF(VLOOKUP(I716,CAD_Q!$C$6:$D$105,2,FALSE)=0,\"\",VLOOKUP(I716,CAD_Q!$C$6:$D$105,2,FALSE)))","v":""},{"$f":"IFERROR(VLOOKUP(I716,CAD_Q!$C$6:$E$109,3,FALSE)*F716,\"\")","v":""},null,null,"",1,0,1900,0,1,1900,"Nombre y el registro de entrada válida"]
[null,"",null,null,null,"",null,null,null,{"$f":"IF(I717=\"\",\"\",IF(VLOOKUP(I717,CAD_Q!$C$6:$D$105,2,FALSE)=0,\"\",VLOOKUP(I717,CAD_Q!$C$6:$D$105,2,FALSE)))","v":""},{"$f":"IFERROR(VLOOKUP(I717,CAD_Q!$C$6:$E$109,3,FALSE)*F717,\"\")","v":""},null,null,"",1,0,1900,0,1,1900,"Nombre y el registro de entrada válida"]
[null,"",null,null,null,"",null,null,null,{"$f":"IF(I718=\"\",\"\",IF(VLOOKUP(I718,CAD_Q!$C$6:$D$105,2,FALSE)=0,\"\",VLOOKUP(I718,CAD_Q!$C$6:$D$105,2,FALSE)))","v":""},{"$f":"IFERROR(VLOOKUP(I718,CAD_Q!$C$6:$E$109,3,FALSE)*F718,\"\")","v":""},null,null,"",1,0,1900,0,1,1900,"Nombre y el registro de entrada válida"]
[null,"",null,null,null,"",null,null,null,{"$f":"IF(I719=\"\",\"\",IF(VLOOKUP(I719,CAD_Q!$C$6:$D$105,2,FALSE)=0,\"\",VLOOKUP(I719,CAD_Q!$C$6:$D$105,2,FALSE)))","v":""},{"$f":"IFERROR(VLOOKUP(I719,CAD_Q!$C$6:$E$109,3,FALSE)*F719,\"\")","v":""},null,null,"",1,0,1900,0,1,1900,"Nombre y el registro de entrada válida"]
[null,"",null,null,null,"",null,null,null,{"$f":"IF(I720=\"\",\"\",IF(VLOOKUP(I720,CAD_Q!$C$6:$D$105,2,FALSE)=0,\"\",VLOOKUP(I720,CAD_Q!$C$6:$D$105,2,FALSE)))","v":""},{"$f":"IFERROR(VLOOKUP(I720,CAD_Q!$C$6:$E$109,3,FALSE)*F720,\"\")","v":""},null,null,"",1,0,1900,0,1,1900,"Nombre y el registro de entrada válida"]
[null,"",null,null,null,"",null,null,null,{"$f":"IF(I721=\"\",\"\",IF(VLOOKUP(I721,CAD_Q!$C$6:$D$105,2,FALSE)=0,\"\",VLOOKUP(I721,CAD_Q!$C$6:$D$105,2,FALSE)))","v":""},{"$f":"IFERROR(VLOOKUP(I721,CAD_Q!$C$6:$E$109,3,FALSE)*F721,\"\")","v":""},null,null,"",1,0,1900,0,1,1900,"Nombre y el registro de entrada válida"]
[null,"",null,null,null,"",null,null,null,{"$f":"IF(I722=\"\",\"\",IF(VLOOKUP(I722,CAD_Q!$C$6:$D$105,2,FALSE)=0,\"\",VLOOKUP(I722,CAD_Q!$C$6:$D$105,2,FALSE)))","v":""},{"$f":"IFERROR(VLOOKUP(I722,CAD_Q!$C$6:$E$109,3,FALSE)*F722,\"\")","v":""},null,null,"",1,0,1900,0,1,1900,"Nombre y el registro de entrada válida"]
[null,"",null,null,null,"",null,null,null,{"$f":"IF(I723=\"\",\"\",IF(VLOOKUP(I723,CAD_Q!$C$6:$D$105,2,FALSE)=0,\"\",VLOOKUP(I723,CAD_Q!$C$6:$D$105,2,FALSE)))","v":""},{"$f":"IFERROR(VLOOKUP(I723,CAD_Q!$C$6:$E$109,3,FALSE)*F723,\"\")","v":""},null,null,"",1,0,1900,0,1,1900,"Nombre y el registro de entrada válida"]
[null,"",null,null,null,"",null,null,null,{"$f":"IF(I724=\"\",\"\",IF(VLOOKUP(I724,CAD_Q!$C$6:$D$105,2,FALSE)=0,\"\",VLOOKUP(I724,CAD_Q!$C$6:$D$105,2,FALSE)))","v":""},{"$f":"IFERROR(VLOOKUP(I724,CAD_Q!$C$6:$E$109,3,FALSE)*F724,\"\")","v":""},null,null,"",1,0,1900,0,1,1900,"Nombre y el registro de entrada válida"]
[null,"",null,null,null,"",null,null,null,{"$f":"IF(I725=\"\",\"\",IF(VLOOKUP(I725,CAD_Q!$C$6:$D$105,2,FALSE)=0,\"\",VLOOKUP(I725,CAD_Q!$C$6:$D$105,2,FALSE)))","v":""},{"$f":"IFERROR(VLOOKUP(I725,CAD_Q!$C$6:$E$109,3,FALSE)*F725,\"\")","v":""},null,null,"",1,0,1900,0,1,1900,"Nombre y el registro de entrada válida"]
[null,"",null,null,null,"",null,null,null,{"$f":"IF(I726=\"\",\"\",IF(VLOOKUP(I726,CAD_Q!$C$6:$D$105,2,FALSE)=0,\"\",VLOOKUP(I726,CAD_Q!$C$6:$D$105,2,FALSE)))","v":""},{"$f":"IFERROR(VLOOKUP(I726,CAD_Q!$C$6:$E$109,3,FALSE)*F726,\"\")","v":""},null,null,"",1,0,1900,0,1,1900,"Nombre y el registro de entrada válida"]
[null,"",null,null,null,"",null,null,null,{"$f":"IF(I727=\"\",\"\",IF(VLOOKUP(I727,CAD_Q!$C$6:$D$105,2,FALSE)=0,\"\",VLOOKUP(I727,CAD_Q!$C$6:$D$105,2,FALSE)))","v":""},{"$f":"IFERROR(VLOOKUP(I727,CAD_Q!$C$6:$E$109,3,FALSE)*F727,\"\")","v":""},null,null,"",1,0,1900,0,1,1900,"Nombre y el registro de entrada válida"]
[null,"",null,null,null,"",null,null,null,{"$f":"IF(I728=\"\",\"\",IF(VLOOKUP(I728,CAD_Q!$C$6:$D$105,2,FALSE)=0,\"\",VLOOKUP(I728,CAD_Q!$C$6:$D$105,2,FALSE)))","v":""},{"$f":"IFERROR(VLOOKUP(I728,CAD_Q!$C$6:$E$109,3,FALSE)*F728,\"\")","v":""},null,null,"",1,0,1900,0,1,1900,"Nombre y el registro de entrada válida"]
[null,"",null,null,null,"",null,null,null,{"$f":"IF(I729=\"\",\"\",IF(VLOOKUP(I729,CAD_Q!$C$6:$D$105,2,FALSE)=0,\"\",VLOOKUP(I729,CAD_Q!$C$6:$D$105,2,FALSE)))","v":""},{"$f":"IFERROR(VLOOKUP(I729,CAD_Q!$C$6:$E$109,3,FALSE)*F729,\"\")","v":""},null,null,"",1,0,1900,0,1,1900,"Nombre y el registro de entrada válida"]
[null,"",null,null,null,"",null,null,null,{"$f":"IF(I730=\"\",\"\",IF(VLOOKUP(I730,CAD_Q!$C$6:$D$105,2,FALSE)=0,\"\",VLOOKUP(I730,CAD_Q!$C$6:$D$105,2,FALSE)))","v":""},{"$f":"IFERROR(VLOOKUP(I730,CAD_Q!$C$6:$E$109,3,FALSE)*F730,\"\")","v":""},null,null,"",1,0,1900,0,1,1900,"Nombre y el registro de entrada válida"]
[null,"",null,null,null,"",null,null,null,{"$f":"IF(I731=\"\",\"\",IF(VLOOKUP(I731,CAD_Q!$C$6:$D$105,2,FALSE)=0,\"\",VLOOKUP(I731,CAD_Q!$C$6:$D$105,2,FALSE)))","v":""},{"$f":"IFERROR(VLOOKUP(I731,CAD_Q!$C$6:$E$109,3,FALSE)*F731,\"\")","v":""},null,null,"",1,0,1900,0,1,1900,"Nombre y el registro de entrada válida"]
[null,"",null,null,null,"",null,null,null,{"$f":"IF(I732=\"\",\"\",IF(VLOOKUP(I732,CAD_Q!$C$6:$D$105,2,FALSE)=0,\"\",VLOOKUP(I732,CAD_Q!$C$6:$D$105,2,FALSE)))","v":""},{"$f":"IFERROR(VLOOKUP(I732,CAD_Q!$C$6:$E$109,3,FALSE)*F732,\"\")","v":""},null,null,"",1,0,1900,0,1,1900,"Nombre y el registro de entrada válida"]
[null,"",null,null,null,"",null,null,null,{"$f":"IF(I733=\"\",\"\",IF(VLOOKUP(I733,CAD_Q!$C$6:$D$105,2,FALSE)=0,\"\",VLOOKUP(I733,CAD_Q!$C$6:$D$105,2,FALSE)))","v":""},{"$f":"IFERROR(VLOOKUP(I733,CAD_Q!$C$6:$E$109,3,FALSE)*F733,\"\")","v":""},null,null,"",1,0,1900,0,1,1900,"Nombre y el registro de entrada válida"]
[null,"",null,null,null,"",null,null,null,{"$f":"IF(I734=\"\",\"\",IF(VLOOKUP(I734,CAD_Q!$C$6:$D$105,2,FALSE)=0,\"\",VLOOKUP(I734,CAD_Q!$C$6:$D$105,2,FALSE)))","v":""},{"$f":"IFERROR(VLOOKUP(I734,CAD_Q!$C$6:$E$109,3,FALSE)*F734,\"\")","v":""},null,null,"",1,0,1900,0,1,1900,"Nombre y el registro de entrada válida"]
[null,"",null,null,null,"",null,null,null,{"$f":"IF(I735=\"\",\"\",IF(VLOOKUP(I735,CAD_Q!$C$6:$D$105,2,FALSE)=0,\"\",VLOOKUP(I735,CAD_Q!$C$6:$D$105,2,FALSE)))","v":""},{"$f":"IFERROR(VLOOKUP(I735,CAD_Q!$C$6:$E$109,3,FALSE)*F735,\"\")","v":""},null,null,"",1,0,1900,0,1,1900,"Nombre y el registro de entrada válida"]
[null,"",null,null,null,"",null,null,null,{"$f":"IF(I736=\"\",\"\",IF(VLOOKUP(I736,CAD_Q!$C$6:$D$105,2,FALSE)=0,\"\",VLOOKUP(I736,CAD_Q!$C$6:$D$105,2,FALSE)))","v":""},{"$f":"IFERROR(VLOOKUP(I736,CAD_Q!$C$6:$E$109,3,FALSE)*F736,\"\")","v":""},null,null,"",1,0,1900,0,1,1900,"Nombre y el registro de entrada válida"]
[null,"",null,null,null,"",null,null,null,{"$f":"IF(I737=\"\",\"\",IF(VLOOKUP(I737,CAD_Q!$C$6:$D$105,2,FALSE)=0,\"\",VLOOKUP(I737,CAD_Q!$C$6:$D$105,2,FALSE)))","v":""},{"$f":"IFERROR(VLOOKUP(I737,CAD_Q!$C$6:$E$109,3,FALSE)*F737,\"\")","v":""},null,null,"",1,0,1900,0,1,1900,"Nombre y el registro de entrada válida"]
[null,"",null,null,null,"",null,null,null,{"$f":"IF(I738=\"\",\"\",IF(VLOOKUP(I738,CAD_Q!$C$6:$D$105,2,FALSE)=0,\"\",VLOOKUP(I738,CAD_Q!$C$6:$D$105,2,FALSE)))","v":""},{"$f":"IFERROR(VLOOKUP(I738,CAD_Q!$C$6:$E$109,3,FALSE)*F738,\"\")","v":""},null,null,"",1,0,1900,0,1,1900,"Nombre y el registro de entrada válida"]
[null,"",null,null,null,"",null,null,null,{"$f":"IF(I739=\"\",\"\",IF(VLOOKUP(I739,CAD_Q!$C$6:$D$105,2,FALSE)=0,\"\",VLOOKUP(I739,CAD_Q!$C$6:$D$105,2,FALSE)))","v":""},{"$f":"IFERROR(VLOOKUP(I739,CAD_Q!$C$6:$E$109,3,FALSE)*F739,\"\")","v":""},null,null,"",1,0,1900,0,1,1900,"Nombre y el registro de entrada válida"]
[null,"",null,null,null,{"$f":"IF(OR(D740=\"\",E740=\"\"),\"\",E740-D740)","v":""},null,null,null,{"$f":"IF(I740=\"\",\"\",IF(VLOOKUP(I740,CAD_Q!$C$6:$D$105,2,FALSE)=0,\"\",VLOOKUP(I740,CAD_Q!$C$6:$D$105,2,FALSE)))","v":""},{"$f":"IFERROR(VLOOKUP(I740,CAD_Q!$C$6:$E$109,3,FALSE)*F740,\"\")","v":""},null,null,"",1,0,1900,0,1,1900,"Nombre y el registro de entrada válida"]
[null,"",null,null,null,"",null,null,null,{"$f":"IF(I741=\"\",\"\",IF(VLOOKUP(I741,CAD_Q!$C$6:$D$105,2,FALSE)=0,\"\",VLOOKUP(I741,CAD_Q!$C$6:$D$105,2,FALSE)))","v":""},{"$f":"IFERROR(VLOOKUP(I741,CAD_Q!$C$6:$E$109,3,FALSE)*F741,\"\")","v":""},null,null,"",1,0,1900,0,1,1900,"Nombre y el registro de entrada válida"]
[null,"",null,null,null,"",null,null,null,{"$f":"IF(I742=\"\",\"\",IF(VLOOKUP(I742,CAD_Q!$C$6:$D$105,2,FALSE)=0,\"\",VLOOKUP(I742,CAD_Q!$C$6:$D$105,2,FALSE)))","v":""},{"$f":"IFERROR(VLOOKUP(I742,CAD_Q!$C$6:$E$109,3,FALSE)*F742,\"\")","v":""},null,null,"",1,0,1900,0,1,1900,"Nombre y el registro de entrada válida"]
[null,"",null,null,null,"",null,null,null,{"$f":"IF(I743=\"\",\"\",IF(VLOOKUP(I743,CAD_Q!$C$6:$D$105,2,FALSE)=0,\"\",VLOOKUP(I743,CAD_Q!$C$6:$D$105,2,FALSE)))","v":""},{"$f":"IFERROR(VLOOKUP(I743,CAD_Q!$C$6:$E$109,3,FALSE)*F743,\"\")","v":""},null,null,"",1,0,1900,0,1,1900,"Nombre y el registro de entrada válida"]
[null,"",null,null,null,"",null,null,null,{"$f":"IF(I744=\"\",\"\",IF(VLOOKUP(I744,CAD_Q!$C$6:$D$105,2,FALSE)=0,\"\",VLOOKUP(I744,CAD_Q!$C$6:$D$105,2,FALSE)))","v":""},{"$f":"IFERROR(VLOOKUP(I744,CAD_Q!$C$6:$E$109,3,FALSE)*F744,\"\")","v":""},null,null,"",1,0,1900,0,1,1900,"Nombre y el registro de entrada válida"]
[null,"",null,null,null,"",null,null,null,{"$f":"IF(I745=\"\",\"\",IF(VLOOKUP(I745,CAD_Q!$C$6:$D$105,2,FALSE)=0,\"\",VLOOKUP(I745,CAD_Q!$C$6:$D$105,2,FALSE)))","v":""},{"$f":"IFERROR(VLOOKUP(I745,CAD_Q!$C$6:$E$109,3,FALSE)*F745,\"\")","v":""},null,null,"",1,0,1900,0,1,1900,"Nombre y el registro de entrada válida"]
[null,"",null,null,null,"",null,null,null,{"$f":"IF(I746=\"\",\"\",IF(VLOOKUP(I746,CAD_Q!$C$6:$D$105,2,FALSE)=0,\"\",VLOOKUP(I746,CAD_Q!$C$6:$D$105,2,FALSE)))","v":""},{"$f":"IFERROR(VLOOKUP(I746,CAD_Q!$C$6:$E$109,3,FALSE)*F746,\"\")","v":""},null,null,"",1,0,1900,0,1,1900,"Nombre y el registro de entrada válida"]
[null,"",null,null,null,"",null,null,null,{"$f":"IF(I747=\"\",\"\",IF(VLOOKUP(I747,CAD_Q!$C$6:$D$105,2,FALSE)=0,\"\",VLOOKUP(I747,CAD_Q!$C$6:$D$105,2,FALSE)))","v":""},{"$f":"IFERROR(VLOOKUP(I747,CAD_Q!$C$6:$E$109,3,FALSE)*F747,\"\")","v":""},null,null,"",1,0,1900,0,1,1900,"Nombre y el registro de entrada válida"]
[null,"",null,null,null,"",null,null,null,{"$f":"IF(I748=\"\",\"\",IF(VLOOKUP(I748,CAD_Q!$C$6:$D$105,2,FALSE)=0,\"\",VLOOKUP(I748,CAD_Q!$C$6:$D$105,2,FALSE)))","v":""},{"$f":"IFERROR(VLOOKUP(I748,CAD_Q!$C$6:$E$109,3,FALSE)*F748,\"\")","v":""},null,null,"",1,0,1900,0,1,1900,"Nombre y el registro de entrada válida"]
[null,"",null,null,null,"",null,null,null,{"$f":"IF(I749=\"\",\"\",IF(VLOOKUP(I749,CAD_Q!$C$6:$D$105,2,FALSE)=0,\"\",VLOOKUP(I749,CAD_Q!$C$6:$D$105,2,FALSE)))","v":""},{"$f":"IFERROR(VLOOKUP(I749,CAD_Q!$C$6:$E$109,3,FALSE)*F749,\"\")","v":""},null,null,"",1,0,1900,0,1,1900,"Nombre y el registro de entrada válida"]
[null,"",null,null,null,"",null,null,null,{"$f":"IF(I750=\"\",\"\",IF(VLOOKUP(I750,CAD_Q!$C$6:$D$105,2,FALSE)=0,\"\",VLOOKUP(I750,CAD_Q!$C$6:$D$105,2,FALSE)))","v":""},{"$f":"IFERROR(VLOOKUP(I750,CAD_Q!$C$6:$E$109,3,FALSE)*F750,\"\")","v":""},null,null,"",1,0,1900,0,1,1900,"Nombre y el registro de entrada válida"]
[null,"",null,null,null,"",null,null,null,{"$f":"IF(I751=\"\",\"\",IF(VLOOKUP(I751,CAD_Q!$C$6:$D$105,2,FALSE)=0,\"\",VLOOKUP(I751,CAD_Q!$C$6:$D$105,2,FALSE)))","v":""},{"$f":"IFERROR(VLOOKUP(I751,CAD_Q!$C$6:$E$109,3,FALSE)*F751,\"\")","v":""},null,null,"",1,0,1900,0,1,1900,"Nombre y el registro de entrada válida"]
[null,"",null,null,null,"",null,null,null,{"$f":"IF(I752=\"\",\"\",IF(VLOOKUP(I752,CAD_Q!$C$6:$D$105,2,FALSE)=0,\"\",VLOOKUP(I752,CAD_Q!$C$6:$D$105,2,FALSE)))","v":""},{"$f":"IFERROR(VLOOKUP(I752,CAD_Q!$C$6:$E$109,3,FALSE)*F752,\"\")","v":""},null,null,"",1,0,1900,0,1,1900,"Nombre y el registro de entrada válida"]
[null,"",null,null,null,"",null,null,null,{"$f":"IF(I753=\"\",\"\",IF(VLOOKUP(I753,CAD_Q!$C$6:$D$105,2,FALSE)=0,\"\",VLOOKUP(I753,CAD_Q!$C$6:$D$105,2,FALSE)))","v":""},{"$f":"IFERROR(VLOOKUP(I753,CAD_Q!$C$6:$E$109,3,FALSE)*F753,\"\")","v":""},null,null,"",1,0,1900,0,1,1900,"Nombre y el registro de entrada válida"]
[null,"",null,null,null,"",null,null,null,{"$f":"IF(I754=\"\",\"\",IF(VLOOKUP(I754,CAD_Q!$C$6:$D$105,2,FALSE)=0,\"\",VLOOKUP(I754,CAD_Q!$C$6:$D$105,2,FALSE)))","v":""},{"$f":"IFERROR(VLOOKUP(I754,CAD_Q!$C$6:$E$109,3,FALSE)*F754,\"\")","v":""},null,null,"",1,0,1900,0,1,1900,"Nombre y el registro de entrada válida"]
[null,"",null,null,null,"",null,null,null,{"$f":"IF(I755=\"\",\"\",IF(VLOOKUP(I755,CAD_Q!$C$6:$D$105,2,FALSE)=0,\"\",VLOOKUP(I755,CAD_Q!$C$6:$D$105,2,FALSE)))","v":""},{"$f":"IFERROR(VLOOKUP(I755,CAD_Q!$C$6:$E$109,3,FALSE)*F755,\"\")","v":""},null,null,"",1,0,1900,0,1,1900,"Nombre y el registro de entrada válida"]
[null,"",null,null,null,"",null,null,null,{"$f":"IF(I756=\"\",\"\",IF(VLOOKUP(I756,CAD_Q!$C$6:$D$105,2,FALSE)=0,\"\",VLOOKUP(I756,CAD_Q!$C$6:$D$105,2,FALSE)))","v":""},{"$f":"IFERROR(VLOOKUP(I756,CAD_Q!$C$6:$E$109,3,FALSE)*F756,\"\")","v":""},null,null,"",1,0,1900,0,1,1900,"Nombre y el registro de entrada válida"]
[null,"",null,null,null,"",null,null,null,{"$f":"IF(I757=\"\",\"\",IF(VLOOKUP(I757,CAD_Q!$C$6:$D$105,2,FALSE)=0,\"\",VLOOKUP(I757,CAD_Q!$C$6:$D$105,2,FALSE)))","v":""},{"$f":"IFERROR(VLOOKUP(I757,CAD_Q!$C$6:$E$109,3,FALSE)*F757,\"\")","v":""},null,null,"",1,0,1900,0,1,1900,"Nombre y el registro de entrada válida"]
[null,"",null,null,null,"",null,null,null,{"$f":"IF(I758=\"\",\"\",IF(VLOOKUP(I758,CAD_Q!$C$6:$D$105,2,FALSE)=0,\"\",VLOOKUP(I758,CAD_Q!$C$6:$D$105,2,FALSE)))","v":""},{"$f":"IFERROR(VLOOKUP(I758,CAD_Q!$C$6:$E$109,3,FALSE)*F758,\"\")","v":""},null,null,"",1,0,1900,0,1,1900,"Nombre y el registro de entrada válida"]
[null,"",null,null,null,"",null,null,null,{"$f":"IF(I759=\"\",\"\",IF(VLOOKUP(I759,CAD_Q!$C$6:$D$105,2,FALSE)=0,\"\",VLOOKUP(I759,CAD_Q!$C$6:$D$105,2,FALSE)))","v":""},{"$f":"IFERROR(VLOOKUP(I759,CAD_Q!$C$6:$E$109,3,FALSE)*F759,\"\")","v":""},null,null,"",1,0,1900,0,1,1900,"Nombre y el registro de entrada válida"]
[null,"",null,null,null,"",null,null,null,{"$f":"IF(I760=\"\",\"\",IF(VLOOKUP(I760,CAD_Q!$C$6:$D$105,2,FALSE)=0,\"\",VLOOKUP(I760,CAD_Q!$C$6:$D$105,2,FALSE)))","v":""},{"$f":"IFERROR(VLOOKUP(I760,CAD_Q!$C$6:$E$109,3,FALSE)*F760,\"\")","v":""},null,null,"",1,0,1900,0,1,1900,"Nombre y el registro de entrada válida"]
[null,"",null,null,null,"",null,null,null,{"$f":"IF(I761=\"\",\"\",IF(VLOOKUP(I761,CAD_Q!$C$6:$D$105,2,FALSE)=0,\"\",VLOOKUP(I761,CAD_Q!$C$6:$D$105,2,FALSE)))","v":""},{"$f":"IFERROR(VLOOKUP(I761,CAD_Q!$C$6:$E$109,3,FALSE)*F761,\"\")","v":""},null,null,"",1,0,1900,0,1,1900,"Nombre y el registro de entrada válida"]
[null,"",null,null,null,"",null,null,null,{"$f":"IF(I762=\"\",\"\",IF(VLOOKUP(I762,CAD_Q!$C$6:$D$105,2,FALSE)=0,\"\",VLOOKUP(I762,CAD_Q!$C$6:$D$105,2,FALSE)))","v":""},{"$f":"IFERROR(VLOOKUP(I762,CAD_Q!$C$6:$E$109,3,FALSE)*F762,\"\")","v":""},null,null,"",1,0,1900,0,1,1900,"Nombre y el registro de entrada válida"]
[null,"",null,null,null,"",null,null,null,{"$f":"IF(I763=\"\",\"\",IF(VLOOKUP(I763,CAD_Q!$C$6:$D$105,2,FALSE)=0,\"\",VLOOKUP(I763,CAD_Q!$C$6:$D$105,2,FALSE)))","v":""},{"$f":"IFERROR(VLOOKUP(I763,CAD_Q!$C$6:$E$109,3,FALSE)*F763,\"\")","v":""},null,null,"",1,0,1900,0,1,1900,"Nombre y el registro de entrada válida"]
[null,"",null,null,null,"",null,null,null,{"$f":"IF(I764=\"\",\"\",IF(VLOOKUP(I764,CAD_Q!$C$6:$D$105,2,FALSE)=0,\"\",VLOOKUP(I764,CAD_Q!$C$6:$D$105,2,FALSE)))","v":""},{"$f":"IFERROR(VLOOKUP(I764,CAD_Q!$C$6:$E$109,3,FALSE)*F764,\"\")","v":""},null,null,"",1,0,1900,0,1,1900,"Nombre y el registro de entrada válida"]
[null,"",null,null,null,"",null,null,null,{"$f":"IF(I765=\"\",\"\",IF(VLOOKUP(I765,CAD_Q!$C$6:$D$105,2,FALSE)=0,\"\",VLOOKUP(I765,CAD_Q!$C$6:$D$105,2,FALSE)))","v":""},{"$f":"IFERROR(VLOOKUP(I765,CAD_Q!$C$6:$E$109,3,FALSE)*F765,\"\")","v":""},null,null,"",1,0,1900,0,1,1900,"Nombre y el registro de entrada válida"]
[null,"",null,null,null,"",null,null,null,{"$f":"IF(I766=\"\",\"\",IF(VLOOKUP(I766,CAD_Q!$C$6:$D$105,2,FALSE)=0,\"\",VLOOKUP(I766,CAD_Q!$C$6:$D$105,2,FALSE)))","v":""},{"$f":"IFERROR(VLOOKUP(I766,CAD_Q!$C$6:$E$109,3,FALSE)*F766,\"\")","v":""},null,null,"",1,0,1900,0,1,1900,"Nombre y el registro de entrada válida"]
[null,"",null,null,null,"",null,null,null,{"$f":"IF(I767=\"\",\"\",IF(VLOOKUP(I767,CAD_Q!$C$6:$D$105,2,FALSE)=0,\"\",VLOOKUP(I767,CAD_Q!$C$6:$D$105,2,FALSE)))","v":""},{"$f":"IFERROR(VLOOKUP(I767,CAD_Q!$C$6:$E$109,3,FALSE)*F767,\"\")","v":""},null,null,"",1,0,1900,0,1,1900,"Nombre y el registro de entrada válida"]
[null,"",null,null,null,"",null,null,null,{"$f":"IF(I768=\"\",\"\",IF(VLOOKUP(I768,CAD_Q!$C$6:$D$105,2,FALSE)=0,\"\",VLOOKUP(I768,CAD_Q!$C$6:$D$105,2,FALSE)))","v":""},{"$f":"IFERROR(VLOOKUP(I768,CAD_Q!$C$6:$E$109,3,FALSE)*F768,\"\")","v":""},null,null,"",1,0,1900,0,1,1900,"Nombre y el registro de entrada válida"]
[null,"",null,null,null,"",null,null,null,{"$f":"IF(I769=\"\",\"\",IF(VLOOKUP(I769,CAD_Q!$C$6:$D$105,2,FALSE)=0,\"\",VLOOKUP(I769,CAD_Q!$C$6:$D$105,2,FALSE)))","v":""},{"$f":"IFERROR(VLOOKUP(I769,CAD_Q!$C$6:$E$109,3,FALSE)*F769,\"\")","v":""},null,null,"",1,0,1900,0,1,1900,"Nombre y el registro de entrada válida"]
[null,"",null,null,null,"",null,null,null,{"$f":"IF(I770=\"\",\"\",IF(VLOOKUP(I770,CAD_Q!$C$6:$D$105,2,FALSE)=0,\"\",VLOOKUP(I770,CAD_Q!$C$6:$D$105,2,FALSE)))","v":""},{"$f":"IFERROR(VLOOKUP(I770,CAD_Q!$C$6:$E$109,3,FALSE)*F770,\"\")","v":""},null,null,"",1,0,1900,0,1,1900,"Nombre y el registro de entrada válida"]
[null,"",null,null,null,"",null,null,null,{"$f":"IF(I771=\"\",\"\",IF(VLOOKUP(I771,CAD_Q!$C$6:$D$105,2,FALSE)=0,\"\",VLOOKUP(I771,CAD_Q!$C$6:$D$105,2,FALSE)))","v":""},{"$f":"IFERROR(VLOOKUP(I771,CAD_Q!$C$6:$E$109,3,FALSE)*F771,\"\")","v":""},null,null,"",1,0,1900,0,1,1900,"Nombre y el registro de entrada válida"]
[null,"",null,null,null,"",null,null,null,{"$f":"IF(I772=\"\",\"\",IF(VLOOKUP(I772,CAD_Q!$C$6:$D$105,2,FALSE)=0,\"\",VLOOKUP(I772,CAD_Q!$C$6:$D$105,2,FALSE)))","v":""},{"$f":"IFERROR(VLOOKUP(I772,CAD_Q!$C$6:$E$109,3,FALSE)*F772,\"\")","v":""},null,null,"",1,0,1900,0,1,1900,"Nombre y el registro de entrada válida"]
[null,"",null,null,null,"",null,null,null,{"$f":"IF(I773=\"\",\"\",IF(VLOOKUP(I773,CAD_Q!$C$6:$D$105,2,FALSE)=0,\"\",VLOOKUP(I773,CAD_Q!$C$6:$D$105,2,FALSE)))","v":""},{"$f":"IFERROR(VLOOKUP(I773,CAD_Q!$C$6:$E$109,3,FALSE)*F773,\"\")","v":""},null,null,"",1,0,1900,0,1,1900,"Nombre y el registro de entrada válida"]
[null,"",null,null,null,"",null,null,null,{"$f":"IF(I774=\"\",\"\",IF(VLOOKUP(I774,CAD_Q!$C$6:$D$105,2,FALSE)=0,\"\",VLOOKUP(I774,CAD_Q!$C$6:$D$105,2,FALSE)))","v":""},{"$f":"IFERROR(VLOOKUP(I774,CAD_Q!$C$6:$E$109,3,FALSE)*F774,\"\")","v":""},null,null,"",1,0,1900,0,1,1900,"Nombre y el registro de entrada válida"]
[null,{"$f":"CONCATENATE(C775,D775)","v":""},null,null,null,"",null,null,null,{"$f":"IF(I775=\"\",\"\",IF(VLOOKUP(I775,CAD_Q!$C$6:$D$105,2,FALSE)=0,\"\",VLOOKUP(I775,CAD_Q!$C$6:$D$105,2,FALSE)))","v":""},{"$f":"IFERROR(VLOOKUP(I775,CAD_Q!$C$6:$E$109,3,FALSE)*F775,\"\")","v":""},null,null,{"$f":"IFERROR(K775-L775+M775,\"\")","v":""},1,0,1900,0,1,1900,"Nombre y el registro de entrada válida"]
[null,"",null,null,null,"",null,null,null,{"$f":"IF(I776=\"\",\"\",IF(VLOOKUP(I776,CAD_Q!$C$6:$D$105,2,FALSE)=0,\"\",VLOOKUP(I776,CAD_Q!$C$6:$D$105,2,FALSE)))","v":""},{"$f":"IFERROR(VLOOKUP(I776,CAD_Q!$C$6:$E$109,3,FALSE)*F776,\"\")","v":""},null,null,"",1,0,1900,0,1,1900,"Nombre y el registro de entrada válida"]
[null,"",null,null,null,"",null,null,null,{"$f":"IF(I777=\"\",\"\",IF(VLOOKUP(I777,CAD_Q!$C$6:$D$105,2,FALSE)=0,\"\",VLOOKUP(I777,CAD_Q!$C$6:$D$105,2,FALSE)))","v":""},{"$f":"IFERROR(VLOOKUP(I777,CAD_Q!$C$6:$E$109,3,FALSE)*F777,\"\")","v":""},null,null,"",1,0,1900,0,1,1900,"Nombre y el registro de entrada válida"]
[null,"",null,null,null,"",null,null,null,{"$f":"IF(I778=\"\",\"\",IF(VLOOKUP(I778,CAD_Q!$C$6:$D$105,2,FALSE)=0,\"\",VLOOKUP(I778,CAD_Q!$C$6:$D$105,2,FALSE)))","v":""},{"$f":"IFERROR(VLOOKUP(I778,CAD_Q!$C$6:$E$109,3,FALSE)*F778,\"\")","v":""},null,null,"",{"$f":"MONTH(D778)","v":1},{"$f":"DAY(D778)","v":0},{"$f":"YEAR(D778)","v":1900},{"$f":"DAY(E778)","v":0},{"$f":"MONTH(E778)","v":1},{"$f":"YEAR(E778)","v":1900},"Nombre y el registro de entrada válida"]
[null,"",null,null,null,"",null,null,null,{"$f":"IF(I779=\"\",\"\",IF(VLOOKUP(I779,CAD_Q!$C$6:$D$105,2,FALSE)=0,\"\",VLOOKUP(I779,CAD_Q!$C$6:$D$105,2,FALSE)))","v":""},{"$f":"IFERROR(VLOOKUP(I779,CAD_Q!$C$6:$E$109,3,FALSE)*F779,\"\")","v":""},null,null,"",1,0,1900,0,1,1900,"Nombre y el registro de entrada válida"]
[null,"",null,null,null,"",null,null,null,{"$f":"IF(I780=\"\",\"\",IF(VLOOKUP(I780,CAD_Q!$C$6:$D$105,2,FALSE)=0,\"\",VLOOKUP(I780,CAD_Q!$C$6:$D$105,2,FALSE)))","v":""},{"$f":"IFERROR(VLOOKUP(I780,CAD_Q!$C$6:$E$109,3,FALSE)*F780,\"\")","v":""},null,null,"",1,0,1900,0,1,1900,"Nombre y el registro de entrada válida"]
[null,"",null,null,null,"",null,null,null,{"$f":"IF(I781=\"\",\"\",IF(VLOOKUP(I781,CAD_Q!$C$6:$D$105,2,FALSE)=0,\"\",VLOOKUP(I781,CAD_Q!$C$6:$D$105,2,FALSE)))","v":""},{"$f":"IFERROR(VLOOKUP(I781,CAD_Q!$C$6:$E$109,3,FALSE)*F781,\"\")","v":""},null,null,"",1,0,1900,0,1,1900,"Nombre y el registro de entrada válida"]
[null,"",null,null,null,"",null,null,null,{"$f":"IF(I782=\"\",\"\",IF(VLOOKUP(I782,CAD_Q!$C$6:$D$105,2,FALSE)=0,\"\",VLOOKUP(I782,CAD_Q!$C$6:$D$105,2,FALSE)))","v":""},{"$f":"IFERROR(VLOOKUP(I782,CAD_Q!$C$6:$E$109,3,FALSE)*F782,\"\")","v":""},null,null,"",1,0,1900,0,1,1900,"Nombre y el registro de entrada válida"]
[null,"",null,null,null,"",null,null,null,{"$f":"IF(I783=\"\",\"\",IF(VLOOKUP(I783,CAD_Q!$C$6:$D$105,2,FALSE)=0,\"\",VLOOKUP(I783,CAD_Q!$C$6:$D$105,2,FALSE)))","v":""},{"$f":"IFERROR(VLOOKUP(I783,CAD_Q!$C$6:$E$109,3,FALSE)*F783,\"\")","v":""},null,null,"",1,0,1900,0,1,1900,"Nombre y el registro de entrada válida"]
[null,"",null,null,null,"",null,null,null,{"$f":"IF(I784=\"\",\"\",IF(VLOOKUP(I784,CAD_Q!$C$6:$D$105,2,FALSE)=0,\"\",VLOOKUP(I784,CAD_Q!$C$6:$D$105,2,FALSE)))","v":""},{"$f":"IFERROR(VLOOKUP(I784,CAD_Q!$C$6:$E$109,3,FALSE)*F784,\"\")","v":""},null,null,"",1,0,1900,0,1,1900,"Nombre y el registro de entrada válida"]
[null,"",null,null,null,"",null,null,null,{"$f":"IF(I785=\"\",\"\",IF(VLOOKUP(I785,CAD_Q!$C$6:$D$105,2,FALSE)=0,\"\",VLOOKUP(I785,CAD_Q!$C$6:$D$105,2,FALSE)))","v":""},{"$f":"IFERROR(VLOOKUP(I785,CAD_Q!$C$6:$E$109,3,FALSE)*F785,\"\")","v":""},null,null,"",1,0,1900,0,1,1900,"Nombre y el registro de entrada válida"]
[null,"",null,null,null,"",null,null,null,{"$f":"IF(I786=\"\",\"\",IF(VLOOKUP(I786,CAD_Q!$C$6:$D$105,2,FALSE)=0,\"\",VLOOKUP(I786,CAD_Q!$C$6:$D$105,2,FALSE)))","v":""},{"$f":"IFERROR(VLOOKUP(I786,CAD_Q!$C$6:$E$109,3,FALSE)*F786,\"\")","v":""},null,null,"",1,0,1900,0,1,1900,"Nombre y el registro de entrada válida"]
[null,"",null,null,null,"",null,null,null,{"$f":"IF(I787=\"\",\"\",IF(VLOOKUP(I787,CAD_Q!$C$6:$D$105,2,FALSE)=0,\"\",VLOOKUP(I787,CAD_Q!$C$6:$D$105,2,FALSE)))","v":""},{"$f":"IFERROR(VLOOKUP(I787,CAD_Q!$C$6:$E$109,3,FALSE)*F787,\"\")","v":""},null,null,"",1,0,1900,0,1,1900,"Nombre y el registro de entrada válida"]
[null,"",null,null,null,"",null,null,null,{"$f":"IF(I788=\"\",\"\",IF(VLOOKUP(I788,CAD_Q!$C$6:$D$105,2,FALSE)=0,\"\",VLOOKUP(I788,CAD_Q!$C$6:$D$105,2,FALSE)))","v":""},{"$f":"IFERROR(VLOOKUP(I788,CAD_Q!$C$6:$E$109,3,FALSE)*F788,\"\")","v":""},null,null,"",1,0,1900,0,1,1900,"Nombre y el registro de entrada válida"]
[null,"",null,null,null,"",null,null,null,{"$f":"IF(I789=\"\",\"\",IF(VLOOKUP(I789,CAD_Q!$C$6:$D$105,2,FALSE)=0,\"\",VLOOKUP(I789,CAD_Q!$C$6:$D$105,2,FALSE)))","v":""},{"$f":"IFERROR(VLOOKUP(I789,CAD_Q!$C$6:$E$109,3,FALSE)*F789,\"\")","v":""},null,null,"",1,0,1900,0,1,1900,"Nombre y el registro de entrada válida"]
[null,"",null,null,null,"",null,null,null,{"$f":"IF(I790=\"\",\"\",IF(VLOOKUP(I790,CAD_Q!$C$6:$D$105,2,FALSE)=0,\"\",VLOOKUP(I790,CAD_Q!$C$6:$D$105,2,FALSE)))","v":""},{"$f":"IFERROR(VLOOKUP(I790,CAD_Q!$C$6:$E$109,3,FALSE)*F790,\"\")","v":""},null,null,"",1,0,1900,0,1,1900,"Nombre y el registro de entrada válida"]
[null,"",null,null,null,"",null,null,null,{"$f":"IF(I791=\"\",\"\",IF(VLOOKUP(I791,CAD_Q!$C$6:$D$105,2,FALSE)=0,\"\",VLOOKUP(I791,CAD_Q!$C$6:$D$105,2,FALSE)))","v":""},{"$f":"IFERROR(VLOOKUP(I791,CAD_Q!$C$6:$E$109,3,FALSE)*F791,\"\")","v":""},null,null,"",1,0,1900,0,1,1900,"Nombre y el registro de entrada válida"]
[null,"",null,null,null,"",null,null,null,{"$f":"IF(I792=\"\",\"\",IF(VLOOKUP(I792,CAD_Q!$C$6:$D$105,2,FALSE)=0,\"\",VLOOKUP(I792,CAD_Q!$C$6:$D$105,2,FALSE)))","v":""},{"$f":"IFERROR(VLOOKUP(I792,CAD_Q!$C$6:$E$109,3,FALSE)*F792,\"\")","v":""},null,null,"",1,0,1900,0,1,1900,"Nombre y el registro de entrada válida"]
[null,"",null,null,null,"",null,null,null,{"$f":"IF(I793=\"\",\"\",IF(VLOOKUP(I793,CAD_Q!$C$6:$D$105,2,FALSE)=0,\"\",VLOOKUP(I793,CAD_Q!$C$6:$D$105,2,FALSE)))","v":""},{"$f":"IFERROR(VLOOKUP(I793,CAD_Q!$C$6:$E$109,3,FALSE)*F793,\"\")","v":""},null,null,"",1,0,1900,0,1,1900,"Nombre y el registro de entrada válida"]
[null,"",null,null,null,"",null,null,null,{"$f":"IF(I794=\"\",\"\",IF(VLOOKUP(I794,CAD_Q!$C$6:$D$105,2,FALSE)=0,\"\",VLOOKUP(I794,CAD_Q!$C$6:$D$105,2,FALSE)))","v":""},{"$f":"IFERROR(VLOOKUP(I794,CAD_Q!$C$6:$E$109,3,FALSE)*F794,\"\")","v":""},null,null,"",1,0,1900,0,1,1900,"Nombre y el registro de entrada válida"]
[null,"",null,null,null,"",null,null,null,{"$f":"IF(I795=\"\",\"\",IF(VLOOKUP(I795,CAD_Q!$C$6:$D$105,2,FALSE)=0,\"\",VLOOKUP(I795,CAD_Q!$C$6:$D$105,2,FALSE)))","v":""},{"$f":"IFERROR(VLOOKUP(I795,CAD_Q!$C$6:$E$109,3,FALSE)*F795,\"\")","v":""},null,null,"",1,0,1900,0,1,1900,"Nombre y el registro de entrada válida"]
[null,"",null,null,null,"",null,null,null,{"$f":"IF(I796=\"\",\"\",IF(VLOOKUP(I796,CAD_Q!$C$6:$D$105,2,FALSE)=0,\"\",VLOOKUP(I796,CAD_Q!$C$6:$D$105,2,FALSE)))","v":""},{"$f":"IFERROR(VLOOKUP(I796,CAD_Q!$C$6:$E$109,3,FALSE)*F796,\"\")","v":""},null,null,"",1,0,1900,0,1,1900,"Nombre y el registro de entrada válida"]
[null,"",null,null,null,"",null,null,null,{"$f":"IF(I797=\"\",\"\",IF(VLOOKUP(I797,CAD_Q!$C$6:$D$105,2,FALSE)=0,\"\",VLOOKUP(I797,CAD_Q!$C$6:$D$105,2,FALSE)))","v":""},{"$f":"IFERROR(VLOOKUP(I797,CAD_Q!$C$6:$E$109,3,FALSE)*F797,\"\")","v":""},null,null,"",1,0,1900,0,1,1900,"Nombre y el registro de entrada válida"]
[null,"",null,null,null,"",null,null,null,{"$f":"IF(I798=\"\",\"\",IF(VLOOKUP(I798,CAD_Q!$C$6:$D$105,2,FALSE)=0,\"\",VLOOKUP(I798,CAD_Q!$C$6:$D$105,2,FALSE)))","v":""},{"$f":"IFERROR(VLOOKUP(I798,CAD_Q!$C$6:$E$109,3,FALSE)*F798,\"\")","v":""},null,null,"",1,0,1900,0,1,1900,"Nombre y el registro de entrada válida"]
[null,"",null,null,null,"",null,null,null,{"$f":"IF(I799=\"\",\"\",IF(VLOOKUP(I799,CAD_Q!$C$6:$D$105,2,FALSE)=0,\"\",VLOOKUP(I799,CAD_Q!$C$6:$D$105,2,FALSE)))","v":""},{"$f":"IFERROR(VLOOKUP(I799,CAD_Q!$C$6:$E$109,3,FALSE)*F799,\"\")","v":""},null,null,"",1,0,1900,0,1,1900,"Nombre y el registro de entrada válida"]
[null,"",null,null,null,"",null,null,null,{"$f":"IF(I800=\"\",\"\",IF(VLOOKUP(I800,CAD_Q!$C$6:$D$105,2,FALSE)=0,\"\",VLOOKUP(I800,CAD_Q!$C$6:$D$105,2,FALSE)))","v":""},{"$f":"IFERROR(VLOOKUP(I800,CAD_Q!$C$6:$E$109,3,FALSE)*F800,\"\")","v":""},null,null,"",1,0,1900,0,1,1900,"Nombre y el registro de entrada válida"]
[null,"",null,null,null,"",null,null,null,{"$f":"IF(I801=\"\",\"\",IF(VLOOKUP(I801,CAD_Q!$C$6:$D$105,2,FALSE)=0,\"\",VLOOKUP(I801,CAD_Q!$C$6:$D$105,2,FALSE)))","v":""},{"$f":"IFERROR(VLOOKUP(I801,CAD_Q!$C$6:$E$109,3,FALSE)*F801,\"\")","v":""},null,null,"",1,0,1900,0,1,1900,"Nombre y el registro de entrada válida"]
[null,"",null,null,null,"",null,null,null,{"$f":"IF(I802=\"\",\"\",IF(VLOOKUP(I802,CAD_Q!$C$6:$D$105,2,FALSE)=0,\"\",VLOOKUP(I802,CAD_Q!$C$6:$D$105,2,FALSE)))","v":""},{"$f":"IFERROR(VLOOKUP(I802,CAD_Q!$C$6:$E$109,3,FALSE)*F802,\"\")","v":""},null,null,"",1,0,1900,0,1,1900,"Nombre y el registro de entrada válida"]
[null,"",null,null,null,"",null,null,null,{"$f":"IF(I803=\"\",\"\",IF(VLOOKUP(I803,CAD_Q!$C$6:$D$105,2,FALSE)=0,\"\",VLOOKUP(I803,CAD_Q!$C$6:$D$105,2,FALSE)))","v":""},{"$f":"IFERROR(VLOOKUP(I803,CAD_Q!$C$6:$E$109,3,FALSE)*F803,\"\")","v":""},null,null,"",1,0,1900,0,1,1900,"Nombre y el registro de entrada válida"]
[null,"",null,null,null,{"$f":"IF(OR(D804=\"\",E804=\"\"),\"\",E804-D804)","v":""},null,null,null,{"$f":"IF(I804=\"\",\"\",IF(VLOOKUP(I804,CAD_Q!$C$6:$D$105,2,FALSE)=0,\"\",VLOOKUP(I804,CAD_Q!$C$6:$D$105,2,FALSE)))","v":""},{"$f":"IFERROR(VLOOKUP(I804,CAD_Q!$C$6:$E$109,3,FALSE)*F804,\"\")","v":""},null,null,"",1,0,1900,0,1,1900,"Nombre y el registro de entrada válida"]
[null,"",null,null,null,"",null,null,null,{"$f":"IF(I805=\"\",\"\",IF(VLOOKUP(I805,CAD_Q!$C$6:$D$105,2,FALSE)=0,\"\",VLOOKUP(I805,CAD_Q!$C$6:$D$105,2,FALSE)))","v":""},{"$f":"IFERROR(VLOOKUP(I805,CAD_Q!$C$6:$E$109,3,FALSE)*F805,\"\")","v":""},null,null,"",1,0,1900,0,1,1900,"Nombre y el registro de entrada válida"]
[null,"",null,null,null,"",null,null,null,{"$f":"IF(I806=\"\",\"\",IF(VLOOKUP(I806,CAD_Q!$C$6:$D$105,2,FALSE)=0,\"\",VLOOKUP(I806,CAD_Q!$C$6:$D$105,2,FALSE)))","v":""},{"$f":"IFERROR(VLOOKUP(I806,CAD_Q!$C$6:$E$109,3,FALSE)*F806,\"\")","v":""},null,null,"",1,0,1900,0,1,1900,"Nombre y el registro de entrada válida"]
[null,"",null,null,null,"",null,null,null,{"$f":"IF(I807=\"\",\"\",IF(VLOOKUP(I807,CAD_Q!$C$6:$D$105,2,FALSE)=0,\"\",VLOOKUP(I807,CAD_Q!$C$6:$D$105,2,FALSE)))","v":""},{"$f":"IFERROR(VLOOKUP(I807,CAD_Q!$C$6:$E$109,3,FALSE)*F807,\"\")","v":""},null,null,"",1,0,1900,0,1,1900,"Nombre y el registro de entrada válida"]
[null,"",null,null,null,"",null,null,null,{"$f":"IF(I808=\"\",\"\",IF(VLOOKUP(I808,CAD_Q!$C$6:$D$105,2,FALSE)=0,\"\",VLOOKUP(I808,CAD_Q!$C$6:$D$105,2,FALSE)))","v":""},{"$f":"IFERROR(VLOOKUP(I808,CAD_Q!$C$6:$E$109,3,FALSE)*F808,\"\")","v":""},null,null,"",1,0,1900,0,1,1900,"Nombre y el registro de entrada válida"]
[null,"",null,null,null,"",null,null,null,{"$f":"IF(I809=\"\",\"\",IF(VLOOKUP(I809,CAD_Q!$C$6:$D$105,2,FALSE)=0,\"\",VLOOKUP(I809,CAD_Q!$C$6:$D$105,2,FALSE)))","v":""},{"$f":"IFERROR(VLOOKUP(I809,CAD_Q!$C$6:$E$109,3,FALSE)*F809,\"\")","v":""},null,null,"",1,0,1900,0,1,1900,"Nombre y el registro de entrada válida"]
[null,"",null,null,null,"",null,null,null,{"$f":"IF(I810=\"\",\"\",IF(VLOOKUP(I810,CAD_Q!$C$6:$D$105,2,FALSE)=0,\"\",VLOOKUP(I810,CAD_Q!$C$6:$D$105,2,FALSE)))","v":""},{"$f":"IFERROR(VLOOKUP(I810,CAD_Q!$C$6:$E$109,3,FALSE)*F810,\"\")","v":""},null,null,"",1,0,1900,0,1,1900,"Nombre y el registro de entrada válida"]
[null,"",null,null,null,"",null,null,null,{"$f":"IF(I811=\"\",\"\",IF(VLOOKUP(I811,CAD_Q!$C$6:$D$105,2,FALSE)=0,\"\",VLOOKUP(I811,CAD_Q!$C$6:$D$105,2,FALSE)))","v":""},{"$f":"IFERROR(VLOOKUP(I811,CAD_Q!$C$6:$E$109,3,FALSE)*F811,\"\")","v":""},null,null,"",1,0,1900,0,1,1900,"Nombre y el registro de entrada válida"]
[null,"",null,null,null,"",null,null,null,{"$f":"IF(I812=\"\",\"\",IF(VLOOKUP(I812,CAD_Q!$C$6:$D$105,2,FALSE)=0,\"\",VLOOKUP(I812,CAD_Q!$C$6:$D$105,2,FALSE)))","v":""},{"$f":"IFERROR(VLOOKUP(I812,CAD_Q!$C$6:$E$109,3,FALSE)*F812,\"\")","v":""},null,null,"",1,0,1900,0,1,1900,"Nombre y el registro de entrada válida"]
[null,"",null,null,null,"",null,null,null,{"$f":"IF(I813=\"\",\"\",IF(VLOOKUP(I813,CAD_Q!$C$6:$D$105,2,FALSE)=0,\"\",VLOOKUP(I813,CAD_Q!$C$6:$D$105,2,FALSE)))","v":""},{"$f":"IFERROR(VLOOKUP(I813,CAD_Q!$C$6:$E$109,3,FALSE)*F813,\"\")","v":""},null,null,"",1,0,1900,0,1,1900,"Nombre y el registro de entrada válida"]
[null,"",null,null,null,"",null,null,null,{"$f":"IF(I814=\"\",\"\",IF(VLOOKUP(I814,CAD_Q!$C$6:$D$105,2,FALSE)=0,\"\",VLOOKUP(I814,CAD_Q!$C$6:$D$105,2,FALSE)))","v":""},{"$f":"IFERROR(VLOOKUP(I814,CAD_Q!$C$6:$E$109,3,FALSE)*F814,\"\")","v":""},null,null,"",1,0,1900,0,1,1900,"Nombre y el registro de entrada válida"]
[null,"",null,null,null,"",null,null,null,{"$f":"IF(I815=\"\",\"\",IF(VLOOKUP(I815,CAD_Q!$C$6:$D$105,2,FALSE)=0,\"\",VLOOKUP(I815,CAD_Q!$C$6:$D$105,2,FALSE)))","v":""},{"$f":"IFERROR(VLOOKUP(I815,CAD_Q!$C$6:$E$109,3,FALSE)*F815,\"\")","v":""},null,null,"",1,0,1900,0,1,1900,"Nombre y el registro de entrada válida"]
[null,"",null,null,null,"",null,null,null,{"$f":"IF(I816=\"\",\"\",IF(VLOOKUP(I816,CAD_Q!$C$6:$D$105,2,FALSE)=0,\"\",VLOOKUP(I816,CAD_Q!$C$6:$D$105,2,FALSE)))","v":""},{"$f":"IFERROR(VLOOKUP(I816,CAD_Q!$C$6:$E$109,3,FALSE)*F816,\"\")","v":""},null,null,"",1,0,1900,0,1,1900,"Nombre y el registro de entrada válida"]
[null,"",null,null,null,"",null,null,null,{"$f":"IF(I817=\"\",\"\",IF(VLOOKUP(I817,CAD_Q!$C$6:$D$105,2,FALSE)=0,\"\",VLOOKUP(I817,CAD_Q!$C$6:$D$105,2,FALSE)))","v":""},{"$f":"IFERROR(VLOOKUP(I817,CAD_Q!$C$6:$E$109,3,FALSE)*F817,\"\")","v":""},null,null,"",1,0,1900,0,1,1900,"Nombre y el registro de entrada válida"]
[null,"",null,null,null,"",null,null,null,{"$f":"IF(I818=\"\",\"\",IF(VLOOKUP(I818,CAD_Q!$C$6:$D$105,2,FALSE)=0,\"\",VLOOKUP(I818,CAD_Q!$C$6:$D$105,2,FALSE)))","v":""},{"$f":"IFERROR(VLOOKUP(I818,CAD_Q!$C$6:$E$109,3,FALSE)*F818,\"\")","v":""},null,null,"",1,0,1900,0,1,1900,"Nombre y el registro de entrada válida"]
[null,"",null,null,null,"",null,null,null,{"$f":"IF(I819=\"\",\"\",IF(VLOOKUP(I819,CAD_Q!$C$6:$D$105,2,FALSE)=0,\"\",VLOOKUP(I819,CAD_Q!$C$6:$D$105,2,FALSE)))","v":""},{"$f":"IFERROR(VLOOKUP(I819,CAD_Q!$C$6:$E$109,3,FALSE)*F819,\"\")","v":""},null,null,"",1,0,1900,0,1,1900,"Nombre y el registro de entrada válida"]
[null,"",null,null,null,"",null,null,null,{"$f":"IF(I820=\"\",\"\",IF(VLOOKUP(I820,CAD_Q!$C$6:$D$105,2,FALSE)=0,\"\",VLOOKUP(I820,CAD_Q!$C$6:$D$105,2,FALSE)))","v":""},{"$f":"IFERROR(VLOOKUP(I820,CAD_Q!$C$6:$E$109,3,FALSE)*F820,\"\")","v":""},null,null,"",1,0,1900,0,1,1900,"Nombre y el registro de entrada válida"]
[null,"",null,null,null,"",null,null,null,{"$f":"IF(I821=\"\",\"\",IF(VLOOKUP(I821,CAD_Q!$C$6:$D$105,2,FALSE)=0,\"\",VLOOKUP(I821,CAD_Q!$C$6:$D$105,2,FALSE)))","v":""},{"$f":"IFERROR(VLOOKUP(I821,CAD_Q!$C$6:$E$109,3,FALSE)*F821,\"\")","v":""},null,null,"",1,0,1900,0,1,1900,"Nombre y el registro de entrada válida"]
[null,"",null,null,null,"",null,null,null,{"$f":"IF(I822=\"\",\"\",IF(VLOOKUP(I822,CAD_Q!$C$6:$D$105,2,FALSE)=0,\"\",VLOOKUP(I822,CAD_Q!$C$6:$D$105,2,FALSE)))","v":""},{"$f":"IFERROR(VLOOKUP(I822,CAD_Q!$C$6:$E$109,3,FALSE)*F822,\"\")","v":""},null,null,"",1,0,1900,0,1,1900,"Nombre y el registro de entrada válida"]
[null,"",null,null,null,"",null,null,null,{"$f":"IF(I823=\"\",\"\",IF(VLOOKUP(I823,CAD_Q!$C$6:$D$105,2,FALSE)=0,\"\",VLOOKUP(I823,CAD_Q!$C$6:$D$105,2,FALSE)))","v":""},{"$f":"IFERROR(VLOOKUP(I823,CAD_Q!$C$6:$E$109,3,FALSE)*F823,\"\")","v":""},null,null,"",1,0,1900,0,1,1900,"Nombre y el registro de entrada válida"]
[null,"",null,null,null,"",null,null,null,{"$f":"IF(I824=\"\",\"\",IF(VLOOKUP(I824,CAD_Q!$C$6:$D$105,2,FALSE)=0,\"\",VLOOKUP(I824,CAD_Q!$C$6:$D$105,2,FALSE)))","v":""},{"$f":"IFERROR(VLOOKUP(I824,CAD_Q!$C$6:$E$109,3,FALSE)*F824,\"\")","v":""},null,null,"",1,0,1900,0,1,1900,"Nombre y el registro de entrada válida"]
[null,"",null,null,null,"",null,null,null,{"$f":"IF(I825=\"\",\"\",IF(VLOOKUP(I825,CAD_Q!$C$6:$D$105,2,FALSE)=0,\"\",VLOOKUP(I825,CAD_Q!$C$6:$D$105,2,FALSE)))","v":""},{"$f":"IFERROR(VLOOKUP(I825,CAD_Q!$C$6:$E$109,3,FALSE)*F825,\"\")","v":""},null,null,"",1,0,1900,0,1,1900,"Nombre y el registro de entrada válida"]
[null,"",null,null,null,"",null,null,null,{"$f":"IF(I826=\"\",\"\",IF(VLOOKUP(I826,CAD_Q!$C$6:$D$105,2,FALSE)=0,\"\",VLOOKUP(I826,CAD_Q!$C$6:$D$105,2,FALSE)))","v":""},{"$f":"IFERROR(VLOOKUP(I826,CAD_Q!$C$6:$E$109,3,FALSE)*F826,\"\")","v":""},null,null,"",1,0,1900,0,1,1900,"Nombre y el registro de entrada válida"]
[null,"",null,null,null,"",null,null,null,{"$f":"IF(I827=\"\",\"\",IF(VLOOKUP(I827,CAD_Q!$C$6:$D$105,2,FALSE)=0,\"\",VLOOKUP(I827,CAD_Q!$C$6:$D$105,2,FALSE)))","v":""},{"$f":"IFERROR(VLOOKUP(I827,CAD_Q!$C$6:$E$109,3,FALSE)*F827,\"\")","v":""},null,null,"",1,0,1900,0,1,1900,"Nombre y el registro de entrada válida"]
[null,"",null,null,null,"",null,null,null,{"$f":"IF(I828=\"\",\"\",IF(VLOOKUP(I828,CAD_Q!$C$6:$D$105,2,FALSE)=0,\"\",VLOOKUP(I828,CAD_Q!$C$6:$D$105,2,FALSE)))","v":""},{"$f":"IFERROR(VLOOKUP(I828,CAD_Q!$C$6:$E$109,3,FALSE)*F828,\"\")","v":""},null,null,"",1,0,1900,0,1,1900,"Nombre y el registro de entrada válida"]
[null,"",null,null,null,"",null,null,null,{"$f":"IF(I829=\"\",\"\",IF(VLOOKUP(I829,CAD_Q!$C$6:$D$105,2,FALSE)=0,\"\",VLOOKUP(I829,CAD_Q!$C$6:$D$105,2,FALSE)))","v":""},{"$f":"IFERROR(VLOOKUP(I829,CAD_Q!$C$6:$E$109,3,FALSE)*F829,\"\")","v":""},null,null,"",1,0,1900,0,1,1900,"Nombre y el registro de entrada válida"]
[null,"",null,null,null,"",null,null,null,{"$f":"IF(I830=\"\",\"\",IF(VLOOKUP(I830,CAD_Q!$C$6:$D$105,2,FALSE)=0,\"\",VLOOKUP(I830,CAD_Q!$C$6:$D$105,2,FALSE)))","v":""},{"$f":"IFERROR(VLOOKUP(I830,CAD_Q!$C$6:$E$109,3,FALSE)*F830,\"\")","v":""},null,null,"",1,0,1900,0,1,1900,"Nombre y el registro de entrada válida"]
[null,"",null,null,null,"",null,null,null,{"$f":"IF(I831=\"\",\"\",IF(VLOOKUP(I831,CAD_Q!$C$6:$D$105,2,FALSE)=0,\"\",VLOOKUP(I831,CAD_Q!$C$6:$D$105,2,FALSE)))","v":""},{"$f":"IFERROR(VLOOKUP(I831,CAD_Q!$C$6:$E$109,3,FALSE)*F831,\"\")","v":""},null,null,"",1,0,1900,0,1,1900,"Nombre y el registro de entrada válida"]
[null,"",null,null,null,"",null,null,null,{"$f":"IF(I832=\"\",\"\",IF(VLOOKUP(I832,CAD_Q!$C$6:$D$105,2,FALSE)=0,\"\",VLOOKUP(I832,CAD_Q!$C$6:$D$105,2,FALSE)))","v":""},{"$f":"IFERROR(VLOOKUP(I832,CAD_Q!$C$6:$E$109,3,FALSE)*F832,\"\")","v":""},null,null,"",1,0,1900,0,1,1900,"Nombre y el registro de entrada válida"]
[null,"",null,null,null,"",null,null,null,{"$f":"IF(I833=\"\",\"\",IF(VLOOKUP(I833,CAD_Q!$C$6:$D$105,2,FALSE)=0,\"\",VLOOKUP(I833,CAD_Q!$C$6:$D$105,2,FALSE)))","v":""},{"$f":"IFERROR(VLOOKUP(I833,CAD_Q!$C$6:$E$109,3,FALSE)*F833,\"\")","v":""},null,null,"",1,0,1900,0,1,1900,"Nombre y el registro de entrada válida"]
[null,"",null,null,null,"",null,null,null,{"$f":"IF(I834=\"\",\"\",IF(VLOOKUP(I834,CAD_Q!$C$6:$D$105,2,FALSE)=0,\"\",VLOOKUP(I834,CAD_Q!$C$6:$D$105,2,FALSE)))","v":""},{"$f":"IFERROR(VLOOKUP(I834,CAD_Q!$C$6:$E$109,3,FALSE)*F834,\"\")","v":""},null,null,"",1,0,1900,0,1,1900,"Nombre y el registro de entrada válida"]
[null,"",null,null,null,"",null,null,null,{"$f":"IF(I835=\"\",\"\",IF(VLOOKUP(I835,CAD_Q!$C$6:$D$105,2,FALSE)=0,\"\",VLOOKUP(I835,CAD_Q!$C$6:$D$105,2,FALSE)))","v":""},{"$f":"IFERROR(VLOOKUP(I835,CAD_Q!$C$6:$E$109,3,FALSE)*F835,\"\")","v":""},null,null,"",1,0,1900,0,1,1900,"Nombre y el registro de entrada válida"]
[null,"",null,null,null,"",null,null,null,{"$f":"IF(I836=\"\",\"\",IF(VLOOKUP(I836,CAD_Q!$C$6:$D$105,2,FALSE)=0,\"\",VLOOKUP(I836,CAD_Q!$C$6:$D$105,2,FALSE)))","v":""},{"$f":"IFERROR(VLOOKUP(I836,CAD_Q!$C$6:$E$109,3,FALSE)*F836,\"\")","v":""},null,null,"",1,0,1900,0,1,1900,"Nombre y el registro de entrada válida"]
[null,"",null,null,null,"",null,null,null,{"$f":"IF(I837=\"\",\"\",IF(VLOOKUP(I837,CAD_Q!$C$6:$D$105,2,FALSE)=0,\"\",VLOOKUP(I837,CAD_Q!$C$6:$D$105,2,FALSE)))","v":""},{"$f":"IFERROR(VLOOKUP(I837,CAD_Q!$C$6:$E$109,3,FALSE)*F837,\"\")","v":""},null,null,"",1,0,1900,0,1,1900,"Nombre y el registro de entrada válida"]
[null,"",null,null,null,"",null,null,null,{"$f":"IF(I838=\"\",\"\",IF(VLOOKUP(I838,CAD_Q!$C$6:$D$105,2,FALSE)=0,\"\",VLOOKUP(I838,CAD_Q!$C$6:$D$105,2,FALSE)))","v":""},{"$f":"IFERROR(VLOOKUP(I838,CAD_Q!$C$6:$E$109,3,FALSE)*F838,\"\")","v":""},null,null,"",1,0,1900,0,1,1900,"Nombre y el registro de entrada válida"]
[null,{"$f":"CONCATENATE(C839,D839)","v":""},null,null,null,"",null,null,null,{"$f":"IF(I839=\"\",\"\",IF(VLOOKUP(I839,CAD_Q!$C$6:$D$105,2,FALSE)=0,\"\",VLOOKUP(I839,CAD_Q!$C$6:$D$105,2,FALSE)))","v":""},{"$f":"IFERROR(VLOOKUP(I839,CAD_Q!$C$6:$E$109,3,FALSE)*F839,\"\")","v":""},null,null,{"$f":"IFERROR(K839-L839+M839,\"\")","v":""},1,0,1900,0,1,1900,"Nombre y el registro de entrada válida"]
[null,"",null,null,null,"",null,null,null,{"$f":"IF(I840=\"\",\"\",IF(VLOOKUP(I840,CAD_Q!$C$6:$D$105,2,FALSE)=0,\"\",VLOOKUP(I840,CAD_Q!$C$6:$D$105,2,FALSE)))","v":""},{"$f":"IFERROR(VLOOKUP(I840,CAD_Q!$C$6:$E$109,3,FALSE)*F840,\"\")","v":""},null,null,"",1,0,1900,0,1,1900,"Nombre y el registro de entrada válida"]
[null,"",null,null,null,"",null,null,null,{"$f":"IF(I841=\"\",\"\",IF(VLOOKUP(I841,CAD_Q!$C$6:$D$105,2,FALSE)=0,\"\",VLOOKUP(I841,CAD_Q!$C$6:$D$105,2,FALSE)))","v":""},{"$f":"IFERROR(VLOOKUP(I841,CAD_Q!$C$6:$E$109,3,FALSE)*F841,\"\")","v":""},null,null,"",1,0,1900,0,1,1900,"Nombre y el registro de entrada válida"]
[null,"",null,null,null,"",null,null,null,{"$f":"IF(I842=\"\",\"\",IF(VLOOKUP(I842,CAD_Q!$C$6:$D$105,2,FALSE)=0,\"\",VLOOKUP(I842,CAD_Q!$C$6:$D$105,2,FALSE)))","v":""},{"$f":"IFERROR(VLOOKUP(I842,CAD_Q!$C$6:$E$109,3,FALSE)*F842,\"\")","v":""},null,null,"",{"$f":"MONTH(D842)","v":1},{"$f":"DAY(D842)","v":0},{"$f":"YEAR(D842)","v":1900},{"$f":"DAY(E842)","v":0},{"$f":"MONTH(E842)","v":1},{"$f":"YEAR(E842)","v":1900},"Nombre y el registro de entrada válida"]
[null,"",null,null,null,"",null,null,null,{"$f":"IF(I843=\"\",\"\",IF(VLOOKUP(I843,CAD_Q!$C$6:$D$105,2,FALSE)=0,\"\",VLOOKUP(I843,CAD_Q!$C$6:$D$105,2,FALSE)))","v":""},{"$f":"IFERROR(VLOOKUP(I843,CAD_Q!$C$6:$E$109,3,FALSE)*F843,\"\")","v":""},null,null,"",1,0,1900,0,1,1900,"Nombre y el registro de entrada válida"]
[null,"",null,null,null,"",null,null,null,{"$f":"IF(I844=\"\",\"\",IF(VLOOKUP(I844,CAD_Q!$C$6:$D$105,2,FALSE)=0,\"\",VLOOKUP(I844,CAD_Q!$C$6:$D$105,2,FALSE)))","v":""},{"$f":"IFERROR(VLOOKUP(I844,CAD_Q!$C$6:$E$109,3,FALSE)*F844,\"\")","v":""},null,null,"",1,0,1900,0,1,1900,"Nombre y el registro de entrada válida"]
[null,"",null,null,null,"",null,null,null,{"$f":"IF(I845=\"\",\"\",IF(VLOOKUP(I845,CAD_Q!$C$6:$D$105,2,FALSE)=0,\"\",VLOOKUP(I845,CAD_Q!$C$6:$D$105,2,FALSE)))","v":""},{"$f":"IFERROR(VLOOKUP(I845,CAD_Q!$C$6:$E$109,3,FALSE)*F845,\"\")","v":""},null,null,"",1,0,1900,0,1,1900,"Nombre y el registro de entrada válida"]
[null,"",null,null,null,"",null,null,null,{"$f":"IF(I846=\"\",\"\",IF(VLOOKUP(I846,CAD_Q!$C$6:$D$105,2,FALSE)=0,\"\",VLOOKUP(I846,CAD_Q!$C$6:$D$105,2,FALSE)))","v":""},{"$f":"IFERROR(VLOOKUP(I846,CAD_Q!$C$6:$E$109,3,FALSE)*F846,\"\")","v":""},null,null,"",1,0,1900,0,1,1900,"Nombre y el registro de entrada válida"]
[null,"",null,null,null,"",null,null,null,{"$f":"IF(I847=\"\",\"\",IF(VLOOKUP(I847,CAD_Q!$C$6:$D$105,2,FALSE)=0,\"\",VLOOKUP(I847,CAD_Q!$C$6:$D$105,2,FALSE)))","v":""},{"$f":"IFERROR(VLOOKUP(I847,CAD_Q!$C$6:$E$109,3,FALSE)*F847,\"\")","v":""},null,null,"",1,0,1900,0,1,1900,"Nombre y el registro de entrada válida"]
[null,"",null,null,null,"",null,null,null,{"$f":"IF(I848=\"\",\"\",IF(VLOOKUP(I848,CAD_Q!$C$6:$D$105,2,FALSE)=0,\"\",VLOOKUP(I848,CAD_Q!$C$6:$D$105,2,FALSE)))","v":""},{"$f":"IFERROR(VLOOKUP(I848,CAD_Q!$C$6:$E$109,3,FALSE)*F848,\"\")","v":""},null,null,"",1,0,1900,0,1,1900,"Nombre y el registro de entrada válida"]
[null,"",null,null,null,"",null,null,null,{"$f":"IF(I849=\"\",\"\",IF(VLOOKUP(I849,CAD_Q!$C$6:$D$105,2,FALSE)=0,\"\",VLOOKUP(I849,CAD_Q!$C$6:$D$105,2,FALSE)))","v":""},{"$f":"IFERROR(VLOOKUP(I849,CAD_Q!$C$6:$E$109,3,FALSE)*F849,\"\")","v":""},null,null,"",1,0,1900,0,1,1900,"Nombre y el registro de entrada válida"]
[null,"",null,null,null,"",null,null,null,{"$f":"IF(I850=\"\",\"\",IF(VLOOKUP(I850,CAD_Q!$C$6:$D$105,2,FALSE)=0,\"\",VLOOKUP(I850,CAD_Q!$C$6:$D$105,2,FALSE)))","v":""},{"$f":"IFERROR(VLOOKUP(I850,CAD_Q!$C$6:$E$109,3,FALSE)*F850,\"\")","v":""},null,null,"",1,0,1900,0,1,1900,"Nombre y el registro de entrada válida"]
[null,"",null,null,null,"",null,null,null,{"$f":"IF(I851=\"\",\"\",IF(VLOOKUP(I851,CAD_Q!$C$6:$D$105,2,FALSE)=0,\"\",VLOOKUP(I851,CAD_Q!$C$6:$D$105,2,FALSE)))","v":""},{"$f":"IFERROR(VLOOKUP(I851,CAD_Q!$C$6:$E$109,3,FALSE)*F851,\"\")","v":""},null,null,"",1,0,1900,0,1,1900,"Nombre y el registro de entrada válida"]
[null,"",null,null,null,"",null,null,null,{"$f":"IF(I852=\"\",\"\",IF(VLOOKUP(I852,CAD_Q!$C$6:$D$105,2,FALSE)=0,\"\",VLOOKUP(I852,CAD_Q!$C$6:$D$105,2,FALSE)))","v":""},{"$f":"IFERROR(VLOOKUP(I852,CAD_Q!$C$6:$E$109,3,FALSE)*F852,\"\")","v":""},null,null,"",1,0,1900,0,1,1900,"Nombre y el registro de entrada válida"]
[null,"",null,null,null,"",null,null,null,{"$f":"IF(I853=\"\",\"\",IF(VLOOKUP(I853,CAD_Q!$C$6:$D$105,2,FALSE)=0,\"\",VLOOKUP(I853,CAD_Q!$C$6:$D$105,2,FALSE)))","v":""},{"$f":"IFERROR(VLOOKUP(I853,CAD_Q!$C$6:$E$109,3,FALSE)*F853,\"\")","v":""},null,null,"",1,0,1900,0,1,1900,"Nombre y el registro de entrada válida"]
[null,"",null,null,null,"",null,null,null,{"$f":"IF(I854=\"\",\"\",IF(VLOOKUP(I854,CAD_Q!$C$6:$D$105,2,FALSE)=0,\"\",VLOOKUP(I854,CAD_Q!$C$6:$D$105,2,FALSE)))","v":""},{"$f":"IFERROR(VLOOKUP(I854,CAD_Q!$C$6:$E$109,3,FALSE)*F854,\"\")","v":""},null,null,"",1,0,1900,0,1,1900,"Nombre y el registro de entrada válida"]
[null,"",null,null,null,"",null,null,null,{"$f":"IF(I855=\"\",\"\",IF(VLOOKUP(I855,CAD_Q!$C$6:$D$105,2,FALSE)=0,\"\",VLOOKUP(I855,CAD_Q!$C$6:$D$105,2,FALSE)))","v":""},{"$f":"IFERROR(VLOOKUP(I855,CAD_Q!$C$6:$E$109,3,FALSE)*F855,\"\")","v":""},null,null,"",1,0,1900,0,1,1900,"Nombre y el registro de entrada válida"]
[null,"",null,null,null,"",null,null,null,{"$f":"IF(I856=\"\",\"\",IF(VLOOKUP(I856,CAD_Q!$C$6:$D$105,2,FALSE)=0,\"\",VLOOKUP(I856,CAD_Q!$C$6:$D$105,2,FALSE)))","v":""},{"$f":"IFERROR(VLOOKUP(I856,CAD_Q!$C$6:$E$109,3,FALSE)*F856,\"\")","v":""},null,null,"",1,0,1900,0,1,1900,"Nombre y el registro de entrada válida"]
[null,"",null,null,null,"",null,null,null,{"$f":"IF(I857=\"\",\"\",IF(VLOOKUP(I857,CAD_Q!$C$6:$D$105,2,FALSE)=0,\"\",VLOOKUP(I857,CAD_Q!$C$6:$D$105,2,FALSE)))","v":""},{"$f":"IFERROR(VLOOKUP(I857,CAD_Q!$C$6:$E$109,3,FALSE)*F857,\"\")","v":""},null,null,"",1,0,1900,0,1,1900,"Nombre y el registro de entrada válida"]
[null,"",null,null,null,"",null,null,null,{"$f":"IF(I858=\"\",\"\",IF(VLOOKUP(I858,CAD_Q!$C$6:$D$105,2,FALSE)=0,\"\",VLOOKUP(I858,CAD_Q!$C$6:$D$105,2,FALSE)))","v":""},{"$f":"IFERROR(VLOOKUP(I858,CAD_Q!$C$6:$E$109,3,FALSE)*F858,\"\")","v":""},null,null,"",1,0,1900,0,1,1900,"Nombre y el registro de entrada válida"]
[null,"",null,null,null,"",null,null,null,{"$f":"IF(I859=\"\",\"\",IF(VLOOKUP(I859,CAD_Q!$C$6:$D$105,2,FALSE)=0,\"\",VLOOKUP(I859,CAD_Q!$C$6:$D$105,2,FALSE)))","v":""},{"$f":"IFERROR(VLOOKUP(I859,CAD_Q!$C$6:$E$109,3,FALSE)*F859,\"\")","v":""},null,null,"",1,0,1900,0,1,1900,"Nombre y el registro de entrada válida"]
[null,"",null,null,null,"",null,null,null,{"$f":"IF(I860=\"\",\"\",IF(VLOOKUP(I860,CAD_Q!$C$6:$D$105,2,FALSE)=0,\"\",VLOOKUP(I860,CAD_Q!$C$6:$D$105,2,FALSE)))","v":""},{"$f":"IFERROR(VLOOKUP(I860,CAD_Q!$C$6:$E$109,3,FALSE)*F860,\"\")","v":""},null,null,"",1,0,1900,0,1,1900,"Nombre y el registro de entrada válida"]
[null,"",null,null,null,"",null,null,null,{"$f":"IF(I861=\"\",\"\",IF(VLOOKUP(I861,CAD_Q!$C$6:$D$105,2,FALSE)=0,\"\",VLOOKUP(I861,CAD_Q!$C$6:$D$105,2,FALSE)))","v":""},{"$f":"IFERROR(VLOOKUP(I861,CAD_Q!$C$6:$E$109,3,FALSE)*F861,\"\")","v":""},null,null,"",1,0,1900,0,1,1900,"Nombre y el registro de entrada válida"]
[null,"",null,null,null,"",null,null,null,{"$f":"IF(I862=\"\",\"\",IF(VLOOKUP(I862,CAD_Q!$C$6:$D$105,2,FALSE)=0,\"\",VLOOKUP(I862,CAD_Q!$C$6:$D$105,2,FALSE)))","v":""},{"$f":"IFERROR(VLOOKUP(I862,CAD_Q!$C$6:$E$109,3,FALSE)*F862,\"\")","v":""},null,null,"",1,0,1900,0,1,1900,"Nombre y el registro de entrada válida"]
[null,"",null,null,null,"",null,null,null,{"$f":"IF(I863=\"\",\"\",IF(VLOOKUP(I863,CAD_Q!$C$6:$D$105,2,FALSE)=0,\"\",VLOOKUP(I863,CAD_Q!$C$6:$D$105,2,FALSE)))","v":""},{"$f":"IFERROR(VLOOKUP(I863,CAD_Q!$C$6:$E$109,3,FALSE)*F863,\"\")","v":""},null,null,"",1,0,1900,0,1,1900,"Nombre y el registro de entrada válida"]
[null,"",null,null,null,"",null,null,null,{"$f":"IF(I864=\"\",\"\",IF(VLOOKUP(I864,CAD_Q!$C$6:$D$105,2,FALSE)=0,\"\",VLOOKUP(I864,CAD_Q!$C$6:$D$105,2,FALSE)))","v":""},{"$f":"IFERROR(VLOOKUP(I864,CAD_Q!$C$6:$E$109,3,FALSE)*F864,\"\")","v":""},null,null,"",1,0,1900,0,1,1900,"Nombre y el registro de entrada válida"]
[null,"",null,null,null,"",null,null,null,{"$f":"IF(I865=\"\",\"\",IF(VLOOKUP(I865,CAD_Q!$C$6:$D$105,2,FALSE)=0,\"\",VLOOKUP(I865,CAD_Q!$C$6:$D$105,2,FALSE)))","v":""},{"$f":"IFERROR(VLOOKUP(I865,CAD_Q!$C$6:$E$109,3,FALSE)*F865,\"\")","v":""},null,null,"",1,0,1900,0,1,1900,"Nombre y el registro de entrada válida"]
[null,"",null,null,null,"",null,null,null,{"$f":"IF(I866=\"\",\"\",IF(VLOOKUP(I866,CAD_Q!$C$6:$D$105,2,FALSE)=0,\"\",VLOOKUP(I866,CAD_Q!$C$6:$D$105,2,FALSE)))","v":""},{"$f":"IFERROR(VLOOKUP(I866,CAD_Q!$C$6:$E$109,3,FALSE)*F866,\"\")","v":""},null,null,"",1,0,1900,0,1,1900,"Nombre y el registro de entrada válida"]
[null,"",null,null,null,"",null,null,null,{"$f":"IF(I867=\"\",\"\",IF(VLOOKUP(I867,CAD_Q!$C$6:$D$105,2,FALSE)=0,\"\",VLOOKUP(I867,CAD_Q!$C$6:$D$105,2,FALSE)))","v":""},{"$f":"IFERROR(VLOOKUP(I867,CAD_Q!$C$6:$E$109,3,FALSE)*F867,\"\")","v":""},null,null,"",1,0,1900,0,1,1900,"Nombre y el registro de entrada válida"]
[null,"",null,null,null,{"$f":"IF(OR(D868=\"\",E868=\"\"),\"\",E868-D868)","v":""},null,null,null,{"$f":"IF(I868=\"\",\"\",IF(VLOOKUP(I868,CAD_Q!$C$6:$D$105,2,FALSE)=0,\"\",VLOOKUP(I868,CAD_Q!$C$6:$D$105,2,FALSE)))","v":""},{"$f":"IFERROR(VLOOKUP(I868,CAD_Q!$C$6:$E$109,3,FALSE)*F868,\"\")","v":""},null,null,"",1,0,1900,0,1,1900,"Nombre y el registro de entrada válida"]
[null,"",null,null,null,"",null,null,null,{"$f":"IF(I869=\"\",\"\",IF(VLOOKUP(I869,CAD_Q!$C$6:$D$105,2,FALSE)=0,\"\",VLOOKUP(I869,CAD_Q!$C$6:$D$105,2,FALSE)))","v":""},{"$f":"IFERROR(VLOOKUP(I869,CAD_Q!$C$6:$E$109,3,FALSE)*F869,\"\")","v":""},null,null,"",1,0,1900,0,1,1900,"Nombre y el registro de entrada válida"]
[null,"",null,null,null,"",null,null,null,{"$f":"IF(I870=\"\",\"\",IF(VLOOKUP(I870,CAD_Q!$C$6:$D$105,2,FALSE)=0,\"\",VLOOKUP(I870,CAD_Q!$C$6:$D$105,2,FALSE)))","v":""},{"$f":"IFERROR(VLOOKUP(I870,CAD_Q!$C$6:$E$109,3,FALSE)*F870,\"\")","v":""},null,null,"",1,0,1900,0,1,1900,"Nombre y el registro de entrada válida"]
[null,"",null,null,null,"",null,null,null,{"$f":"IF(I871=\"\",\"\",IF(VLOOKUP(I871,CAD_Q!$C$6:$D$105,2,FALSE)=0,\"\",VLOOKUP(I871,CAD_Q!$C$6:$D$105,2,FALSE)))","v":""},{"$f":"IFERROR(VLOOKUP(I871,CAD_Q!$C$6:$E$109,3,FALSE)*F871,\"\")","v":""},null,null,"",1,0,1900,0,1,1900,"Nombre y el registro de entrada válida"]
[null,"",null,null,null,"",null,null,null,{"$f":"IF(I872=\"\",\"\",IF(VLOOKUP(I872,CAD_Q!$C$6:$D$105,2,FALSE)=0,\"\",VLOOKUP(I872,CAD_Q!$C$6:$D$105,2,FALSE)))","v":""},{"$f":"IFERROR(VLOOKUP(I872,CAD_Q!$C$6:$E$109,3,FALSE)*F872,\"\")","v":""},null,null,"",1,0,1900,0,1,1900,"Nombre y el registro de entrada válida"]
[null,"",null,null,null,"",null,null,null,{"$f":"IF(I873=\"\",\"\",IF(VLOOKUP(I873,CAD_Q!$C$6:$D$105,2,FALSE)=0,\"\",VLOOKUP(I873,CAD_Q!$C$6:$D$105,2,FALSE)))","v":""},{"$f":"IFERROR(VLOOKUP(I873,CAD_Q!$C$6:$E$109,3,FALSE)*F873,\"\")","v":""},null,null,"",1,0,1900,0,1,1900,"Nombre y el registro de entrada válida"]
[null,"",null,null,null,"",null,null,null,{"$f":"IF(I874=\"\",\"\",IF(VLOOKUP(I874,CAD_Q!$C$6:$D$105,2,FALSE)=0,\"\",VLOOKUP(I874,CAD_Q!$C$6:$D$105,2,FALSE)))","v":""},{"$f":"IFERROR(VLOOKUP(I874,CAD_Q!$C$6:$E$109,3,FALSE)*F874,\"\")","v":""},null,null,"",1,0,1900,0,1,1900,"Nombre y el registro de entrada válida"]
[null,"",null,null,null,"",null,null,null,{"$f":"IF(I875=\"\",\"\",IF(VLOOKUP(I875,CAD_Q!$C$6:$D$105,2,FALSE)=0,\"\",VLOOKUP(I875,CAD_Q!$C$6:$D$105,2,FALSE)))","v":""},{"$f":"IFERROR(VLOOKUP(I875,CAD_Q!$C$6:$E$109,3,FALSE)*F875,\"\")","v":""},null,null,"",1,0,1900,0,1,1900,"Nombre y el registro de entrada válida"]
[null,"",null,null,null,"",null,null,null,{"$f":"IF(I876=\"\",\"\",IF(VLOOKUP(I876,CAD_Q!$C$6:$D$105,2,FALSE)=0,\"\",VLOOKUP(I876,CAD_Q!$C$6:$D$105,2,FALSE)))","v":""},{"$f":"IFERROR(VLOOKUP(I876,CAD_Q!$C$6:$E$109,3,FALSE)*F876,\"\")","v":""},null,null,"",1,0,1900,0,1,1900,"Nombre y el registro de entrada válida"]
[null,"",null,null,null,"",null,null,null,{"$f":"IF(I877=\"\",\"\",IF(VLOOKUP(I877,CAD_Q!$C$6:$D$105,2,FALSE)=0,\"\",VLOOKUP(I877,CAD_Q!$C$6:$D$105,2,FALSE)))","v":""},{"$f":"IFERROR(VLOOKUP(I877,CAD_Q!$C$6:$E$109,3,FALSE)*F877,\"\")","v":""},null,null,"",1,0,1900,0,1,1900,"Nombre y el registro de entrada válida"]
[null,"",null,null,null,"",null,null,null,{"$f":"IF(I878=\"\",\"\",IF(VLOOKUP(I878,CAD_Q!$C$6:$D$105,2,FALSE)=0,\"\",VLOOKUP(I878,CAD_Q!$C$6:$D$105,2,FALSE)))","v":""},{"$f":"IFERROR(VLOOKUP(I878,CAD_Q!$C$6:$E$109,3,FALSE)*F878,\"\")","v":""},null,null,"",1,0,1900,0,1,1900,"Nombre y el registro de entrada válida"]
[null,"",null,null,null,"",null,null,null,{"$f":"IF(I879=\"\",\"\",IF(VLOOKUP(I879,CAD_Q!$C$6:$D$105,2,FALSE)=0,\"\",VLOOKUP(I879,CAD_Q!$C$6:$D$105,2,FALSE)))","v":""},{"$f":"IFERROR(VLOOKUP(I879,CAD_Q!$C$6:$E$109,3,FALSE)*F879,\"\")","v":""},null,null,"",1,0,1900,0,1,1900,"Nombre y el registro de entrada válida"]
[null,"",null,null,null,"",null,null,null,{"$f":"IF(I880=\"\",\"\",IF(VLOOKUP(I880,CAD_Q!$C$6:$D$105,2,FALSE)=0,\"\",VLOOKUP(I880,CAD_Q!$C$6:$D$105,2,FALSE)))","v":""},{"$f":"IFERROR(VLOOKUP(I880,CAD_Q!$C$6:$E$109,3,FALSE)*F880,\"\")","v":""},null,null,"",1,0,1900,0,1,1900,"Nombre y el registro de entrada válida"]
[null,"",null,null,null,"",null,null,null,{"$f":"IF(I881=\"\",\"\",IF(VLOOKUP(I881,CAD_Q!$C$6:$D$105,2,FALSE)=0,\"\",VLOOKUP(I881,CAD_Q!$C$6:$D$105,2,FALSE)))","v":""},{"$f":"IFERROR(VLOOKUP(I881,CAD_Q!$C$6:$E$109,3,FALSE)*F881,\"\")","v":""},null,null,"",1,0,1900,0,1,1900,"Nombre y el registro de entrada válida"]
[null,"",null,null,null,"",null,null,null,{"$f":"IF(I882=\"\",\"\",IF(VLOOKUP(I882,CAD_Q!$C$6:$D$105,2,FALSE)=0,\"\",VLOOKUP(I882,CAD_Q!$C$6:$D$105,2,FALSE)))","v":""},{"$f":"IFERROR(VLOOKUP(I882,CAD_Q!$C$6:$E$109,3,FALSE)*F882,\"\")","v":""},null,null,"",1,0,1900,0,1,1900,"Nombre y el registro de entrada válida"]
[null,"",null,null,null,"",null,null,null,{"$f":"IF(I883=\"\",\"\",IF(VLOOKUP(I883,CAD_Q!$C$6:$D$105,2,FALSE)=0,\"\",VLOOKUP(I883,CAD_Q!$C$6:$D$105,2,FALSE)))","v":""},{"$f":"IFERROR(VLOOKUP(I883,CAD_Q!$C$6:$E$109,3,FALSE)*F883,\"\")","v":""},null,null,"",1,0,1900,0,1,1900,"Nombre y el registro de entrada válida"]
[null,"",null,null,null,"",null,null,null,{"$f":"IF(I884=\"\",\"\",IF(VLOOKUP(I884,CAD_Q!$C$6:$D$105,2,FALSE)=0,\"\",VLOOKUP(I884,CAD_Q!$C$6:$D$105,2,FALSE)))","v":""},{"$f":"IFERROR(VLOOKUP(I884,CAD_Q!$C$6:$E$109,3,FALSE)*F884,\"\")","v":""},null,null,"",1,0,1900,0,1,1900,"Nombre y el registro de entrada válida"]
[null,"",null,null,null,"",null,null,null,{"$f":"IF(I885=\"\",\"\",IF(VLOOKUP(I885,CAD_Q!$C$6:$D$105,2,FALSE)=0,\"\",VLOOKUP(I885,CAD_Q!$C$6:$D$105,2,FALSE)))","v":""},{"$f":"IFERROR(VLOOKUP(I885,CAD_Q!$C$6:$E$109,3,FALSE)*F885,\"\")","v":""},null,null,"",1,0,1900,0,1,1900,"Nombre y el registro de entrada válida"]
[null,"",null,null,null,"",null,null,null,{"$f":"IF(I886=\"\",\"\",IF(VLOOKUP(I886,CAD_Q!$C$6:$D$105,2,FALSE)=0,\"\",VLOOKUP(I886,CAD_Q!$C$6:$D$105,2,FALSE)))","v":""},{"$f":"IFERROR(VLOOKUP(I886,CAD_Q!$C$6:$E$109,3,FALSE)*F886,\"\")","v":""},null,null,"",1,0,1900,0,1,1900,"Nombre y el registro de entrada válida"]
[null,"",null,null,null,"",null,null,null,{"$f":"IF(I887=\"\",\"\",IF(VLOOKUP(I887,CAD_Q!$C$6:$D$105,2,FALSE)=0,\"\",VLOOKUP(I887,CAD_Q!$C$6:$D$105,2,FALSE)))","v":""},{"$f":"IFERROR(VLOOKUP(I887,CAD_Q!$C$6:$E$109,3,FALSE)*F887,\"\")","v":""},null,null,"",1,0,1900,0,1,1900,"Nombre y el registro de entrada válida"]
[null,"",null,null,null,"",null,null,null,{"$f":"IF(I888=\"\",\"\",IF(VLOOKUP(I888,CAD_Q!$C$6:$D$105,2,FALSE)=0,\"\",VLOOKUP(I888,CAD_Q!$C$6:$D$105,2,FALSE)))","v":""},{"$f":"IFERROR(VLOOKUP(I888,CAD_Q!$C$6:$E$109,3,FALSE)*F888,\"\")","v":""},null,null,"",1,0,1900,0,1,1900,"Nombre y el registro de entrada válida"]
[null,"",null,null,null,"",null,null,null,{"$f":"IF(I889=\"\",\"\",IF(VLOOKUP(I889,CAD_Q!$C$6:$D$105,2,FALSE)=0,\"\",VLOOKUP(I889,CAD_Q!$C$6:$D$105,2,FALSE)))","v":""},{"$f":"IFERROR(VLOOKUP(I889,CAD_Q!$C$6:$E$109,3,FALSE)*F889,\"\")","v":""},null,null,"",1,0,1900,0,1,1900,"Nombre y el registro de entrada válida"]
[null,"",null,null,null,"",null,null,null,{"$f":"IF(I890=\"\",\"\",IF(VLOOKUP(I890,CAD_Q!$C$6:$D$105,2,FALSE)=0,\"\",VLOOKUP(I890,CAD_Q!$C$6:$D$105,2,FALSE)))","v":""},{"$f":"IFERROR(VLOOKUP(I890,CAD_Q!$C$6:$E$109,3,FALSE)*F890,\"\")","v":""},null,null,"",1,0,1900,0,1,1900,"Nombre y el registro de entrada válida"]
[null,"",null,null,null,"",null,null,null,{"$f":"IF(I891=\"\",\"\",IF(VLOOKUP(I891,CAD_Q!$C$6:$D$105,2,FALSE)=0,\"\",VLOOKUP(I891,CAD_Q!$C$6:$D$105,2,FALSE)))","v":""},{"$f":"IFERROR(VLOOKUP(I891,CAD_Q!$C$6:$E$109,3,FALSE)*F891,\"\")","v":""},null,null,"",1,0,1900,0,1,1900,"Nombre y el registro de entrada válida"]
[null,"",null,null,null,"",null,null,null,{"$f":"IF(I892=\"\",\"\",IF(VLOOKUP(I892,CAD_Q!$C$6:$D$105,2,FALSE)=0,\"\",VLOOKUP(I892,CAD_Q!$C$6:$D$105,2,FALSE)))","v":""},{"$f":"IFERROR(VLOOKUP(I892,CAD_Q!$C$6:$E$109,3,FALSE)*F892,\"\")","v":""},null,null,"",1,0,1900,0,1,1900,"Nombre y el registro de entrada válida"]
[null,"",null,null,null,"",null,null,null,{"$f":"IF(I893=\"\",\"\",IF(VLOOKUP(I893,CAD_Q!$C$6:$D$105,2,FALSE)=0,\"\",VLOOKUP(I893,CAD_Q!$C$6:$D$105,2,FALSE)))","v":""},{"$f":"IFERROR(VLOOKUP(I893,CAD_Q!$C$6:$E$109,3,FALSE)*F893,\"\")","v":""},null,null,"",1,0,1900,0,1,1900,"Nombre y el registro de entrada válida"]
[null,"",null,null,null,"",null,null,null,{"$f":"IF(I894=\"\",\"\",IF(VLOOKUP(I894,CAD_Q!$C$6:$D$105,2,FALSE)=0,\"\",VLOOKUP(I894,CAD_Q!$C$6:$D$105,2,FALSE)))","v":""},{"$f":"IFERROR(VLOOKUP(I894,CAD_Q!$C$6:$E$109,3,FALSE)*F894,\"\")","v":""},null,null,"",1,0,1900,0,1,1900,"Nombre y el registro de entrada válida"]
[null,"",null,null,null,"",null,null,null,{"$f":"IF(I895=\"\",\"\",IF(VLOOKUP(I895,CAD_Q!$C$6:$D$105,2,FALSE)=0,\"\",VLOOKUP(I895,CAD_Q!$C$6:$D$105,2,FALSE)))","v":""},{"$f":"IFERROR(VLOOKUP(I895,CAD_Q!$C$6:$E$109,3,FALSE)*F895,\"\")","v":""},null,null,"",1,0,1900,0,1,1900,"Nombre y el registro de entrada válida"]
[null,"",null,null,null,"",null,null,null,{"$f":"IF(I896=\"\",\"\",IF(VLOOKUP(I896,CAD_Q!$C$6:$D$105,2,FALSE)=0,\"\",VLOOKUP(I896,CAD_Q!$C$6:$D$105,2,FALSE)))","v":""},{"$f":"IFERROR(VLOOKUP(I896,CAD_Q!$C$6:$E$109,3,FALSE)*F896,\"\")","v":""},null,null,"",1,0,1900,0,1,1900,"Nombre y el registro de entrada válida"]
[null,"",null,null,null,"",null,null,null,{"$f":"IF(I897=\"\",\"\",IF(VLOOKUP(I897,CAD_Q!$C$6:$D$105,2,FALSE)=0,\"\",VLOOKUP(I897,CAD_Q!$C$6:$D$105,2,FALSE)))","v":""},{"$f":"IFERROR(VLOOKUP(I897,CAD_Q!$C$6:$E$109,3,FALSE)*F897,\"\")","v":""},null,null,"",1,0,1900,0,1,1900,"Nombre y el registro de entrada válida"]
[null,"",null,null,null,"",null,null,null,{"$f":"IF(I898=\"\",\"\",IF(VLOOKUP(I898,CAD_Q!$C$6:$D$105,2,FALSE)=0,\"\",VLOOKUP(I898,CAD_Q!$C$6:$D$105,2,FALSE)))","v":""},{"$f":"IFERROR(VLOOKUP(I898,CAD_Q!$C$6:$E$109,3,FALSE)*F898,\"\")","v":""},null,null,"",1,0,1900,0,1,1900,"Nombre y el registro de entrada válida"]
[null,"",null,null,null,"",null,null,null,{"$f":"IF(I899=\"\",\"\",IF(VLOOKUP(I899,CAD_Q!$C$6:$D$105,2,FALSE)=0,\"\",VLOOKUP(I899,CAD_Q!$C$6:$D$105,2,FALSE)))","v":""},{"$f":"IFERROR(VLOOKUP(I899,CAD_Q!$C$6:$E$109,3,FALSE)*F899,\"\")","v":""},null,null,"",1,0,1900,0,1,1900,"Nombre y el registro de entrada válida"]
[null,"",null,null,null,"",null,null,null,{"$f":"IF(I900=\"\",\"\",IF(VLOOKUP(I900,CAD_Q!$C$6:$D$105,2,FALSE)=0,\"\",VLOOKUP(I900,CAD_Q!$C$6:$D$105,2,FALSE)))","v":""},{"$f":"IFERROR(VLOOKUP(I900,CAD_Q!$C$6:$E$109,3,FALSE)*F900,\"\")","v":""},null,null,"",1,0,1900,0,1,1900,"Nombre y el registro de entrada válida"]
[null,"",null,null,null,"",null,null,null,{"$f":"IF(I901=\"\",\"\",IF(VLOOKUP(I901,CAD_Q!$C$6:$D$105,2,FALSE)=0,\"\",VLOOKUP(I901,CAD_Q!$C$6:$D$105,2,FALSE)))","v":""},{"$f":"IFERROR(VLOOKUP(I901,CAD_Q!$C$6:$E$109,3,FALSE)*F901,\"\")","v":""},null,null,"",1,0,1900,0,1,1900,"Nombre y el registro de entrada válida"]
[null,"",null,null,null,"",null,null,null,{"$f":"IF(I902=\"\",\"\",IF(VLOOKUP(I902,CAD_Q!$C$6:$D$105,2,FALSE)=0,\"\",VLOOKUP(I902,CAD_Q!$C$6:$D$105,2,FALSE)))","v":""},{"$f":"IFERROR(VLOOKUP(I902,CAD_Q!$C$6:$E$109,3,FALSE)*F902,\"\")","v":""},null,null,"",1,0,1900,0,1,1900,"Nombre y el registro de entrada válida"]
[null,{"$f":"CONCATENATE(C903,D903)","v":""},null,null,null,"",null,null,null,{"$f":"IF(I903=\"\",\"\",IF(VLOOKUP(I903,CAD_Q!$C$6:$D$105,2,FALSE)=0,\"\",VLOOKUP(I903,CAD_Q!$C$6:$D$105,2,FALSE)))","v":""},{"$f":"IFERROR(VLOOKUP(I903,CAD_Q!$C$6:$E$109,3,FALSE)*F903,\"\")","v":""},null,null,{"$f":"IFERROR(K903-L903+M903,\"\")","v":""},1,0,1900,0,1,1900,"Nombre y el registro de entrada válida"]
[null,"",null,null,null,"",null,null,null,{"$f":"IF(I904=\"\",\"\",IF(VLOOKUP(I904,CAD_Q!$C$6:$D$105,2,FALSE)=0,\"\",VLOOKUP(I904,CAD_Q!$C$6:$D$105,2,FALSE)))","v":""},{"$f":"IFERROR(VLOOKUP(I904,CAD_Q!$C$6:$E$109,3,FALSE)*F904,\"\")","v":""},null,null,"",1,0,1900,0,1,1900,"Nombre y el registro de entrada válida"]
[null,"",null,null,null,"",null,null,null,{"$f":"IF(I905=\"\",\"\",IF(VLOOKUP(I905,CAD_Q!$C$6:$D$105,2,FALSE)=0,\"\",VLOOKUP(I905,CAD_Q!$C$6:$D$105,2,FALSE)))","v":""},{"$f":"IFERROR(VLOOKUP(I905,CAD_Q!$C$6:$E$109,3,FALSE)*F905,\"\")","v":""},null,null,"",1,0,1900,0,1,1900,"Nombre y el registro de entrada válida"]
[null,"",null,null,null,"",null,null,null,{"$f":"IF(I906=\"\",\"\",IF(VLOOKUP(I906,CAD_Q!$C$6:$D$105,2,FALSE)=0,\"\",VLOOKUP(I906,CAD_Q!$C$6:$D$105,2,FALSE)))","v":""},{"$f":"IFERROR(VLOOKUP(I906,CAD_Q!$C$6:$E$109,3,FALSE)*F906,\"\")","v":""},null,null,"",{"$f":"MONTH(D906)","v":1},{"$f":"DAY(D906)","v":0},{"$f":"YEAR(D906)","v":1900},{"$f":"DAY(E906)","v":0},{"$f":"MONTH(E906)","v":1},{"$f":"YEAR(E906)","v":1900},"Nombre y el registro de entrada válida"]
[null,"",null,null,null,"",null,null,null,{"$f":"IF(I907=\"\",\"\",IF(VLOOKUP(I907,CAD_Q!$C$6:$D$105,2,FALSE)=0,\"\",VLOOKUP(I907,CAD_Q!$C$6:$D$105,2,FALSE)))","v":""},{"$f":"IFERROR(VLOOKUP(I907,CAD_Q!$C$6:$E$109,3,FALSE)*F907,\"\")","v":""},null,null,"",1,0,1900,0,1,1900,"Nombre y el registro de entrada válida"]
[null,"",null,null,null,"",null,null,null,{"$f":"IF(I908=\"\",\"\",IF(VLOOKUP(I908,CAD_Q!$C$6:$D$105,2,FALSE)=0,\"\",VLOOKUP(I908,CAD_Q!$C$6:$D$105,2,FALSE)))","v":""},{"$f":"IFERROR(VLOOKUP(I908,CAD_Q!$C$6:$E$109,3,FALSE)*F908,\"\")","v":""},null,null,"",1,0,1900,0,1,1900,"Nombre y el registro de entrada válida"]
[null,"",null,null,null,"",null,null,null,{"$f":"IF(I909=\"\",\"\",IF(VLOOKUP(I909,CAD_Q!$C$6:$D$105,2,FALSE)=0,\"\",VLOOKUP(I909,CAD_Q!$C$6:$D$105,2,FALSE)))","v":""},{"$f":"IFERROR(VLOOKUP(I909,CAD_Q!$C$6:$E$109,3,FALSE)*F909,\"\")","v":""},null,null,"",1,0,1900,0,1,1900,"Nombre y el registro de entrada válida"]
[null,"",null,null,null,"",null,null,null,{"$f":"IF(I910=\"\",\"\",IF(VLOOKUP(I910,CAD_Q!$C$6:$D$105,2,FALSE)=0,\"\",VLOOKUP(I910,CAD_Q!$C$6:$D$105,2,FALSE)))","v":""},{"$f":"IFERROR(VLOOKUP(I910,CAD_Q!$C$6:$E$109,3,FALSE)*F910,\"\")","v":""},null,null,"",1,0,1900,0,1,1900,"Nombre y el registro de entrada válida"]
[null,"",null,null,null,"",null,null,null,{"$f":"IF(I911=\"\",\"\",IF(VLOOKUP(I911,CAD_Q!$C$6:$D$105,2,FALSE)=0,\"\",VLOOKUP(I911,CAD_Q!$C$6:$D$105,2,FALSE)))","v":""},{"$f":"IFERROR(VLOOKUP(I911,CAD_Q!$C$6:$E$109,3,FALSE)*F911,\"\")","v":""},null,null,"",1,0,1900,0,1,1900,"Nombre y el registro de entrada válida"]
[null,"",null,null,null,"",null,null,null,{"$f":"IF(I912=\"\",\"\",IF(VLOOKUP(I912,CAD_Q!$C$6:$D$105,2,FALSE)=0,\"\",VLOOKUP(I912,CAD_Q!$C$6:$D$105,2,FALSE)))","v":""},{"$f":"IFERROR(VLOOKUP(I912,CAD_Q!$C$6:$E$109,3,FALSE)*F912,\"\")","v":""},null,null,"",1,0,1900,0,1,1900,"Nombre y el registro de entrada válida"]
[null,"",null,null,null,"",null,null,null,{"$f":"IF(I913=\"\",\"\",IF(VLOOKUP(I913,CAD_Q!$C$6:$D$105,2,FALSE)=0,\"\",VLOOKUP(I913,CAD_Q!$C$6:$D$105,2,FALSE)))","v":""},{"$f":"IFERROR(VLOOKUP(I913,CAD_Q!$C$6:$E$109,3,FALSE)*F913,\"\")","v":""},null,null,"",1,0,1900,0,1,1900,"Nombre y el registro de entrada válida"]
[null,"",null,null,null,"",null,null,null,{"$f":"IF(I914=\"\",\"\",IF(VLOOKUP(I914,CAD_Q!$C$6:$D$105,2,FALSE)=0,\"\",VLOOKUP(I914,CAD_Q!$C$6:$D$105,2,FALSE)))","v":""},{"$f":"IFERROR(VLOOKUP(I914,CAD_Q!$C$6:$E$109,3,FALSE)*F914,\"\")","v":""},null,null,"",1,0,1900,0,1,1900,"Nombre y el registro de entrada válida"]
[null,"",null,null,null,"",null,null,null,{"$f":"IF(I915=\"\",\"\",IF(VLOOKUP(I915,CAD_Q!$C$6:$D$105,2,FALSE)=0,\"\",VLOOKUP(I915,CAD_Q!$C$6:$D$105,2,FALSE)))","v":""},{"$f":"IFERROR(VLOOKUP(I915,CAD_Q!$C$6:$E$109,3,FALSE)*F915,\"\")","v":""},null,null,"",1,0,1900,0,1,1900,"Nombre y el registro de entrada válida"]
[null,"",null,null,null,"",null,null,null,{"$f":"IF(I916=\"\",\"\",IF(VLOOKUP(I916,CAD_Q!$C$6:$D$105,2,FALSE)=0,\"\",VLOOKUP(I916,CAD_Q!$C$6:$D$105,2,FALSE)))","v":""},{"$f":"IFERROR(VLOOKUP(I916,CAD_Q!$C$6:$E$109,3,FALSE)*F916,\"\")","v":""},null,null,"",1,0,1900,0,1,1900,"Nombre y el registro de entrada válida"]
[null,"",null,null,null,"",null,null,null,{"$f":"IF(I917=\"\",\"\",IF(VLOOKUP(I917,CAD_Q!$C$6:$D$105,2,FALSE)=0,\"\",VLOOKUP(I917,CAD_Q!$C$6:$D$105,2,FALSE)))","v":""},{"$f":"IFERROR(VLOOKUP(I917,CAD_Q!$C$6:$E$109,3,FALSE)*F917,\"\")","v":""},null,null,"",1,0,1900,0,1,1900,"Nombre y el registro de entrada válida"]
[null,"",null,null,null,"",null,null,null,{"$f":"IF(I918=\"\",\"\",IF(VLOOKUP(I918,CAD_Q!$C$6:$D$105,2,FALSE)=0,\"\",VLOOKUP(I918,CAD_Q!$C$6:$D$105,2,FALSE)))","v":""},{"$f":"IFERROR(VLOOKUP(I918,CAD_Q!$C$6:$E$109,3,FALSE)*F918,\"\")","v":""},null,null,"",1,0,1900,0,1,1900,"Nombre y el registro de entrada válida"]
[null,"",null,null,null,"",null,null,null,{"$f":"IF(I919=\"\",\"\",IF(VLOOKUP(I919,CAD_Q!$C$6:$D$105,2,FALSE)=0,\"\",VLOOKUP(I919,CAD_Q!$C$6:$D$105,2,FALSE)))","v":""},{"$f":"IFERROR(VLOOKUP(I919,CAD_Q!$C$6:$E$109,3,FALSE)*F919,\"\")","v":""},null,null,"",1,0,1900,0,1,1900,"Nombre y el registro de entrada válida"]
[null,"",null,null,null,"",null,null,null,{"$f":"IF(I920=\"\",\"\",IF(VLOOKUP(I920,CAD_Q!$C$6:$D$105,2,FALSE)=0,\"\",VLOOKUP(I920,CAD_Q!$C$6:$D$105,2,FALSE)))","v":""},{"$f":"IFERROR(VLOOKUP(I920,CAD_Q!$C$6:$E$109,3,FALSE)*F920,\"\")","v":""},null,null,"",1,0,1900,0,1,1900,"Nombre y el registro de entrada válida"]
[null,"",null,null,null,"",null,null,null,{"$f":"IF(I921=\"\",\"\",IF(VLOOKUP(I921,CAD_Q!$C$6:$D$105,2,FALSE)=0,\"\",VLOOKUP(I921,CAD_Q!$C$6:$D$105,2,FALSE)))","v":""},{"$f":"IFERROR(VLOOKUP(I921,CAD_Q!$C$6:$E$109,3,FALSE)*F921,\"\")","v":""},null,null,"",1,0,1900,0,1,1900,"Nombre y el registro de entrada válida"]
[null,"",null,null,null,"",null,null,null,{"$f":"IF(I922=\"\",\"\",IF(VLOOKUP(I922,CAD_Q!$C$6:$D$105,2,FALSE)=0,\"\",VLOOKUP(I922,CAD_Q!$C$6:$D$105,2,FALSE)))","v":""},{"$f":"IFERROR(VLOOKUP(I922,CAD_Q!$C$6:$E$109,3,FALSE)*F922,\"\")","v":""},null,null,"",1,0,1900,0,1,1900,"Nombre y el registro de entrada válida"]
[null,"",null,null,null,"",null,null,null,{"$f":"IF(I923=\"\",\"\",IF(VLOOKUP(I923,CAD_Q!$C$6:$D$105,2,FALSE)=0,\"\",VLOOKUP(I923,CAD_Q!$C$6:$D$105,2,FALSE)))","v":""},{"$f":"IFERROR(VLOOKUP(I923,CAD_Q!$C$6:$E$109,3,FALSE)*F923,\"\")","v":""},null,null,"",1,0,1900,0,1,1900,"Nombre y el registro de entrada válida"]
[null,"",null,null,null,"",null,null,null,{"$f":"IF(I924=\"\",\"\",IF(VLOOKUP(I924,CAD_Q!$C$6:$D$105,2,FALSE)=0,\"\",VLOOKUP(I924,CAD_Q!$C$6:$D$105,2,FALSE)))","v":""},{"$f":"IFERROR(VLOOKUP(I924,CAD_Q!$C$6:$E$109,3,FALSE)*F924,\"\")","v":""},null,null,"",1,0,1900,0,1,1900,"Nombre y el registro de entrada válida"]
[null,"",null,null,null,"",null,null,null,{"$f":"IF(I925=\"\",\"\",IF(VLOOKUP(I925,CAD_Q!$C$6:$D$105,2,FALSE)=0,\"\",VLOOKUP(I925,CAD_Q!$C$6:$D$105,2,FALSE)))","v":""},{"$f":"IFERROR(VLOOKUP(I925,CAD_Q!$C$6:$E$109,3,FALSE)*F925,\"\")","v":""},null,null,"",1,0,1900,0,1,1900,"Nombre y el registro de entrada válida"]
[null,"",null,null,null,"",null,null,null,{"$f":"IF(I926=\"\",\"\",IF(VLOOKUP(I926,CAD_Q!$C$6:$D$105,2,FALSE)=0,\"\",VLOOKUP(I926,CAD_Q!$C$6:$D$105,2,FALSE)))","v":""},{"$f":"IFERROR(VLOOKUP(I926,CAD_Q!$C$6:$E$109,3,FALSE)*F926,\"\")","v":""},null,null,"",1,0,1900,0,1,1900,"Nombre y el registro de entrada válida"]
[null,"",null,null,null,"",null,null,null,{"$f":"IF(I927=\"\",\"\",IF(VLOOKUP(I927,CAD_Q!$C$6:$D$105,2,FALSE)=0,\"\",VLOOKUP(I927,CAD_Q!$C$6:$D$105,2,FALSE)))","v":""},{"$f":"IFERROR(VLOOKUP(I927,CAD_Q!$C$6:$E$109,3,FALSE)*F927,\"\")","v":""},null,null,"",1,0,1900,0,1,1900,"Nombre y el registro de entrada válida"]
[null,"",null,null,null,"",null,null,null,{"$f":"IF(I928=\"\",\"\",IF(VLOOKUP(I928,CAD_Q!$C$6:$D$105,2,FALSE)=0,\"\",VLOOKUP(I928,CAD_Q!$C$6:$D$105,2,FALSE)))","v":""},{"$f":"IFERROR(VLOOKUP(I928,CAD_Q!$C$6:$E$109,3,FALSE)*F928,\"\")","v":""},null,null,"",1,0,1900,0,1,1900,"Nombre y el registro de entrada válida"]
[null,"",null,null,null,"",null,null,null,{"$f":"IF(I929=\"\",\"\",IF(VLOOKUP(I929,CAD_Q!$C$6:$D$105,2,FALSE)=0,\"\",VLOOKUP(I929,CAD_Q!$C$6:$D$105,2,FALSE)))","v":""},{"$f":"IFERROR(VLOOKUP(I929,CAD_Q!$C$6:$E$109,3,FALSE)*F929,\"\")","v":""},null,null,"",1,0,1900,0,1,1900,"Nombre y el registro de entrada válida"]
[null,"",null,null,null,"",null,null,null,{"$f":"IF(I930=\"\",\"\",IF(VLOOKUP(I930,CAD_Q!$C$6:$D$105,2,FALSE)=0,\"\",VLOOKUP(I930,CAD_Q!$C$6:$D$105,2,FALSE)))","v":""},{"$f":"IFERROR(VLOOKUP(I930,CAD_Q!$C$6:$E$109,3,FALSE)*F930,\"\")","v":""},null,null,"",1,0,1900,0,1,1900,"Nombre y el registro de entrada válida"]
[null,"",null,null,null,"",null,null,null,{"$f":"IF(I931=\"\",\"\",IF(VLOOKUP(I931,CAD_Q!$C$6:$D$105,2,FALSE)=0,\"\",VLOOKUP(I931,CAD_Q!$C$6:$D$105,2,FALSE)))","v":""},{"$f":"IFERROR(VLOOKUP(I931,CAD_Q!$C$6:$E$109,3,FALSE)*F931,\"\")","v":""},null,null,"",1,0,1900,0,1,1900,"Nombre y el registro de entrada válida"]
[null,"",null,null,null,{"$f":"IF(OR(D932=\"\",E932=\"\"),\"\",E932-D932)","v":""},null,null,null,{"$f":"IF(I932=\"\",\"\",IF(VLOOKUP(I932,CAD_Q!$C$6:$D$105,2,FALSE)=0,\"\",VLOOKUP(I932,CAD_Q!$C$6:$D$105,2,FALSE)))","v":""},{"$f":"IFERROR(VLOOKUP(I932,CAD_Q!$C$6:$E$109,3,FALSE)*F932,\"\")","v":""},null,null,"",1,0,1900,0,1,1900,"Nombre y el registro de entrada válida"]
[null,"",null,null,null,"",null,null,null,{"$f":"IF(I933=\"\",\"\",IF(VLOOKUP(I933,CAD_Q!$C$6:$D$105,2,FALSE)=0,\"\",VLOOKUP(I933,CAD_Q!$C$6:$D$105,2,FALSE)))","v":""},{"$f":"IFERROR(VLOOKUP(I933,CAD_Q!$C$6:$E$109,3,FALSE)*F933,\"\")","v":""},null,null,"",1,0,1900,0,1,1900,"Nombre y el registro de entrada válida"]
[null,"",null,null,null,"",null,null,null,{"$f":"IF(I934=\"\",\"\",IF(VLOOKUP(I934,CAD_Q!$C$6:$D$105,2,FALSE)=0,\"\",VLOOKUP(I934,CAD_Q!$C$6:$D$105,2,FALSE)))","v":""},{"$f":"IFERROR(VLOOKUP(I934,CAD_Q!$C$6:$E$109,3,FALSE)*F934,\"\")","v":""},null,null,"",1,0,1900,0,1,1900,"Nombre y el registro de entrada válida"]
[null,"",null,null,null,"",null,null,null,{"$f":"IF(I935=\"\",\"\",IF(VLOOKUP(I935,CAD_Q!$C$6:$D$105,2,FALSE)=0,\"\",VLOOKUP(I935,CAD_Q!$C$6:$D$105,2,FALSE)))","v":""},{"$f":"IFERROR(VLOOKUP(I935,CAD_Q!$C$6:$E$109,3,FALSE)*F935,\"\")","v":""},null,null,"",1,0,1900,0,1,1900,"Nombre y el registro de entrada válida"]
[null,"",null,null,null,"",null,null,null,{"$f":"IF(I936=\"\",\"\",IF(VLOOKUP(I936,CAD_Q!$C$6:$D$105,2,FALSE)=0,\"\",VLOOKUP(I936,CAD_Q!$C$6:$D$105,2,FALSE)))","v":""},{"$f":"IFERROR(VLOOKUP(I936,CAD_Q!$C$6:$E$109,3,FALSE)*F936,\"\")","v":""},null,null,"",1,0,1900,0,1,1900,"Nombre y el registro de entrada válida"]
[null,"",null,null,null,"",null,null,null,{"$f":"IF(I937=\"\",\"\",IF(VLOOKUP(I937,CAD_Q!$C$6:$D$105,2,FALSE)=0,\"\",VLOOKUP(I937,CAD_Q!$C$6:$D$105,2,FALSE)))","v":""},{"$f":"IFERROR(VLOOKUP(I937,CAD_Q!$C$6:$E$109,3,FALSE)*F937,\"\")","v":""},null,null,"",1,0,1900,0,1,1900,"Nombre y el registro de entrada válida"]
[null,"",null,null,null,"",null,null,null,{"$f":"IF(I938=\"\",\"\",IF(VLOOKUP(I938,CAD_Q!$C$6:$D$105,2,FALSE)=0,\"\",VLOOKUP(I938,CAD_Q!$C$6:$D$105,2,FALSE)))","v":""},{"$f":"IFERROR(VLOOKUP(I938,CAD_Q!$C$6:$E$109,3,FALSE)*F938,\"\")","v":""},null,null,"",1,0,1900,0,1,1900,"Nombre y el registro de entrada válida"]
[null,"",null,null,null,"",null,null,null,{"$f":"IF(I939=\"\",\"\",IF(VLOOKUP(I939,CAD_Q!$C$6:$D$105,2,FALSE)=0,\"\",VLOOKUP(I939,CAD_Q!$C$6:$D$105,2,FALSE)))","v":""},{"$f":"IFERROR(VLOOKUP(I939,CAD_Q!$C$6:$E$109,3,FALSE)*F939,\"\")","v":""},null,null,"",1,0,1900,0,1,1900,"Nombre y el registro de entrada válida"]
[null,"",null,null,null,"",null,null,null,{"$f":"IF(I940=\"\",\"\",IF(VLOOKUP(I940,CAD_Q!$C$6:$D$105,2,FALSE)=0,\"\",VLOOKUP(I940,CAD_Q!$C$6:$D$105,2,FALSE)))","v":""},{"$f":"IFERROR(VLOOKUP(I940,CAD_Q!$C$6:$E$109,3,FALSE)*F940,\"\")","v":""},null,null,"",1,0,1900,0,1,1900,"Nombre y el registro de entrada válida"]
[null,"",null,null,null,"",null,null,null,{"$f":"IF(I941=\"\",\"\",IF(VLOOKUP(I941,CAD_Q!$C$6:$D$105,2,FALSE)=0,\"\",VLOOKUP(I941,CAD_Q!$C$6:$D$105,2,FALSE)))","v":""},{"$f":"IFERROR(VLOOKUP(I941,CAD_Q!$C$6:$E$109,3,FALSE)*F941,\"\")","v":""},null,null,"",1,0,1900,0,1,1900,"Nombre y el registro de entrada válida"]
[null,"",null,null,null,"",null,null,null,{"$f":"IF(I942=\"\",\"\",IF(VLOOKUP(I942,CAD_Q!$C$6:$D$105,2,FALSE)=0,\"\",VLOOKUP(I942,CAD_Q!$C$6:$D$105,2,FALSE)))","v":""},{"$f":"IFERROR(VLOOKUP(I942,CAD_Q!$C$6:$E$109,3,FALSE)*F942,\"\")","v":""},null,null,"",1,0,1900,0,1,1900,"Nombre y el registro de entrada válida"]
[null,"",null,null,null,"",null,null,null,{"$f":"IF(I943=\"\",\"\",IF(VLOOKUP(I943,CAD_Q!$C$6:$D$105,2,FALSE)=0,\"\",VLOOKUP(I943,CAD_Q!$C$6:$D$105,2,FALSE)))","v":""},{"$f":"IFERROR(VLOOKUP(I943,CAD_Q!$C$6:$E$109,3,FALSE)*F943,\"\")","v":""},null,null,"",1,0,1900,0,1,1900,"Nombre y el registro de entrada válida"]
[null,"",null,null,null,"",null,null,null,{"$f":"IF(I944=\"\",\"\",IF(VLOOKUP(I944,CAD_Q!$C$6:$D$105,2,FALSE)=0,\"\",VLOOKUP(I944,CAD_Q!$C$6:$D$105,2,FALSE)))","v":""},{"$f":"IFERROR(VLOOKUP(I944,CAD_Q!$C$6:$E$109,3,FALSE)*F944,\"\")","v":""},null,null,"",1,0,1900,0,1,1900,"Nombre y el registro de entrada válida"]
[null,"",null,null,null,"",null,null,null,{"$f":"IF(I945=\"\",\"\",IF(VLOOKUP(I945,CAD_Q!$C$6:$D$105,2,FALSE)=0,\"\",VLOOKUP(I945,CAD_Q!$C$6:$D$105,2,FALSE)))","v":""},{"$f":"IFERROR(VLOOKUP(I945,CAD_Q!$C$6:$E$109,3,FALSE)*F945,\"\")","v":""},null,null,"",1,0,1900,0,1,1900,"Nombre y el registro de entrada válida"]
[null,"",null,null,null,"",null,null,null,{"$f":"IF(I946=\"\",\"\",IF(VLOOKUP(I946,CAD_Q!$C$6:$D$105,2,FALSE)=0,\"\",VLOOKUP(I946,CAD_Q!$C$6:$D$105,2,FALSE)))","v":""},{"$f":"IFERROR(VLOOKUP(I946,CAD_Q!$C$6:$E$109,3,FALSE)*F946,\"\")","v":""},null,null,"",1,0,1900,0,1,1900,"Nombre y el registro de entrada válida"]
[null,"",null,null,null,"",null,null,null,{"$f":"IF(I947=\"\",\"\",IF(VLOOKUP(I947,CAD_Q!$C$6:$D$105,2,FALSE)=0,\"\",VLOOKUP(I947,CAD_Q!$C$6:$D$105,2,FALSE)))","v":""},{"$f":"IFERROR(VLOOKUP(I947,CAD_Q!$C$6:$E$109,3,FALSE)*F947,\"\")","v":""},null,null,"",1,0,1900,0,1,1900,"Nombre y el registro de entrada válida"]
[null,"",null,null,null,"",null,null,null,{"$f":"IF(I948=\"\",\"\",IF(VLOOKUP(I948,CAD_Q!$C$6:$D$105,2,FALSE)=0,\"\",VLOOKUP(I948,CAD_Q!$C$6:$D$105,2,FALSE)))","v":""},{"$f":"IFERROR(VLOOKUP(I948,CAD_Q!$C$6:$E$109,3,FALSE)*F948,\"\")","v":""},null,null,"",1,0,1900,0,1,1900,"Nombre y el registro de entrada válida"]
[null,"",null,null,null,"",null,null,null,{"$f":"IF(I949=\"\",\"\",IF(VLOOKUP(I949,CAD_Q!$C$6:$D$105,2,FALSE)=0,\"\",VLOOKUP(I949,CAD_Q!$C$6:$D$105,2,FALSE)))","v":""},{"$f":"IFERROR(VLOOKUP(I949,CAD_Q!$C$6:$E$109,3,FALSE)*F949,\"\")","v":""},null,null,"",1,0,1900,0,1,1900,"Nombre y el registro de entrada válida"]
[null,"",null,null,null,"",null,null,null,{"$f":"IF(I950=\"\",\"\",IF(VLOOKUP(I950,CAD_Q!$C$6:$D$105,2,FALSE)=0,\"\",VLOOKUP(I950,CAD_Q!$C$6:$D$105,2,FALSE)))","v":""},{"$f":"IFERROR(VLOOKUP(I950,CAD_Q!$C$6:$E$109,3,FALSE)*F950,\"\")","v":""},null,null,"",1,0,1900,0,1,1900,"Nombre y el registro de entrada válida"]
[null,"",null,null,null,"",null,null,null,{"$f":"IF(I951=\"\",\"\",IF(VLOOKUP(I951,CAD_Q!$C$6:$D$105,2,FALSE)=0,\"\",VLOOKUP(I951,CAD_Q!$C$6:$D$105,2,FALSE)))","v":""},{"$f":"IFERROR(VLOOKUP(I951,CAD_Q!$C$6:$E$109,3,FALSE)*F951,\"\")","v":""},null,null,"",1,0,1900,0,1,1900,"Nombre y el registro de entrada válida"]
[null,"",null,null,null,"",null,null,null,{"$f":"IF(I952=\"\",\"\",IF(VLOOKUP(I952,CAD_Q!$C$6:$D$105,2,FALSE)=0,\"\",VLOOKUP(I952,CAD_Q!$C$6:$D$105,2,FALSE)))","v":""},{"$f":"IFERROR(VLOOKUP(I952,CAD_Q!$C$6:$E$109,3,FALSE)*F952,\"\")","v":""},null,null,"",1,0,1900,0,1,1900,"Nombre y el registro de entrada válida"]
[null,"",null,null,null,"",null,null,null,{"$f":"IF(I953=\"\",\"\",IF(VLOOKUP(I953,CAD_Q!$C$6:$D$105,2,FALSE)=0,\"\",VLOOKUP(I953,CAD_Q!$C$6:$D$105,2,FALSE)))","v":""},{"$f":"IFERROR(VLOOKUP(I953,CAD_Q!$C$6:$E$109,3,FALSE)*F953,\"\")","v":""},null,null,"",1,0,1900,0,1,1900,"Nombre y el registro de entrada válida"]
[null,"",null,null,null,"",null,null,null,{"$f":"IF(I954=\"\",\"\",IF(VLOOKUP(I954,CAD_Q!$C$6:$D$105,2,FALSE)=0,\"\",VLOOKUP(I954,CAD_Q!$C$6:$D$105,2,FALSE)))","v":""},{"$f":"IFERROR(VLOOKUP(I954,CAD_Q!$C$6:$E$109,3,FALSE)*F954,\"\")","v":""},null,null,"",1,0,1900,0,1,1900,"Nombre y el registro de entrada válida"]
[null,"",null,null,null,"",null,null,null,{"$f":"IF(I955=\"\",\"\",IF(VLOOKUP(I955,CAD_Q!$C$6:$D$105,2,FALSE)=0,\"\",VLOOKUP(I955,CAD_Q!$C$6:$D$105,2,FALSE)))","v":""},{"$f":"IFERROR(VLOOKUP(I955,CAD_Q!$C$6:$E$109,3,FALSE)*F955,\"\")","v":""},null,null,"",1,0,1900,0,1,1900,"Nombre y el registro de entrada válida"]
[null,"",null,null,null,"",null,null,null,{"$f":"IF(I956=\"\",\"\",IF(VLOOKUP(I956,CAD_Q!$C$6:$D$105,2,FALSE)=0,\"\",VLOOKUP(I956,CAD_Q!$C$6:$D$105,2,FALSE)))","v":""},{"$f":"IFERROR(VLOOKUP(I956,CAD_Q!$C$6:$E$109,3,FALSE)*F956,\"\")","v":""},null,null,"",1,0,1900,0,1,1900,"Nombre y el registro de entrada válida"]
[null,"",null,null,null,"",null,null,null,{"$f":"IF(I957=\"\",\"\",IF(VLOOKUP(I957,CAD_Q!$C$6:$D$105,2,FALSE)=0,\"\",VLOOKUP(I957,CAD_Q!$C$6:$D$105,2,FALSE)))","v":""},{"$f":"IFERROR(VLOOKUP(I957,CAD_Q!$C$6:$E$109,3,FALSE)*F957,\"\")","v":""},null,null,"",1,0,1900,0,1,1900,"Nombre y el registro de entrada válida"]
[null,"",null,null,null,"",null,null,null,{"$f":"IF(I958=\"\",\"\",IF(VLOOKUP(I958,CAD_Q!$C$6:$D$105,2,FALSE)=0,\"\",VLOOKUP(I958,CAD_Q!$C$6:$D$105,2,FALSE)))","v":""},{"$f":"IFERROR(VLOOKUP(I958,CAD_Q!$C$6:$E$109,3,FALSE)*F958,\"\")","v":""},null,null,"",1,0,1900,0,1,1900,"Nombre y el registro de entrada válida"]
[null,"",null,null,null,"",null,null,null,{"$f":"IF(I959=\"\",\"\",IF(VLOOKUP(I959,CAD_Q!$C$6:$D$105,2,FALSE)=0,\"\",VLOOKUP(I959,CAD_Q!$C$6:$D$105,2,FALSE)))","v":""},{"$f":"IFERROR(VLOOKUP(I959,CAD_Q!$C$6:$E$109,3,FALSE)*F959,\"\")","v":""},null,null,"",1,0,1900,0,1,1900,"Nombre y el registro de entrada válida"]
[null,"",null,null,null,"",null,null,null,{"$f":"IF(I960=\"\",\"\",IF(VLOOKUP(I960,CAD_Q!$C$6:$D$105,2,FALSE)=0,\"\",VLOOKUP(I960,CAD_Q!$C$6:$D$105,2,FALSE)))","v":""},{"$f":"IFERROR(VLOOKUP(I960,CAD_Q!$C$6:$E$109,3,FALSE)*F960,\"\")","v":""},null,null,"",1,0,1900,0,1,1900,"Nombre y el registro de entrada válida"]
[null,"",null,null,null,"",null,null,null,{"$f":"IF(I961=\"\",\"\",IF(VLOOKUP(I961,CAD_Q!$C$6:$D$105,2,FALSE)=0,\"\",VLOOKUP(I961,CAD_Q!$C$6:$D$105,2,FALSE)))","v":""},{"$f":"IFERROR(VLOOKUP(I961,CAD_Q!$C$6:$E$109,3,FALSE)*F961,\"\")","v":""},null,null,"",1,0,1900,0,1,1900,"Nombre y el registro de entrada válida"]
[null,"",null,null,null,"",null,null,null,{"$f":"IF(I962=\"\",\"\",IF(VLOOKUP(I962,CAD_Q!$C$6:$D$105,2,FALSE)=0,\"\",VLOOKUP(I962,CAD_Q!$C$6:$D$105,2,FALSE)))","v":""},{"$f":"IFERROR(VLOOKUP(I962,CAD_Q!$C$6:$E$109,3,FALSE)*F962,\"\")","v":""},null,null,"",1,0,1900,0,1,1900,"Nombre y el registro de entrada válida"]
[null,"",null,null,null,"",null,null,null,{"$f":"IF(I963=\"\",\"\",IF(VLOOKUP(I963,CAD_Q!$C$6:$D$105,2,FALSE)=0,\"\",VLOOKUP(I963,CAD_Q!$C$6:$D$105,2,FALSE)))","v":""},{"$f":"IFERROR(VLOOKUP(I963,CAD_Q!$C$6:$E$109,3,FALSE)*F963,\"\")","v":""},null,null,"",1,0,1900,0,1,1900,"Nombre y el registro de entrada válida"]
[null,"",null,null,null,"",null,null,null,{"$f":"IF(I964=\"\",\"\",IF(VLOOKUP(I964,CAD_Q!$C$6:$D$105,2,FALSE)=0,\"\",VLOOKUP(I964,CAD_Q!$C$6:$D$105,2,FALSE)))","v":""},{"$f":"IFERROR(VLOOKUP(I964,CAD_Q!$C$6:$E$109,3,FALSE)*F964,\"\")","v":""},null,null,"",1,0,1900,0,1,1900,"Nombre y el registro de entrada válida"]
[null,"",null,null,null,"",null,null,null,{"$f":"IF(I965=\"\",\"\",IF(VLOOKUP(I965,CAD_Q!$C$6:$D$105,2,FALSE)=0,\"\",VLOOKUP(I965,CAD_Q!$C$6:$D$105,2,FALSE)))","v":""},{"$f":"IFERROR(VLOOKUP(I965,CAD_Q!$C$6:$E$109,3,FALSE)*F965,\"\")","v":""},null,null,"",1,0,1900,0,1,1900,"Nombre y el registro de entrada válida"]
[null,"",null,null,null,"",null,null,null,{"$f":"IF(I966=\"\",\"\",IF(VLOOKUP(I966,CAD_Q!$C$6:$D$105,2,FALSE)=0,\"\",VLOOKUP(I966,CAD_Q!$C$6:$D$105,2,FALSE)))","v":""},{"$f":"IFERROR(VLOOKUP(I966,CAD_Q!$C$6:$E$109,3,FALSE)*F966,\"\")","v":""},null,null,"",1,0,1900,0,1,1900,"Nombre y el registro de entrada válida"]
[null,{"$f":"CONCATENATE(C967,D967)","v":""},null,null,null,"",null,null,null,{"$f":"IF(I967=\"\",\"\",IF(VLOOKUP(I967,CAD_Q!$C$6:$D$105,2,FALSE)=0,\"\",VLOOKUP(I967,CAD_Q!$C$6:$D$105,2,FALSE)))","v":""},{"$f":"IFERROR(VLOOKUP(I967,CAD_Q!$C$6:$E$109,3,FALSE)*F967,\"\")","v":""},null,null,{"$f":"IFERROR(K967-L967+M967,\"\")","v":""},1,0,1900,0,1,1900,"Nombre y el registro de entrada válida"]
[null,"",null,null,null,"",null,null,null,{"$f":"IF(I968=\"\",\"\",IF(VLOOKUP(I968,CAD_Q!$C$6:$D$105,2,FALSE)=0,\"\",VLOOKUP(I968,CAD_Q!$C$6:$D$105,2,FALSE)))","v":""},{"$f":"IFERROR(VLOOKUP(I968,CAD_Q!$C$6:$E$109,3,FALSE)*F968,\"\")","v":""},null,null,"",1,0,1900,0,1,1900,"Nombre y el registro de entrada válida"]
[null,"",null,null,null,"",null,null,null,{"$f":"IF(I969=\"\",\"\",IF(VLOOKUP(I969,CAD_Q!$C$6:$D$105,2,FALSE)=0,\"\",VLOOKUP(I969,CAD_Q!$C$6:$D$105,2,FALSE)))","v":""},{"$f":"IFERROR(VLOOKUP(I969,CAD_Q!$C$6:$E$109,3,FALSE)*F969,\"\")","v":""},null,null,"",1,0,1900,0,1,1900,"Nombre y el registro de entrada válida"]
[null,"",null,null,null,"",null,null,null,{"$f":"IF(I970=\"\",\"\",IF(VLOOKUP(I970,CAD_Q!$C$6:$D$105,2,FALSE)=0,\"\",VLOOKUP(I970,CAD_Q!$C$6:$D$105,2,FALSE)))","v":""},{"$f":"IFERROR(VLOOKUP(I970,CAD_Q!$C$6:$E$109,3,FALSE)*F970,\"\")","v":""},null,null,"",{"$f":"MONTH(D970)","v":1},{"$f":"DAY(D970)","v":0},{"$f":"YEAR(D970)","v":1900},{"$f":"DAY(E970)","v":0},{"$f":"MONTH(E970)","v":1},{"$f":"YEAR(E970)","v":1900},"Nombre y el registro de entrada válida"]
[null,"",null,null,null,"",null,null,null,{"$f":"IF(I971=\"\",\"\",IF(VLOOKUP(I971,CAD_Q!$C$6:$D$105,2,FALSE)=0,\"\",VLOOKUP(I971,CAD_Q!$C$6:$D$105,2,FALSE)))","v":""},{"$f":"IFERROR(VLOOKUP(I971,CAD_Q!$C$6:$E$109,3,FALSE)*F971,\"\")","v":""},null,null,"",1,0,1900,0,1,1900,"Nombre y el registro de entrada válida"]
[null,"",null,null,null,"",null,null,null,{"$f":"IF(I972=\"\",\"\",IF(VLOOKUP(I972,CAD_Q!$C$6:$D$105,2,FALSE)=0,\"\",VLOOKUP(I972,CAD_Q!$C$6:$D$105,2,FALSE)))","v":""},{"$f":"IFERROR(VLOOKUP(I972,CAD_Q!$C$6:$E$109,3,FALSE)*F972,\"\")","v":""},null,null,"",1,0,1900,0,1,1900,"Nombre y el registro de entrada válida"]
[null,"",null,null,null,"",null,null,null,{"$f":"IF(I973=\"\",\"\",IF(VLOOKUP(I973,CAD_Q!$C$6:$D$105,2,FALSE)=0,\"\",VLOOKUP(I973,CAD_Q!$C$6:$D$105,2,FALSE)))","v":""},{"$f":"IFERROR(VLOOKUP(I973,CAD_Q!$C$6:$E$109,3,FALSE)*F973,\"\")","v":""},null,null,"",1,0,1900,0,1,1900,"Nombre y el registro de entrada válida"]
[null,"",null,null,null,"",null,null,null,{"$f":"IF(I974=\"\",\"\",IF(VLOOKUP(I974,CAD_Q!$C$6:$D$105,2,FALSE)=0,\"\",VLOOKUP(I974,CAD_Q!$C$6:$D$105,2,FALSE)))","v":""},{"$f":"IFERROR(VLOOKUP(I974,CAD_Q!$C$6:$E$109,3,FALSE)*F974,\"\")","v":""},null,null,"",1,0,1900,0,1,1900,"Nombre y el registro de entrada válida"]
[null,"",null,null,null,"",null,null,null,{"$f":"IF(I975=\"\",\"\",IF(VLOOKUP(I975,CAD_Q!$C$6:$D$105,2,FALSE)=0,\"\",VLOOKUP(I975,CAD_Q!$C$6:$D$105,2,FALSE)))","v":""},{"$f":"IFERROR(VLOOKUP(I975,CAD_Q!$C$6:$E$109,3,FALSE)*F975,\"\")","v":""},null,null,"",1,0,1900,0,1,1900,"Nombre y el registro de entrada válida"]
[null,"",null,null,null,"",null,null,null,{"$f":"IF(I976=\"\",\"\",IF(VLOOKUP(I976,CAD_Q!$C$6:$D$105,2,FALSE)=0,\"\",VLOOKUP(I976,CAD_Q!$C$6:$D$105,2,FALSE)))","v":""},{"$f":"IFERROR(VLOOKUP(I976,CAD_Q!$C$6:$E$109,3,FALSE)*F976,\"\")","v":""},null,null,"",1,0,1900,0,1,1900,"Nombre y el registro de entrada válida"]
[null,"",null,null,null,"",null,null,null,{"$f":"IF(I977=\"\",\"\",IF(VLOOKUP(I977,CAD_Q!$C$6:$D$105,2,FALSE)=0,\"\",VLOOKUP(I977,CAD_Q!$C$6:$D$105,2,FALSE)))","v":""},{"$f":"IFERROR(VLOOKUP(I977,CAD_Q!$C$6:$E$109,3,FALSE)*F977,\"\")","v":""},null,null,"",1,0,1900,0,1,1900,"Nombre y el registro de entrada válida"]
[null,"",null,null,null,"",null,null,null,{"$f":"IF(I978=\"\",\"\",IF(VLOOKUP(I978,CAD_Q!$C$6:$D$105,2,FALSE)=0,\"\",VLOOKUP(I978,CAD_Q!$C$6:$D$105,2,FALSE)))","v":""},{"$f":"IFERROR(VLOOKUP(I978,CAD_Q!$C$6:$E$109,3,FALSE)*F978,\"\")","v":""},null,null,"",1,0,1900,0,1,1900,"Nombre y el registro de entrada válida"]
[null,"",null,null,null,"",null,null,null,{"$f":"IF(I979=\"\",\"\",IF(VLOOKUP(I979,CAD_Q!$C$6:$D$105,2,FALSE)=0,\"\",VLOOKUP(I979,CAD_Q!$C$6:$D$105,2,FALSE)))","v":""},{"$f":"IFERROR(VLOOKUP(I979,CAD_Q!$C$6:$E$109,3,FALSE)*F979,\"\")","v":""},null,null,"",1,0,1900,0,1,1900,"Nombre y el registro de entrada válida"]
[null,"",null,null,null,"",null,null,null,{"$f":"IF(I980=\"\",\"\",IF(VLOOKUP(I980,CAD_Q!$C$6:$D$105,2,FALSE)=0,\"\",VLOOKUP(I980,CAD_Q!$C$6:$D$105,2,FALSE)))","v":""},{"$f":"IFERROR(VLOOKUP(I980,CAD_Q!$C$6:$E$109,3,FALSE)*F980,\"\")","v":""},null,null,"",1,0,1900,0,1,1900,"Nombre y el registro de entrada válida"]
[null,"",null,null,null,"",null,null,null,{"$f":"IF(I981=\"\",\"\",IF(VLOOKUP(I981,CAD_Q!$C$6:$D$105,2,FALSE)=0,\"\",VLOOKUP(I981,CAD_Q!$C$6:$D$105,2,FALSE)))","v":""},{"$f":"IFERROR(VLOOKUP(I981,CAD_Q!$C$6:$E$109,3,FALSE)*F981,\"\")","v":""},null,null,"",1,0,1900,0,1,1900,"Nombre y el registro de entrada válida"]
[null,"",null,null,null,"",null,null,null,{"$f":"IF(I982=\"\",\"\",IF(VLOOKUP(I982,CAD_Q!$C$6:$D$105,2,FALSE)=0,\"\",VLOOKUP(I982,CAD_Q!$C$6:$D$105,2,FALSE)))","v":""},{"$f":"IFERROR(VLOOKUP(I982,CAD_Q!$C$6:$E$109,3,FALSE)*F982,\"\")","v":""},null,null,"",1,0,1900,0,1,1900,"Nombre y el registro de entrada válida"]
[null,"",null,null,null,"",null,null,null,{"$f":"IF(I983=\"\",\"\",IF(VLOOKUP(I983,CAD_Q!$C$6:$D$105,2,FALSE)=0,\"\",VLOOKUP(I983,CAD_Q!$C$6:$D$105,2,FALSE)))","v":""},{"$f":"IFERROR(VLOOKUP(I983,CAD_Q!$C$6:$E$109,3,FALSE)*F983,\"\")","v":""},null,null,"",1,0,1900,0,1,1900,"Nombre y el registro de entrada válida"]
[null,"",null,null,null,"",null,null,null,{"$f":"IF(I984=\"\",\"\",IF(VLOOKUP(I984,CAD_Q!$C$6:$D$105,2,FALSE)=0,\"\",VLOOKUP(I984,CAD_Q!$C$6:$D$105,2,FALSE)))","v":""},{"$f":"IFERROR(VLOOKUP(I984,CAD_Q!$C$6:$E$109,3,FALSE)*F984,\"\")","v":""},null,null,"",1,0,1900,0,1,1900,"Nombre y el registro de entrada válida"]
[null,"",null,null,null,"",null,null,null,{"$f":"IF(I985=\"\",\"\",IF(VLOOKUP(I985,CAD_Q!$C$6:$D$105,2,FALSE)=0,\"\",VLOOKUP(I985,CAD_Q!$C$6:$D$105,2,FALSE)))","v":""},{"$f":"IFERROR(VLOOKUP(I985,CAD_Q!$C$6:$E$109,3,FALSE)*F985,\"\")","v":""},null,null,"",1,0,1900,0,1,1900,"Nombre y el registro de entrada válida"]
[null,"",null,null,null,"",null,null,null,{"$f":"IF(I986=\"\",\"\",IF(VLOOKUP(I986,CAD_Q!$C$6:$D$105,2,FALSE)=0,\"\",VLOOKUP(I986,CAD_Q!$C$6:$D$105,2,FALSE)))","v":""},{"$f":"IFERROR(VLOOKUP(I986,CAD_Q!$C$6:$E$109,3,FALSE)*F986,\"\")","v":""},null,null,"",1,0,1900,0,1,1900,"Nombre y el registro de entrada válida"]
[null,"",null,null,null,"",null,null,null,{"$f":"IF(I987=\"\",\"\",IF(VLOOKUP(I987,CAD_Q!$C$6:$D$105,2,FALSE)=0,\"\",VLOOKUP(I987,CAD_Q!$C$6:$D$105,2,FALSE)))","v":""},{"$f":"IFERROR(VLOOKUP(I987,CAD_Q!$C$6:$E$109,3,FALSE)*F987,\"\")","v":""},null,null,"",1,0,1900,0,1,1900,"Nombre y el registro de entrada válida"]
[null,"",null,null,null,"",null,null,null,{"$f":"IF(I988=\"\",\"\",IF(VLOOKUP(I988,CAD_Q!$C$6:$D$105,2,FALSE)=0,\"\",VLOOKUP(I988,CAD_Q!$C$6:$D$105,2,FALSE)))","v":""},{"$f":"IFERROR(VLOOKUP(I988,CAD_Q!$C$6:$E$109,3,FALSE)*F988,\"\")","v":""},null,null,"",1,0,1900,0,1,1900,"Nombre y el registro de entrada válida"]
[null,"",null,null,null,"",null,null,null,{"$f":"IF(I989=\"\",\"\",IF(VLOOKUP(I989,CAD_Q!$C$6:$D$105,2,FALSE)=0,\"\",VLOOKUP(I989,CAD_Q!$C$6:$D$105,2,FALSE)))","v":""},{"$f":"IFERROR(VLOOKUP(I989,CAD_Q!$C$6:$E$109,3,FALSE)*F989,\"\")","v":""},null,null,"",1,0,1900,0,1,1900,"Nombre y el registro de entrada válida"]
[null,"",null,null,null,"",null,null,null,{"$f":"IF(I990=\"\",\"\",IF(VLOOKUP(I990,CAD_Q!$C$6:$D$105,2,FALSE)=0,\"\",VLOOKUP(I990,CAD_Q!$C$6:$D$105,2,FALSE)))","v":""},{"$f":"IFERROR(VLOOKUP(I990,CAD_Q!$C$6:$E$109,3,FALSE)*F990,\"\")","v":""},null,null,"",1,0,1900,0,1,1900,"Nombre y el registro de entrada válida"]
[null,"",null,null,null,"",null,null,null,{"$f":"IF(I991=\"\",\"\",IF(VLOOKUP(I991,CAD_Q!$C$6:$D$105,2,FALSE)=0,\"\",VLOOKUP(I991,CAD_Q!$C$6:$D$105,2,FALSE)))","v":""},{"$f":"IFERROR(VLOOKUP(I991,CAD_Q!$C$6:$E$109,3,FALSE)*F991,\"\")","v":""},null,null,"",1,0,1900,0,1,1900,"Nombre y el registro de entrada válida"]
[null,"",null,null,null,"",null,null,null,{"$f":"IF(I992=\"\",\"\",IF(VLOOKUP(I992,CAD_Q!$C$6:$D$105,2,FALSE)=0,\"\",VLOOKUP(I992,CAD_Q!$C$6:$D$105,2,FALSE)))","v":""},{"$f":"IFERROR(VLOOKUP(I992,CAD_Q!$C$6:$E$109,3,FALSE)*F992,\"\")","v":""},null,null,"",1,0,1900,0,1,1900,"Nombre y el registro de entrada válida"]
[null,"",null,null,null,"",null,null,null,{"$f":"IF(I993=\"\",\"\",IF(VLOOKUP(I993,CAD_Q!$C$6:$D$105,2,FALSE)=0,\"\",VLOOKUP(I993,CAD_Q!$C$6:$D$105,2,FALSE)))","v":""},{"$f":"IFERROR(VLOOKUP(I993,CAD_Q!$C$6:$E$109,3,FALSE)*F993,\"\")","v":""},null,null,"",1,0,1900,0,1,1900,"Nombre y el registro de entrada válida"]
[null,"",null,null,null,"",null,null,null,{"$f":"IF(I994=\"\",\"\",IF(VLOOKUP(I994,CAD_Q!$C$6:$D$105,2,FALSE)=0,\"\",VLOOKUP(I994,CAD_Q!$C$6:$D$105,2,FALSE)))","v":""},{"$f":"IFERROR(VLOOKUP(I994,CAD_Q!$C$6:$E$109,3,FALSE)*F994,\"\")","v":""},null,null,"",1,0,1900,0,1,1900,"Nombre y el registro de entrada válida"]
[null,"",null,null,null,"",null,null,null,{"$f":"IF(I995=\"\",\"\",IF(VLOOKUP(I995,CAD_Q!$C$6:$D$105,2,FALSE)=0,\"\",VLOOKUP(I995,CAD_Q!$C$6:$D$105,2,FALSE)))","v":""},{"$f":"IFERROR(VLOOKUP(I995,CAD_Q!$C$6:$E$109,3,FALSE)*F995,\"\")","v":""},null,null,"",1,0,1900,0,1,1900,"Nombre y el registro de entrada válida"]
[null,"",null,null,null,{"$f":"IF(OR(D996=\"\",E996=\"\"),\"\",E996-D996)","v":""},null,null,null,{"$f":"IF(I996=\"\",\"\",IF(VLOOKUP(I996,CAD_Q!$C$6:$D$105,2,FALSE)=0,\"\",VLOOKUP(I996,CAD_Q!$C$6:$D$105,2,FALSE)))","v":""},{"$f":"IFERROR(VLOOKUP(I996,CAD_Q!$C$6:$E$109,3,FALSE)*F996,\"\")","v":""},null,null,"",1,0,1900,0,1,1900,"Nombre y el registro de entrada válida"]
[null,"",null,null,null,"",null,null,null,{"$f":"IF(I997=\"\",\"\",IF(VLOOKUP(I997,CAD_Q!$C$6:$D$105,2,FALSE)=0,\"\",VLOOKUP(I997,CAD_Q!$C$6:$D$105,2,FALSE)))","v":""},{"$f":"IFERROR(VLOOKUP(I997,CAD_Q!$C$6:$E$109,3,FALSE)*F997,\"\")","v":""},null,null,"",1,0,1900,0,1,1900,"Nombre y el registro de entrada válida"]
[null,"",null,null,null,"",null,null,null,{"$f":"IF(I998=\"\",\"\",IF(VLOOKUP(I998,CAD_Q!$C$6:$D$105,2,FALSE)=0,\"\",VLOOKUP(I998,CAD_Q!$C$6:$D$105,2,FALSE)))","v":""},{"$f":"IFERROR(VLOOKUP(I998,CAD_Q!$C$6:$E$109,3,FALSE)*F998,\"\")","v":""},null,null,"",1,0,1900,0,1,1900,"Nombre y el registro de entrada válida"]
[null,"",null,null,null,"",null,null,null,{"$f":"IF(I999=\"\",\"\",IF(VLOOKUP(I999,CAD_Q!$C$6:$D$105,2,FALSE)=0,\"\",VLOOKUP(I999,CAD_Q!$C$6:$D$105,2,FALSE)))","v":""},{"$f":"IFERROR(VLOOKUP(I999,CAD_Q!$C$6:$E$109,3,FALSE)*F999,\"\")","v":""},null,null,"",1,0,1900,0,1,1900,"Nombre y el registro de entrada válida"]
[null,"",null,null,null,"",null,null,null,{"$f":"IF(I1000=\"\",\"\",IF(VLOOKUP(I1000,CAD_Q!$C$6:$D$105,2,FALSE)=0,\"\",VLOOKUP(I1000,CAD_Q!$C$6:$D$105,2,FALSE)))","v":""},{"$f":"IFERROR(VLOOKUP(I1000,CAD_Q!$C$6:$E$109,3,FALSE)*F1000,\"\")","v":""},null,null,"",1,0,1900,0,1,1900,"Nombre y el registro de entrada válida"]
[null,"",null,null,null,"",null,null,null,{"$f":"IF(I1001=\"\",\"\",IF(VLOOKUP(I1001,CAD_Q!$C$6:$D$105,2,FALSE)=0,\"\",VLOOKUP(I1001,CAD_Q!$C$6:$D$105,2,FALSE)))","v":""},{"$f":"IFERROR(VLOOKUP(I1001,CAD_Q!$C$6:$E$109,3,FALSE)*F1001,\"\")","v":""},null,null,"",1,0,1900,0,1,1900,"Nombre y el registro de entrada válida"]
[null,"",null,null,null,"",null,null,null,{"$f":"IF(I1002=\"\",\"\",IF(VLOOKUP(I1002,CAD_Q!$C$6:$D$105,2,FALSE)=0,\"\",VLOOKUP(I1002,CAD_Q!$C$6:$D$105,2,FALSE)))","v":""},{"$f":"IFERROR(VLOOKUP(I1002,CAD_Q!$C$6:$E$109,3,FALSE)*F1002,\"\")","v":""},null,null,"",1,0,1900,0,1,1900,"Nombre y el registro de entrada válida"]
[null,"",null,null,null,"",null,null,null,{"$f":"IF(I1003=\"\",\"\",IF(VLOOKUP(I1003,CAD_Q!$C$6:$D$105,2,FALSE)=0,\"\",VLOOKUP(I1003,CAD_Q!$C$6:$D$105,2,FALSE)))","v":""},{"$f":"IFERROR(VLOOKUP(I1003,CAD_Q!$C$6:$E$109,3,FALSE)*F1003,\"\")","v":""},null,null,"",1,0,1900,0,1,1900,"Nombre y el registro de entrada válida"]
[null,"",null,null,null,"",null,null,null,{"$f":"IF(I1004=\"\",\"\",IF(VLOOKUP(I1004,CAD_Q!$C$6:$D$105,2,FALSE)=0,\"\",VLOOKUP(I1004,CAD_Q!$C$6:$D$105,2,FALSE)))","v":""},{"$f":"IFERROR(VLOOKUP(I1004,CAD_Q!$C$6:$E$109,3,FALSE)*F1004,\"\")","v":""},null,null,"",1,0,1900,0,1,1900,"Nombre y el registro de entrada válida"]
[null,"",null,null,null,"",null,null,null,{"$f":"IF(I1005=\"\",\"\",IF(VLOOKUP(I1005,CAD_Q!$C$6:$D$105,2,FALSE)=0,\"\",VLOOKUP(I1005,CAD_Q!$C$6:$D$105,2,FALSE)))","v":""},{"$f":"IFERROR(VLOOKUP(I1005,CAD_Q!$C$6:$E$109,3,FALSE)*F1005,\"\")","v":""},null,null,"",1,0,1900,0,1,1900,"Nombre y el registro de entrada válida"]
[null,"",null,null,null,"",null,null,null,{"$f":"IF(I1006=\"\",\"\",IF(VLOOKUP(I1006,CAD_Q!$C$6:$D$105,2,FALSE)=0,\"\",VLOOKUP(I1006,CAD_Q!$C$6:$D$105,2,FALSE)))","v":""},{"$f":"IFERROR(VLOOKUP(I1006,CAD_Q!$C$6:$E$109,3,FALSE)*F1006,\"\")","v":""},null,null,"",1,0,1900,0,1,1900,"Nombre y el registro de entrada válida"]
[null,"",null,null,null,"",null,null,null,{"$f":"IF(I1007=\"\",\"\",IF(VLOOKUP(I1007,CAD_Q!$C$6:$D$105,2,FALSE)=0,\"\",VLOOKUP(I1007,CAD_Q!$C$6:$D$105,2,FALSE)))","v":""},{"$f":"IFERROR(VLOOKUP(I1007,CAD_Q!$C$6:$E$109,3,FALSE)*F1007,\"\")","v":""},null,null,"",1,0,1900,0,1,1900,"Nombre y el registro de entrada válida"]
[null,"",null,null,null,"",null,null,null,{"$f":"IF(I1008=\"\",\"\",IF(VLOOKUP(I1008,CAD_Q!$C$6:$D$105,2,FALSE)=0,\"\",VLOOKUP(I1008,CAD_Q!$C$6:$D$105,2,FALSE)))","v":""},{"$f":"IFERROR(VLOOKUP(I1008,CAD_Q!$C$6:$E$109,3,FALSE)*F1008,\"\")","v":""},null,null,"",1,0,1900,0,1,1900,"Nombre y el registro de entrada válida"]
[null,"",null,null,null,"",null,null,null,{"$f":"IF(I1009=\"\",\"\",IF(VLOOKUP(I1009,CAD_Q!$C$6:$D$105,2,FALSE)=0,\"\",VLOOKUP(I1009,CAD_Q!$C$6:$D$105,2,FALSE)))","v":""},{"$f":"IFERROR(VLOOKUP(I1009,CAD_Q!$C$6:$E$109,3,FALSE)*F1009,\"\")","v":""},null,null,"",1,0,1900,0,1,1900,"Nombre y el registro de entrada válida"]
[null,"",null,null,null,"",null,null,null,{"$f":"IF(I1010=\"\",\"\",IF(VLOOKUP(I1010,CAD_Q!$C$6:$D$105,2,FALSE)=0,\"\",VLOOKUP(I1010,CAD_Q!$C$6:$D$105,2,FALSE)))","v":""},{"$f":"IFERROR(VLOOKUP(I1010,CAD_Q!$C$6:$E$109,3,FALSE)*F1010,\"\")","v":""},null,null,"",1,0,1900,0,1,1900,"Nombre y el registro de entrada válida"]
[null,"",null,null,null,"",null,null,null,{"$f":"IF(I1011=\"\",\"\",IF(VLOOKUP(I1011,CAD_Q!$C$6:$D$105,2,FALSE)=0,\"\",VLOOKUP(I1011,CAD_Q!$C$6:$D$105,2,FALSE)))","v":""},{"$f":"IFERROR(VLOOKUP(I1011,CAD_Q!$C$6:$E$109,3,FALSE)*F1011,\"\")","v":""},null,null,"",1,0,1900,0,1,1900,"Nombre y el registro de entrada válida"]
[null,"",null,null,null,"",null,null,null,{"$f":"IF(I1012=\"\",\"\",IF(VLOOKUP(I1012,CAD_Q!$C$6:$D$105,2,FALSE)=0,\"\",VLOOKUP(I1012,CAD_Q!$C$6:$D$105,2,FALSE)))","v":""},{"$f":"IFERROR(VLOOKUP(I1012,CAD_Q!$C$6:$E$109,3,FALSE)*F1012,\"\")","v":""},null,null,"",1,0,1900,0,1,1900,"Nombre y el registro de entrada válida"]
[null,"",null,null,null,"",null,null,null,{"$f":"IF(I1013=\"\",\"\",IF(VLOOKUP(I1013,CAD_Q!$C$6:$D$105,2,FALSE)=0,\"\",VLOOKUP(I1013,CAD_Q!$C$6:$D$105,2,FALSE)))","v":""},{"$f":"IFERROR(VLOOKUP(I1013,CAD_Q!$C$6:$E$109,3,FALSE)*F1013,\"\")","v":""},null,null,"",1,0,1900,0,1,1900,"Nombre y el registro de entrada válida"]
[null,"",null,null,null,"",null,null,null,{"$f":"IF(I1014=\"\",\"\",IF(VLOOKUP(I1014,CAD_Q!$C$6:$D$105,2,FALSE)=0,\"\",VLOOKUP(I1014,CAD_Q!$C$6:$D$105,2,FALSE)))","v":""},{"$f":"IFERROR(VLOOKUP(I1014,CAD_Q!$C$6:$E$109,3,FALSE)*F1014,\"\")","v":""},null,null,"",1,0,1900,0,1,1900,"Nombre y el registro de entrada válida"]
[null,"",null,null,null,"",null,null,null,{"$f":"IF(I1015=\"\",\"\",IF(VLOOKUP(I1015,CAD_Q!$C$6:$D$105,2,FALSE)=0,\"\",VLOOKUP(I1015,CAD_Q!$C$6:$D$105,2,FALSE)))","v":""},{"$f":"IFERROR(VLOOKUP(I1015,CAD_Q!$C$6:$E$109,3,FALSE)*F1015,\"\")","v":""},null,null,"",1,0,1900,0,1,1900,"Nombre y el registro de entrada válida"]
[null,"",null,null,null,"",null,null,null,{"$f":"IF(I1016=\"\",\"\",IF(VLOOKUP(I1016,CAD_Q!$C$6:$D$105,2,FALSE)=0,\"\",VLOOKUP(I1016,CAD_Q!$C$6:$D$105,2,FALSE)))","v":""},{"$f":"IFERROR(VLOOKUP(I1016,CAD_Q!$C$6:$E$109,3,FALSE)*F1016,\"\")","v":""},null,null,"",1,0,1900,0,1,1900,"Nombre y el registro de entrada válida"]
[null,"",null,null,null,"",null,null,null,{"$f":"IF(I1017=\"\",\"\",IF(VLOOKUP(I1017,CAD_Q!$C$6:$D$105,2,FALSE)=0,\"\",VLOOKUP(I1017,CAD_Q!$C$6:$D$105,2,FALSE)))","v":""},{"$f":"IFERROR(VLOOKUP(I1017,CAD_Q!$C$6:$E$109,3,FALSE)*F1017,\"\")","v":""},null,null,"",1,0,1900,0,1,1900,"Nombre y el registro de entrada válida"]
[null,"",null,null,null,"",null,null,null,{"$f":"IF(I1018=\"\",\"\",IF(VLOOKUP(I1018,CAD_Q!$C$6:$D$105,2,FALSE)=0,\"\",VLOOKUP(I1018,CAD_Q!$C$6:$D$105,2,FALSE)))","v":""},{"$f":"IFERROR(VLOOKUP(I1018,CAD_Q!$C$6:$E$109,3,FALSE)*F1018,\"\")","v":""},null,null,"",1,0,1900,0,1,1900,"Nombre y el registro de entrada válida"]
[null,"",null,null,null,"",null,null,null,{"$f":"IF(I1019=\"\",\"\",IF(VLOOKUP(I1019,CAD_Q!$C$6:$D$105,2,FALSE)=0,\"\",VLOOKUP(I1019,CAD_Q!$C$6:$D$105,2,FALSE)))","v":""},{"$f":"IFERROR(VLOOKUP(I1019,CAD_Q!$C$6:$E$109,3,FALSE)*F1019,\"\")","v":""},null,null,"",1,0,1900,0,1,1900,"Nombre y el registro de entrada válida"]
[null,"",null,null,null,"",null,null,null,{"$f":"IF(I1020=\"\",\"\",IF(VLOOKUP(I1020,CAD_Q!$C$6:$D$105,2,FALSE)=0,\"\",VLOOKUP(I1020,CAD_Q!$C$6:$D$105,2,FALSE)))","v":""},{"$f":"IFERROR(VLOOKUP(I1020,CAD_Q!$C$6:$E$109,3,FALSE)*F1020,\"\")","v":""},null,null,"",1,0,1900,0,1,1900,"Nombre y el registro de entrada válida"]
[null,"",null,null,null,"",null,null,null,{"$f":"IF(I1021=\"\",\"\",IF(VLOOKUP(I1021,CAD_Q!$C$6:$D$105,2,FALSE)=0,\"\",VLOOKUP(I1021,CAD_Q!$C$6:$D$105,2,FALSE)))","v":""},{"$f":"IFERROR(VLOOKUP(I1021,CAD_Q!$C$6:$E$109,3,FALSE)*F1021,\"\")","v":""},null,null,"",1,0,1900,0,1,1900,"Nombre y el registro de entrada válida"]
[null,"",null,null,null,"",null,null,null,{"$f":"IF(I1022=\"\",\"\",IF(VLOOKUP(I1022,CAD_Q!$C$6:$D$105,2,FALSE)=0,\"\",VLOOKUP(I1022,CAD_Q!$C$6:$D$105,2,FALSE)))","v":""},{"$f":"IFERROR(VLOOKUP(I1022,CAD_Q!$C$6:$E$109,3,FALSE)*F1022,\"\")","v":""},null,null,"",1,0,1900,0,1,1900,"Nombre y el registro de entrada válida"]
[null,"",null,null,null,"",null,null,null,{"$f":"IF(I1023=\"\",\"\",IF(VLOOKUP(I1023,CAD_Q!$C$6:$D$105,2,FALSE)=0,\"\",VLOOKUP(I1023,CAD_Q!$C$6:$D$105,2,FALSE)))","v":""},{"$f":"IFERROR(VLOOKUP(I1023,CAD_Q!$C$6:$E$109,3,FALSE)*F1023,\"\")","v":""},null,null,"",1,0,1900,0,1,1900,"Nombre y el registro de entrada válida"]
[null,"",null,null,null,"",null,null,null,{"$f":"IF(I1024=\"\",\"\",IF(VLOOKUP(I1024,CAD_Q!$C$6:$D$105,2,FALSE)=0,\"\",VLOOKUP(I1024,CAD_Q!$C$6:$D$105,2,FALSE)))","v":""},{"$f":"IFERROR(VLOOKUP(I1024,CAD_Q!$C$6:$E$109,3,FALSE)*F1024,\"\")","v":""},null,null,"",1,0,1900,0,1,1900,"Nombre y el registro de entrada válida"]
[null,"",null,null,null,"",null,null,null,{"$f":"IF(I1025=\"\",\"\",IF(VLOOKUP(I1025,CAD_Q!$C$6:$D$105,2,FALSE)=0,\"\",VLOOKUP(I1025,CAD_Q!$C$6:$D$105,2,FALSE)))","v":""},{"$f":"IFERROR(VLOOKUP(I1025,CAD_Q!$C$6:$E$109,3,FALSE)*F1025,\"\")","v":""},null,null,"",1,0,1900,0,1,1900,"Nombre y el registro de entrada válida"]
[null,"",null,null,null,"",null,null,null,{"$f":"IF(I1026=\"\",\"\",IF(VLOOKUP(I1026,CAD_Q!$C$6:$D$105,2,FALSE)=0,\"\",VLOOKUP(I1026,CAD_Q!$C$6:$D$105,2,FALSE)))","v":""},{"$f":"IFERROR(VLOOKUP(I1026,CAD_Q!$C$6:$E$109,3,FALSE)*F1026,\"\")","v":""},null,null,"",1,0,1900,0,1,1900,"Nombre y el registro de entrada válida"]
[null,"",null,null,null,"",null,null,null,{"$f":"IF(I1027=\"\",\"\",IF(VLOOKUP(I1027,CAD_Q!$C$6:$D$105,2,FALSE)=0,\"\",VLOOKUP(I1027,CAD_Q!$C$6:$D$105,2,FALSE)))","v":""},{"$f":"IFERROR(VLOOKUP(I1027,CAD_Q!$C$6:$E$109,3,FALSE)*F1027,\"\")","v":""},null,null,"",1,0,1900,0,1,1900,"Nombre y el registro de entrada válida"]
[null,"",null,null,null,"",null,null,null,{"$f":"IF(I1028=\"\",\"\",IF(VLOOKUP(I1028,CAD_Q!$C$6:$D$105,2,FALSE)=0,\"\",VLOOKUP(I1028,CAD_Q!$C$6:$D$105,2,FALSE)))","v":""},{"$f":"IFERROR(VLOOKUP(I1028,CAD_Q!$C$6:$E$109,3,FALSE)*F1028,\"\")","v":""},null,null,"",1,0,1900,0,1,1900,"Nombre y el registro de entrada válida"]
[null,"",null,null,null,"",null,null,null,{"$f":"IF(I1029=\"\",\"\",IF(VLOOKUP(I1029,CAD_Q!$C$6:$D$105,2,FALSE)=0,\"\",VLOOKUP(I1029,CAD_Q!$C$6:$D$105,2,FALSE)))","v":""},{"$f":"IFERROR(VLOOKUP(I1029,CAD_Q!$C$6:$E$109,3,FALSE)*F1029,\"\")","v":""},null,null,"",1,0,1900,0,1,1900,"Nombre y el registro de entrada válida"]
[null,"",null,null,null,"",null,null,null,{"$f":"IF(I1030=\"\",\"\",IF(VLOOKUP(I1030,CAD_Q!$C$6:$D$105,2,FALSE)=0,\"\",VLOOKUP(I1030,CAD_Q!$C$6:$D$105,2,FALSE)))","v":""},{"$f":"IFERROR(VLOOKUP(I1030,CAD_Q!$C$6:$E$109,3,FALSE)*F1030,\"\")","v":""},null,null,"",1,0,1900,0,1,1900,"Nombre y el registro de entrada válida"]
[null,{"$f":"CONCATENATE(C1031,D1031)","v":""},null,null,null,"",null,null,null,{"$f":"IF(I1031=\"\",\"\",IF(VLOOKUP(I1031,CAD_Q!$C$6:$D$105,2,FALSE)=0,\"\",VLOOKUP(I1031,CAD_Q!$C$6:$D$105,2,FALSE)))","v":""},{"$f":"IFERROR(VLOOKUP(I1031,CAD_Q!$C$6:$E$109,3,FALSE)*F1031,\"\")","v":""},null,null,{"$f":"IFERROR(K1031-L1031+M1031,\"\")","v":""},1,0,1900,0,1,1900,"Nombre y el registro de entrada válida"]
[null,"",null,null,null,"",null,null,null,{"$f":"IF(I1032=\"\",\"\",IF(VLOOKUP(I1032,CAD_Q!$C$6:$D$105,2,FALSE)=0,\"\",VLOOKUP(I1032,CAD_Q!$C$6:$D$105,2,FALSE)))","v":""},{"$f":"IFERROR(VLOOKUP(I1032,CAD_Q!$C$6:$E$109,3,FALSE)*F1032,\"\")","v":""},null,null,"",1,0,1900,0,1,1900,"Nombre y el registro de entrada válida"]
[null,"",null,null,null,"",null,null,null,{"$f":"IF(I1033=\"\",\"\",IF(VLOOKUP(I1033,CAD_Q!$C$6:$D$105,2,FALSE)=0,\"\",VLOOKUP(I1033,CAD_Q!$C$6:$D$105,2,FALSE)))","v":""},{"$f":"IFERROR(VLOOKUP(I1033,CAD_Q!$C$6:$E$109,3,FALSE)*F1033,\"\")","v":""},null,null,"",1,0,1900,0,1,1900,"Nombre y el registro de entrada válida"]
[null,"",null,null,null,"",null,null,null,{"$f":"IF(I1034=\"\",\"\",IF(VLOOKUP(I1034,CAD_Q!$C$6:$D$105,2,FALSE)=0,\"\",VLOOKUP(I1034,CAD_Q!$C$6:$D$105,2,FALSE)))","v":""},{"$f":"IFERROR(VLOOKUP(I1034,CAD_Q!$C$6:$E$109,3,FALSE)*F1034,\"\")","v":""},null,null,"",{"$f":"MONTH(D1034)","v":1},{"$f":"DAY(D1034)","v":0},{"$f":"YEAR(D1034)","v":1900},{"$f":"DAY(E1034)","v":0},{"$f":"MONTH(E1034)","v":1},{"$f":"YEAR(E1034)","v":1900},"Nombre y el registro de entrada válida"]
[null,"",null,null,null,"",null,null,null,{"$f":"IF(I1035=\"\",\"\",IF(VLOOKUP(I1035,CAD_Q!$C$6:$D$105,2,FALSE)=0,\"\",VLOOKUP(I1035,CAD_Q!$C$6:$D$105,2,FALSE)))","v":""},{"$f":"IFERROR(VLOOKUP(I1035,CAD_Q!$C$6:$E$109,3,FALSE)*F1035,\"\")","v":""},null,null,"",1,0,1900,0,1,1900,"Nombre y el registro de entrada válida"]
[null,"",null,null,null,"",null,null,null,{"$f":"IF(I1036=\"\",\"\",IF(VLOOKUP(I1036,CAD_Q!$C$6:$D$105,2,FALSE)=0,\"\",VLOOKUP(I1036,CAD_Q!$C$6:$D$105,2,FALSE)))","v":""},{"$f":"IFERROR(VLOOKUP(I1036,CAD_Q!$C$6:$E$109,3,FALSE)*F1036,\"\")","v":""},null,null,"",1,0,1900,0,1,1900,"Nombre y el registro de entrada válida"]
[null,"",null,null,null,"",null,null,null,{"$f":"IF(I1037=\"\",\"\",IF(VLOOKUP(I1037,CAD_Q!$C$6:$D$105,2,FALSE)=0,\"\",VLOOKUP(I1037,CAD_Q!$C$6:$D$105,2,FALSE)))","v":""},{"$f":"IFERROR(VLOOKUP(I1037,CAD_Q!$C$6:$E$109,3,FALSE)*F1037,\"\")","v":""},null,null,"",1,0,1900,0,1,1900,"Nombre y el registro de entrada válida"]
[null,"",null,null,null,"",null,null,null,{"$f":"IF(I1038=\"\",\"\",IF(VLOOKUP(I1038,CAD_Q!$C$6:$D$105,2,FALSE)=0,\"\",VLOOKUP(I1038,CAD_Q!$C$6:$D$105,2,FALSE)))","v":""},{"$f":"IFERROR(VLOOKUP(I1038,CAD_Q!$C$6:$E$109,3,FALSE)*F1038,\"\")","v":""},null,null,"",1,0,1900,0,1,1900,"Nombre y el registro de entrada válida"]
[null,"",null,null,null,"",null,null,null,{"$f":"IF(I1039=\"\",\"\",IF(VLOOKUP(I1039,CAD_Q!$C$6:$D$105,2,FALSE)=0,\"\",VLOOKUP(I1039,CAD_Q!$C$6:$D$105,2,FALSE)))","v":""},{"$f":"IFERROR(VLOOKUP(I1039,CAD_Q!$C$6:$E$109,3,FALSE)*F1039,\"\")","v":""},null,null,"",1,0,1900,0,1,1900,"Nombre y el registro de entrada válida"]
[null,"",null,null,null,"",null,null,null,{"$f":"IF(I1040=\"\",\"\",IF(VLOOKUP(I1040,CAD_Q!$C$6:$D$105,2,FALSE)=0,\"\",VLOOKUP(I1040,CAD_Q!$C$6:$D$105,2,FALSE)))","v":""},{"$f":"IFERROR(VLOOKUP(I1040,CAD_Q!$C$6:$E$109,3,FALSE)*F1040,\"\")","v":""},null,null,"",1,0,1900,0,1,1900,"Nombre y el registro de entrada válida"]
[null,"",null,null,null,"",null,null,null,{"$f":"IF(I1041=\"\",\"\",IF(VLOOKUP(I1041,CAD_Q!$C$6:$D$105,2,FALSE)=0,\"\",VLOOKUP(I1041,CAD_Q!$C$6:$D$105,2,FALSE)))","v":""},{"$f":"IFERROR(VLOOKUP(I1041,CAD_Q!$C$6:$E$109,3,FALSE)*F1041,\"\")","v":""},null,null,"",1,0,1900,0,1,1900,"Nombre y el registro de entrada válida"]
[null,"",null,null,null,"",null,null,null,{"$f":"IF(I1042=\"\",\"\",IF(VLOOKUP(I1042,CAD_Q!$C$6:$D$105,2,FALSE)=0,\"\",VLOOKUP(I1042,CAD_Q!$C$6:$D$105,2,FALSE)))","v":""},{"$f":"IFERROR(VLOOKUP(I1042,CAD_Q!$C$6:$E$109,3,FALSE)*F1042,\"\")","v":""},null,null,"",1,0,1900,0,1,1900,"Nombre y el registro de entrada válida"]
[null,"",null,null,null,"",null,null,null,{"$f":"IF(I1043=\"\",\"\",IF(VLOOKUP(I1043,CAD_Q!$C$6:$D$105,2,FALSE)=0,\"\",VLOOKUP(I1043,CAD_Q!$C$6:$D$105,2,FALSE)))","v":""},{"$f":"IFERROR(VLOOKUP(I1043,CAD_Q!$C$6:$E$109,3,FALSE)*F1043,\"\")","v":""},null,null,"",1,0,1900,0,1,1900,"Nombre y el registro de entrada válida"]
[null,"",null,null,null,"",null,null,null,{"$f":"IF(I1044=\"\",\"\",IF(VLOOKUP(I1044,CAD_Q!$C$6:$D$105,2,FALSE)=0,\"\",VLOOKUP(I1044,CAD_Q!$C$6:$D$105,2,FALSE)))","v":""},{"$f":"IFERROR(VLOOKUP(I1044,CAD_Q!$C$6:$E$109,3,FALSE)*F1044,\"\")","v":""},null,null,"",1,0,1900,0,1,1900,"Nombre y el registro de entrada válida"]
[null,"",null,null,null,"",null,null,null,{"$f":"IF(I1045=\"\",\"\",IF(VLOOKUP(I1045,CAD_Q!$C$6:$D$105,2,FALSE)=0,\"\",VLOOKUP(I1045,CAD_Q!$C$6:$D$105,2,FALSE)))","v":""},{"$f":"IFERROR(VLOOKUP(I1045,CAD_Q!$C$6:$E$109,3,FALSE)*F1045,\"\")","v":""},null,null,"",1,0,1900,0,1,1900,"Nombre y el registro de entrada válida"]
[null,"",null,null,null,"",null,null,null,{"$f":"IF(I1046=\"\",\"\",IF(VLOOKUP(I1046,CAD_Q!$C$6:$D$105,2,FALSE)=0,\"\",VLOOKUP(I1046,CAD_Q!$C$6:$D$105,2,FALSE)))","v":""},{"$f":"IFERROR(VLOOKUP(I1046,CAD_Q!$C$6:$E$109,3,FALSE)*F1046,\"\")","v":""},null,null,"",1,0,1900,0,1,1900,"Nombre y el registro de entrada válida"]
[null,"",null,null,null,"",null,null,null,{"$f":"IF(I1047=\"\",\"\",IF(VLOOKUP(I1047,CAD_Q!$C$6:$D$105,2,FALSE)=0,\"\",VLOOKUP(I1047,CAD_Q!$C$6:$D$105,2,FALSE)))","v":""},{"$f":"IFERROR(VLOOKUP(I1047,CAD_Q!$C$6:$E$109,3,FALSE)*F1047,\"\")","v":""},null,null,"",1,0,1900,0,1,1900,"Nombre y el registro de entrada válida"]
[null,"",null,null,null,"",null,null,null,{"$f":"IF(I1048=\"\",\"\",IF(VLOOKUP(I1048,CAD_Q!$C$6:$D$105,2,FALSE)=0,\"\",VLOOKUP(I1048,CAD_Q!$C$6:$D$105,2,FALSE)))","v":""},{"$f":"IFERROR(VLOOKUP(I1048,CAD_Q!$C$6:$E$109,3,FALSE)*F1048,\"\")","v":""},null,null,"",1,0,1900,0,1,1900,"Nombre y el registro de entrada válida"]
[null,"",null,null,null,"",null,null,null,{"$f":"IF(I1049=\"\",\"\",IF(VLOOKUP(I1049,CAD_Q!$C$6:$D$105,2,FALSE)=0,\"\",VLOOKUP(I1049,CAD_Q!$C$6:$D$105,2,FALSE)))","v":""},{"$f":"IFERROR(VLOOKUP(I1049,CAD_Q!$C$6:$E$109,3,FALSE)*F1049,\"\")","v":""},null,null,"",1,0,1900,0,1,1900,"Nombre y el registro de entrada válida"]
[null,"",null,null,null,"",null,null,null,{"$f":"IF(I1050=\"\",\"\",IF(VLOOKUP(I1050,CAD_Q!$C$6:$D$105,2,FALSE)=0,\"\",VLOOKUP(I1050,CAD_Q!$C$6:$D$105,2,FALSE)))","v":""},{"$f":"IFERROR(VLOOKUP(I1050,CAD_Q!$C$6:$E$109,3,FALSE)*F1050,\"\")","v":""},null,null,"",1,0,1900,0,1,1900,"Nombre y el registro de entrada válida"]
[null,"",null,null,null,"",null,null,null,{"$f":"IF(I1051=\"\",\"\",IF(VLOOKUP(I1051,CAD_Q!$C$6:$D$105,2,FALSE)=0,\"\",VLOOKUP(I1051,CAD_Q!$C$6:$D$105,2,FALSE)))","v":""},{"$f":"IFERROR(VLOOKUP(I1051,CAD_Q!$C$6:$E$109,3,FALSE)*F1051,\"\")","v":""},null,null,"",1,0,1900,0,1,1900,"Nombre y el registro de entrada válida"]
[null,"",null,null,null,"",null,null,null,{"$f":"IF(I1052=\"\",\"\",IF(VLOOKUP(I1052,CAD_Q!$C$6:$D$105,2,FALSE)=0,\"\",VLOOKUP(I1052,CAD_Q!$C$6:$D$105,2,FALSE)))","v":""},{"$f":"IFERROR(VLOOKUP(I1052,CAD_Q!$C$6:$E$109,3,FALSE)*F1052,\"\")","v":""},null,null,"",1,0,1900,0,1,1900,"Nombre y el registro de entrada válida"]
[null,"",null,null,null,"",null,null,null,{"$f":"IF(I1053=\"\",\"\",IF(VLOOKUP(I1053,CAD_Q!$C$6:$D$105,2,FALSE)=0,\"\",VLOOKUP(I1053,CAD_Q!$C$6:$D$105,2,FALSE)))","v":""},{"$f":"IFERROR(VLOOKUP(I1053,CAD_Q!$C$6:$E$109,3,FALSE)*F1053,\"\")","v":""},null,null,"",1,0,1900,0,1,1900,"Nombre y el registro de entrada válida"]
[null,"",null,null,null,"",null,null,null,{"$f":"IF(I1054=\"\",\"\",IF(VLOOKUP(I1054,CAD_Q!$C$6:$D$105,2,FALSE)=0,\"\",VLOOKUP(I1054,CAD_Q!$C$6:$D$105,2,FALSE)))","v":""},{"$f":"IFERROR(VLOOKUP(I1054,CAD_Q!$C$6:$E$109,3,FALSE)*F1054,\"\")","v":""},null,null,"",1,0,1900,0,1,1900,"Nombre y el registro de entrada válida"]
[null,"",null,null,null,"",null,null,null,{"$f":"IF(I1055=\"\",\"\",IF(VLOOKUP(I1055,CAD_Q!$C$6:$D$105,2,FALSE)=0,\"\",VLOOKUP(I1055,CAD_Q!$C$6:$D$105,2,FALSE)))","v":""},{"$f":"IFERROR(VLOOKUP(I1055,CAD_Q!$C$6:$E$109,3,FALSE)*F1055,\"\")","v":""},null,null,"",1,0,1900,0,1,1900,"Nombre y el registro de entrada válida"]
[null,"",null,null,null,"",null,null,null,{"$f":"IF(I1056=\"\",\"\",IF(VLOOKUP(I1056,CAD_Q!$C$6:$D$105,2,FALSE)=0,\"\",VLOOKUP(I1056,CAD_Q!$C$6:$D$105,2,FALSE)))","v":""},{"$f":"IFERROR(VLOOKUP(I1056,CAD_Q!$C$6:$E$109,3,FALSE)*F1056,\"\")","v":""},null,null,"",1,0,1900,0,1,1900,"Nombre y el registro de entrada válida"]
[null,"",null,null,null,"",null,null,null,{"$f":"IF(I1057=\"\",\"\",IF(VLOOKUP(I1057,CAD_Q!$C$6:$D$105,2,FALSE)=0,\"\",VLOOKUP(I1057,CAD_Q!$C$6:$D$105,2,FALSE)))","v":""},{"$f":"IFERROR(VLOOKUP(I1057,CAD_Q!$C$6:$E$109,3,FALSE)*F1057,\"\")","v":""},null,null,"",1,0,1900,0,1,1900,"Nombre y el registro de entrada válida"]
[null,"",null,null,null,"",null,null,null,{"$f":"IF(I1058=\"\",\"\",IF(VLOOKUP(I1058,CAD_Q!$C$6:$D$105,2,FALSE)=0,\"\",VLOOKUP(I1058,CAD_Q!$C$6:$D$105,2,FALSE)))","v":""},{"$f":"IFERROR(VLOOKUP(I1058,CAD_Q!$C$6:$E$109,3,FALSE)*F1058,\"\")","v":""},null,null,"",1,0,1900,0,1,1900,"Nombre y el registro de entrada válida"]
[null,"",null,null,null,"",null,null,null,{"$f":"IF(I1059=\"\",\"\",IF(VLOOKUP(I1059,CAD_Q!$C$6:$D$105,2,FALSE)=0,\"\",VLOOKUP(I1059,CAD_Q!$C$6:$D$105,2,FALSE)))","v":""},{"$f":"IFERROR(VLOOKUP(I1059,CAD_Q!$C$6:$E$109,3,FALSE)*F1059,\"\")","v":""},null,null,"",1,0,1900,0,1,1900,"Nombre y el registro de entrada válida"]
[null,"",null,null,null,{"$f":"IF(OR(D1060=\"\",E1060=\"\"),\"\",E1060-D1060)","v":""},null,null,null,{"$f":"IF(I1060=\"\",\"\",IF(VLOOKUP(I1060,CAD_Q!$C$6:$D$105,2,FALSE)=0,\"\",VLOOKUP(I1060,CAD_Q!$C$6:$D$105,2,FALSE)))","v":""},{"$f":"IFERROR(VLOOKUP(I1060,CAD_Q!$C$6:$E$109,3,FALSE)*F1060,\"\")","v":""},null,null,"",1,0,1900,0,1,1900,"Nombre y el registro de entrada válida"]
[null,"",null,null,null,"",null,null,null,{"$f":"IF(I1061=\"\",\"\",IF(VLOOKUP(I1061,CAD_Q!$C$6:$D$105,2,FALSE)=0,\"\",VLOOKUP(I1061,CAD_Q!$C$6:$D$105,2,FALSE)))","v":""},{"$f":"IFERROR(VLOOKUP(I1061,CAD_Q!$C$6:$E$109,3,FALSE)*F1061,\"\")","v":""},null,null,"",1,0,1900,0,1,1900,"Nombre y el registro de entrada válida"]
[null,"",null,null,null,"",null,null,null,{"$f":"IF(I1062=\"\",\"\",IF(VLOOKUP(I1062,CAD_Q!$C$6:$D$105,2,FALSE)=0,\"\",VLOOKUP(I1062,CAD_Q!$C$6:$D$105,2,FALSE)))","v":""},{"$f":"IFERROR(VLOOKUP(I1062,CAD_Q!$C$6:$E$109,3,FALSE)*F1062,\"\")","v":""},null,null,"",1,0,1900,0,1,1900,"Nombre y el registro de entrada válida"]
[null,"",null,null,null,"",null,null,null,{"$f":"IF(I1063=\"\",\"\",IF(VLOOKUP(I1063,CAD_Q!$C$6:$D$105,2,FALSE)=0,\"\",VLOOKUP(I1063,CAD_Q!$C$6:$D$105,2,FALSE)))","v":""},{"$f":"IFERROR(VLOOKUP(I1063,CAD_Q!$C$6:$E$109,3,FALSE)*F1063,\"\")","v":""},null,null,"",1,0,1900,0,1,1900,"Nombre y el registro de entrada válida"]
[null,"",null,null,null,"",null,null,null,{"$f":"IF(I1064=\"\",\"\",IF(VLOOKUP(I1064,CAD_Q!$C$6:$D$105,2,FALSE)=0,\"\",VLOOKUP(I1064,CAD_Q!$C$6:$D$105,2,FALSE)))","v":""},{"$f":"IFERROR(VLOOKUP(I1064,CAD_Q!$C$6:$E$109,3,FALSE)*F1064,\"\")","v":""},null,null,"",1,0,1900,0,1,1900,"Nombre y el registro de entrada válida"]
[null,"",null,null,null,"",null,null,null,{"$f":"IF(I1065=\"\",\"\",IF(VLOOKUP(I1065,CAD_Q!$C$6:$D$105,2,FALSE)=0,\"\",VLOOKUP(I1065,CAD_Q!$C$6:$D$105,2,FALSE)))","v":""},{"$f":"IFERROR(VLOOKUP(I1065,CAD_Q!$C$6:$E$109,3,FALSE)*F1065,\"\")","v":""},null,null,"",1,0,1900,0,1,1900,"Nombre y el registro de entrada válida"]
[null,"",null,null,null,"",null,null,null,{"$f":"IF(I1066=\"\",\"\",IF(VLOOKUP(I1066,CAD_Q!$C$6:$D$105,2,FALSE)=0,\"\",VLOOKUP(I1066,CAD_Q!$C$6:$D$105,2,FALSE)))","v":""},{"$f":"IFERROR(VLOOKUP(I1066,CAD_Q!$C$6:$E$109,3,FALSE)*F1066,\"\")","v":""},null,null,"",1,0,1900,0,1,1900,"Nombre y el registro de entrada válida"]
[null,"",null,null,null,"",null,null,null,{"$f":"IF(I1067=\"\",\"\",IF(VLOOKUP(I1067,CAD_Q!$C$6:$D$105,2,FALSE)=0,\"\",VLOOKUP(I1067,CAD_Q!$C$6:$D$105,2,FALSE)))","v":""},{"$f":"IFERROR(VLOOKUP(I1067,CAD_Q!$C$6:$E$109,3,FALSE)*F1067,\"\")","v":""},null,null,"",1,0,1900,0,1,1900,"Nombre y el registro de entrada válida"]
[null,"",null,null,null,"",null,null,null,{"$f":"IF(I1068=\"\",\"\",IF(VLOOKUP(I1068,CAD_Q!$C$6:$D$105,2,FALSE)=0,\"\",VLOOKUP(I1068,CAD_Q!$C$6:$D$105,2,FALSE)))","v":""},{"$f":"IFERROR(VLOOKUP(I1068,CAD_Q!$C$6:$E$109,3,FALSE)*F1068,\"\")","v":""},null,null,"",1,0,1900,0,1,1900,"Nombre y el registro de entrada válida"]
[null,"",null,null,null,"",null,null,null,{"$f":"IF(I1069=\"\",\"\",IF(VLOOKUP(I1069,CAD_Q!$C$6:$D$105,2,FALSE)=0,\"\",VLOOKUP(I1069,CAD_Q!$C$6:$D$105,2,FALSE)))","v":""},{"$f":"IFERROR(VLOOKUP(I1069,CAD_Q!$C$6:$E$109,3,FALSE)*F1069,\"\")","v":""},null,null,"",1,0,1900,0,1,1900,"Nombre y el registro de entrada válida"]
[null,"",null,null,null,"",null,null,null,{"$f":"IF(I1070=\"\",\"\",IF(VLOOKUP(I1070,CAD_Q!$C$6:$D$105,2,FALSE)=0,\"\",VLOOKUP(I1070,CAD_Q!$C$6:$D$105,2,FALSE)))","v":""},{"$f":"IFERROR(VLOOKUP(I1070,CAD_Q!$C$6:$E$109,3,FALSE)*F1070,\"\")","v":""},null,null,"",1,0,1900,0,1,1900,"Nombre y el registro de entrada válida"]
[null,"",null,null,null,"",null,null,null,{"$f":"IF(I1071=\"\",\"\",IF(VLOOKUP(I1071,CAD_Q!$C$6:$D$105,2,FALSE)=0,\"\",VLOOKUP(I1071,CAD_Q!$C$6:$D$105,2,FALSE)))","v":""},{"$f":"IFERROR(VLOOKUP(I1071,CAD_Q!$C$6:$E$109,3,FALSE)*F1071,\"\")","v":""},null,null,"",1,0,1900,0,1,1900,"Nombre y el registro de entrada válida"]
[null,"",null,null,null,"",null,null,null,{"$f":"IF(I1072=\"\",\"\",IF(VLOOKUP(I1072,CAD_Q!$C$6:$D$105,2,FALSE)=0,\"\",VLOOKUP(I1072,CAD_Q!$C$6:$D$105,2,FALSE)))","v":""},{"$f":"IFERROR(VLOOKUP(I1072,CAD_Q!$C$6:$E$109,3,FALSE)*F1072,\"\")","v":""},null,null,"",1,0,1900,0,1,1900,"Nombre y el registro de entrada válida"]
[null,"",null,null,null,"",null,null,null,{"$f":"IF(I1073=\"\",\"\",IF(VLOOKUP(I1073,CAD_Q!$C$6:$D$105,2,FALSE)=0,\"\",VLOOKUP(I1073,CAD_Q!$C$6:$D$105,2,FALSE)))","v":""},{"$f":"IFERROR(VLOOKUP(I1073,CAD_Q!$C$6:$E$109,3,FALSE)*F1073,\"\")","v":""},null,null,"",1,0,1900,0,1,1900,"Nombre y el registro de entrada válida"]
[null,"",null,null,null,"",null,null,null,{"$f":"IF(I1074=\"\",\"\",IF(VLOOKUP(I1074,CAD_Q!$C$6:$D$105,2,FALSE)=0,\"\",VLOOKUP(I1074,CAD_Q!$C$6:$D$105,2,FALSE)))","v":""},{"$f":"IFERROR(VLOOKUP(I1074,CAD_Q!$C$6:$E$109,3,FALSE)*F1074,\"\")","v":""},null,null,"",1,0,1900,0,1,1900,"Nombre y el registro de entrada válida"]
[null,"",null,null,null,"",null,null,null,{"$f":"IF(I1075=\"\",\"\",IF(VLOOKUP(I1075,CAD_Q!$C$6:$D$105,2,FALSE)=0,\"\",VLOOKUP(I1075,CAD_Q!$C$6:$D$105,2,FALSE)))","v":""},{"$f":"IFERROR(VLOOKUP(I1075,CAD_Q!$C$6:$E$109,3,FALSE)*F1075,\"\")","v":""},null,null,"",1,0,1900,0,1,1900,"Nombre y el registro de entrada válida"]
[null,"",null,null,null,"",null,null,null,{"$f":"IF(I1076=\"\",\"\",IF(VLOOKUP(I1076,CAD_Q!$C$6:$D$105,2,FALSE)=0,\"\",VLOOKUP(I1076,CAD_Q!$C$6:$D$105,2,FALSE)))","v":""},{"$f":"IFERROR(VLOOKUP(I1076,CAD_Q!$C$6:$E$109,3,FALSE)*F1076,\"\")","v":""},null,null,"",1,0,1900,0,1,1900,"Nombre y el registro de entrada válida"]
[null,"",null,null,null,"",null,null,null,{"$f":"IF(I1077=\"\",\"\",IF(VLOOKUP(I1077,CAD_Q!$C$6:$D$105,2,FALSE)=0,\"\",VLOOKUP(I1077,CAD_Q!$C$6:$D$105,2,FALSE)))","v":""},{"$f":"IFERROR(VLOOKUP(I1077,CAD_Q!$C$6:$E$109,3,FALSE)*F1077,\"\")","v":""},null,null,"",1,0,1900,0,1,1900,"Nombre y el registro de entrada válida"]
[null,"",null,null,null,"",null,null,null,{"$f":"IF(I1078=\"\",\"\",IF(VLOOKUP(I1078,CAD_Q!$C$6:$D$105,2,FALSE)=0,\"\",VLOOKUP(I1078,CAD_Q!$C$6:$D$105,2,FALSE)))","v":""},{"$f":"IFERROR(VLOOKUP(I1078,CAD_Q!$C$6:$E$109,3,FALSE)*F1078,\"\")","v":""},null,null,"",1,0,1900,0,1,1900,"Nombre y el registro de entrada válida"]
[null,"",null,null,null,"",null,null,null,{"$f":"IF(I1079=\"\",\"\",IF(VLOOKUP(I1079,CAD_Q!$C$6:$D$105,2,FALSE)=0,\"\",VLOOKUP(I1079,CAD_Q!$C$6:$D$105,2,FALSE)))","v":""},{"$f":"IFERROR(VLOOKUP(I1079,CAD_Q!$C$6:$E$109,3,FALSE)*F1079,\"\")","v":""},null,null,"",1,0,1900,0,1,1900,"Nombre y el registro de entrada válida"]
[null,"",null,null,null,"",null,null,null,{"$f":"IF(I1080=\"\",\"\",IF(VLOOKUP(I1080,CAD_Q!$C$6:$D$105,2,FALSE)=0,\"\",VLOOKUP(I1080,CAD_Q!$C$6:$D$105,2,FALSE)))","v":""},{"$f":"IFERROR(VLOOKUP(I1080,CAD_Q!$C$6:$E$109,3,FALSE)*F1080,\"\")","v":""},null,null,"",1,0,1900,0,1,1900,"Nombre y el registro de entrada válida"]
[null,"",null,null,null,"",null,null,null,{"$f":"IF(I1081=\"\",\"\",IF(VLOOKUP(I1081,CAD_Q!$C$6:$D$105,2,FALSE)=0,\"\",VLOOKUP(I1081,CAD_Q!$C$6:$D$105,2,FALSE)))","v":""},{"$f":"IFERROR(VLOOKUP(I1081,CAD_Q!$C$6:$E$109,3,FALSE)*F1081,\"\")","v":""},null,null,"",1,0,1900,0,1,1900,"Nombre y el registro de entrada válida"]
[null,"",null,null,null,"",null,null,null,{"$f":"IF(I1082=\"\",\"\",IF(VLOOKUP(I1082,CAD_Q!$C$6:$D$105,2,FALSE)=0,\"\",VLOOKUP(I1082,CAD_Q!$C$6:$D$105,2,FALSE)))","v":""},{"$f":"IFERROR(VLOOKUP(I1082,CAD_Q!$C$6:$E$109,3,FALSE)*F1082,\"\")","v":""},null,null,"",1,0,1900,0,1,1900,"Nombre y el registro de entrada válida"]
[null,"",null,null,null,"",null,null,null,{"$f":"IF(I1083=\"\",\"\",IF(VLOOKUP(I1083,CAD_Q!$C$6:$D$105,2,FALSE)=0,\"\",VLOOKUP(I1083,CAD_Q!$C$6:$D$105,2,FALSE)))","v":""},{"$f":"IFERROR(VLOOKUP(I1083,CAD_Q!$C$6:$E$109,3,FALSE)*F1083,\"\")","v":""},null,null,"",1,0,1900,0,1,1900,"Nombre y el registro de entrada válida"]
[null,"",null,null,null,"",null,null,null,{"$f":"IF(I1084=\"\",\"\",IF(VLOOKUP(I1084,CAD_Q!$C$6:$D$105,2,FALSE)=0,\"\",VLOOKUP(I1084,CAD_Q!$C$6:$D$105,2,FALSE)))","v":""},{"$f":"IFERROR(VLOOKUP(I1084,CAD_Q!$C$6:$E$109,3,FALSE)*F1084,\"\")","v":""},null,null,"",1,0,1900,0,1,1900,"Nombre y el registro de entrada válida"]
[null,"",null,null,null,"",null,null,null,{"$f":"IF(I1085=\"\",\"\",IF(VLOOKUP(I1085,CAD_Q!$C$6:$D$105,2,FALSE)=0,\"\",VLOOKUP(I1085,CAD_Q!$C$6:$D$105,2,FALSE)))","v":""},{"$f":"IFERROR(VLOOKUP(I1085,CAD_Q!$C$6:$E$109,3,FALSE)*F1085,\"\")","v":""},null,null,"",1,0,1900,0,1,1900,"Nombre y el registro de entrada válida"]
[null,"",null,null,null,"",null,null,null,{"$f":"IF(I1086=\"\",\"\",IF(VLOOKUP(I1086,CAD_Q!$C$6:$D$105,2,FALSE)=0,\"\",VLOOKUP(I1086,CAD_Q!$C$6:$D$105,2,FALSE)))","v":""},{"$f":"IFERROR(VLOOKUP(I1086,CAD_Q!$C$6:$E$109,3,FALSE)*F1086,\"\")","v":""},null,null,"",1,0,1900,0,1,1900,"Nombre y el registro de entrada válida"]
[null,"",null,null,null,"",null,null,null,{"$f":"IF(I1087=\"\",\"\",IF(VLOOKUP(I1087,CAD_Q!$C$6:$D$105,2,FALSE)=0,\"\",VLOOKUP(I1087,CAD_Q!$C$6:$D$105,2,FALSE)))","v":""},{"$f":"IFERROR(VLOOKUP(I1087,CAD_Q!$C$6:$E$109,3,FALSE)*F1087,\"\")","v":""},null,null,"",1,0,1900,0,1,1900,"Nombre y el registro de entrada válida"]
[null,"",null,null,null,"",null,null,null,{"$f":"IF(I1088=\"\",\"\",IF(VLOOKUP(I1088,CAD_Q!$C$6:$D$105,2,FALSE)=0,\"\",VLOOKUP(I1088,CAD_Q!$C$6:$D$105,2,FALSE)))","v":""},{"$f":"IFERROR(VLOOKUP(I1088,CAD_Q!$C$6:$E$109,3,FALSE)*F1088,\"\")","v":""},null,null,"",1,0,1900,0,1,1900,"Nombre y el registro de entrada válida"]
[null,"",null,null,null,"",null,null,null,{"$f":"IF(I1089=\"\",\"\",IF(VLOOKUP(I1089,CAD_Q!$C$6:$D$105,2,FALSE)=0,\"\",VLOOKUP(I1089,CAD_Q!$C$6:$D$105,2,FALSE)))","v":""},{"$f":"IFERROR(VLOOKUP(I1089,CAD_Q!$C$6:$E$109,3,FALSE)*F1089,\"\")","v":""},null,null,"",1,0,1900,0,1,1900,"Nombre y el registro de entrada válida"]
[null,"",null,null,null,"",null,null,null,{"$f":"IF(I1090=\"\",\"\",IF(VLOOKUP(I1090,CAD_Q!$C$6:$D$105,2,FALSE)=0,\"\",VLOOKUP(I1090,CAD_Q!$C$6:$D$105,2,FALSE)))","v":""},{"$f":"IFERROR(VLOOKUP(I1090,CAD_Q!$C$6:$E$109,3,FALSE)*F1090,\"\")","v":""},null,null,"",1,0,1900,0,1,1900,"Nombre y el registro de entrada válida"]
[null,"",null,null,null,"",null,null,null,{"$f":"IF(I1091=\"\",\"\",IF(VLOOKUP(I1091,CAD_Q!$C$6:$D$105,2,FALSE)=0,\"\",VLOOKUP(I1091,CAD_Q!$C$6:$D$105,2,FALSE)))","v":""},{"$f":"IFERROR(VLOOKUP(I1091,CAD_Q!$C$6:$E$109,3,FALSE)*F1091,\"\")","v":""},null,null,"",1,0,1900,0,1,1900,"Nombre y el registro de entrada válida"]
[null,"",null,null,null,"",null,null,null,{"$f":"IF(I1092=\"\",\"\",IF(VLOOKUP(I1092,CAD_Q!$C$6:$D$105,2,FALSE)=0,\"\",VLOOKUP(I1092,CAD_Q!$C$6:$D$105,2,FALSE)))","v":""},{"$f":"IFERROR(VLOOKUP(I1092,CAD_Q!$C$6:$E$109,3,FALSE)*F1092,\"\")","v":""},null,null,"",1,0,1900,0,1,1900,"Nombre y el registro de entrada válida"]
[null,"",null,null,null,"",null,null,null,{"$f":"IF(I1093=\"\",\"\",IF(VLOOKUP(I1093,CAD_Q!$C$6:$D$105,2,FALSE)=0,\"\",VLOOKUP(I1093,CAD_Q!$C$6:$D$105,2,FALSE)))","v":""},{"$f":"IFERROR(VLOOKUP(I1093,CAD_Q!$C$6:$E$109,3,FALSE)*F1093,\"\")","v":""},null,null,"",1,0,1900,0,1,1900,"Nombre y el registro de entrada válida"]
[null,"",null,null,null,"",null,null,null,{"$f":"IF(I1094=\"\",\"\",IF(VLOOKUP(I1094,CAD_Q!$C$6:$D$105,2,FALSE)=0,\"\",VLOOKUP(I1094,CAD_Q!$C$6:$D$105,2,FALSE)))","v":""},{"$f":"IFERROR(VLOOKUP(I1094,CAD_Q!$C$6:$E$109,3,FALSE)*F1094,\"\")","v":""},null,null,"",1,0,1900,0,1,1900,"Nombre y el registro de entrada válida"]
[null,{"$f":"CONCATENATE(C1095,D1095)","v":""},null,null,null,"",null,null,null,{"$f":"IF(I1095=\"\",\"\",IF(VLOOKUP(I1095,CAD_Q!$C$6:$D$105,2,FALSE)=0,\"\",VLOOKUP(I1095,CAD_Q!$C$6:$D$105,2,FALSE)))","v":""},{"$f":"IFERROR(VLOOKUP(I1095,CAD_Q!$C$6:$E$109,3,FALSE)*F1095,\"\")","v":""},null,null,{"$f":"IFERROR(K1095-L1095+M1095,\"\")","v":""},1,0,1900,0,1,1900,"Nombre y el registro de entrada válida"]
[null,"",null,null,null,"",null,null,null,{"$f":"IF(I1096=\"\",\"\",IF(VLOOKUP(I1096,CAD_Q!$C$6:$D$105,2,FALSE)=0,\"\",VLOOKUP(I1096,CAD_Q!$C$6:$D$105,2,FALSE)))","v":""},{"$f":"IFERROR(VLOOKUP(I1096,CAD_Q!$C$6:$E$109,3,FALSE)*F1096,\"\")","v":""},null,null,"",1,0,1900,0,1,1900,"Nombre y el registro de entrada válida"]
[null,"",null,null,null,"",null,null,null,{"$f":"IF(I1097=\"\",\"\",IF(VLOOKUP(I1097,CAD_Q!$C$6:$D$105,2,FALSE)=0,\"\",VLOOKUP(I1097,CAD_Q!$C$6:$D$105,2,FALSE)))","v":""},{"$f":"IFERROR(VLOOKUP(I1097,CAD_Q!$C$6:$E$109,3,FALSE)*F1097,\"\")","v":""},null,null,"",1,0,1900,0,1,1900,"Nombre y el registro de entrada válida"]
[null,"",null,null,null,"",null,null,null,{"$f":"IF(I1098=\"\",\"\",IF(VLOOKUP(I1098,CAD_Q!$C$6:$D$105,2,FALSE)=0,\"\",VLOOKUP(I1098,CAD_Q!$C$6:$D$105,2,FALSE)))","v":""},{"$f":"IFERROR(VLOOKUP(I1098,CAD_Q!$C$6:$E$109,3,FALSE)*F1098,\"\")","v":""},null,null,"",{"$f":"MONTH(D1098)","v":1},{"$f":"DAY(D1098)","v":0},{"$f":"YEAR(D1098)","v":1900},{"$f":"DAY(E1098)","v":0},{"$f":"MONTH(E1098)","v":1},{"$f":"YEAR(E1098)","v":1900},"Nombre y el registro de entrada válida"]
[null,"",null,null,null,"",null,null,null,{"$f":"IF(I1099=\"\",\"\",IF(VLOOKUP(I1099,CAD_Q!$C$6:$D$105,2,FALSE)=0,\"\",VLOOKUP(I1099,CAD_Q!$C$6:$D$105,2,FALSE)))","v":""},{"$f":"IFERROR(VLOOKUP(I1099,CAD_Q!$C$6:$E$109,3,FALSE)*F1099,\"\")","v":""},null,null,"",1,0,1900,0,1,1900,"Nombre y el registro de entrada válida"]
[null,"",null,null,null,"",null,null,null,{"$f":"IF(I1100=\"\",\"\",IF(VLOOKUP(I1100,CAD_Q!$C$6:$D$105,2,FALSE)=0,\"\",VLOOKUP(I1100,CAD_Q!$C$6:$D$105,2,FALSE)))","v":""},{"$f":"IFERROR(VLOOKUP(I1100,CAD_Q!$C$6:$E$109,3,FALSE)*F1100,\"\")","v":""},null,null,"",1,0,1900,0,1,1900,"Nombre y el registro de entrada válida"]
[null,"",null,null,null,"",null,null,null,{"$f":"IF(I1101=\"\",\"\",IF(VLOOKUP(I1101,CAD_Q!$C$6:$D$105,2,FALSE)=0,\"\",VLOOKUP(I1101,CAD_Q!$C$6:$D$105,2,FALSE)))","v":""},{"$f":"IFERROR(VLOOKUP(I1101,CAD_Q!$C$6:$E$109,3,FALSE)*F1101,\"\")","v":""},null,null,"",1,0,1900,0,1,1900,"Nombre y el registro de entrada válida"]
[null,"",null,null,null,"",null,null,null,{"$f":"IF(I1102=\"\",\"\",IF(VLOOKUP(I1102,CAD_Q!$C$6:$D$105,2,FALSE)=0,\"\",VLOOKUP(I1102,CAD_Q!$C$6:$D$105,2,FALSE)))","v":""},{"$f":"IFERROR(VLOOKUP(I1102,CAD_Q!$C$6:$E$109,3,FALSE)*F1102,\"\")","v":""},null,null,"",1,0,1900,0,1,1900,"Nombre y el registro de entrada válida"]
[null,"",null,null,null,"",null,null,null,{"$f":"IF(I1103=\"\",\"\",IF(VLOOKUP(I1103,CAD_Q!$C$6:$D$105,2,FALSE)=0,\"\",VLOOKUP(I1103,CAD_Q!$C$6:$D$105,2,FALSE)))","v":""},{"$f":"IFERROR(VLOOKUP(I1103,CAD_Q!$C$6:$E$109,3,FALSE)*F1103,\"\")","v":""},null,null,"",1,0,1900,0,1,1900,"Nombre y el registro de entrada válida"]
[null,"",null,null,null,"",null,null,null,{"$f":"IF(I1104=\"\",\"\",IF(VLOOKUP(I1104,CAD_Q!$C$6:$D$105,2,FALSE)=0,\"\",VLOOKUP(I1104,CAD_Q!$C$6:$D$105,2,FALSE)))","v":""},{"$f":"IFERROR(VLOOKUP(I1104,CAD_Q!$C$6:$E$109,3,FALSE)*F1104,\"\")","v":""},null,null,"",1,0,1900,0,1,1900,"Nombre y el registro de entrada válida"]
[null,"",null,null,null,"",null,null,null,{"$f":"IF(I1105=\"\",\"\",IF(VLOOKUP(I1105,CAD_Q!$C$6:$D$105,2,FALSE)=0,\"\",VLOOKUP(I1105,CAD_Q!$C$6:$D$105,2,FALSE)))","v":""},{"$f":"IFERROR(VLOOKUP(I1105,CAD_Q!$C$6:$E$109,3,FALSE)*F1105,\"\")","v":""},null,null,"",1,0,1900,0,1,1900,"Nombre y el registro de entrada válida"]
[null,"",null,null,null,"",null,null,null,{"$f":"IF(I1106=\"\",\"\",IF(VLOOKUP(I1106,CAD_Q!$C$6:$D$105,2,FALSE)=0,\"\",VLOOKUP(I1106,CAD_Q!$C$6:$D$105,2,FALSE)))","v":""},{"$f":"IFERROR(VLOOKUP(I1106,CAD_Q!$C$6:$E$109,3,FALSE)*F1106,\"\")","v":""},null,null,"",1,0,1900,0,1,1900,"Nombre y el registro de entrada válida"]
[null,"",null,null,null,"",null,null,null,{"$f":"IF(I1107=\"\",\"\",IF(VLOOKUP(I1107,CAD_Q!$C$6:$D$105,2,FALSE)=0,\"\",VLOOKUP(I1107,CAD_Q!$C$6:$D$105,2,FALSE)))","v":""},{"$f":"IFERROR(VLOOKUP(I1107,CAD_Q!$C$6:$E$109,3,FALSE)*F1107,\"\")","v":""},null,null,"",1,0,1900,0,1,1900,"Nombre y el registro de entrada válida"]
[null,"",null,null,null,"",null,null,null,{"$f":"IF(I1108=\"\",\"\",IF(VLOOKUP(I1108,CAD_Q!$C$6:$D$105,2,FALSE)=0,\"\",VLOOKUP(I1108,CAD_Q!$C$6:$D$105,2,FALSE)))","v":""},{"$f":"IFERROR(VLOOKUP(I1108,CAD_Q!$C$6:$E$109,3,FALSE)*F1108,\"\")","v":""},null,null,"",1,0,1900,0,1,1900,"Nombre y el registro de entrada válida"]
[null,"",null,null,null,"",null,null,null,{"$f":"IF(I1109=\"\",\"\",IF(VLOOKUP(I1109,CAD_Q!$C$6:$D$105,2,FALSE)=0,\"\",VLOOKUP(I1109,CAD_Q!$C$6:$D$105,2,FALSE)))","v":""},{"$f":"IFERROR(VLOOKUP(I1109,CAD_Q!$C$6:$E$109,3,FALSE)*F1109,\"\")","v":""},null,null,"",1,0,1900,0,1,1900,"Nombre y el registro de entrada válida"]
[null,"",null,null,null,"",null,null,null,{"$f":"IF(I1110=\"\",\"\",IF(VLOOKUP(I1110,CAD_Q!$C$6:$D$105,2,FALSE)=0,\"\",VLOOKUP(I1110,CAD_Q!$C$6:$D$105,2,FALSE)))","v":""},{"$f":"IFERROR(VLOOKUP(I1110,CAD_Q!$C$6:$E$109,3,FALSE)*F1110,\"\")","v":""},null,null,"",1,0,1900,0,1,1900,"Nombre y el registro de entrada válida"]
[null,"",null,null,null,"",null,null,null,{"$f":"IF(I1111=\"\",\"\",IF(VLOOKUP(I1111,CAD_Q!$C$6:$D$105,2,FALSE)=0,\"\",VLOOKUP(I1111,CAD_Q!$C$6:$D$105,2,FALSE)))","v":""},{"$f":"IFERROR(VLOOKUP(I1111,CAD_Q!$C$6:$E$109,3,FALSE)*F1111,\"\")","v":""},null,null,"",1,0,1900,0,1,1900,"Nombre y el registro de entrada válida"]
[null,"",null,null,null,"",null,null,null,{"$f":"IF(I1112=\"\",\"\",IF(VLOOKUP(I1112,CAD_Q!$C$6:$D$105,2,FALSE)=0,\"\",VLOOKUP(I1112,CAD_Q!$C$6:$D$105,2,FALSE)))","v":""},{"$f":"IFERROR(VLOOKUP(I1112,CAD_Q!$C$6:$E$109,3,FALSE)*F1112,\"\")","v":""},null,null,"",1,0,1900,0,1,1900,"Nombre y el registro de entrada válida"]
[null,"",null,null,null,"",null,null,null,{"$f":"IF(I1113=\"\",\"\",IF(VLOOKUP(I1113,CAD_Q!$C$6:$D$105,2,FALSE)=0,\"\",VLOOKUP(I1113,CAD_Q!$C$6:$D$105,2,FALSE)))","v":""},{"$f":"IFERROR(VLOOKUP(I1113,CAD_Q!$C$6:$E$109,3,FALSE)*F1113,\"\")","v":""},null,null,"",1,0,1900,0,1,1900,"Nombre y el registro de entrada válida"]
[null,"",null,null,null,"",null,null,null,{"$f":"IF(I1114=\"\",\"\",IF(VLOOKUP(I1114,CAD_Q!$C$6:$D$105,2,FALSE)=0,\"\",VLOOKUP(I1114,CAD_Q!$C$6:$D$105,2,FALSE)))","v":""},{"$f":"IFERROR(VLOOKUP(I1114,CAD_Q!$C$6:$E$109,3,FALSE)*F1114,\"\")","v":""},null,null,"",1,0,1900,0,1,1900,"Nombre y el registro de entrada válida"]
[null,"",null,null,null,"",null,null,null,{"$f":"IF(I1115=\"\",\"\",IF(VLOOKUP(I1115,CAD_Q!$C$6:$D$105,2,FALSE)=0,\"\",VLOOKUP(I1115,CAD_Q!$C$6:$D$105,2,FALSE)))","v":""},{"$f":"IFERROR(VLOOKUP(I1115,CAD_Q!$C$6:$E$109,3,FALSE)*F1115,\"\")","v":""},null,null,"",1,0,1900,0,1,1900,"Nombre y el registro de entrada válida"]
[null,"",null,null,null,"",null,null,null,{"$f":"IF(I1116=\"\",\"\",IF(VLOOKUP(I1116,CAD_Q!$C$6:$D$105,2,FALSE)=0,\"\",VLOOKUP(I1116,CAD_Q!$C$6:$D$105,2,FALSE)))","v":""},{"$f":"IFERROR(VLOOKUP(I1116,CAD_Q!$C$6:$E$109,3,FALSE)*F1116,\"\")","v":""},null,null,"",1,0,1900,0,1,1900,"Nombre y el registro de entrada válida"]
[null,"",null,null,null,"",null,null,null,{"$f":"IF(I1117=\"\",\"\",IF(VLOOKUP(I1117,CAD_Q!$C$6:$D$105,2,FALSE)=0,\"\",VLOOKUP(I1117,CAD_Q!$C$6:$D$105,2,FALSE)))","v":""},{"$f":"IFERROR(VLOOKUP(I1117,CAD_Q!$C$6:$E$109,3,FALSE)*F1117,\"\")","v":""},null,null,"",1,0,1900,0,1,1900,"Nombre y el registro de entrada válida"]
[null,"",null,null,null,"",null,null,null,{"$f":"IF(I1118=\"\",\"\",IF(VLOOKUP(I1118,CAD_Q!$C$6:$D$105,2,FALSE)=0,\"\",VLOOKUP(I1118,CAD_Q!$C$6:$D$105,2,FALSE)))","v":""},{"$f":"IFERROR(VLOOKUP(I1118,CAD_Q!$C$6:$E$109,3,FALSE)*F1118,\"\")","v":""},null,null,"",1,0,1900,0,1,1900,"Nombre y el registro de entrada válida"]
[null,"",null,null,null,"",null,null,null,{"$f":"IF(I1119=\"\",\"\",IF(VLOOKUP(I1119,CAD_Q!$C$6:$D$105,2,FALSE)=0,\"\",VLOOKUP(I1119,CAD_Q!$C$6:$D$105,2,FALSE)))","v":""},{"$f":"IFERROR(VLOOKUP(I1119,CAD_Q!$C$6:$E$109,3,FALSE)*F1119,\"\")","v":""},null,null,"",1,0,1900,0,1,1900,"Nombre y el registro de entrada válida"]
[null,"",null,null,null,"",null,null,null,{"$f":"IF(I1120=\"\",\"\",IF(VLOOKUP(I1120,CAD_Q!$C$6:$D$105,2,FALSE)=0,\"\",VLOOKUP(I1120,CAD_Q!$C$6:$D$105,2,FALSE)))","v":""},{"$f":"IFERROR(VLOOKUP(I1120,CAD_Q!$C$6:$E$109,3,FALSE)*F1120,\"\")","v":""},null,null,"",1,0,1900,0,1,1900,"Nombre y el registro de entrada válida"]
[null,"",null,null,null,"",null,null,null,{"$f":"IF(I1121=\"\",\"\",IF(VLOOKUP(I1121,CAD_Q!$C$6:$D$105,2,FALSE)=0,\"\",VLOOKUP(I1121,CAD_Q!$C$6:$D$105,2,FALSE)))","v":""},{"$f":"IFERROR(VLOOKUP(I1121,CAD_Q!$C$6:$E$109,3,FALSE)*F1121,\"\")","v":""},null,null,"",1,0,1900,0,1,1900,"Nombre y el registro de entrada válida"]
[null,"",null,null,null,"",null,null,null,{"$f":"IF(I1122=\"\",\"\",IF(VLOOKUP(I1122,CAD_Q!$C$6:$D$105,2,FALSE)=0,\"\",VLOOKUP(I1122,CAD_Q!$C$6:$D$105,2,FALSE)))","v":""},{"$f":"IFERROR(VLOOKUP(I1122,CAD_Q!$C$6:$E$109,3,FALSE)*F1122,\"\")","v":""},null,null,"",1,0,1900,0,1,1900,"Nombre y el registro de entrada válida"]
[null,"",null,null,null,"",null,null,null,{"$f":"IF(I1123=\"\",\"\",IF(VLOOKUP(I1123,CAD_Q!$C$6:$D$105,2,FALSE)=0,\"\",VLOOKUP(I1123,CAD_Q!$C$6:$D$105,2,FALSE)))","v":""},{"$f":"IFERROR(VLOOKUP(I1123,CAD_Q!$C$6:$E$109,3,FALSE)*F1123,\"\")","v":""},null,null,"",1,0,1900,0,1,1900,"Nombre y el registro de entrada válida"]
[null,"",null,null,null,{"$f":"IF(OR(D1124=\"\",E1124=\"\"),\"\",E1124-D1124)","v":""},null,null,null,{"$f":"IF(I1124=\"\",\"\",IF(VLOOKUP(I1124,CAD_Q!$C$6:$D$105,2,FALSE)=0,\"\",VLOOKUP(I1124,CAD_Q!$C$6:$D$105,2,FALSE)))","v":""},{"$f":"IFERROR(VLOOKUP(I1124,CAD_Q!$C$6:$E$109,3,FALSE)*F1124,\"\")","v":""},null,null,"",1,0,1900,0,1,1900,"Nombre y el registro de entrada válida"]
[null,"",null,null,null,"",null,null,null,{"$f":"IF(I1125=\"\",\"\",IF(VLOOKUP(I1125,CAD_Q!$C$6:$D$105,2,FALSE)=0,\"\",VLOOKUP(I1125,CAD_Q!$C$6:$D$105,2,FALSE)))","v":""},{"$f":"IFERROR(VLOOKUP(I1125,CAD_Q!$C$6:$E$109,3,FALSE)*F1125,\"\")","v":""},null,null,"",1,0,1900,0,1,1900,"Nombre y el registro de entrada válida"]
[null,"",null,null,null,"",null,null,null,{"$f":"IF(I1126=\"\",\"\",IF(VLOOKUP(I1126,CAD_Q!$C$6:$D$105,2,FALSE)=0,\"\",VLOOKUP(I1126,CAD_Q!$C$6:$D$105,2,FALSE)))","v":""},{"$f":"IFERROR(VLOOKUP(I1126,CAD_Q!$C$6:$E$109,3,FALSE)*F1126,\"\")","v":""},null,null,"",1,0,1900,0,1,1900,"Nombre y el registro de entrada válida"]
[null,"",null,null,null,"",null,null,null,{"$f":"IF(I1127=\"\",\"\",IF(VLOOKUP(I1127,CAD_Q!$C$6:$D$105,2,FALSE)=0,\"\",VLOOKUP(I1127,CAD_Q!$C$6:$D$105,2,FALSE)))","v":""},{"$f":"IFERROR(VLOOKUP(I1127,CAD_Q!$C$6:$E$109,3,FALSE)*F1127,\"\")","v":""},null,null,"",1,0,1900,0,1,1900,"Nombre y el registro de entrada válida"]
[null,"",null,null,null,"",null,null,null,{"$f":"IF(I1128=\"\",\"\",IF(VLOOKUP(I1128,CAD_Q!$C$6:$D$105,2,FALSE)=0,\"\",VLOOKUP(I1128,CAD_Q!$C$6:$D$105,2,FALSE)))","v":""},{"$f":"IFERROR(VLOOKUP(I1128,CAD_Q!$C$6:$E$109,3,FALSE)*F1128,\"\")","v":""},null,null,"",1,0,1900,0,1,1900,"Nombre y el registro de entrada válida"]
[null,"",null,null,null,"",null,null,null,{"$f":"IF(I1129=\"\",\"\",IF(VLOOKUP(I1129,CAD_Q!$C$6:$D$105,2,FALSE)=0,\"\",VLOOKUP(I1129,CAD_Q!$C$6:$D$105,2,FALSE)))","v":""},{"$f":"IFERROR(VLOOKUP(I1129,CAD_Q!$C$6:$E$109,3,FALSE)*F1129,\"\")","v":""},null,null,"",1,0,1900,0,1,1900,"Nombre y el registro de entrada válida"]
[null,"",null,null,null,"",null,null,null,{"$f":"IF(I1130=\"\",\"\",IF(VLOOKUP(I1130,CAD_Q!$C$6:$D$105,2,FALSE)=0,\"\",VLOOKUP(I1130,CAD_Q!$C$6:$D$105,2,FALSE)))","v":""},{"$f":"IFERROR(VLOOKUP(I1130,CAD_Q!$C$6:$E$109,3,FALSE)*F1130,\"\")","v":""},null,null,"",1,0,1900,0,1,1900,"Nombre y el registro de entrada válida"]
[null,"",null,null,null,"",null,null,null,{"$f":"IF(I1131=\"\",\"\",IF(VLOOKUP(I1131,CAD_Q!$C$6:$D$105,2,FALSE)=0,\"\",VLOOKUP(I1131,CAD_Q!$C$6:$D$105,2,FALSE)))","v":""},{"$f":"IFERROR(VLOOKUP(I1131,CAD_Q!$C$6:$E$109,3,FALSE)*F1131,\"\")","v":""},null,null,"",1,0,1900,0,1,1900,"Nombre y el registro de entrada válida"]
[null,"",null,null,null,"",null,null,null,{"$f":"IF(I1132=\"\",\"\",IF(VLOOKUP(I1132,CAD_Q!$C$6:$D$105,2,FALSE)=0,\"\",VLOOKUP(I1132,CAD_Q!$C$6:$D$105,2,FALSE)))","v":""},{"$f":"IFERROR(VLOOKUP(I1132,CAD_Q!$C$6:$E$109,3,FALSE)*F1132,\"\")","v":""},null,null,"",1,0,1900,0,1,1900,"Nombre y el registro de entrada válida"]
[null,"",null,null,null,"",null,null,null,{"$f":"IF(I1133=\"\",\"\",IF(VLOOKUP(I1133,CAD_Q!$C$6:$D$105,2,FALSE)=0,\"\",VLOOKUP(I1133,CAD_Q!$C$6:$D$105,2,FALSE)))","v":""},{"$f":"IFERROR(VLOOKUP(I1133,CAD_Q!$C$6:$E$109,3,FALSE)*F1133,\"\")","v":""},null,null,"",1,0,1900,0,1,1900,"Nombre y el registro de entrada válida"]
[null,"",null,null,null,"",null,null,null,{"$f":"IF(I1134=\"\",\"\",IF(VLOOKUP(I1134,CAD_Q!$C$6:$D$105,2,FALSE)=0,\"\",VLOOKUP(I1134,CAD_Q!$C$6:$D$105,2,FALSE)))","v":""},{"$f":"IFERROR(VLOOKUP(I1134,CAD_Q!$C$6:$E$109,3,FALSE)*F1134,\"\")","v":""},null,null,"",1,0,1900,0,1,1900,"Nombre y el registro de entrada válida"]
[null,"",null,null,null,"",null,null,null,{"$f":"IF(I1135=\"\",\"\",IF(VLOOKUP(I1135,CAD_Q!$C$6:$D$105,2,FALSE)=0,\"\",VLOOKUP(I1135,CAD_Q!$C$6:$D$105,2,FALSE)))","v":""},{"$f":"IFERROR(VLOOKUP(I1135,CAD_Q!$C$6:$E$109,3,FALSE)*F1135,\"\")","v":""},null,null,"",1,0,1900,0,1,1900,"Nombre y el registro de entrada válida"]
[null,"",null,null,null,"",null,null,null,{"$f":"IF(I1136=\"\",\"\",IF(VLOOKUP(I1136,CAD_Q!$C$6:$D$105,2,FALSE)=0,\"\",VLOOKUP(I1136,CAD_Q!$C$6:$D$105,2,FALSE)))","v":""},{"$f":"IFERROR(VLOOKUP(I1136,CAD_Q!$C$6:$E$109,3,FALSE)*F1136,\"\")","v":""},null,null,"",1,0,1900,0,1,1900,"Nombre y el registro de entrada válida"]
[null,"",null,null,null,"",null,null,null,{"$f":"IF(I1137=\"\",\"\",IF(VLOOKUP(I1137,CAD_Q!$C$6:$D$105,2,FALSE)=0,\"\",VLOOKUP(I1137,CAD_Q!$C$6:$D$105,2,FALSE)))","v":""},{"$f":"IFERROR(VLOOKUP(I1137,CAD_Q!$C$6:$E$109,3,FALSE)*F1137,\"\")","v":""},null,null,"",1,0,1900,0,1,1900,"Nombre y el registro de entrada válida"]
[null,"",null,null,null,"",null,null,null,{"$f":"IF(I1138=\"\",\"\",IF(VLOOKUP(I1138,CAD_Q!$C$6:$D$105,2,FALSE)=0,\"\",VLOOKUP(I1138,CAD_Q!$C$6:$D$105,2,FALSE)))","v":""},{"$f":"IFERROR(VLOOKUP(I1138,CAD_Q!$C$6:$E$109,3,FALSE)*F1138,\"\")","v":""},null,null,"",1,0,1900,0,1,1900,"Nombre y el registro de entrada válida"]
[null,"",null,null,null,"",null,null,null,{"$f":"IF(I1139=\"\",\"\",IF(VLOOKUP(I1139,CAD_Q!$C$6:$D$105,2,FALSE)=0,\"\",VLOOKUP(I1139,CAD_Q!$C$6:$D$105,2,FALSE)))","v":""},{"$f":"IFERROR(VLOOKUP(I1139,CAD_Q!$C$6:$E$109,3,FALSE)*F1139,\"\")","v":""},null,null,"",1,0,1900,0,1,1900,"Nombre y el registro de entrada válida"]
[null,"",null,null,null,"",null,null,null,{"$f":"IF(I1140=\"\",\"\",IF(VLOOKUP(I1140,CAD_Q!$C$6:$D$105,2,FALSE)=0,\"\",VLOOKUP(I1140,CAD_Q!$C$6:$D$105,2,FALSE)))","v":""},{"$f":"IFERROR(VLOOKUP(I1140,CAD_Q!$C$6:$E$109,3,FALSE)*F1140,\"\")","v":""},null,null,"",1,0,1900,0,1,1900,"Nombre y el registro de entrada válida"]
[null,"",null,null,null,"",null,null,null,{"$f":"IF(I1141=\"\",\"\",IF(VLOOKUP(I1141,CAD_Q!$C$6:$D$105,2,FALSE)=0,\"\",VLOOKUP(I1141,CAD_Q!$C$6:$D$105,2,FALSE)))","v":""},{"$f":"IFERROR(VLOOKUP(I1141,CAD_Q!$C$6:$E$109,3,FALSE)*F1141,\"\")","v":""},null,null,"",1,0,1900,0,1,1900,"Nombre y el registro de entrada válida"]
[null,"",null,null,null,"",null,null,null,{"$f":"IF(I1142=\"\",\"\",IF(VLOOKUP(I1142,CAD_Q!$C$6:$D$105,2,FALSE)=0,\"\",VLOOKUP(I1142,CAD_Q!$C$6:$D$105,2,FALSE)))","v":""},{"$f":"IFERROR(VLOOKUP(I1142,CAD_Q!$C$6:$E$109,3,FALSE)*F1142,\"\")","v":""},null,null,"",1,0,1900,0,1,1900,"Nombre y el registro de entrada válida"]
[null,"",null,null,null,"",null,null,null,{"$f":"IF(I1143=\"\",\"\",IF(VLOOKUP(I1143,CAD_Q!$C$6:$D$105,2,FALSE)=0,\"\",VLOOKUP(I1143,CAD_Q!$C$6:$D$105,2,FALSE)))","v":""},{"$f":"IFERROR(VLOOKUP(I1143,CAD_Q!$C$6:$E$109,3,FALSE)*F1143,\"\")","v":""},null,null,"",1,0,1900,0,1,1900,"Nombre y el registro de entrada válida"]
[null,"",null,null,null,"",null,null,null,{"$f":"IF(I1144=\"\",\"\",IF(VLOOKUP(I1144,CAD_Q!$C$6:$D$105,2,FALSE)=0,\"\",VLOOKUP(I1144,CAD_Q!$C$6:$D$105,2,FALSE)))","v":""},{"$f":"IFERROR(VLOOKUP(I1144,CAD_Q!$C$6:$E$109,3,FALSE)*F1144,\"\")","v":""},null,null,"",1,0,1900,0,1,1900,"Nombre y el registro de entrada válida"]
[null,"",null,null,null,"",null,null,null,{"$f":"IF(I1145=\"\",\"\",IF(VLOOKUP(I1145,CAD_Q!$C$6:$D$105,2,FALSE)=0,\"\",VLOOKUP(I1145,CAD_Q!$C$6:$D$105,2,FALSE)))","v":""},{"$f":"IFERROR(VLOOKUP(I1145,CAD_Q!$C$6:$E$109,3,FALSE)*F1145,\"\")","v":""},null,null,"",1,0,1900,0,1,1900,"Nombre y el registro de entrada válida"]
[null,"",null,null,null,"",null,null,null,{"$f":"IF(I1146=\"\",\"\",IF(VLOOKUP(I1146,CAD_Q!$C$6:$D$105,2,FALSE)=0,\"\",VLOOKUP(I1146,CAD_Q!$C$6:$D$105,2,FALSE)))","v":""},{"$f":"IFERROR(VLOOKUP(I1146,CAD_Q!$C$6:$E$109,3,FALSE)*F1146,\"\")","v":""},null,null,"",1,0,1900,0,1,1900,"Nombre y el registro de entrada válida"]
[null,"",null,null,null,"",null,null,null,{"$f":"IF(I1147=\"\",\"\",IF(VLOOKUP(I1147,CAD_Q!$C$6:$D$105,2,FALSE)=0,\"\",VLOOKUP(I1147,CAD_Q!$C$6:$D$105,2,FALSE)))","v":""},{"$f":"IFERROR(VLOOKUP(I1147,CAD_Q!$C$6:$E$109,3,FALSE)*F1147,\"\")","v":""},null,null,"",1,0,1900,0,1,1900,"Nombre y el registro de entrada válida"]
[null,"",null,null,null,"",null,null,null,{"$f":"IF(I1148=\"\",\"\",IF(VLOOKUP(I1148,CAD_Q!$C$6:$D$105,2,FALSE)=0,\"\",VLOOKUP(I1148,CAD_Q!$C$6:$D$105,2,FALSE)))","v":""},{"$f":"IFERROR(VLOOKUP(I1148,CAD_Q!$C$6:$E$109,3,FALSE)*F1148,\"\")","v":""},null,null,"",1,0,1900,0,1,1900,"Nombre y el registro de entrada válida"]
[null,"",null,null,null,"",null,null,null,{"$f":"IF(I1149=\"\",\"\",IF(VLOOKUP(I1149,CAD_Q!$C$6:$D$105,2,FALSE)=0,\"\",VLOOKUP(I1149,CAD_Q!$C$6:$D$105,2,FALSE)))","v":""},{"$f":"IFERROR(VLOOKUP(I1149,CAD_Q!$C$6:$E$109,3,FALSE)*F1149,\"\")","v":""},null,null,"",1,0,1900,0,1,1900,"Nombre y el registro de entrada válida"]
[null,"",null,null,null,"",null,null,null,{"$f":"IF(I1150=\"\",\"\",IF(VLOOKUP(I1150,CAD_Q!$C$6:$D$105,2,FALSE)=0,\"\",VLOOKUP(I1150,CAD_Q!$C$6:$D$105,2,FALSE)))","v":""},{"$f":"IFERROR(VLOOKUP(I1150,CAD_Q!$C$6:$E$109,3,FALSE)*F1150,\"\")","v":""},null,null,"",1,0,1900,0,1,1900,"Nombre y el registro de entrada válida"]
[null,"",null,null,null,"",null,null,null,{"$f":"IF(I1151=\"\",\"\",IF(VLOOKUP(I1151,CAD_Q!$C$6:$D$105,2,FALSE)=0,\"\",VLOOKUP(I1151,CAD_Q!$C$6:$D$105,2,FALSE)))","v":""},{"$f":"IFERROR(VLOOKUP(I1151,CAD_Q!$C$6:$E$109,3,FALSE)*F1151,\"\")","v":""},null,null,"",1,0,1900,0,1,1900,"Nombre y el registro de entrada válida"]
[null,"",null,null,null,"",null,null,null,{"$f":"IF(I1152=\"\",\"\",IF(VLOOKUP(I1152,CAD_Q!$C$6:$D$105,2,FALSE)=0,\"\",VLOOKUP(I1152,CAD_Q!$C$6:$D$105,2,FALSE)))","v":""},{"$f":"IFERROR(VLOOKUP(I1152,CAD_Q!$C$6:$E$109,3,FALSE)*F1152,\"\")","v":""},null,null,"",1,0,1900,0,1,1900,"Nombre y el registro de entrada válida"]
[null,"",null,null,null,"",null,null,null,{"$f":"IF(I1153=\"\",\"\",IF(VLOOKUP(I1153,CAD_Q!$C$6:$D$105,2,FALSE)=0,\"\",VLOOKUP(I1153,CAD_Q!$C$6:$D$105,2,FALSE)))","v":""},{"$f":"IFERROR(VLOOKUP(I1153,CAD_Q!$C$6:$E$109,3,FALSE)*F1153,\"\")","v":""},null,null,"",1,0,1900,0,1,1900,"Nombre y el registro de entrada válida"]
[null,"",null,null,null,"",null,null,null,{"$f":"IF(I1154=\"\",\"\",IF(VLOOKUP(I1154,CAD_Q!$C$6:$D$105,2,FALSE)=0,\"\",VLOOKUP(I1154,CAD_Q!$C$6:$D$105,2,FALSE)))","v":""},{"$f":"IFERROR(VLOOKUP(I1154,CAD_Q!$C$6:$E$109,3,FALSE)*F1154,\"\")","v":""},null,null,"",1,0,1900,0,1,1900,"Nombre y el registro de entrada válida"]
[null,"",null,null,null,"",null,null,null,{"$f":"IF(I1155=\"\",\"\",IF(VLOOKUP(I1155,CAD_Q!$C$6:$D$105,2,FALSE)=0,\"\",VLOOKUP(I1155,CAD_Q!$C$6:$D$105,2,FALSE)))","v":""},{"$f":"IFERROR(VLOOKUP(I1155,CAD_Q!$C$6:$E$109,3,FALSE)*F1155,\"\")","v":""},null,null,"",1,0,1900,0,1,1900,"Nombre y el registro de entrada válida"]
[null,"",null,null,null,"",null,null,null,{"$f":"IF(I1156=\"\",\"\",IF(VLOOKUP(I1156,CAD_Q!$C$6:$D$105,2,FALSE)=0,\"\",VLOOKUP(I1156,CAD_Q!$C$6:$D$105,2,FALSE)))","v":""},{"$f":"IFERROR(VLOOKUP(I1156,CAD_Q!$C$6:$E$109,3,FALSE)*F1156,\"\")","v":""},null,null,"",1,0,1900,0,1,1900,"Nombre y el registro de entrada válida"]
[null,"",null,null,null,"",null,null,null,{"$f":"IF(I1157=\"\",\"\",IF(VLOOKUP(I1157,CAD_Q!$C$6:$D$105,2,FALSE)=0,\"\",VLOOKUP(I1157,CAD_Q!$C$6:$D$105,2,FALSE)))","v":""},{"$f":"IFERROR(VLOOKUP(I1157,CAD_Q!$C$6:$E$109,3,FALSE)*F1157,\"\")","v":""},null,null,"",1,0,1900,0,1,1900,"Nombre y el registro de entrada válida"]
[null,"",null,null,null,"",null,null,null,{"$f":"IF(I1158=\"\",\"\",IF(VLOOKUP(I1158,CAD_Q!$C$6:$D$105,2,FALSE)=0,\"\",VLOOKUP(I1158,CAD_Q!$C$6:$D$105,2,FALSE)))","v":""},{"$f":"IFERROR(VLOOKUP(I1158,CAD_Q!$C$6:$E$109,3,FALSE)*F1158,\"\")","v":""},null,null,"",1,0,1900,0,1,1900,"Nombre y el registro de entrada válida"]
[null,{"$f":"CONCATENATE(C1159,D1159)","v":""},null,null,null,"",null,null,null,{"$f":"IF(I1159=\"\",\"\",IF(VLOOKUP(I1159,CAD_Q!$C$6:$D$105,2,FALSE)=0,\"\",VLOOKUP(I1159,CAD_Q!$C$6:$D$105,2,FALSE)))","v":""},{"$f":"IFERROR(VLOOKUP(I1159,CAD_Q!$C$6:$E$109,3,FALSE)*F1159,\"\")","v":""},null,null,{"$f":"IFERROR(K1159-L1159+M1159,\"\")","v":""},1,0,1900,0,1,1900,"Nombre y el registro de entrada válida"]
[null,"",null,null,null,"",null,null,null,{"$f":"IF(I1160=\"\",\"\",IF(VLOOKUP(I1160,CAD_Q!$C$6:$D$105,2,FALSE)=0,\"\",VLOOKUP(I1160,CAD_Q!$C$6:$D$105,2,FALSE)))","v":""},{"$f":"IFERROR(VLOOKUP(I1160,CAD_Q!$C$6:$E$109,3,FALSE)*F1160,\"\")","v":""},null,null,"",1,0,1900,0,1,1900,"Nombre y el registro de entrada válida"]
[null,"",null,null,null,"",null,null,null,{"$f":"IF(I1161=\"\",\"\",IF(VLOOKUP(I1161,CAD_Q!$C$6:$D$105,2,FALSE)=0,\"\",VLOOKUP(I1161,CAD_Q!$C$6:$D$105,2,FALSE)))","v":""},{"$f":"IFERROR(VLOOKUP(I1161,CAD_Q!$C$6:$E$109,3,FALSE)*F1161,\"\")","v":""},null,null,"",1,0,1900,0,1,1900,"Nombre y el registro de entrada válida"]
[null,"",null,null,null,"",null,null,null,{"$f":"IF(I1162=\"\",\"\",IF(VLOOKUP(I1162,CAD_Q!$C$6:$D$105,2,FALSE)=0,\"\",VLOOKUP(I1162,CAD_Q!$C$6:$D$105,2,FALSE)))","v":""},{"$f":"IFERROR(VLOOKUP(I1162,CAD_Q!$C$6:$E$109,3,FALSE)*F1162,\"\")","v":""},null,null,"",{"$f":"MONTH(D1162)","v":1},{"$f":"DAY(D1162)","v":0},{"$f":"YEAR(D1162)","v":1900},{"$f":"DAY(E1162)","v":0},{"$f":"MONTH(E1162)","v":1},{"$f":"YEAR(E1162)","v":1900},"Nombre y el registro de entrada válida"]
[null,"",null,null,null,"",null,null,null,{"$f":"IF(I1163=\"\",\"\",IF(VLOOKUP(I1163,CAD_Q!$C$6:$D$105,2,FALSE)=0,\"\",VLOOKUP(I1163,CAD_Q!$C$6:$D$105,2,FALSE)))","v":""},{"$f":"IFERROR(VLOOKUP(I1163,CAD_Q!$C$6:$E$109,3,FALSE)*F1163,\"\")","v":""},null,null,"",1,0,1900,0,1,1900,"Nombre y el registro de entrada válida"]
[null,"",null,null,null,"",null,null,null,{"$f":"IF(I1164=\"\",\"\",IF(VLOOKUP(I1164,CAD_Q!$C$6:$D$105,2,FALSE)=0,\"\",VLOOKUP(I1164,CAD_Q!$C$6:$D$105,2,FALSE)))","v":""},{"$f":"IFERROR(VLOOKUP(I1164,CAD_Q!$C$6:$E$109,3,FALSE)*F1164,\"\")","v":""},null,null,"",1,0,1900,0,1,1900,"Nombre y el registro de entrada válida"]
[null,"",null,null,null,"",null,null,null,{"$f":"IF(I1165=\"\",\"\",IF(VLOOKUP(I1165,CAD_Q!$C$6:$D$105,2,FALSE)=0,\"\",VLOOKUP(I1165,CAD_Q!$C$6:$D$105,2,FALSE)))","v":""},{"$f":"IFERROR(VLOOKUP(I1165,CAD_Q!$C$6:$E$109,3,FALSE)*F1165,\"\")","v":""},null,null,"",1,0,1900,0,1,1900,"Nombre y el registro de entrada válida"]
[null,"",null,null,null,"",null,null,null,{"$f":"IF(I1166=\"\",\"\",IF(VLOOKUP(I1166,CAD_Q!$C$6:$D$105,2,FALSE)=0,\"\",VLOOKUP(I1166,CAD_Q!$C$6:$D$105,2,FALSE)))","v":""},{"$f":"IFERROR(VLOOKUP(I1166,CAD_Q!$C$6:$E$109,3,FALSE)*F1166,\"\")","v":""},null,null,"",1,0,1900,0,1,1900,"Nombre y el registro de entrada válida"]
[null,"",null,null,null,"",null,null,null,{"$f":"IF(I1167=\"\",\"\",IF(VLOOKUP(I1167,CAD_Q!$C$6:$D$105,2,FALSE)=0,\"\",VLOOKUP(I1167,CAD_Q!$C$6:$D$105,2,FALSE)))","v":""},{"$f":"IFERROR(VLOOKUP(I1167,CAD_Q!$C$6:$E$109,3,FALSE)*F1167,\"\")","v":""},null,null,"",1,0,1900,0,1,1900,"Nombre y el registro de entrada válida"]
[null,"",null,null,null,"",null,null,null,{"$f":"IF(I1168=\"\",\"\",IF(VLOOKUP(I1168,CAD_Q!$C$6:$D$105,2,FALSE)=0,\"\",VLOOKUP(I1168,CAD_Q!$C$6:$D$105,2,FALSE)))","v":""},{"$f":"IFERROR(VLOOKUP(I1168,CAD_Q!$C$6:$E$109,3,FALSE)*F1168,\"\")","v":""},null,null,"",1,0,1900,0,1,1900,"Nombre y el registro de entrada válida"]
[null,"",null,null,null,"",null,null,null,{"$f":"IF(I1169=\"\",\"\",IF(VLOOKUP(I1169,CAD_Q!$C$6:$D$105,2,FALSE)=0,\"\",VLOOKUP(I1169,CAD_Q!$C$6:$D$105,2,FALSE)))","v":""},{"$f":"IFERROR(VLOOKUP(I1169,CAD_Q!$C$6:$E$109,3,FALSE)*F1169,\"\")","v":""},null,null,"",1,0,1900,0,1,1900,"Nombre y el registro de entrada válida"]
[null,"",null,null,null,"",null,null,null,{"$f":"IF(I1170=\"\",\"\",IF(VLOOKUP(I1170,CAD_Q!$C$6:$D$105,2,FALSE)=0,\"\",VLOOKUP(I1170,CAD_Q!$C$6:$D$105,2,FALSE)))","v":""},{"$f":"IFERROR(VLOOKUP(I1170,CAD_Q!$C$6:$E$109,3,FALSE)*F1170,\"\")","v":""},null,null,"",1,0,1900,0,1,1900,"Nombre y el registro de entrada válida"]
[null,"",null,null,null,"",null,null,null,{"$f":"IF(I1171=\"\",\"\",IF(VLOOKUP(I1171,CAD_Q!$C$6:$D$105,2,FALSE)=0,\"\",VLOOKUP(I1171,CAD_Q!$C$6:$D$105,2,FALSE)))","v":""},{"$f":"IFERROR(VLOOKUP(I1171,CAD_Q!$C$6:$E$109,3,FALSE)*F1171,\"\")","v":""},null,null,"",1,0,1900,0,1,1900,"Nombre y el registro de entrada válida"]
[null,"",null,null,null,"",null,null,null,{"$f":"IF(I1172=\"\",\"\",IF(VLOOKUP(I1172,CAD_Q!$C$6:$D$105,2,FALSE)=0,\"\",VLOOKUP(I1172,CAD_Q!$C$6:$D$105,2,FALSE)))","v":""},{"$f":"IFERROR(VLOOKUP(I1172,CAD_Q!$C$6:$E$109,3,FALSE)*F1172,\"\")","v":""},null,null,"",1,0,1900,0,1,1900,"Nombre y el registro de entrada válida"]
[null,"",null,null,null,"",null,null,null,{"$f":"IF(I1173=\"\",\"\",IF(VLOOKUP(I1173,CAD_Q!$C$6:$D$105,2,FALSE)=0,\"\",VLOOKUP(I1173,CAD_Q!$C$6:$D$105,2,FALSE)))","v":""},{"$f":"IFERROR(VLOOKUP(I1173,CAD_Q!$C$6:$E$109,3,FALSE)*F1173,\"\")","v":""},null,null,"",1,0,1900,0,1,1900,"Nombre y el registro de entrada válida"]
[null,"",null,null,null,"",null,null,null,{"$f":"IF(I1174=\"\",\"\",IF(VLOOKUP(I1174,CAD_Q!$C$6:$D$105,2,FALSE)=0,\"\",VLOOKUP(I1174,CAD_Q!$C$6:$D$105,2,FALSE)))","v":""},{"$f":"IFERROR(VLOOKUP(I1174,CAD_Q!$C$6:$E$109,3,FALSE)*F1174,\"\")","v":""},null,null,"",1,0,1900,0,1,1900,"Nombre y el registro de entrada válida"]
[null,"",null,null,null,"",null,null,null,{"$f":"IF(I1175=\"\",\"\",IF(VLOOKUP(I1175,CAD_Q!$C$6:$D$105,2,FALSE)=0,\"\",VLOOKUP(I1175,CAD_Q!$C$6:$D$105,2,FALSE)))","v":""},{"$f":"IFERROR(VLOOKUP(I1175,CAD_Q!$C$6:$E$109,3,FALSE)*F1175,\"\")","v":""},null,null,"",1,0,1900,0,1,1900,"Nombre y el registro de entrada válida"]
[null,"",null,null,null,"",null,null,null,{"$f":"IF(I1176=\"\",\"\",IF(VLOOKUP(I1176,CAD_Q!$C$6:$D$105,2,FALSE)=0,\"\",VLOOKUP(I1176,CAD_Q!$C$6:$D$105,2,FALSE)))","v":""},{"$f":"IFERROR(VLOOKUP(I1176,CAD_Q!$C$6:$E$109,3,FALSE)*F1176,\"\")","v":""},null,null,"",1,0,1900,0,1,1900,"Nombre y el registro de entrada válida"]
[null,"",null,null,null,"",null,null,null,{"$f":"IF(I1177=\"\",\"\",IF(VLOOKUP(I1177,CAD_Q!$C$6:$D$105,2,FALSE)=0,\"\",VLOOKUP(I1177,CAD_Q!$C$6:$D$105,2,FALSE)))","v":""},{"$f":"IFERROR(VLOOKUP(I1177,CAD_Q!$C$6:$E$109,3,FALSE)*F1177,\"\")","v":""},null,null,"",1,0,1900,0,1,1900,"Nombre y el registro de entrada válida"]
[null,"",null,null,null,"",null,null,null,{"$f":"IF(I1178=\"\",\"\",IF(VLOOKUP(I1178,CAD_Q!$C$6:$D$105,2,FALSE)=0,\"\",VLOOKUP(I1178,CAD_Q!$C$6:$D$105,2,FALSE)))","v":""},{"$f":"IFERROR(VLOOKUP(I1178,CAD_Q!$C$6:$E$109,3,FALSE)*F1178,\"\")","v":""},null,null,"",1,0,1900,0,1,1900,"Nombre y el registro de entrada válida"]
[null,"",null,null,null,"",null,null,null,{"$f":"IF(I1179=\"\",\"\",IF(VLOOKUP(I1179,CAD_Q!$C$6:$D$105,2,FALSE)=0,\"\",VLOOKUP(I1179,CAD_Q!$C$6:$D$105,2,FALSE)))","v":""},{"$f":"IFERROR(VLOOKUP(I1179,CAD_Q!$C$6:$E$109,3,FALSE)*F1179,\"\")","v":""},null,null,"",1,0,1900,0,1,1900,"Nombre y el registro de entrada válida"]
[null,"",null,null,null,"",null,null,null,{"$f":"IF(I1180=\"\",\"\",IF(VLOOKUP(I1180,CAD_Q!$C$6:$D$105,2,FALSE)=0,\"\",VLOOKUP(I1180,CAD_Q!$C$6:$D$105,2,FALSE)))","v":""},{"$f":"IFERROR(VLOOKUP(I1180,CAD_Q!$C$6:$E$109,3,FALSE)*F1180,\"\")","v":""},null,null,"",1,0,1900,0,1,1900,"Nombre y el registro de entrada válida"]
[null,"",null,null,null,"",null,null,null,{"$f":"IF(I1181=\"\",\"\",IF(VLOOKUP(I1181,CAD_Q!$C$6:$D$105,2,FALSE)=0,\"\",VLOOKUP(I1181,CAD_Q!$C$6:$D$105,2,FALSE)))","v":""},{"$f":"IFERROR(VLOOKUP(I1181,CAD_Q!$C$6:$E$109,3,FALSE)*F1181,\"\")","v":""},null,null,"",1,0,1900,0,1,1900,"Nombre y el registro de entrada válida"]
[null,"",null,null,null,"",null,null,null,{"$f":"IF(I1182=\"\",\"\",IF(VLOOKUP(I1182,CAD_Q!$C$6:$D$105,2,FALSE)=0,\"\",VLOOKUP(I1182,CAD_Q!$C$6:$D$105,2,FALSE)))","v":""},{"$f":"IFERROR(VLOOKUP(I1182,CAD_Q!$C$6:$E$109,3,FALSE)*F1182,\"\")","v":""},null,null,"",1,0,1900,0,1,1900,"Nombre y el registro de entrada válida"]
[null,"",null,null,null,"",null,null,null,{"$f":"IF(I1183=\"\",\"\",IF(VLOOKUP(I1183,CAD_Q!$C$6:$D$105,2,FALSE)=0,\"\",VLOOKUP(I1183,CAD_Q!$C$6:$D$105,2,FALSE)))","v":""},{"$f":"IFERROR(VLOOKUP(I1183,CAD_Q!$C$6:$E$109,3,FALSE)*F1183,\"\")","v":""},null,null,"",1,0,1900,0,1,1900,"Nombre y el registro de entrada válida"]
[null,"",null,null,null,"",null,null,null,{"$f":"IF(I1184=\"\",\"\",IF(VLOOKUP(I1184,CAD_Q!$C$6:$D$105,2,FALSE)=0,\"\",VLOOKUP(I1184,CAD_Q!$C$6:$D$105,2,FALSE)))","v":""},{"$f":"IFERROR(VLOOKUP(I1184,CAD_Q!$C$6:$E$109,3,FALSE)*F1184,\"\")","v":""},null,null,"",1,0,1900,0,1,1900,"Nombre y el registro de entrada válida"]
[null,"",null,null,null,"",null,null,null,{"$f":"IF(I1185=\"\",\"\",IF(VLOOKUP(I1185,CAD_Q!$C$6:$D$105,2,FALSE)=0,\"\",VLOOKUP(I1185,CAD_Q!$C$6:$D$105,2,FALSE)))","v":""},{"$f":"IFERROR(VLOOKUP(I1185,CAD_Q!$C$6:$E$109,3,FALSE)*F1185,\"\")","v":""},null,null,"",1,0,1900,0,1,1900,"Nombre y el registro de entrada válida"]
[null,"",null,null,null,"",null,null,null,{"$f":"IF(I1186=\"\",\"\",IF(VLOOKUP(I1186,CAD_Q!$C$6:$D$105,2,FALSE)=0,\"\",VLOOKUP(I1186,CAD_Q!$C$6:$D$105,2,FALSE)))","v":""},{"$f":"IFERROR(VLOOKUP(I1186,CAD_Q!$C$6:$E$109,3,FALSE)*F1186,\"\")","v":""},null,null,"",1,0,1900,0,1,1900,"Nombre y el registro de entrada válida"]
[null,"",null,null,null,"",null,null,null,{"$f":"IF(I1187=\"\",\"\",IF(VLOOKUP(I1187,CAD_Q!$C$6:$D$105,2,FALSE)=0,\"\",VLOOKUP(I1187,CAD_Q!$C$6:$D$105,2,FALSE)))","v":""},{"$f":"IFERROR(VLOOKUP(I1187,CAD_Q!$C$6:$E$109,3,FALSE)*F1187,\"\")","v":""},null,null,"",1,0,1900,0,1,1900,"Nombre y el registro de entrada válida"]
[null,"",null,null,null,{"$f":"IF(OR(D1188=\"\",E1188=\"\"),\"\",E1188-D1188)","v":""},null,null,null,{"$f":"IF(I1188=\"\",\"\",IF(VLOOKUP(I1188,CAD_Q!$C$6:$D$105,2,FALSE)=0,\"\",VLOOKUP(I1188,CAD_Q!$C$6:$D$105,2,FALSE)))","v":""},{"$f":"IFERROR(VLOOKUP(I1188,CAD_Q!$C$6:$E$109,3,FALSE)*F1188,\"\")","v":""},null,null,"",1,0,1900,0,1,1900,"Nombre y el registro de entrada válida"]
[null,"",null,null,null,"",null,null,null,{"$f":"IF(I1189=\"\",\"\",IF(VLOOKUP(I1189,CAD_Q!$C$6:$D$105,2,FALSE)=0,\"\",VLOOKUP(I1189,CAD_Q!$C$6:$D$105,2,FALSE)))","v":""},{"$f":"IFERROR(VLOOKUP(I1189,CAD_Q!$C$6:$E$109,3,FALSE)*F1189,\"\")","v":""},null,null,"",1,0,1900,0,1,1900,"Nombre y el registro de entrada válida"]
[null,"",null,null,null,"",null,null,null,{"$f":"IF(I1190=\"\",\"\",IF(VLOOKUP(I1190,CAD_Q!$C$6:$D$105,2,FALSE)=0,\"\",VLOOKUP(I1190,CAD_Q!$C$6:$D$105,2,FALSE)))","v":""},{"$f":"IFERROR(VLOOKUP(I1190,CAD_Q!$C$6:$E$109,3,FALSE)*F1190,\"\")","v":""},null,null,"",1,0,1900,0,1,1900,"Nombre y el registro de entrada válida"]
[null,"",null,null,null,"",null,null,null,{"$f":"IF(I1191=\"\",\"\",IF(VLOOKUP(I1191,CAD_Q!$C$6:$D$105,2,FALSE)=0,\"\",VLOOKUP(I1191,CAD_Q!$C$6:$D$105,2,FALSE)))","v":""},{"$f":"IFERROR(VLOOKUP(I1191,CAD_Q!$C$6:$E$109,3,FALSE)*F1191,\"\")","v":""},null,null,"",1,0,1900,0,1,1900,"Nombre y el registro de entrada válida"]
[null,"",null,null,null,"",null,null,null,{"$f":"IF(I1192=\"\",\"\",IF(VLOOKUP(I1192,CAD_Q!$C$6:$D$105,2,FALSE)=0,\"\",VLOOKUP(I1192,CAD_Q!$C$6:$D$105,2,FALSE)))","v":""},{"$f":"IFERROR(VLOOKUP(I1192,CAD_Q!$C$6:$E$109,3,FALSE)*F1192,\"\")","v":""},null,null,"",1,0,1900,0,1,1900,"Nombre y el registro de entrada válida"]
[null,"",null,null,null,"",null,null,null,{"$f":"IF(I1193=\"\",\"\",IF(VLOOKUP(I1193,CAD_Q!$C$6:$D$105,2,FALSE)=0,\"\",VLOOKUP(I1193,CAD_Q!$C$6:$D$105,2,FALSE)))","v":""},{"$f":"IFERROR(VLOOKUP(I1193,CAD_Q!$C$6:$E$109,3,FALSE)*F1193,\"\")","v":""},null,null,"",1,0,1900,0,1,1900,"Nombre y el registro de entrada válida"]
[null,"",null,null,null,"",null,null,null,{"$f":"IF(I1194=\"\",\"\",IF(VLOOKUP(I1194,CAD_Q!$C$6:$D$105,2,FALSE)=0,\"\",VLOOKUP(I1194,CAD_Q!$C$6:$D$105,2,FALSE)))","v":""},{"$f":"IFERROR(VLOOKUP(I1194,CAD_Q!$C$6:$E$109,3,FALSE)*F1194,\"\")","v":""},null,null,"",1,0,1900,0,1,1900,"Nombre y el registro de entrada válida"]
[null,"",null,null,null,"",null,null,null,{"$f":"IF(I1195=\"\",\"\",IF(VLOOKUP(I1195,CAD_Q!$C$6:$D$105,2,FALSE)=0,\"\",VLOOKUP(I1195,CAD_Q!$C$6:$D$105,2,FALSE)))","v":""},{"$f":"IFERROR(VLOOKUP(I1195,CAD_Q!$C$6:$E$109,3,FALSE)*F1195,\"\")","v":""},null,null,"",1,0,1900,0,1,1900,"Nombre y el registro de entrada válida"]
[null,"",null,null,null,"",null,null,null,{"$f":"IF(I1196=\"\",\"\",IF(VLOOKUP(I1196,CAD_Q!$C$6:$D$105,2,FALSE)=0,\"\",VLOOKUP(I1196,CAD_Q!$C$6:$D$105,2,FALSE)))","v":""},{"$f":"IFERROR(VLOOKUP(I1196,CAD_Q!$C$6:$E$109,3,FALSE)*F1196,\"\")","v":""},null,null,"",1,0,1900,0,1,1900,"Nombre y el registro de entrada válida"]
[null,"",null,null,null,"",null,null,null,{"$f":"IF(I1197=\"\",\"\",IF(VLOOKUP(I1197,CAD_Q!$C$6:$D$105,2,FALSE)=0,\"\",VLOOKUP(I1197,CAD_Q!$C$6:$D$105,2,FALSE)))","v":""},{"$f":"IFERROR(VLOOKUP(I1197,CAD_Q!$C$6:$E$109,3,FALSE)*F1197,\"\")","v":""},null,null,"",1,0,1900,0,1,1900,"Nombre y el registro de entrada válida"]
[null,"",null,null,null,"",null,null,null,{"$f":"IF(I1198=\"\",\"\",IF(VLOOKUP(I1198,CAD_Q!$C$6:$D$105,2,FALSE)=0,\"\",VLOOKUP(I1198,CAD_Q!$C$6:$D$105,2,FALSE)))","v":""},{"$f":"IFERROR(VLOOKUP(I1198,CAD_Q!$C$6:$E$109,3,FALSE)*F1198,\"\")","v":""},null,null,"",1,0,1900,0,1,1900,"Nombre y el registro de entrada válida"]
[null,"",null,null,null,"",null,null,null,{"$f":"IF(I1199=\"\",\"\",IF(VLOOKUP(I1199,CAD_Q!$C$6:$D$105,2,FALSE)=0,\"\",VLOOKUP(I1199,CAD_Q!$C$6:$D$105,2,FALSE)))","v":""},{"$f":"IFERROR(VLOOKUP(I1199,CAD_Q!$C$6:$E$109,3,FALSE)*F1199,\"\")","v":""},null,null,"",1,0,1900,0,1,1900,"Nombre y el registro de entrada válida"]
[null,"",null,null,null,"",null,null,null,{"$f":"IF(I1200=\"\",\"\",IF(VLOOKUP(I1200,CAD_Q!$C$6:$D$105,2,FALSE)=0,\"\",VLOOKUP(I1200,CAD_Q!$C$6:$D$105,2,FALSE)))","v":""},{"$f":"IFERROR(VLOOKUP(I1200,CAD_Q!$C$6:$E$109,3,FALSE)*F1200,\"\")","v":""},null,null,"",1,0,1900,0,1,1900,"Nombre y el registro de entrada válida"]
[null,"",null,null,null,"",null,null,null,{"$f":"IF(I1201=\"\",\"\",IF(VLOOKUP(I1201,CAD_Q!$C$6:$D$105,2,FALSE)=0,\"\",VLOOKUP(I1201,CAD_Q!$C$6:$D$105,2,FALSE)))","v":""},{"$f":"IFERROR(VLOOKUP(I1201,CAD_Q!$C$6:$E$109,3,FALSE)*F1201,\"\")","v":""},null,null,"",1,0,1900,0,1,1900,"Nombre y el registro de entrada válida"]
[null,"",null,null,null,"",null,null,null,{"$f":"IF(I1202=\"\",\"\",IF(VLOOKUP(I1202,CAD_Q!$C$6:$D$105,2,FALSE)=0,\"\",VLOOKUP(I1202,CAD_Q!$C$6:$D$105,2,FALSE)))","v":""},{"$f":"IFERROR(VLOOKUP(I1202,CAD_Q!$C$6:$E$109,3,FALSE)*F1202,\"\")","v":""},null,null,"",1,0,1900,0,1,1900,"Nombre y el registro de entrada válida"]
[null,"",null,null,null,"",null,null,null,{"$f":"IF(I1203=\"\",\"\",IF(VLOOKUP(I1203,CAD_Q!$C$6:$D$105,2,FALSE)=0,\"\",VLOOKUP(I1203,CAD_Q!$C$6:$D$105,2,FALSE)))","v":""},{"$f":"IFERROR(VLOOKUP(I1203,CAD_Q!$C$6:$E$109,3,FALSE)*F1203,\"\")","v":""},null,null,"",1,0,1900,0,1,1900,"Nombre y el registro de entrada válida"]
[null,"",null,null,null,"",null,null,null,{"$f":"IF(I1204=\"\",\"\",IF(VLOOKUP(I1204,CAD_Q!$C$6:$D$105,2,FALSE)=0,\"\",VLOOKUP(I1204,CAD_Q!$C$6:$D$105,2,FALSE)))","v":""},{"$f":"IFERROR(VLOOKUP(I1204,CAD_Q!$C$6:$E$109,3,FALSE)*F1204,\"\")","v":""},null,null,"",1,0,1900,0,1,1900,"Nombre y el registro de entrada válida"]
[null,"",null,null,null,"",null,null,null,{"$f":"IF(I1205=\"\",\"\",IF(VLOOKUP(I1205,CAD_Q!$C$6:$D$105,2,FALSE)=0,\"\",VLOOKUP(I1205,CAD_Q!$C$6:$D$105,2,FALSE)))","v":""},{"$f":"IFERROR(VLOOKUP(I1205,CAD_Q!$C$6:$E$109,3,FALSE)*F1205,\"\")","v":""},null,null,"",1,0,1900,0,1,1900,"Nombre y el registro de entrada válida"]
[null,"",null,null,null,"",null,null,null,{"$f":"IF(I1206=\"\",\"\",IF(VLOOKUP(I1206,CAD_Q!$C$6:$D$105,2,FALSE)=0,\"\",VLOOKUP(I1206,CAD_Q!$C$6:$D$105,2,FALSE)))","v":""},{"$f":"IFERROR(VLOOKUP(I1206,CAD_Q!$C$6:$E$109,3,FALSE)*F1206,\"\")","v":""},null,null,"",1,0,1900,0,1,1900,"Nombre y el registro de entrada válida"]
[null,"",null,null,null,"",null,null,null,{"$f":"IF(I1207=\"\",\"\",IF(VLOOKUP(I1207,CAD_Q!$C$6:$D$105,2,FALSE)=0,\"\",VLOOKUP(I1207,CAD_Q!$C$6:$D$105,2,FALSE)))","v":""},{"$f":"IFERROR(VLOOKUP(I1207,CAD_Q!$C$6:$E$109,3,FALSE)*F1207,\"\")","v":""},null,null,"",1,0,1900,0,1,1900,"Nombre y el registro de entrada válida"]
[null,"",null,null,null,"",null,null,null,{"$f":"IF(I1208=\"\",\"\",IF(VLOOKUP(I1208,CAD_Q!$C$6:$D$105,2,FALSE)=0,\"\",VLOOKUP(I1208,CAD_Q!$C$6:$D$105,2,FALSE)))","v":""},{"$f":"IFERROR(VLOOKUP(I1208,CAD_Q!$C$6:$E$109,3,FALSE)*F1208,\"\")","v":""},null,null,"",1,0,1900,0,1,1900,"Nombre y el registro de entrada válida"]
[null,"",null,null,null,"",null,null,null,{"$f":"IF(I1209=\"\",\"\",IF(VLOOKUP(I1209,CAD_Q!$C$6:$D$105,2,FALSE)=0,\"\",VLOOKUP(I1209,CAD_Q!$C$6:$D$105,2,FALSE)))","v":""},{"$f":"IFERROR(VLOOKUP(I1209,CAD_Q!$C$6:$E$109,3,FALSE)*F1209,\"\")","v":""},null,null,"",1,0,1900,0,1,1900,"Nombre y el registro de entrada válida"]
[null,"",null,null,null,"",null,null,null,{"$f":"IF(I1210=\"\",\"\",IF(VLOOKUP(I1210,CAD_Q!$C$6:$D$105,2,FALSE)=0,\"\",VLOOKUP(I1210,CAD_Q!$C$6:$D$105,2,FALSE)))","v":""},{"$f":"IFERROR(VLOOKUP(I1210,CAD_Q!$C$6:$E$109,3,FALSE)*F1210,\"\")","v":""},null,null,"",1,0,1900,0,1,1900,"Nombre y el registro de entrada válida"]
[null,"",null,null,null,"",null,null,null,{"$f":"IF(I1211=\"\",\"\",IF(VLOOKUP(I1211,CAD_Q!$C$6:$D$105,2,FALSE)=0,\"\",VLOOKUP(I1211,CAD_Q!$C$6:$D$105,2,FALSE)))","v":""},{"$f":"IFERROR(VLOOKUP(I1211,CAD_Q!$C$6:$E$109,3,FALSE)*F1211,\"\")","v":""},null,null,"",1,0,1900,0,1,1900,"Nombre y el registro de entrada válida"]
[null,"",null,null,null,"",null,null,null,{"$f":"IF(I1212=\"\",\"\",IF(VLOOKUP(I1212,CAD_Q!$C$6:$D$105,2,FALSE)=0,\"\",VLOOKUP(I1212,CAD_Q!$C$6:$D$105,2,FALSE)))","v":""},{"$f":"IFERROR(VLOOKUP(I1212,CAD_Q!$C$6:$E$109,3,FALSE)*F1212,\"\")","v":""},null,null,"",1,0,1900,0,1,1900,"Nombre y el registro de entrada válida"]
[null,"",null,null,null,"",null,null,null,{"$f":"IF(I1213=\"\",\"\",IF(VLOOKUP(I1213,CAD_Q!$C$6:$D$105,2,FALSE)=0,\"\",VLOOKUP(I1213,CAD_Q!$C$6:$D$105,2,FALSE)))","v":""},{"$f":"IFERROR(VLOOKUP(I1213,CAD_Q!$C$6:$E$109,3,FALSE)*F1213,\"\")","v":""},null,null,"",1,0,1900,0,1,1900,"Nombre y el registro de entrada válida"]
[null,"",null,null,null,"",null,null,null,{"$f":"IF(I1214=\"\",\"\",IF(VLOOKUP(I1214,CAD_Q!$C$6:$D$105,2,FALSE)=0,\"\",VLOOKUP(I1214,CAD_Q!$C$6:$D$105,2,FALSE)))","v":""},{"$f":"IFERROR(VLOOKUP(I1214,CAD_Q!$C$6:$E$109,3,FALSE)*F1214,\"\")","v":""},null,null,"",1,0,1900,0,1,1900,"Nombre y el registro de entrada válida"]
[null,"",null,null,null,"",null,null,null,{"$f":"IF(I1215=\"\",\"\",IF(VLOOKUP(I1215,CAD_Q!$C$6:$D$105,2,FALSE)=0,\"\",VLOOKUP(I1215,CAD_Q!$C$6:$D$105,2,FALSE)))","v":""},{"$f":"IFERROR(VLOOKUP(I1215,CAD_Q!$C$6:$E$109,3,FALSE)*F1215,\"\")","v":""},null,null,"",1,0,1900,0,1,1900,"Nombre y el registro de entrada válida"]
[null,"",null,null,null,"",null,null,null,{"$f":"IF(I1216=\"\",\"\",IF(VLOOKUP(I1216,CAD_Q!$C$6:$D$105,2,FALSE)=0,\"\",VLOOKUP(I1216,CAD_Q!$C$6:$D$105,2,FALSE)))","v":""},{"$f":"IFERROR(VLOOKUP(I1216,CAD_Q!$C$6:$E$109,3,FALSE)*F1216,\"\")","v":""},null,null,"",1,0,1900,0,1,1900,"Nombre y el registro de entrada válida"]
[null,"",null,null,null,"",null,null,null,{"$f":"IF(I1217=\"\",\"\",IF(VLOOKUP(I1217,CAD_Q!$C$6:$D$105,2,FALSE)=0,\"\",VLOOKUP(I1217,CAD_Q!$C$6:$D$105,2,FALSE)))","v":""},{"$f":"IFERROR(VLOOKUP(I1217,CAD_Q!$C$6:$E$109,3,FALSE)*F1217,\"\")","v":""},null,null,"",1,0,1900,0,1,1900,"Nombre y el registro de entrada válida"]
[null,"",null,null,null,"",null,null,null,{"$f":"IF(I1218=\"\",\"\",IF(VLOOKUP(I1218,CAD_Q!$C$6:$D$105,2,FALSE)=0,\"\",VLOOKUP(I1218,CAD_Q!$C$6:$D$105,2,FALSE)))","v":""},{"$f":"IFERROR(VLOOKUP(I1218,CAD_Q!$C$6:$E$109,3,FALSE)*F1218,\"\")","v":""},null,null,"",1,0,1900,0,1,1900,"Nombre y el registro de entrada válida"]
[null,"",null,null,null,"",null,null,null,{"$f":"IF(I1219=\"\",\"\",IF(VLOOKUP(I1219,CAD_Q!$C$6:$D$105,2,FALSE)=0,\"\",VLOOKUP(I1219,CAD_Q!$C$6:$D$105,2,FALSE)))","v":""},{"$f":"IFERROR(VLOOKUP(I1219,CAD_Q!$C$6:$E$109,3,FALSE)*F1219,\"\")","v":""},null,null,"",1,0,1900,0,1,1900,"Nombre y el registro de entrada válida"]
[null,"",null,null,null,"",null,null,null,{"$f":"IF(I1220=\"\",\"\",IF(VLOOKUP(I1220,CAD_Q!$C$6:$D$105,2,FALSE)=0,\"\",VLOOKUP(I1220,CAD_Q!$C$6:$D$105,2,FALSE)))","v":""},{"$f":"IFERROR(VLOOKUP(I1220,CAD_Q!$C$6:$E$109,3,FALSE)*F1220,\"\")","v":""},null,null,"",1,0,1900,0,1,1900,"Nombre y el registro de entrada válida"]
[null,"",null,null,null,"",null,null,null,{"$f":"IF(I1221=\"\",\"\",IF(VLOOKUP(I1221,CAD_Q!$C$6:$D$105,2,FALSE)=0,\"\",VLOOKUP(I1221,CAD_Q!$C$6:$D$105,2,FALSE)))","v":""},{"$f":"IFERROR(VLOOKUP(I1221,CAD_Q!$C$6:$E$109,3,FALSE)*F1221,\"\")","v":""},null,null,"",1,0,1900,0,1,1900,"Nombre y el registro de entrada válida"]
[null,"",null,null,null,"",null,null,null,{"$f":"IF(I1222=\"\",\"\",IF(VLOOKUP(I1222,CAD_Q!$C$6:$D$105,2,FALSE)=0,\"\",VLOOKUP(I1222,CAD_Q!$C$6:$D$105,2,FALSE)))","v":""},{"$f":"IFERROR(VLOOKUP(I1222,CAD_Q!$C$6:$E$109,3,FALSE)*F1222,\"\")","v":""},null,null,"",1,0,1900,0,1,1900,"Nombre y el registro de entrada válida"]
[null,{"$f":"CONCATENATE(C1223,D1223)","v":""},null,null,null,"",null,null,null,{"$f":"IF(I1223=\"\",\"\",IF(VLOOKUP(I1223,CAD_Q!$C$6:$D$105,2,FALSE)=0,\"\",VLOOKUP(I1223,CAD_Q!$C$6:$D$105,2,FALSE)))","v":""},{"$f":"IFERROR(VLOOKUP(I1223,CAD_Q!$C$6:$E$109,3,FALSE)*F1223,\"\")","v":""},null,null,{"$f":"IFERROR(K1223-L1223+M1223,\"\")","v":""},1,0,1900,0,1,1900,"Nombre y el registro de entrada válida"]
[null,"",null,null,null,"",null,null,null,{"$f":"IF(I1224=\"\",\"\",IF(VLOOKUP(I1224,CAD_Q!$C$6:$D$105,2,FALSE)=0,\"\",VLOOKUP(I1224,CAD_Q!$C$6:$D$105,2,FALSE)))","v":""},{"$f":"IFERROR(VLOOKUP(I1224,CAD_Q!$C$6:$E$109,3,FALSE)*F1224,\"\")","v":""},null,null,"",1,0,1900,0,1,1900,"Nombre y el registro de entrada válida"]
[null,"",null,null,null,"",null,null,null,{"$f":"IF(I1225=\"\",\"\",IF(VLOOKUP(I1225,CAD_Q!$C$6:$D$105,2,FALSE)=0,\"\",VLOOKUP(I1225,CAD_Q!$C$6:$D$105,2,FALSE)))","v":""},{"$f":"IFERROR(VLOOKUP(I1225,CAD_Q!$C$6:$E$109,3,FALSE)*F1225,\"\")","v":""},null,null,"",1,0,1900,0,1,1900,"Nombre y el registro de entrada válida"]
[null,"",null,null,null,"",null,null,null,{"$f":"IF(I1226=\"\",\"\",IF(VLOOKUP(I1226,CAD_Q!$C$6:$D$105,2,FALSE)=0,\"\",VLOOKUP(I1226,CAD_Q!$C$6:$D$105,2,FALSE)))","v":""},{"$f":"IFERROR(VLOOKUP(I1226,CAD_Q!$C$6:$E$109,3,FALSE)*F1226,\"\")","v":""},null,null,"",{"$f":"MONTH(D1226)","v":1},{"$f":"DAY(D1226)","v":0},{"$f":"YEAR(D1226)","v":1900},{"$f":"DAY(E1226)","v":0},{"$f":"MONTH(E1226)","v":1},{"$f":"YEAR(E1226)","v":1900},"Nombre y el registro de entrada válida"]
[null,"",null,null,null,"",null,null,null,{"$f":"IF(I1227=\"\",\"\",IF(VLOOKUP(I1227,CAD_Q!$C$6:$D$105,2,FALSE)=0,\"\",VLOOKUP(I1227,CAD_Q!$C$6:$D$105,2,FALSE)))","v":""},{"$f":"IFERROR(VLOOKUP(I1227,CAD_Q!$C$6:$E$109,3,FALSE)*F1227,\"\")","v":""},null,null,"",1,0,1900,0,1,1900,"Nombre y el registro de entrada válida"]
[null,"",null,null,null,"",null,null,null,{"$f":"IF(I1228=\"\",\"\",IF(VLOOKUP(I1228,CAD_Q!$C$6:$D$105,2,FALSE)=0,\"\",VLOOKUP(I1228,CAD_Q!$C$6:$D$105,2,FALSE)))","v":""},{"$f":"IFERROR(VLOOKUP(I1228,CAD_Q!$C$6:$E$109,3,FALSE)*F1228,\"\")","v":""},null,null,"",1,0,1900,0,1,1900,"Nombre y el registro de entrada válida"]
[null,"",null,null,null,"",null,null,null,{"$f":"IF(I1229=\"\",\"\",IF(VLOOKUP(I1229,CAD_Q!$C$6:$D$105,2,FALSE)=0,\"\",VLOOKUP(I1229,CAD_Q!$C$6:$D$105,2,FALSE)))","v":""},{"$f":"IFERROR(VLOOKUP(I1229,CAD_Q!$C$6:$E$109,3,FALSE)*F1229,\"\")","v":""},null,null,"",1,0,1900,0,1,1900,"Nombre y el registro de entrada válida"]
[null,"",null,null,null,"",null,null,null,{"$f":"IF(I1230=\"\",\"\",IF(VLOOKUP(I1230,CAD_Q!$C$6:$D$105,2,FALSE)=0,\"\",VLOOKUP(I1230,CAD_Q!$C$6:$D$105,2,FALSE)))","v":""},{"$f":"IFERROR(VLOOKUP(I1230,CAD_Q!$C$6:$E$109,3,FALSE)*F1230,\"\")","v":""},null,null,"",1,0,1900,0,1,1900,"Nombre y el registro de entrada válida"]
[null,"",null,null,null,"",null,null,null,{"$f":"IF(I1231=\"\",\"\",IF(VLOOKUP(I1231,CAD_Q!$C$6:$D$105,2,FALSE)=0,\"\",VLOOKUP(I1231,CAD_Q!$C$6:$D$105,2,FALSE)))","v":""},{"$f":"IFERROR(VLOOKUP(I1231,CAD_Q!$C$6:$E$109,3,FALSE)*F1231,\"\")","v":""},null,null,"",1,0,1900,0,1,1900,"Nombre y el registro de entrada válida"]
[null,"",null,null,null,"",null,null,null,{"$f":"IF(I1232=\"\",\"\",IF(VLOOKUP(I1232,CAD_Q!$C$6:$D$105,2,FALSE)=0,\"\",VLOOKUP(I1232,CAD_Q!$C$6:$D$105,2,FALSE)))","v":""},{"$f":"IFERROR(VLOOKUP(I1232,CAD_Q!$C$6:$E$109,3,FALSE)*F1232,\"\")","v":""},null,null,"",1,0,1900,0,1,1900,"Nombre y el registro de entrada válida"]
[null,"",null,null,null,"",null,null,null,{"$f":"IF(I1233=\"\",\"\",IF(VLOOKUP(I1233,CAD_Q!$C$6:$D$105,2,FALSE)=0,\"\",VLOOKUP(I1233,CAD_Q!$C$6:$D$105,2,FALSE)))","v":""},{"$f":"IFERROR(VLOOKUP(I1233,CAD_Q!$C$6:$E$109,3,FALSE)*F1233,\"\")","v":""},null,null,"",1,0,1900,0,1,1900,"Nombre y el registro de entrada válida"]
[null,"",null,null,null,"",null,null,null,{"$f":"IF(I1234=\"\",\"\",IF(VLOOKUP(I1234,CAD_Q!$C$6:$D$105,2,FALSE)=0,\"\",VLOOKUP(I1234,CAD_Q!$C$6:$D$105,2,FALSE)))","v":""},{"$f":"IFERROR(VLOOKUP(I1234,CAD_Q!$C$6:$E$109,3,FALSE)*F1234,\"\")","v":""},null,null,"",1,0,1900,0,1,1900,"Nombre y el registro de entrada válida"]
[null,"",null,null,null,"",null,null,null,{"$f":"IF(I1235=\"\",\"\",IF(VLOOKUP(I1235,CAD_Q!$C$6:$D$105,2,FALSE)=0,\"\",VLOOKUP(I1235,CAD_Q!$C$6:$D$105,2,FALSE)))","v":""},{"$f":"IFERROR(VLOOKUP(I1235,CAD_Q!$C$6:$E$109,3,FALSE)*F1235,\"\")","v":""},null,null,"",1,0,1900,0,1,1900,"Nombre y el registro de entrada válida"]
[null,"",null,null,null,"",null,null,null,{"$f":"IF(I1236=\"\",\"\",IF(VLOOKUP(I1236,CAD_Q!$C$6:$D$105,2,FALSE)=0,\"\",VLOOKUP(I1236,CAD_Q!$C$6:$D$105,2,FALSE)))","v":""},{"$f":"IFERROR(VLOOKUP(I1236,CAD_Q!$C$6:$E$109,3,FALSE)*F1236,\"\")","v":""},null,null,"",1,0,1900,0,1,1900,"Nombre y el registro de entrada válida"]
[null,"",null,null,null,"",null,null,null,{"$f":"IF(I1237=\"\",\"\",IF(VLOOKUP(I1237,CAD_Q!$C$6:$D$105,2,FALSE)=0,\"\",VLOOKUP(I1237,CAD_Q!$C$6:$D$105,2,FALSE)))","v":""},{"$f":"IFERROR(VLOOKUP(I1237,CAD_Q!$C$6:$E$109,3,FALSE)*F1237,\"\")","v":""},null,null,"",1,0,1900,0,1,1900,"Nombre y el registro de entrada válida"]
[null,"",null,null,null,"",null,null,null,{"$f":"IF(I1238=\"\",\"\",IF(VLOOKUP(I1238,CAD_Q!$C$6:$D$105,2,FALSE)=0,\"\",VLOOKUP(I1238,CAD_Q!$C$6:$D$105,2,FALSE)))","v":""},{"$f":"IFERROR(VLOOKUP(I1238,CAD_Q!$C$6:$E$109,3,FALSE)*F1238,\"\")","v":""},null,null,"",1,0,1900,0,1,1900,"Nombre y el registro de entrada válida"]
[null,"",null,null,null,"",null,null,null,{"$f":"IF(I1239=\"\",\"\",IF(VLOOKUP(I1239,CAD_Q!$C$6:$D$105,2,FALSE)=0,\"\",VLOOKUP(I1239,CAD_Q!$C$6:$D$105,2,FALSE)))","v":""},{"$f":"IFERROR(VLOOKUP(I1239,CAD_Q!$C$6:$E$109,3,FALSE)*F1239,\"\")","v":""},null,null,"",1,0,1900,0,1,1900,"Nombre y el registro de entrada válida"]
[null,"",null,null,null,"",null,null,null,{"$f":"IF(I1240=\"\",\"\",IF(VLOOKUP(I1240,CAD_Q!$C$6:$D$105,2,FALSE)=0,\"\",VLOOKUP(I1240,CAD_Q!$C$6:$D$105,2,FALSE)))","v":""},{"$f":"IFERROR(VLOOKUP(I1240,CAD_Q!$C$6:$E$109,3,FALSE)*F1240,\"\")","v":""},null,null,"",1,0,1900,0,1,1900,"Nombre y el registro de entrada válida"]
[null,"",null,null,null,"",null,null,null,{"$f":"IF(I1241=\"\",\"\",IF(VLOOKUP(I1241,CAD_Q!$C$6:$D$105,2,FALSE)=0,\"\",VLOOKUP(I1241,CAD_Q!$C$6:$D$105,2,FALSE)))","v":""},{"$f":"IFERROR(VLOOKUP(I1241,CAD_Q!$C$6:$E$109,3,FALSE)*F1241,\"\")","v":""},null,null,"",1,0,1900,0,1,1900,"Nombre y el registro de entrada válida"]
[null,"",null,null,null,"",null,null,null,{"$f":"IF(I1242=\"\",\"\",IF(VLOOKUP(I1242,CAD_Q!$C$6:$D$105,2,FALSE)=0,\"\",VLOOKUP(I1242,CAD_Q!$C$6:$D$105,2,FALSE)))","v":""},{"$f":"IFERROR(VLOOKUP(I1242,CAD_Q!$C$6:$E$109,3,FALSE)*F1242,\"\")","v":""},null,null,"",1,0,1900,0,1,1900,"Nombre y el registro de entrada válida"]
[null,"",null,null,null,"",null,null,null,{"$f":"IF(I1243=\"\",\"\",IF(VLOOKUP(I1243,CAD_Q!$C$6:$D$105,2,FALSE)=0,\"\",VLOOKUP(I1243,CAD_Q!$C$6:$D$105,2,FALSE)))","v":""},{"$f":"IFERROR(VLOOKUP(I1243,CAD_Q!$C$6:$E$109,3,FALSE)*F1243,\"\")","v":""},null,null,"",1,0,1900,0,1,1900,"Nombre y el registro de entrada válida"]
[null,"",null,null,null,"",null,null,null,{"$f":"IF(I1244=\"\",\"\",IF(VLOOKUP(I1244,CAD_Q!$C$6:$D$105,2,FALSE)=0,\"\",VLOOKUP(I1244,CAD_Q!$C$6:$D$105,2,FALSE)))","v":""},{"$f":"IFERROR(VLOOKUP(I1244,CAD_Q!$C$6:$E$109,3,FALSE)*F1244,\"\")","v":""},null,null,"",1,0,1900,0,1,1900,"Nombre y el registro de entrada válida"]
[null,"",null,null,null,"",null,null,null,{"$f":"IF(I1245=\"\",\"\",IF(VLOOKUP(I1245,CAD_Q!$C$6:$D$105,2,FALSE)=0,\"\",VLOOKUP(I1245,CAD_Q!$C$6:$D$105,2,FALSE)))","v":""},{"$f":"IFERROR(VLOOKUP(I1245,CAD_Q!$C$6:$E$109,3,FALSE)*F1245,\"\")","v":""},null,null,"",1,0,1900,0,1,1900,"Nombre y el registro de entrada válida"]
[null,"",null,null,null,"",null,null,null,{"$f":"IF(I1246=\"\",\"\",IF(VLOOKUP(I1246,CAD_Q!$C$6:$D$105,2,FALSE)=0,\"\",VLOOKUP(I1246,CAD_Q!$C$6:$D$105,2,FALSE)))","v":""},{"$f":"IFERROR(VLOOKUP(I1246,CAD_Q!$C$6:$E$109,3,FALSE)*F1246,\"\")","v":""},null,null,"",1,0,1900,0,1,1900,"Nombre y el registro de entrada válida"]
[null,"",null,null,null,"",null,null,null,{"$f":"IF(I1247=\"\",\"\",IF(VLOOKUP(I1247,CAD_Q!$C$6:$D$105,2,FALSE)=0,\"\",VLOOKUP(I1247,CAD_Q!$C$6:$D$105,2,FALSE)))","v":""},{"$f":"IFERROR(VLOOKUP(I1247,CAD_Q!$C$6:$E$109,3,FALSE)*F1247,\"\")","v":""},null,null,"",1,0,1900,0,1,1900,"Nombre y el registro de entrada válida"]
[null,"",null,null,null,"",null,null,null,{"$f":"IF(I1248=\"\",\"\",IF(VLOOKUP(I1248,CAD_Q!$C$6:$D$105,2,FALSE)=0,\"\",VLOOKUP(I1248,CAD_Q!$C$6:$D$105,2,FALSE)))","v":""},{"$f":"IFERROR(VLOOKUP(I1248,CAD_Q!$C$6:$E$109,3,FALSE)*F1248,\"\")","v":""},null,null,"",1,0,1900,0,1,1900,"Nombre y el registro de entrada válida"]
[null,"",null,null,null,"",null,null,null,{"$f":"IF(I1249=\"\",\"\",IF(VLOOKUP(I1249,CAD_Q!$C$6:$D$105,2,FALSE)=0,\"\",VLOOKUP(I1249,CAD_Q!$C$6:$D$105,2,FALSE)))","v":""},{"$f":"IFERROR(VLOOKUP(I1249,CAD_Q!$C$6:$E$109,3,FALSE)*F1249,\"\")","v":""},null,null,"",1,0,1900,0,1,1900,"Nombre y el registro de entrada válida"]
[null,"",null,null,null,"",null,null,null,{"$f":"IF(I1250=\"\",\"\",IF(VLOOKUP(I1250,CAD_Q!$C$6:$D$105,2,FALSE)=0,\"\",VLOOKUP(I1250,CAD_Q!$C$6:$D$105,2,FALSE)))","v":""},{"$f":"IFERROR(VLOOKUP(I1250,CAD_Q!$C$6:$E$109,3,FALSE)*F1250,\"\")","v":""},null,null,"",1,0,1900,0,1,1900,"Nombre y el registro de entrada válida"]
[null,"",null,null,null,"",null,null,null,{"$f":"IF(I1251=\"\",\"\",IF(VLOOKUP(I1251,CAD_Q!$C$6:$D$105,2,FALSE)=0,\"\",VLOOKUP(I1251,CAD_Q!$C$6:$D$105,2,FALSE)))","v":""},{"$f":"IFERROR(VLOOKUP(I1251,CAD_Q!$C$6:$E$109,3,FALSE)*F1251,\"\")","v":""},null,null,"",1,0,1900,0,1,1900,"Nombre y el registro de entrada válida"]
[null,"",null,null,null,{"$f":"IF(OR(D1252=\"\",E1252=\"\"),\"\",E1252-D1252)","v":""},null,null,null,{"$f":"IF(I1252=\"\",\"\",IF(VLOOKUP(I1252,CAD_Q!$C$6:$D$105,2,FALSE)=0,\"\",VLOOKUP(I1252,CAD_Q!$C$6:$D$105,2,FALSE)))","v":""},{"$f":"IFERROR(VLOOKUP(I1252,CAD_Q!$C$6:$E$109,3,FALSE)*F1252,\"\")","v":""},null,null,"",1,0,1900,0,1,1900,"Nombre y el registro de entrada válida"]
[null,"",null,null,null,"",null,null,null,{"$f":"IF(I1253=\"\",\"\",IF(VLOOKUP(I1253,CAD_Q!$C$6:$D$105,2,FALSE)=0,\"\",VLOOKUP(I1253,CAD_Q!$C$6:$D$105,2,FALSE)))","v":""},{"$f":"IFERROR(VLOOKUP(I1253,CAD_Q!$C$6:$E$109,3,FALSE)*F1253,\"\")","v":""},null,null,"",1,0,1900,0,1,1900,"Nombre y el registro de entrada válida"]
[null,"",null,null,null,"",null,null,null,{"$f":"IF(I1254=\"\",\"\",IF(VLOOKUP(I1254,CAD_Q!$C$6:$D$105,2,FALSE)=0,\"\",VLOOKUP(I1254,CAD_Q!$C$6:$D$105,2,FALSE)))","v":""},{"$f":"IFERROR(VLOOKUP(I1254,CAD_Q!$C$6:$E$109,3,FALSE)*F1254,\"\")","v":""},null,null,"",1,0,1900,0,1,1900,"Nombre y el registro de entrada válida"]
[null,"",null,null,null,"",null,null,null,{"$f":"IF(I1255=\"\",\"\",IF(VLOOKUP(I1255,CAD_Q!$C$6:$D$105,2,FALSE)=0,\"\",VLOOKUP(I1255,CAD_Q!$C$6:$D$105,2,FALSE)))","v":""},{"$f":"IFERROR(VLOOKUP(I1255,CAD_Q!$C$6:$E$109,3,FALSE)*F1255,\"\")","v":""},null,null,"",1,0,1900,0,1,1900,"Nombre y el registro de entrada válida"]
[null,"",null,null,null,"",null,null,null,{"$f":"IF(I1256=\"\",\"\",IF(VLOOKUP(I1256,CAD_Q!$C$6:$D$105,2,FALSE)=0,\"\",VLOOKUP(I1256,CAD_Q!$C$6:$D$105,2,FALSE)))","v":""},{"$f":"IFERROR(VLOOKUP(I1256,CAD_Q!$C$6:$E$109,3,FALSE)*F1256,\"\")","v":""},null,null,"",1,0,1900,0,1,1900,"Nombre y el registro de entrada válida"]
[null,"",null,null,null,"",null,null,null,{"$f":"IF(I1257=\"\",\"\",IF(VLOOKUP(I1257,CAD_Q!$C$6:$D$105,2,FALSE)=0,\"\",VLOOKUP(I1257,CAD_Q!$C$6:$D$105,2,FALSE)))","v":""},{"$f":"IFERROR(VLOOKUP(I1257,CAD_Q!$C$6:$E$109,3,FALSE)*F1257,\"\")","v":""},null,null,"",1,0,1900,0,1,1900,"Nombre y el registro de entrada válida"]
[null,"",null,null,null,"",null,null,null,{"$f":"IF(I1258=\"\",\"\",IF(VLOOKUP(I1258,CAD_Q!$C$6:$D$105,2,FALSE)=0,\"\",VLOOKUP(I1258,CAD_Q!$C$6:$D$105,2,FALSE)))","v":""},{"$f":"IFERROR(VLOOKUP(I1258,CAD_Q!$C$6:$E$109,3,FALSE)*F1258,\"\")","v":""},null,null,"",1,0,1900,0,1,1900,"Nombre y el registro de entrada válida"]
[null,"",null,null,null,"",null,null,null,{"$f":"IF(I1259=\"\",\"\",IF(VLOOKUP(I1259,CAD_Q!$C$6:$D$105,2,FALSE)=0,\"\",VLOOKUP(I1259,CAD_Q!$C$6:$D$105,2,FALSE)))","v":""},{"$f":"IFERROR(VLOOKUP(I1259,CAD_Q!$C$6:$E$109,3,FALSE)*F1259,\"\")","v":""},null,null,"",1,0,1900,0,1,1900,"Nombre y el registro de entrada válida"]
[null,"",null,null,null,"",null,null,null,{"$f":"IF(I1260=\"\",\"\",IF(VLOOKUP(I1260,CAD_Q!$C$6:$D$105,2,FALSE)=0,\"\",VLOOKUP(I1260,CAD_Q!$C$6:$D$105,2,FALSE)))","v":""},{"$f":"IFERROR(VLOOKUP(I1260,CAD_Q!$C$6:$E$109,3,FALSE)*F1260,\"\")","v":""},null,null,"",1,0,1900,0,1,1900,"Nombre y el registro de entrada válida"]
[null,"",null,null,null,"",null,null,null,{"$f":"IF(I1261=\"\",\"\",IF(VLOOKUP(I1261,CAD_Q!$C$6:$D$105,2,FALSE)=0,\"\",VLOOKUP(I1261,CAD_Q!$C$6:$D$105,2,FALSE)))","v":""},{"$f":"IFERROR(VLOOKUP(I1261,CAD_Q!$C$6:$E$109,3,FALSE)*F1261,\"\")","v":""},null,null,"",1,0,1900,0,1,1900,"Nombre y el registro de entrada válida"]
[null,"",null,null,null,"",null,null,null,{"$f":"IF(I1262=\"\",\"\",IF(VLOOKUP(I1262,CAD_Q!$C$6:$D$105,2,FALSE)=0,\"\",VLOOKUP(I1262,CAD_Q!$C$6:$D$105,2,FALSE)))","v":""},{"$f":"IFERROR(VLOOKUP(I1262,CAD_Q!$C$6:$E$109,3,FALSE)*F1262,\"\")","v":""},null,null,"",1,0,1900,0,1,1900,"Nombre y el registro de entrada válida"]
[null,"",null,null,null,"",null,null,null,{"$f":"IF(I1263=\"\",\"\",IF(VLOOKUP(I1263,CAD_Q!$C$6:$D$105,2,FALSE)=0,\"\",VLOOKUP(I1263,CAD_Q!$C$6:$D$105,2,FALSE)))","v":""},{"$f":"IFERROR(VLOOKUP(I1263,CAD_Q!$C$6:$E$109,3,FALSE)*F1263,\"\")","v":""},null,null,"",1,0,1900,0,1,1900,"Nombre y el registro de entrada válida"]
[null,"",null,null,null,"",null,null,null,{"$f":"IF(I1264=\"\",\"\",IF(VLOOKUP(I1264,CAD_Q!$C$6:$D$105,2,FALSE)=0,\"\",VLOOKUP(I1264,CAD_Q!$C$6:$D$105,2,FALSE)))","v":""},{"$f":"IFERROR(VLOOKUP(I1264,CAD_Q!$C$6:$E$109,3,FALSE)*F1264,\"\")","v":""},null,null,"",1,0,1900,0,1,1900,"Nombre y el registro de entrada válida"]
[null,"",null,null,null,"",null,null,null,{"$f":"IF(I1265=\"\",\"\",IF(VLOOKUP(I1265,CAD_Q!$C$6:$D$105,2,FALSE)=0,\"\",VLOOKUP(I1265,CAD_Q!$C$6:$D$105,2,FALSE)))","v":""},{"$f":"IFERROR(VLOOKUP(I1265,CAD_Q!$C$6:$E$109,3,FALSE)*F1265,\"\")","v":""},null,null,"",1,0,1900,0,1,1900,"Nombre y el registro de entrada válida"]
[null,"",null,null,null,"",null,null,null,{"$f":"IF(I1266=\"\",\"\",IF(VLOOKUP(I1266,CAD_Q!$C$6:$D$105,2,FALSE)=0,\"\",VLOOKUP(I1266,CAD_Q!$C$6:$D$105,2,FALSE)))","v":""},{"$f":"IFERROR(VLOOKUP(I1266,CAD_Q!$C$6:$E$109,3,FALSE)*F1266,\"\")","v":""},null,null,"",1,0,1900,0,1,1900,"Nombre y el registro de entrada válida"]
[null,"",null,null,null,"",null,null,null,{"$f":"IF(I1267=\"\",\"\",IF(VLOOKUP(I1267,CAD_Q!$C$6:$D$105,2,FALSE)=0,\"\",VLOOKUP(I1267,CAD_Q!$C$6:$D$105,2,FALSE)))","v":""},{"$f":"IFERROR(VLOOKUP(I1267,CAD_Q!$C$6:$E$109,3,FALSE)*F1267,\"\")","v":""},null,null,"",1,0,1900,0,1,1900,"Nombre y el registro de entrada válida"]
[null,"",null,null,null,"",null,null,null,{"$f":"IF(I1268=\"\",\"\",IF(VLOOKUP(I1268,CAD_Q!$C$6:$D$105,2,FALSE)=0,\"\",VLOOKUP(I1268,CAD_Q!$C$6:$D$105,2,FALSE)))","v":""},{"$f":"IFERROR(VLOOKUP(I1268,CAD_Q!$C$6:$E$109,3,FALSE)*F1268,\"\")","v":""},null,null,"",1,0,1900,0,1,1900,"Nombre y el registro de entrada válida"]
[null,"",null,null,null,"",null,null,null,{"$f":"IF(I1269=\"\",\"\",IF(VLOOKUP(I1269,CAD_Q!$C$6:$D$105,2,FALSE)=0,\"\",VLOOKUP(I1269,CAD_Q!$C$6:$D$105,2,FALSE)))","v":""},{"$f":"IFERROR(VLOOKUP(I1269,CAD_Q!$C$6:$E$109,3,FALSE)*F1269,\"\")","v":""},null,null,"",1,0,1900,0,1,1900,"Nombre y el registro de entrada válida"]
[null,"",null,null,null,"",null,null,null,{"$f":"IF(I1270=\"\",\"\",IF(VLOOKUP(I1270,CAD_Q!$C$6:$D$105,2,FALSE)=0,\"\",VLOOKUP(I1270,CAD_Q!$C$6:$D$105,2,FALSE)))","v":""},{"$f":"IFERROR(VLOOKUP(I1270,CAD_Q!$C$6:$E$109,3,FALSE)*F1270,\"\")","v":""},null,null,"",1,0,1900,0,1,1900,"Nombre y el registro de entrada válida"]
[null,"",null,null,null,"",null,null,null,{"$f":"IF(I1271=\"\",\"\",IF(VLOOKUP(I1271,CAD_Q!$C$6:$D$105,2,FALSE)=0,\"\",VLOOKUP(I1271,CAD_Q!$C$6:$D$105,2,FALSE)))","v":""},{"$f":"IFERROR(VLOOKUP(I1271,CAD_Q!$C$6:$E$109,3,FALSE)*F1271,\"\")","v":""},null,null,"",1,0,1900,0,1,1900,"Nombre y el registro de entrada válida"]
[null,"",null,null,null,"",null,null,null,{"$f":"IF(I1272=\"\",\"\",IF(VLOOKUP(I1272,CAD_Q!$C$6:$D$105,2,FALSE)=0,\"\",VLOOKUP(I1272,CAD_Q!$C$6:$D$105,2,FALSE)))","v":""},{"$f":"IFERROR(VLOOKUP(I1272,CAD_Q!$C$6:$E$109,3,FALSE)*F1272,\"\")","v":""},null,null,"",1,0,1900,0,1,1900,"Nombre y el registro de entrada válida"]
[null,"",null,null,null,"",null,null,null,{"$f":"IF(I1273=\"\",\"\",IF(VLOOKUP(I1273,CAD_Q!$C$6:$D$105,2,FALSE)=0,\"\",VLOOKUP(I1273,CAD_Q!$C$6:$D$105,2,FALSE)))","v":""},{"$f":"IFERROR(VLOOKUP(I1273,CAD_Q!$C$6:$E$109,3,FALSE)*F1273,\"\")","v":""},null,null,"",1,0,1900,0,1,1900,"Nombre y el registro de entrada válida"]
[null,"",null,null,null,"",null,null,null,{"$f":"IF(I1274=\"\",\"\",IF(VLOOKUP(I1274,CAD_Q!$C$6:$D$105,2,FALSE)=0,\"\",VLOOKUP(I1274,CAD_Q!$C$6:$D$105,2,FALSE)))","v":""},{"$f":"IFERROR(VLOOKUP(I1274,CAD_Q!$C$6:$E$109,3,FALSE)*F1274,\"\")","v":""},null,null,"",1,0,1900,0,1,1900,"Nombre y el registro de entrada válida"]
[null,"",null,null,null,"",null,null,null,{"$f":"IF(I1275=\"\",\"\",IF(VLOOKUP(I1275,CAD_Q!$C$6:$D$105,2,FALSE)=0,\"\",VLOOKUP(I1275,CAD_Q!$C$6:$D$105,2,FALSE)))","v":""},{"$f":"IFERROR(VLOOKUP(I1275,CAD_Q!$C$6:$E$109,3,FALSE)*F1275,\"\")","v":""},null,null,"",1,0,1900,0,1,1900,"Nombre y el registro de entrada válida"]
[null,"",null,null,null,"",null,null,null,{"$f":"IF(I1276=\"\",\"\",IF(VLOOKUP(I1276,CAD_Q!$C$6:$D$105,2,FALSE)=0,\"\",VLOOKUP(I1276,CAD_Q!$C$6:$D$105,2,FALSE)))","v":""},{"$f":"IFERROR(VLOOKUP(I1276,CAD_Q!$C$6:$E$109,3,FALSE)*F1276,\"\")","v":""},null,null,"",1,0,1900,0,1,1900,"Nombre y el registro de entrada válida"]
[null,"",null,null,null,"",null,null,null,{"$f":"IF(I1277=\"\",\"\",IF(VLOOKUP(I1277,CAD_Q!$C$6:$D$105,2,FALSE)=0,\"\",VLOOKUP(I1277,CAD_Q!$C$6:$D$105,2,FALSE)))","v":""},{"$f":"IFERROR(VLOOKUP(I1277,CAD_Q!$C$6:$E$109,3,FALSE)*F1277,\"\")","v":""},null,null,"",1,0,1900,0,1,1900,"Nombre y el registro de entrada válida"]
[null,"",null,null,null,"",null,null,null,{"$f":"IF(I1278=\"\",\"\",IF(VLOOKUP(I1278,CAD_Q!$C$6:$D$105,2,FALSE)=0,\"\",VLOOKUP(I1278,CAD_Q!$C$6:$D$105,2,FALSE)))","v":""},{"$f":"IFERROR(VLOOKUP(I1278,CAD_Q!$C$6:$E$109,3,FALSE)*F1278,\"\")","v":""},null,null,"",1,0,1900,0,1,1900,"Nombre y el registro de entrada válida"]
[null,"",null,null,null,"",null,null,null,{"$f":"IF(I1279=\"\",\"\",IF(VLOOKUP(I1279,CAD_Q!$C$6:$D$105,2,FALSE)=0,\"\",VLOOKUP(I1279,CAD_Q!$C$6:$D$105,2,FALSE)))","v":""},{"$f":"IFERROR(VLOOKUP(I1279,CAD_Q!$C$6:$E$109,3,FALSE)*F1279,\"\")","v":""},null,null,"",1,0,1900,0,1,1900,"Nombre y el registro de entrada válida"]
[null,"",null,null,null,"",null,null,null,{"$f":"IF(I1280=\"\",\"\",IF(VLOOKUP(I1280,CAD_Q!$C$6:$D$105,2,FALSE)=0,\"\",VLOOKUP(I1280,CAD_Q!$C$6:$D$105,2,FALSE)))","v":""},{"$f":"IFERROR(VLOOKUP(I1280,CAD_Q!$C$6:$E$109,3,FALSE)*F1280,\"\")","v":""},null,null,"",1,0,1900,0,1,1900,"Nombre y el registro de entrada válida"]
[null,"",null,null,null,"",null,null,null,{"$f":"IF(I1281=\"\",\"\",IF(VLOOKUP(I1281,CAD_Q!$C$6:$D$105,2,FALSE)=0,\"\",VLOOKUP(I1281,CAD_Q!$C$6:$D$105,2,FALSE)))","v":""},{"$f":"IFERROR(VLOOKUP(I1281,CAD_Q!$C$6:$E$109,3,FALSE)*F1281,\"\")","v":""},null,null,"",1,0,1900,0,1,1900,"Nombre y el registro de entrada válida"]
[null,"",null,null,null,"",null,null,null,{"$f":"IF(I1282=\"\",\"\",IF(VLOOKUP(I1282,CAD_Q!$C$6:$D$105,2,FALSE)=0,\"\",VLOOKUP(I1282,CAD_Q!$C$6:$D$105,2,FALSE)))","v":""},{"$f":"IFERROR(VLOOKUP(I1282,CAD_Q!$C$6:$E$109,3,FALSE)*F1282,\"\")","v":""},null,null,"",1,0,1900,0,1,1900,"Nombre y el registro de entrada válida"]
[null,"",null,null,null,"",null,null,null,{"$f":"IF(I1283=\"\",\"\",IF(VLOOKUP(I1283,CAD_Q!$C$6:$D$105,2,FALSE)=0,\"\",VLOOKUP(I1283,CAD_Q!$C$6:$D$105,2,FALSE)))","v":""},{"$f":"IFERROR(VLOOKUP(I1283,CAD_Q!$C$6:$E$109,3,FALSE)*F1283,\"\")","v":""},null,null,"",1,0,1900,0,1,1900,"Nombre y el registro de entrada válida"]
[null,"",null,null,null,"",null,null,null,{"$f":"IF(I1284=\"\",\"\",IF(VLOOKUP(I1284,CAD_Q!$C$6:$D$105,2,FALSE)=0,\"\",VLOOKUP(I1284,CAD_Q!$C$6:$D$105,2,FALSE)))","v":""},{"$f":"IFERROR(VLOOKUP(I1284,CAD_Q!$C$6:$E$109,3,FALSE)*F1284,\"\")","v":""},null,null,"",1,0,1900,0,1,1900,"Nombre y el registro de entrada válida"]
[null,"",null,null,null,"",null,null,null,{"$f":"IF(I1285=\"\",\"\",IF(VLOOKUP(I1285,CAD_Q!$C$6:$D$105,2,FALSE)=0,\"\",VLOOKUP(I1285,CAD_Q!$C$6:$D$105,2,FALSE)))","v":""},{"$f":"IFERROR(VLOOKUP(I1285,CAD_Q!$C$6:$E$109,3,FALSE)*F1285,\"\")","v":""},null,null,"",1,0,1900,0,1,1900,"Nombre y el registro de entrada válida"]
[null,"",null,null,null,"",null,null,null,{"$f":"IF(I1286=\"\",\"\",IF(VLOOKUP(I1286,CAD_Q!$C$6:$D$105,2,FALSE)=0,\"\",VLOOKUP(I1286,CAD_Q!$C$6:$D$105,2,FALSE)))","v":""},{"$f":"IFERROR(VLOOKUP(I1286,CAD_Q!$C$6:$E$109,3,FALSE)*F1286,\"\")","v":""},null,null,"",1,0,1900,0,1,1900,"Nombre y el registro de entrada válida"]
[null,{"$f":"CONCATENATE(C1287,D1287)","v":""},null,null,null,"",null,null,null,{"$f":"IF(I1287=\"\",\"\",IF(VLOOKUP(I1287,CAD_Q!$C$6:$D$105,2,FALSE)=0,\"\",VLOOKUP(I1287,CAD_Q!$C$6:$D$105,2,FALSE)))","v":""},{"$f":"IFERROR(VLOOKUP(I1287,CAD_Q!$C$6:$E$109,3,FALSE)*F1287,\"\")","v":""},null,null,{"$f":"IFERROR(K1287-L1287+M1287,\"\")","v":""},1,0,1900,0,1,1900,"Nombre y el registro de entrada válida"]
[null,"",null,null,null,"",null,null,null,{"$f":"IF(I1288=\"\",\"\",IF(VLOOKUP(I1288,CAD_Q!$C$6:$D$105,2,FALSE)=0,\"\",VLOOKUP(I1288,CAD_Q!$C$6:$D$105,2,FALSE)))","v":""},{"$f":"IFERROR(VLOOKUP(I1288,CAD_Q!$C$6:$E$109,3,FALSE)*F1288,\"\")","v":""},null,null,"",1,0,1900,0,1,1900,"Nombre y el registro de entrada válida"]
[null,"",null,null,null,"",null,null,null,{"$f":"IF(I1289=\"\",\"\",IF(VLOOKUP(I1289,CAD_Q!$C$6:$D$105,2,FALSE)=0,\"\",VLOOKUP(I1289,CAD_Q!$C$6:$D$105,2,FALSE)))","v":""},{"$f":"IFERROR(VLOOKUP(I1289,CAD_Q!$C$6:$E$109,3,FALSE)*F1289,\"\")","v":""},null,null,"",1,0,1900,0,1,1900,"Nombre y el registro de entrada válida"]
[null,"",null,null,null,"",null,null,null,{"$f":"IF(I1290=\"\",\"\",IF(VLOOKUP(I1290,CAD_Q!$C$6:$D$105,2,FALSE)=0,\"\",VLOOKUP(I1290,CAD_Q!$C$6:$D$105,2,FALSE)))","v":""},{"$f":"IFERROR(VLOOKUP(I1290,CAD_Q!$C$6:$E$109,3,FALSE)*F1290,\"\")","v":""},null,null,"",{"$f":"MONTH(D1290)","v":1},{"$f":"DAY(D1290)","v":0},{"$f":"YEAR(D1290)","v":1900},{"$f":"DAY(E1290)","v":0},{"$f":"MONTH(E1290)","v":1},{"$f":"YEAR(E1290)","v":1900},"Nombre y el registro de entrada válida"]
[null,"",null,null,null,"",null,null,null,{"$f":"IF(I1291=\"\",\"\",IF(VLOOKUP(I1291,CAD_Q!$C$6:$D$105,2,FALSE)=0,\"\",VLOOKUP(I1291,CAD_Q!$C$6:$D$105,2,FALSE)))","v":""},{"$f":"IFERROR(VLOOKUP(I1291,CAD_Q!$C$6:$E$109,3,FALSE)*F1291,\"\")","v":""},null,null,"",1,0,1900,0,1,1900,"Nombre y el registro de entrada válida"]
[null,"",null,null,null,"",null,null,null,{"$f":"IF(I1292=\"\",\"\",IF(VLOOKUP(I1292,CAD_Q!$C$6:$D$105,2,FALSE)=0,\"\",VLOOKUP(I1292,CAD_Q!$C$6:$D$105,2,FALSE)))","v":""},{"$f":"IFERROR(VLOOKUP(I1292,CAD_Q!$C$6:$E$109,3,FALSE)*F1292,\"\")","v":""},null,null,"",1,0,1900,0,1,1900,"Nombre y el registro de entrada válida"]
[null,"",null,null,null,"",null,null,null,{"$f":"IF(I1293=\"\",\"\",IF(VLOOKUP(I1293,CAD_Q!$C$6:$D$105,2,FALSE)=0,\"\",VLOOKUP(I1293,CAD_Q!$C$6:$D$105,2,FALSE)))","v":""},{"$f":"IFERROR(VLOOKUP(I1293,CAD_Q!$C$6:$E$109,3,FALSE)*F1293,\"\")","v":""},null,null,"",1,0,1900,0,1,1900,"Nombre y el registro de entrada válida"]
[null,"",null,null,null,"",null,null,null,{"$f":"IF(I1294=\"\",\"\",IF(VLOOKUP(I1294,CAD_Q!$C$6:$D$105,2,FALSE)=0,\"\",VLOOKUP(I1294,CAD_Q!$C$6:$D$105,2,FALSE)))","v":""},{"$f":"IFERROR(VLOOKUP(I1294,CAD_Q!$C$6:$E$109,3,FALSE)*F1294,\"\")","v":""},null,null,"",1,0,1900,0,1,1900,"Nombre y el registro de entrada válida"]
[null,"",null,null,null,"",null,null,null,{"$f":"IF(I1295=\"\",\"\",IF(VLOOKUP(I1295,CAD_Q!$C$6:$D$105,2,FALSE)=0,\"\",VLOOKUP(I1295,CAD_Q!$C$6:$D$105,2,FALSE)))","v":""},{"$f":"IFERROR(VLOOKUP(I1295,CAD_Q!$C$6:$E$109,3,FALSE)*F1295,\"\")","v":""},null,null,"",1,0,1900,0,1,1900,"Nombre y el registro de entrada válida"]
[null,"",null,null,null,"",null,null,null,{"$f":"IF(I1296=\"\",\"\",IF(VLOOKUP(I1296,CAD_Q!$C$6:$D$105,2,FALSE)=0,\"\",VLOOKUP(I1296,CAD_Q!$C$6:$D$105,2,FALSE)))","v":""},{"$f":"IFERROR(VLOOKUP(I1296,CAD_Q!$C$6:$E$109,3,FALSE)*F1296,\"\")","v":""},null,null,"",1,0,1900,0,1,1900,"Nombre y el registro de entrada válida"]
[null,"",null,null,null,"",null,null,null,{"$f":"IF(I1297=\"\",\"\",IF(VLOOKUP(I1297,CAD_Q!$C$6:$D$105,2,FALSE)=0,\"\",VLOOKUP(I1297,CAD_Q!$C$6:$D$105,2,FALSE)))","v":""},{"$f":"IFERROR(VLOOKUP(I1297,CAD_Q!$C$6:$E$109,3,FALSE)*F1297,\"\")","v":""},null,null,"",1,0,1900,0,1,1900,"Nombre y el registro de entrada válida"]
[null,"",null,null,null,"",null,null,null,{"$f":"IF(I1298=\"\",\"\",IF(VLOOKUP(I1298,CAD_Q!$C$6:$D$105,2,FALSE)=0,\"\",VLOOKUP(I1298,CAD_Q!$C$6:$D$105,2,FALSE)))","v":""},{"$f":"IFERROR(VLOOKUP(I1298,CAD_Q!$C$6:$E$109,3,FALSE)*F1298,\"\")","v":""},null,null,"",1,0,1900,0,1,1900,"Nombre y el registro de entrada válida"]
[null,"",null,null,null,"",null,null,null,{"$f":"IF(I1299=\"\",\"\",IF(VLOOKUP(I1299,CAD_Q!$C$6:$D$105,2,FALSE)=0,\"\",VLOOKUP(I1299,CAD_Q!$C$6:$D$105,2,FALSE)))","v":""},{"$f":"IFERROR(VLOOKUP(I1299,CAD_Q!$C$6:$E$109,3,FALSE)*F1299,\"\")","v":""},null,null,"",1,0,1900,0,1,1900,"Nombre y el registro de entrada válida"]
[null,"",null,null,null,"",null,null,null,{"$f":"IF(I1300=\"\",\"\",IF(VLOOKUP(I1300,CAD_Q!$C$6:$D$105,2,FALSE)=0,\"\",VLOOKUP(I1300,CAD_Q!$C$6:$D$105,2,FALSE)))","v":""},{"$f":"IFERROR(VLOOKUP(I1300,CAD_Q!$C$6:$E$109,3,FALSE)*F1300,\"\")","v":""},null,null,"",1,0,1900,0,1,1900,"Nombre y el registro de entrada válida"]
[null,"",null,null,null,"",null,null,null,{"$f":"IF(I1301=\"\",\"\",IF(VLOOKUP(I1301,CAD_Q!$C$6:$D$105,2,FALSE)=0,\"\",VLOOKUP(I1301,CAD_Q!$C$6:$D$105,2,FALSE)))","v":""},{"$f":"IFERROR(VLOOKUP(I1301,CAD_Q!$C$6:$E$109,3,FALSE)*F1301,\"\")","v":""},null,null,"",1,0,1900,0,1,1900,"Nombre y el registro de entrada válida"]
[null,"",null,null,null,"",null,null,null,{"$f":"IF(I1302=\"\",\"\",IF(VLOOKUP(I1302,CAD_Q!$C$6:$D$105,2,FALSE)=0,\"\",VLOOKUP(I1302,CAD_Q!$C$6:$D$105,2,FALSE)))","v":""},{"$f":"IFERROR(VLOOKUP(I1302,CAD_Q!$C$6:$E$109,3,FALSE)*F1302,\"\")","v":""},null,null,"",1,0,1900,0,1,1900,"Nombre y el registro de entrada válida"]
[null,"",null,null,null,"",null,null,null,{"$f":"IF(I1303=\"\",\"\",IF(VLOOKUP(I1303,CAD_Q!$C$6:$D$105,2,FALSE)=0,\"\",VLOOKUP(I1303,CAD_Q!$C$6:$D$105,2,FALSE)))","v":""},{"$f":"IFERROR(VLOOKUP(I1303,CAD_Q!$C$6:$E$109,3,FALSE)*F1303,\"\")","v":""},null,null,"",1,0,1900,0,1,1900,"Nombre y el registro de entrada válida"]
[null,"",null,null,null,"",null,null,null,{"$f":"IF(I1304=\"\",\"\",IF(VLOOKUP(I1304,CAD_Q!$C$6:$D$105,2,FALSE)=0,\"\",VLOOKUP(I1304,CAD_Q!$C$6:$D$105,2,FALSE)))","v":""},{"$f":"IFERROR(VLOOKUP(I1304,CAD_Q!$C$6:$E$109,3,FALSE)*F1304,\"\")","v":""},null,null,"",1,0,1900,0,1,1900,"Nombre y el registro de entrada válida"]
[null,"",null,null,null,"",null,null,null,{"$f":"IF(I1305=\"\",\"\",IF(VLOOKUP(I1305,CAD_Q!$C$6:$D$105,2,FALSE)=0,\"\",VLOOKUP(I1305,CAD_Q!$C$6:$D$105,2,FALSE)))","v":""},{"$f":"IFERROR(VLOOKUP(I1305,CAD_Q!$C$6:$E$109,3,FALSE)*F1305,\"\")","v":""},null,null,"",1,0,1900,0,1,1900,"Nombre y el registro de entrada válida"]
[null,"",null,null,null,"",null,null,null,{"$f":"IF(I1306=\"\",\"\",IF(VLOOKUP(I1306,CAD_Q!$C$6:$D$105,2,FALSE)=0,\"\",VLOOKUP(I1306,CAD_Q!$C$6:$D$105,2,FALSE)))","v":""},{"$f":"IFERROR(VLOOKUP(I1306,CAD_Q!$C$6:$E$109,3,FALSE)*F1306,\"\")","v":""},null,null,"",1,0,1900,0,1,1900,"Nombre y el registro de entrada válida"]
[null,"",null,null,null,"",null,null,null,{"$f":"IF(I1307=\"\",\"\",IF(VLOOKUP(I1307,CAD_Q!$C$6:$D$105,2,FALSE)=0,\"\",VLOOKUP(I1307,CAD_Q!$C$6:$D$105,2,FALSE)))","v":""},{"$f":"IFERROR(VLOOKUP(I1307,CAD_Q!$C$6:$E$109,3,FALSE)*F1307,\"\")","v":""},null,null,"",1,0,1900,0,1,1900,"Nombre y el registro de entrada válida"]
[null,"",null,null,null,"",null,null,null,{"$f":"IF(I1308=\"\",\"\",IF(VLOOKUP(I1308,CAD_Q!$C$6:$D$105,2,FALSE)=0,\"\",VLOOKUP(I1308,CAD_Q!$C$6:$D$105,2,FALSE)))","v":""},{"$f":"IFERROR(VLOOKUP(I1308,CAD_Q!$C$6:$E$109,3,FALSE)*F1308,\"\")","v":""},null,null,"",1,0,1900,0,1,1900,"Nombre y el registro de entrada válida"]
[null,"",null,null,null,"",null,null,null,{"$f":"IF(I1309=\"\",\"\",IF(VLOOKUP(I1309,CAD_Q!$C$6:$D$105,2,FALSE)=0,\"\",VLOOKUP(I1309,CAD_Q!$C$6:$D$105,2,FALSE)))","v":""},{"$f":"IFERROR(VLOOKUP(I1309,CAD_Q!$C$6:$E$109,3,FALSE)*F1309,\"\")","v":""},null,null,"",1,0,1900,0,1,1900,"Nombre y el registro de entrada válida"]
[null,"",null,null,null,"",null,null,null,{"$f":"IF(I1310=\"\",\"\",IF(VLOOKUP(I1310,CAD_Q!$C$6:$D$105,2,FALSE)=0,\"\",VLOOKUP(I1310,CAD_Q!$C$6:$D$105,2,FALSE)))","v":""},{"$f":"IFERROR(VLOOKUP(I1310,CAD_Q!$C$6:$E$109,3,FALSE)*F1310,\"\")","v":""},null,null,"",1,0,1900,0,1,1900,"Nombre y el registro de entrada válida"]
[null,"",null,null,null,"",null,null,null,{"$f":"IF(I1311=\"\",\"\",IF(VLOOKUP(I1311,CAD_Q!$C$6:$D$105,2,FALSE)=0,\"\",VLOOKUP(I1311,CAD_Q!$C$6:$D$105,2,FALSE)))","v":""},{"$f":"IFERROR(VLOOKUP(I1311,CAD_Q!$C$6:$E$109,3,FALSE)*F1311,\"\")","v":""},null,null,"",1,0,1900,0,1,1900,"Nombre y el registro de entrada válida"]
[null,"",null,null,null,"",null,null,null,{"$f":"IF(I1312=\"\",\"\",IF(VLOOKUP(I1312,CAD_Q!$C$6:$D$105,2,FALSE)=0,\"\",VLOOKUP(I1312,CAD_Q!$C$6:$D$105,2,FALSE)))","v":""},{"$f":"IFERROR(VLOOKUP(I1312,CAD_Q!$C$6:$E$109,3,FALSE)*F1312,\"\")","v":""},null,null,"",1,0,1900,0,1,1900,"Nombre y el registro de entrada válida"]
[null,"",null,null,null,"",null,null,null,{"$f":"IF(I1313=\"\",\"\",IF(VLOOKUP(I1313,CAD_Q!$C$6:$D$105,2,FALSE)=0,\"\",VLOOKUP(I1313,CAD_Q!$C$6:$D$105,2,FALSE)))","v":""},{"$f":"IFERROR(VLOOKUP(I1313,CAD_Q!$C$6:$E$109,3,FALSE)*F1313,\"\")","v":""},null,null,"",1,0,1900,0,1,1900,"Nombre y el registro de entrada válida"]
[null,"",null,null,null,"",null,null,null,{"$f":"IF(I1314=\"\",\"\",IF(VLOOKUP(I1314,CAD_Q!$C$6:$D$105,2,FALSE)=0,\"\",VLOOKUP(I1314,CAD_Q!$C$6:$D$105,2,FALSE)))","v":""},{"$f":"IFERROR(VLOOKUP(I1314,CAD_Q!$C$6:$E$109,3,FALSE)*F1314,\"\")","v":""},null,null,"",1,0,1900,0,1,1900,"Nombre y el registro de entrada válida"]
[null,"",null,null,null,"",null,null,null,{"$f":"IF(I1315=\"\",\"\",IF(VLOOKUP(I1315,CAD_Q!$C$6:$D$105,2,FALSE)=0,\"\",VLOOKUP(I1315,CAD_Q!$C$6:$D$105,2,FALSE)))","v":""},{"$f":"IFERROR(VLOOKUP(I1315,CAD_Q!$C$6:$E$109,3,FALSE)*F1315,\"\")","v":""},null,null,"",1,0,1900,0,1,1900,"Nombre y el registro de entrada válida"]
[null,"",null,null,null,{"$f":"IF(OR(D1316=\"\",E1316=\"\"),\"\",E1316-D1316)","v":""},null,null,null,{"$f":"IF(I1316=\"\",\"\",IF(VLOOKUP(I1316,CAD_Q!$C$6:$D$105,2,FALSE)=0,\"\",VLOOKUP(I1316,CAD_Q!$C$6:$D$105,2,FALSE)))","v":""},{"$f":"IFERROR(VLOOKUP(I1316,CAD_Q!$C$6:$E$109,3,FALSE)*F1316,\"\")","v":""},null,null,"",1,0,1900,0,1,1900,"Nombre y el registro de entrada válida"]
[null,"",null,null,null,"",null,null,null,{"$f":"IF(I1317=\"\",\"\",IF(VLOOKUP(I1317,CAD_Q!$C$6:$D$105,2,FALSE)=0,\"\",VLOOKUP(I1317,CAD_Q!$C$6:$D$105,2,FALSE)))","v":""},{"$f":"IFERROR(VLOOKUP(I1317,CAD_Q!$C$6:$E$109,3,FALSE)*F1317,\"\")","v":""},null,null,"",1,0,1900,0,1,1900,"Nombre y el registro de entrada válida"]
[null,"",null,null,null,"",null,null,null,{"$f":"IF(I1318=\"\",\"\",IF(VLOOKUP(I1318,CAD_Q!$C$6:$D$105,2,FALSE)=0,\"\",VLOOKUP(I1318,CAD_Q!$C$6:$D$105,2,FALSE)))","v":""},{"$f":"IFERROR(VLOOKUP(I1318,CAD_Q!$C$6:$E$109,3,FALSE)*F1318,\"\")","v":""},null,null,"",1,0,1900,0,1,1900,"Nombre y el registro de entrada válida"]
[null,"",null,null,null,"",null,null,null,{"$f":"IF(I1319=\"\",\"\",IF(VLOOKUP(I1319,CAD_Q!$C$6:$D$105,2,FALSE)=0,\"\",VLOOKUP(I1319,CAD_Q!$C$6:$D$105,2,FALSE)))","v":""},{"$f":"IFERROR(VLOOKUP(I1319,CAD_Q!$C$6:$E$109,3,FALSE)*F1319,\"\")","v":""},null,null,"",1,0,1900,0,1,1900,"Nombre y el registro de entrada válida"]
[null,"",null,null,null,"",null,null,null,{"$f":"IF(I1320=\"\",\"\",IF(VLOOKUP(I1320,CAD_Q!$C$6:$D$105,2,FALSE)=0,\"\",VLOOKUP(I1320,CAD_Q!$C$6:$D$105,2,FALSE)))","v":""},{"$f":"IFERROR(VLOOKUP(I1320,CAD_Q!$C$6:$E$109,3,FALSE)*F1320,\"\")","v":""},null,null,"",1,0,1900,0,1,1900,"Nombre y el registro de entrada válida"]
[null,"",null,null,null,"",null,null,null,{"$f":"IF(I1321=\"\",\"\",IF(VLOOKUP(I1321,CAD_Q!$C$6:$D$105,2,FALSE)=0,\"\",VLOOKUP(I1321,CAD_Q!$C$6:$D$105,2,FALSE)))","v":""},{"$f":"IFERROR(VLOOKUP(I1321,CAD_Q!$C$6:$E$109,3,FALSE)*F1321,\"\")","v":""},null,null,"",1,0,1900,0,1,1900,"Nombre y el registro de entrada válida"]
[null,"",null,null,null,"",null,null,null,{"$f":"IF(I1322=\"\",\"\",IF(VLOOKUP(I1322,CAD_Q!$C$6:$D$105,2,FALSE)=0,\"\",VLOOKUP(I1322,CAD_Q!$C$6:$D$105,2,FALSE)))","v":""},{"$f":"IFERROR(VLOOKUP(I1322,CAD_Q!$C$6:$E$109,3,FALSE)*F1322,\"\")","v":""},null,null,"",1,0,1900,0,1,1900,"Nombre y el registro de entrada válida"]
[null,"",null,null,null,"",null,null,null,{"$f":"IF(I1323=\"\",\"\",IF(VLOOKUP(I1323,CAD_Q!$C$6:$D$105,2,FALSE)=0,\"\",VLOOKUP(I1323,CAD_Q!$C$6:$D$105,2,FALSE)))","v":""},{"$f":"IFERROR(VLOOKUP(I1323,CAD_Q!$C$6:$E$109,3,FALSE)*F1323,\"\")","v":""},null,null,"",1,0,1900,0,1,1900,"Nombre y el registro de entrada válida"]
[null,"",null,null,null,"",null,null,null,{"$f":"IF(I1324=\"\",\"\",IF(VLOOKUP(I1324,CAD_Q!$C$6:$D$105,2,FALSE)=0,\"\",VLOOKUP(I1324,CAD_Q!$C$6:$D$105,2,FALSE)))","v":""},{"$f":"IFERROR(VLOOKUP(I1324,CAD_Q!$C$6:$E$109,3,FALSE)*F1324,\"\")","v":""},null,null,"",1,0,1900,0,1,1900,"Nombre y el registro de entrada válida"]
[null,"",null,null,null,"",null,null,null,{"$f":"IF(I1325=\"\",\"\",IF(VLOOKUP(I1325,CAD_Q!$C$6:$D$105,2,FALSE)=0,\"\",VLOOKUP(I1325,CAD_Q!$C$6:$D$105,2,FALSE)))","v":""},{"$f":"IFERROR(VLOOKUP(I1325,CAD_Q!$C$6:$E$109,3,FALSE)*F1325,\"\")","v":""},null,null,"",1,0,1900,0,1,1900,"Nombre y el registro de entrada válida"]
[null,"",null,null,null,"",null,null,null,{"$f":"IF(I1326=\"\",\"\",IF(VLOOKUP(I1326,CAD_Q!$C$6:$D$105,2,FALSE)=0,\"\",VLOOKUP(I1326,CAD_Q!$C$6:$D$105,2,FALSE)))","v":""},{"$f":"IFERROR(VLOOKUP(I1326,CAD_Q!$C$6:$E$109,3,FALSE)*F1326,\"\")","v":""},null,null,"",1,0,1900,0,1,1900,"Nombre y el registro de entrada válida"]
[null,"",null,null,null,"",null,null,null,{"$f":"IF(I1327=\"\",\"\",IF(VLOOKUP(I1327,CAD_Q!$C$6:$D$105,2,FALSE)=0,\"\",VLOOKUP(I1327,CAD_Q!$C$6:$D$105,2,FALSE)))","v":""},{"$f":"IFERROR(VLOOKUP(I1327,CAD_Q!$C$6:$E$109,3,FALSE)*F1327,\"\")","v":""},null,null,"",1,0,1900,0,1,1900,"Nombre y el registro de entrada válida"]
[null,"",null,null,null,"",null,null,null,{"$f":"IF(I1328=\"\",\"\",IF(VLOOKUP(I1328,CAD_Q!$C$6:$D$105,2,FALSE)=0,\"\",VLOOKUP(I1328,CAD_Q!$C$6:$D$105,2,FALSE)))","v":""},{"$f":"IFERROR(VLOOKUP(I1328,CAD_Q!$C$6:$E$109,3,FALSE)*F1328,\"\")","v":""},null,null,"",1,0,1900,0,1,1900,"Nombre y el registro de entrada válida"]
[null,"",null,null,null,"",null,null,null,{"$f":"IF(I1329=\"\",\"\",IF(VLOOKUP(I1329,CAD_Q!$C$6:$D$105,2,FALSE)=0,\"\",VLOOKUP(I1329,CAD_Q!$C$6:$D$105,2,FALSE)))","v":""},{"$f":"IFERROR(VLOOKUP(I1329,CAD_Q!$C$6:$E$109,3,FALSE)*F1329,\"\")","v":""},null,null,"",1,0,1900,0,1,1900,"Nombre y el registro de entrada válida"]
[null,"",null,null,null,"",null,null,null,{"$f":"IF(I1330=\"\",\"\",IF(VLOOKUP(I1330,CAD_Q!$C$6:$D$105,2,FALSE)=0,\"\",VLOOKUP(I1330,CAD_Q!$C$6:$D$105,2,FALSE)))","v":""},{"$f":"IFERROR(VLOOKUP(I1330,CAD_Q!$C$6:$E$109,3,FALSE)*F1330,\"\")","v":""},null,null,"",1,0,1900,0,1,1900,"Nombre y el registro de entrada válida"]
[null,"",null,null,null,"",null,null,null,{"$f":"IF(I1331=\"\",\"\",IF(VLOOKUP(I1331,CAD_Q!$C$6:$D$105,2,FALSE)=0,\"\",VLOOKUP(I1331,CAD_Q!$C$6:$D$105,2,FALSE)))","v":""},{"$f":"IFERROR(VLOOKUP(I1331,CAD_Q!$C$6:$E$109,3,FALSE)*F1331,\"\")","v":""},null,null,"",1,0,1900,0,1,1900,"Nombre y el registro de entrada válida"]
[null,"",null,null,null,"",null,null,null,{"$f":"IF(I1332=\"\",\"\",IF(VLOOKUP(I1332,CAD_Q!$C$6:$D$105,2,FALSE)=0,\"\",VLOOKUP(I1332,CAD_Q!$C$6:$D$105,2,FALSE)))","v":""},{"$f":"IFERROR(VLOOKUP(I1332,CAD_Q!$C$6:$E$109,3,FALSE)*F1332,\"\")","v":""},null,null,"",1,0,1900,0,1,1900,"Nombre y el registro de entrada válida"]
[null,"",null,null,null,"",null,null,null,{"$f":"IF(I1333=\"\",\"\",IF(VLOOKUP(I1333,CAD_Q!$C$6:$D$105,2,FALSE)=0,\"\",VLOOKUP(I1333,CAD_Q!$C$6:$D$105,2,FALSE)))","v":""},{"$f":"IFERROR(VLOOKUP(I1333,CAD_Q!$C$6:$E$109,3,FALSE)*F1333,\"\")","v":""},null,null,"",1,0,1900,0,1,1900,"Nombre y el registro de entrada válida"]
[null,"",null,null,null,"",null,null,null,{"$f":"IF(I1334=\"\",\"\",IF(VLOOKUP(I1334,CAD_Q!$C$6:$D$105,2,FALSE)=0,\"\",VLOOKUP(I1334,CAD_Q!$C$6:$D$105,2,FALSE)))","v":""},{"$f":"IFERROR(VLOOKUP(I1334,CAD_Q!$C$6:$E$109,3,FALSE)*F1334,\"\")","v":""},null,null,"",1,0,1900,0,1,1900,"Nombre y el registro de entrada válida"]
[null,"",null,null,null,"",null,null,null,{"$f":"IF(I1335=\"\",\"\",IF(VLOOKUP(I1335,CAD_Q!$C$6:$D$105,2,FALSE)=0,\"\",VLOOKUP(I1335,CAD_Q!$C$6:$D$105,2,FALSE)))","v":""},{"$f":"IFERROR(VLOOKUP(I1335,CAD_Q!$C$6:$E$109,3,FALSE)*F1335,\"\")","v":""},null,null,"",1,0,1900,0,1,1900,"Nombre y el registro de entrada válida"]
[null,"",null,null,null,"",null,null,null,{"$f":"IF(I1336=\"\",\"\",IF(VLOOKUP(I1336,CAD_Q!$C$6:$D$105,2,FALSE)=0,\"\",VLOOKUP(I1336,CAD_Q!$C$6:$D$105,2,FALSE)))","v":""},{"$f":"IFERROR(VLOOKUP(I1336,CAD_Q!$C$6:$E$109,3,FALSE)*F1336,\"\")","v":""},null,null,"",1,0,1900,0,1,1900,"Nombre y el registro de entrada válida"]
[null,"",null,null,null,"",null,null,null,{"$f":"IF(I1337=\"\",\"\",IF(VLOOKUP(I1337,CAD_Q!$C$6:$D$105,2,FALSE)=0,\"\",VLOOKUP(I1337,CAD_Q!$C$6:$D$105,2,FALSE)))","v":""},{"$f":"IFERROR(VLOOKUP(I1337,CAD_Q!$C$6:$E$109,3,FALSE)*F1337,\"\")","v":""},null,null,"",1,0,1900,0,1,1900,"Nombre y el registro de entrada válida"]
[null,"",null,null,null,"",null,null,null,{"$f":"IF(I1338=\"\",\"\",IF(VLOOKUP(I1338,CAD_Q!$C$6:$D$105,2,FALSE)=0,\"\",VLOOKUP(I1338,CAD_Q!$C$6:$D$105,2,FALSE)))","v":""},{"$f":"IFERROR(VLOOKUP(I1338,CAD_Q!$C$6:$E$109,3,FALSE)*F1338,\"\")","v":""},null,null,"",1,0,1900,0,1,1900,"Nombre y el registro de entrada válida"]
[null,"",null,null,null,"",null,null,null,{"$f":"IF(I1339=\"\",\"\",IF(VLOOKUP(I1339,CAD_Q!$C$6:$D$105,2,FALSE)=0,\"\",VLOOKUP(I1339,CAD_Q!$C$6:$D$105,2,FALSE)))","v":""},{"$f":"IFERROR(VLOOKUP(I1339,CAD_Q!$C$6:$E$109,3,FALSE)*F1339,\"\")","v":""},null,null,"",1,0,1900,0,1,1900,"Nombre y el registro de entrada válida"]
[null,"",null,null,null,"",null,null,null,{"$f":"IF(I1340=\"\",\"\",IF(VLOOKUP(I1340,CAD_Q!$C$6:$D$105,2,FALSE)=0,\"\",VLOOKUP(I1340,CAD_Q!$C$6:$D$105,2,FALSE)))","v":""},{"$f":"IFERROR(VLOOKUP(I1340,CAD_Q!$C$6:$E$109,3,FALSE)*F1340,\"\")","v":""},null,null,"",1,0,1900,0,1,1900,"Nombre y el registro de entrada válida"]
[null,"",null,null,null,"",null,null,null,{"$f":"IF(I1341=\"\",\"\",IF(VLOOKUP(I1341,CAD_Q!$C$6:$D$105,2,FALSE)=0,\"\",VLOOKUP(I1341,CAD_Q!$C$6:$D$105,2,FALSE)))","v":""},{"$f":"IFERROR(VLOOKUP(I1341,CAD_Q!$C$6:$E$109,3,FALSE)*F1341,\"\")","v":""},null,null,"",1,0,1900,0,1,1900,"Nombre y el registro de entrada válida"]
[null,"",null,null,null,"",null,null,null,{"$f":"IF(I1342=\"\",\"\",IF(VLOOKUP(I1342,CAD_Q!$C$6:$D$105,2,FALSE)=0,\"\",VLOOKUP(I1342,CAD_Q!$C$6:$D$105,2,FALSE)))","v":""},{"$f":"IFERROR(VLOOKUP(I1342,CAD_Q!$C$6:$E$109,3,FALSE)*F1342,\"\")","v":""},null,null,"",1,0,1900,0,1,1900,"Nombre y el registro de entrada válida"]
[null,"",null,null,null,"",null,null,null,{"$f":"IF(I1343=\"\",\"\",IF(VLOOKUP(I1343,CAD_Q!$C$6:$D$105,2,FALSE)=0,\"\",VLOOKUP(I1343,CAD_Q!$C$6:$D$105,2,FALSE)))","v":""},{"$f":"IFERROR(VLOOKUP(I1343,CAD_Q!$C$6:$E$109,3,FALSE)*F1343,\"\")","v":""},null,null,"",1,0,1900,0,1,1900,"Nombre y el registro de entrada válida"]
[null,"",null,null,null,"",null,null,null,{"$f":"IF(I1344=\"\",\"\",IF(VLOOKUP(I1344,CAD_Q!$C$6:$D$105,2,FALSE)=0,\"\",VLOOKUP(I1344,CAD_Q!$C$6:$D$105,2,FALSE)))","v":""},{"$f":"IFERROR(VLOOKUP(I1344,CAD_Q!$C$6:$E$109,3,FALSE)*F1344,\"\")","v":""},null,null,"",1,0,1900,0,1,1900,"Nombre y el registro de entrada válida"]
[null,"",null,null,null,"",null,null,null,{"$f":"IF(I1345=\"\",\"\",IF(VLOOKUP(I1345,CAD_Q!$C$6:$D$105,2,FALSE)=0,\"\",VLOOKUP(I1345,CAD_Q!$C$6:$D$105,2,FALSE)))","v":""},{"$f":"IFERROR(VLOOKUP(I1345,CAD_Q!$C$6:$E$109,3,FALSE)*F1345,\"\")","v":""},null,null,"",1,0,1900,0,1,1900,"Nombre y el registro de entrada válida"]
[null,"",null,null,null,"",null,null,null,{"$f":"IF(I1346=\"\",\"\",IF(VLOOKUP(I1346,CAD_Q!$C$6:$D$105,2,FALSE)=0,\"\",VLOOKUP(I1346,CAD_Q!$C$6:$D$105,2,FALSE)))","v":""},{"$f":"IFERROR(VLOOKUP(I1346,CAD_Q!$C$6:$E$109,3,FALSE)*F1346,\"\")","v":""},null,null,"",1,0,1900,0,1,1900,"Nombre y el registro de entrada válida"]
[null,"",null,null,null,"",null,null,null,{"$f":"IF(I1347=\"\",\"\",IF(VLOOKUP(I1347,CAD_Q!$C$6:$D$105,2,FALSE)=0,\"\",VLOOKUP(I1347,CAD_Q!$C$6:$D$105,2,FALSE)))","v":""},{"$f":"IFERROR(VLOOKUP(I1347,CAD_Q!$C$6:$E$109,3,FALSE)*F1347,\"\")","v":""},null,null,"",1,0,1900,0,1,1900,"Nombre y el registro de entrada válida"]
[null,"",null,null,null,"",null,null,null,{"$f":"IF(I1348=\"\",\"\",IF(VLOOKUP(I1348,CAD_Q!$C$6:$D$105,2,FALSE)=0,\"\",VLOOKUP(I1348,CAD_Q!$C$6:$D$105,2,FALSE)))","v":""},{"$f":"IFERROR(VLOOKUP(I1348,CAD_Q!$C$6:$E$109,3,FALSE)*F1348,\"\")","v":""},null,null,"",1,0,1900,0,1,1900,"Nombre y el registro de entrada válida"]
[null,"",null,null,null,"",null,null,null,{"$f":"IF(I1349=\"\",\"\",IF(VLOOKUP(I1349,CAD_Q!$C$6:$D$105,2,FALSE)=0,\"\",VLOOKUP(I1349,CAD_Q!$C$6:$D$105,2,FALSE)))","v":""},{"$f":"IFERROR(VLOOKUP(I1349,CAD_Q!$C$6:$E$109,3,FALSE)*F1349,\"\")","v":""},null,null,"",1,0,1900,0,1,1900,"Nombre y el registro de entrada válida"]
[null,"",null,null,null,"",null,null,null,{"$f":"IF(I1350=\"\",\"\",IF(VLOOKUP(I1350,CAD_Q!$C$6:$D$105,2,FALSE)=0,\"\",VLOOKUP(I1350,CAD_Q!$C$6:$D$105,2,FALSE)))","v":""},{"$f":"IFERROR(VLOOKUP(I1350,CAD_Q!$C$6:$E$109,3,FALSE)*F1350,\"\")","v":""},null,null,"",1,0,1900,0,1,1900,"Nombre y el registro de entrada válida"]
[null,{"$f":"CONCATENATE(C1351,D1351)","v":""},null,null,null,"",null,null,null,{"$f":"IF(I1351=\"\",\"\",IF(VLOOKUP(I1351,CAD_Q!$C$6:$D$105,2,FALSE)=0,\"\",VLOOKUP(I1351,CAD_Q!$C$6:$D$105,2,FALSE)))","v":""},{"$f":"IFERROR(VLOOKUP(I1351,CAD_Q!$C$6:$E$109,3,FALSE)*F1351,\"\")","v":""},null,null,{"$f":"IFERROR(K1351-L1351+M1351,\"\")","v":""},1,0,1900,0,1,1900,"Nombre y el registro de entrada válida"]
[null,"",null,null,null,"",null,null,null,{"$f":"IF(I1352=\"\",\"\",IF(VLOOKUP(I1352,CAD_Q!$C$6:$D$105,2,FALSE)=0,\"\",VLOOKUP(I1352,CAD_Q!$C$6:$D$105,2,FALSE)))","v":""},{"$f":"IFERROR(VLOOKUP(I1352,CAD_Q!$C$6:$E$109,3,FALSE)*F1352,\"\")","v":""},null,null,"",1,0,1900,0,1,1900,"Nombre y el registro de entrada válida"]
[null,"",null,null,null,"",null,null,null,{"$f":"IF(I1353=\"\",\"\",IF(VLOOKUP(I1353,CAD_Q!$C$6:$D$105,2,FALSE)=0,\"\",VLOOKUP(I1353,CAD_Q!$C$6:$D$105,2,FALSE)))","v":""},{"$f":"IFERROR(VLOOKUP(I1353,CAD_Q!$C$6:$E$109,3,FALSE)*F1353,\"\")","v":""},null,null,"",1,0,1900,0,1,1900,"Nombre y el registro de entrada válida"]
[null,"",null,null,null,"",null,null,null,{"$f":"IF(I1354=\"\",\"\",IF(VLOOKUP(I1354,CAD_Q!$C$6:$D$105,2,FALSE)=0,\"\",VLOOKUP(I1354,CAD_Q!$C$6:$D$105,2,FALSE)))","v":""},{"$f":"IFERROR(VLOOKUP(I1354,CAD_Q!$C$6:$E$109,3,FALSE)*F1354,\"\")","v":""},null,null,"",{"$f":"MONTH(D1354)","v":1},{"$f":"DAY(D1354)","v":0},{"$f":"YEAR(D1354)","v":1900},{"$f":"DAY(E1354)","v":0},{"$f":"MONTH(E1354)","v":1},{"$f":"YEAR(E1354)","v":1900},"Nombre y el registro de entrada válida"]
[null,"",null,null,null,"",null,null,null,{"$f":"IF(I1355=\"\",\"\",IF(VLOOKUP(I1355,CAD_Q!$C$6:$D$105,2,FALSE)=0,\"\",VLOOKUP(I1355,CAD_Q!$C$6:$D$105,2,FALSE)))","v":""},{"$f":"IFERROR(VLOOKUP(I1355,CAD_Q!$C$6:$E$109,3,FALSE)*F1355,\"\")","v":""},null,null,"",1,0,1900,0,1,1900,"Nombre y el registro de entrada válida"]
[null,"",null,null,null,"",null,null,null,{"$f":"IF(I1356=\"\",\"\",IF(VLOOKUP(I1356,CAD_Q!$C$6:$D$105,2,FALSE)=0,\"\",VLOOKUP(I1356,CAD_Q!$C$6:$D$105,2,FALSE)))","v":""},{"$f":"IFERROR(VLOOKUP(I1356,CAD_Q!$C$6:$E$109,3,FALSE)*F1356,\"\")","v":""},null,null,"",1,0,1900,0,1,1900,"Nombre y el registro de entrada válida"]
[null,"",null,null,null,"",null,null,null,{"$f":"IF(I1357=\"\",\"\",IF(VLOOKUP(I1357,CAD_Q!$C$6:$D$105,2,FALSE)=0,\"\",VLOOKUP(I1357,CAD_Q!$C$6:$D$105,2,FALSE)))","v":""},{"$f":"IFERROR(VLOOKUP(I1357,CAD_Q!$C$6:$E$109,3,FALSE)*F1357,\"\")","v":""},null,null,"",1,0,1900,0,1,1900,"Nombre y el registro de entrada válida"]
[null,"",null,null,null,"",null,null,null,{"$f":"IF(I1358=\"\",\"\",IF(VLOOKUP(I1358,CAD_Q!$C$6:$D$105,2,FALSE)=0,\"\",VLOOKUP(I1358,CAD_Q!$C$6:$D$105,2,FALSE)))","v":""},{"$f":"IFERROR(VLOOKUP(I1358,CAD_Q!$C$6:$E$109,3,FALSE)*F1358,\"\")","v":""},null,null,"",1,0,1900,0,1,1900,"Nombre y el registro de entrada válida"]
[null,"",null,null,null,"",null,null,null,{"$f":"IF(I1359=\"\",\"\",IF(VLOOKUP(I1359,CAD_Q!$C$6:$D$105,2,FALSE)=0,\"\",VLOOKUP(I1359,CAD_Q!$C$6:$D$105,2,FALSE)))","v":""},{"$f":"IFERROR(VLOOKUP(I1359,CAD_Q!$C$6:$E$109,3,FALSE)*F1359,\"\")","v":""},null,null,"",1,0,1900,0,1,1900,"Nombre y el registro de entrada válida"]
[null,"",null,null,null,"",null,null,null,{"$f":"IF(I1360=\"\",\"\",IF(VLOOKUP(I1360,CAD_Q!$C$6:$D$105,2,FALSE)=0,\"\",VLOOKUP(I1360,CAD_Q!$C$6:$D$105,2,FALSE)))","v":""},{"$f":"IFERROR(VLOOKUP(I1360,CAD_Q!$C$6:$E$109,3,FALSE)*F1360,\"\")","v":""},null,null,"",1,0,1900,0,1,1900,"Nombre y el registro de entrada válida"]
[null,"",null,null,null,"",null,null,null,{"$f":"IF(I1361=\"\",\"\",IF(VLOOKUP(I1361,CAD_Q!$C$6:$D$105,2,FALSE)=0,\"\",VLOOKUP(I1361,CAD_Q!$C$6:$D$105,2,FALSE)))","v":""},{"$f":"IFERROR(VLOOKUP(I1361,CAD_Q!$C$6:$E$109,3,FALSE)*F1361,\"\")","v":""},null,null,"",1,0,1900,0,1,1900,"Nombre y el registro de entrada válida"]
[null,"",null,null,null,"",null,null,null,{"$f":"IF(I1362=\"\",\"\",IF(VLOOKUP(I1362,CAD_Q!$C$6:$D$105,2,FALSE)=0,\"\",VLOOKUP(I1362,CAD_Q!$C$6:$D$105,2,FALSE)))","v":""},{"$f":"IFERROR(VLOOKUP(I1362,CAD_Q!$C$6:$E$109,3,FALSE)*F1362,\"\")","v":""},null,null,"",1,0,1900,0,1,1900,"Nombre y el registro de entrada válida"]
[null,"",null,null,null,"",null,null,null,{"$f":"IF(I1363=\"\",\"\",IF(VLOOKUP(I1363,CAD_Q!$C$6:$D$105,2,FALSE)=0,\"\",VLOOKUP(I1363,CAD_Q!$C$6:$D$105,2,FALSE)))","v":""},{"$f":"IFERROR(VLOOKUP(I1363,CAD_Q!$C$6:$E$109,3,FALSE)*F1363,\"\")","v":""},null,null,"",1,0,1900,0,1,1900,"Nombre y el registro de entrada válida"]
[null,"",null,null,null,"",null,null,null,{"$f":"IF(I1364=\"\",\"\",IF(VLOOKUP(I1364,CAD_Q!$C$6:$D$105,2,FALSE)=0,\"\",VLOOKUP(I1364,CAD_Q!$C$6:$D$105,2,FALSE)))","v":""},{"$f":"IFERROR(VLOOKUP(I1364,CAD_Q!$C$6:$E$109,3,FALSE)*F1364,\"\")","v":""},null,null,"",1,0,1900,0,1,1900,"Nombre y el registro de entrada válida"]
[null,"",null,null,null,"",null,null,null,{"$f":"IF(I1365=\"\",\"\",IF(VLOOKUP(I1365,CAD_Q!$C$6:$D$105,2,FALSE)=0,\"\",VLOOKUP(I1365,CAD_Q!$C$6:$D$105,2,FALSE)))","v":""},{"$f":"IFERROR(VLOOKUP(I1365,CAD_Q!$C$6:$E$109,3,FALSE)*F1365,\"\")","v":""},null,null,"",1,0,1900,0,1,1900,"Nombre y el registro de entrada válida"]
[null,"",null,null,null,"",null,null,null,{"$f":"IF(I1366=\"\",\"\",IF(VLOOKUP(I1366,CAD_Q!$C$6:$D$105,2,FALSE)=0,\"\",VLOOKUP(I1366,CAD_Q!$C$6:$D$105,2,FALSE)))","v":""},{"$f":"IFERROR(VLOOKUP(I1366,CAD_Q!$C$6:$E$109,3,FALSE)*F1366,\"\")","v":""},null,null,"",1,0,1900,0,1,1900,"Nombre y el registro de entrada válida"]
[null,"",null,null,null,"",null,null,null,{"$f":"IF(I1367=\"\",\"\",IF(VLOOKUP(I1367,CAD_Q!$C$6:$D$105,2,FALSE)=0,\"\",VLOOKUP(I1367,CAD_Q!$C$6:$D$105,2,FALSE)))","v":""},{"$f":"IFERROR(VLOOKUP(I1367,CAD_Q!$C$6:$E$109,3,FALSE)*F1367,\"\")","v":""},null,null,"",1,0,1900,0,1,1900,"Nombre y el registro de entrada válida"]
[null,"",null,null,null,"",null,null,null,{"$f":"IF(I1368=\"\",\"\",IF(VLOOKUP(I1368,CAD_Q!$C$6:$D$105,2,FALSE)=0,\"\",VLOOKUP(I1368,CAD_Q!$C$6:$D$105,2,FALSE)))","v":""},{"$f":"IFERROR(VLOOKUP(I1368,CAD_Q!$C$6:$E$109,3,FALSE)*F1368,\"\")","v":""},null,null,"",1,0,1900,0,1,1900,"Nombre y el registro de entrada válida"]
[null,"",null,null,null,"",null,null,null,{"$f":"IF(I1369=\"\",\"\",IF(VLOOKUP(I1369,CAD_Q!$C$6:$D$105,2,FALSE)=0,\"\",VLOOKUP(I1369,CAD_Q!$C$6:$D$105,2,FALSE)))","v":""},{"$f":"IFERROR(VLOOKUP(I1369,CAD_Q!$C$6:$E$109,3,FALSE)*F1369,\"\")","v":""},null,null,"",1,0,1900,0,1,1900,"Nombre y el registro de entrada válida"]
[null,"",null,null,null,"",null,null,null,{"$f":"IF(I1370=\"\",\"\",IF(VLOOKUP(I1370,CAD_Q!$C$6:$D$105,2,FALSE)=0,\"\",VLOOKUP(I1370,CAD_Q!$C$6:$D$105,2,FALSE)))","v":""},{"$f":"IFERROR(VLOOKUP(I1370,CAD_Q!$C$6:$E$109,3,FALSE)*F1370,\"\")","v":""},null,null,"",1,0,1900,0,1,1900,"Nombre y el registro de entrada válida"]
[null,"",null,null,null,"",null,null,null,{"$f":"IF(I1371=\"\",\"\",IF(VLOOKUP(I1371,CAD_Q!$C$6:$D$105,2,FALSE)=0,\"\",VLOOKUP(I1371,CAD_Q!$C$6:$D$105,2,FALSE)))","v":""},{"$f":"IFERROR(VLOOKUP(I1371,CAD_Q!$C$6:$E$109,3,FALSE)*F1371,\"\")","v":""},null,null,"",1,0,1900,0,1,1900,"Nombre y el registro de entrada válida"]
[null,"",null,null,null,"",null,null,null,{"$f":"IF(I1372=\"\",\"\",IF(VLOOKUP(I1372,CAD_Q!$C$6:$D$105,2,FALSE)=0,\"\",VLOOKUP(I1372,CAD_Q!$C$6:$D$105,2,FALSE)))","v":""},{"$f":"IFERROR(VLOOKUP(I1372,CAD_Q!$C$6:$E$109,3,FALSE)*F1372,\"\")","v":""},null,null,"",1,0,1900,0,1,1900,"Nombre y el registro de entrada válida"]
[null,"",null,null,null,"",null,null,null,{"$f":"IF(I1373=\"\",\"\",IF(VLOOKUP(I1373,CAD_Q!$C$6:$D$105,2,FALSE)=0,\"\",VLOOKUP(I1373,CAD_Q!$C$6:$D$105,2,FALSE)))","v":""},{"$f":"IFERROR(VLOOKUP(I1373,CAD_Q!$C$6:$E$109,3,FALSE)*F1373,\"\")","v":""},null,null,"",1,0,1900,0,1,1900,"Nombre y el registro de entrada válida"]
[null,"",null,null,null,"",null,null,null,{"$f":"IF(I1374=\"\",\"\",IF(VLOOKUP(I1374,CAD_Q!$C$6:$D$105,2,FALSE)=0,\"\",VLOOKUP(I1374,CAD_Q!$C$6:$D$105,2,FALSE)))","v":""},{"$f":"IFERROR(VLOOKUP(I1374,CAD_Q!$C$6:$E$109,3,FALSE)*F1374,\"\")","v":""},null,null,"",1,0,1900,0,1,1900,"Nombre y el registro de entrada válida"]
[null,"",null,null,null,"",null,null,null,{"$f":"IF(I1375=\"\",\"\",IF(VLOOKUP(I1375,CAD_Q!$C$6:$D$105,2,FALSE)=0,\"\",VLOOKUP(I1375,CAD_Q!$C$6:$D$105,2,FALSE)))","v":""},{"$f":"IFERROR(VLOOKUP(I1375,CAD_Q!$C$6:$E$109,3,FALSE)*F1375,\"\")","v":""},null,null,"",1,0,1900,0,1,1900,"Nombre y el registro de entrada válida"]
[null,"",null,null,null,"",null,null,null,{"$f":"IF(I1376=\"\",\"\",IF(VLOOKUP(I1376,CAD_Q!$C$6:$D$105,2,FALSE)=0,\"\",VLOOKUP(I1376,CAD_Q!$C$6:$D$105,2,FALSE)))","v":""},{"$f":"IFERROR(VLOOKUP(I1376,CAD_Q!$C$6:$E$109,3,FALSE)*F1376,\"\")","v":""},null,null,"",1,0,1900,0,1,1900,"Nombre y el registro de entrada válida"]
[null,"",null,null,null,"",null,null,null,{"$f":"IF(I1377=\"\",\"\",IF(VLOOKUP(I1377,CAD_Q!$C$6:$D$105,2,FALSE)=0,\"\",VLOOKUP(I1377,CAD_Q!$C$6:$D$105,2,FALSE)))","v":""},{"$f":"IFERROR(VLOOKUP(I1377,CAD_Q!$C$6:$E$109,3,FALSE)*F1377,\"\")","v":""},null,null,"",1,0,1900,0,1,1900,"Nombre y el registro de entrada válida"]
[null,"",null,null,null,"",null,null,null,{"$f":"IF(I1378=\"\",\"\",IF(VLOOKUP(I1378,CAD_Q!$C$6:$D$105,2,FALSE)=0,\"\",VLOOKUP(I1378,CAD_Q!$C$6:$D$105,2,FALSE)))","v":""},{"$f":"IFERROR(VLOOKUP(I1378,CAD_Q!$C$6:$E$109,3,FALSE)*F1378,\"\")","v":""},null,null,"",1,0,1900,0,1,1900,"Nombre y el registro de entrada válida"]
[null,"",null,null,null,"",null,null,null,{"$f":"IF(I1379=\"\",\"\",IF(VLOOKUP(I1379,CAD_Q!$C$6:$D$105,2,FALSE)=0,\"\",VLOOKUP(I1379,CAD_Q!$C$6:$D$105,2,FALSE)))","v":""},{"$f":"IFERROR(VLOOKUP(I1379,CAD_Q!$C$6:$E$109,3,FALSE)*F1379,\"\")","v":""},null,null,"",1,0,1900,0,1,1900,"Nombre y el registro de entrada válida"]
[null,"",null,null,null,{"$f":"IF(OR(D1380=\"\",E1380=\"\"),\"\",E1380-D1380)","v":""},null,null,null,{"$f":"IF(I1380=\"\",\"\",IF(VLOOKUP(I1380,CAD_Q!$C$6:$D$105,2,FALSE)=0,\"\",VLOOKUP(I1380,CAD_Q!$C$6:$D$105,2,FALSE)))","v":""},{"$f":"IFERROR(VLOOKUP(I1380,CAD_Q!$C$6:$E$109,3,FALSE)*F1380,\"\")","v":""},null,null,"",1,0,1900,0,1,1900,"Nombre y el registro de entrada válida"]
[null,"",null,null,null,"",null,null,null,{"$f":"IF(I1381=\"\",\"\",IF(VLOOKUP(I1381,CAD_Q!$C$6:$D$105,2,FALSE)=0,\"\",VLOOKUP(I1381,CAD_Q!$C$6:$D$105,2,FALSE)))","v":""},{"$f":"IFERROR(VLOOKUP(I1381,CAD_Q!$C$6:$E$109,3,FALSE)*F1381,\"\")","v":""},null,null,"",1,0,1900,0,1,1900,"Nombre y el registro de entrada válida"]
[null,"",null,null,null,"",null,null,null,{"$f":"IF(I1382=\"\",\"\",IF(VLOOKUP(I1382,CAD_Q!$C$6:$D$105,2,FALSE)=0,\"\",VLOOKUP(I1382,CAD_Q!$C$6:$D$105,2,FALSE)))","v":""},{"$f":"IFERROR(VLOOKUP(I1382,CAD_Q!$C$6:$E$109,3,FALSE)*F1382,\"\")","v":""},null,null,"",1,0,1900,0,1,1900,"Nombre y el registro de entrada válida"]
[null,"",null,null,null,"",null,null,null,{"$f":"IF(I1383=\"\",\"\",IF(VLOOKUP(I1383,CAD_Q!$C$6:$D$105,2,FALSE)=0,\"\",VLOOKUP(I1383,CAD_Q!$C$6:$D$105,2,FALSE)))","v":""},{"$f":"IFERROR(VLOOKUP(I1383,CAD_Q!$C$6:$E$109,3,FALSE)*F1383,\"\")","v":""},null,null,"",1,0,1900,0,1,1900,"Nombre y el registro de entrada válida"]
[null,"",null,null,null,"",null,null,null,{"$f":"IF(I1384=\"\",\"\",IF(VLOOKUP(I1384,CAD_Q!$C$6:$D$105,2,FALSE)=0,\"\",VLOOKUP(I1384,CAD_Q!$C$6:$D$105,2,FALSE)))","v":""},{"$f":"IFERROR(VLOOKUP(I1384,CAD_Q!$C$6:$E$109,3,FALSE)*F1384,\"\")","v":""},null,null,"",1,0,1900,0,1,1900,"Nombre y el registro de entrada válida"]
[null,"",null,null,null,"",null,null,null,{"$f":"IF(I1385=\"\",\"\",IF(VLOOKUP(I1385,CAD_Q!$C$6:$D$105,2,FALSE)=0,\"\",VLOOKUP(I1385,CAD_Q!$C$6:$D$105,2,FALSE)))","v":""},{"$f":"IFERROR(VLOOKUP(I1385,CAD_Q!$C$6:$E$109,3,FALSE)*F1385,\"\")","v":""},null,null,"",1,0,1900,0,1,1900,"Nombre y el registro de entrada válida"]
[null,"",null,null,null,"",null,null,null,{"$f":"IF(I1386=\"\",\"\",IF(VLOOKUP(I1386,CAD_Q!$C$6:$D$105,2,FALSE)=0,\"\",VLOOKUP(I1386,CAD_Q!$C$6:$D$105,2,FALSE)))","v":""},{"$f":"IFERROR(VLOOKUP(I1386,CAD_Q!$C$6:$E$109,3,FALSE)*F1386,\"\")","v":""},null,null,"",1,0,1900,0,1,1900,"Nombre y el registro de entrada válida"]
[null,"",null,null,null,"",null,null,null,{"$f":"IF(I1387=\"\",\"\",IF(VLOOKUP(I1387,CAD_Q!$C$6:$D$105,2,FALSE)=0,\"\",VLOOKUP(I1387,CAD_Q!$C$6:$D$105,2,FALSE)))","v":""},{"$f":"IFERROR(VLOOKUP(I1387,CAD_Q!$C$6:$E$109,3,FALSE)*F1387,\"\")","v":""},null,null,"",1,0,1900,0,1,1900,"Nombre y el registro de entrada válida"]
[null,"",null,null,null,"",null,null,null,{"$f":"IF(I1388=\"\",\"\",IF(VLOOKUP(I1388,CAD_Q!$C$6:$D$105,2,FALSE)=0,\"\",VLOOKUP(I1388,CAD_Q!$C$6:$D$105,2,FALSE)))","v":""},{"$f":"IFERROR(VLOOKUP(I1388,CAD_Q!$C$6:$E$109,3,FALSE)*F1388,\"\")","v":""},null,null,"",1,0,1900,0,1,1900,"Nombre y el registro de entrada válida"]
[null,"",null,null,null,"",null,null,null,{"$f":"IF(I1389=\"\",\"\",IF(VLOOKUP(I1389,CAD_Q!$C$6:$D$105,2,FALSE)=0,\"\",VLOOKUP(I1389,CAD_Q!$C$6:$D$105,2,FALSE)))","v":""},{"$f":"IFERROR(VLOOKUP(I1389,CAD_Q!$C$6:$E$109,3,FALSE)*F1389,\"\")","v":""},null,null,"",1,0,1900,0,1,1900,"Nombre y el registro de entrada válida"]
[null,"",null,null,null,"",null,null,null,{"$f":"IF(I1390=\"\",\"\",IF(VLOOKUP(I1390,CAD_Q!$C$6:$D$105,2,FALSE)=0,\"\",VLOOKUP(I1390,CAD_Q!$C$6:$D$105,2,FALSE)))","v":""},{"$f":"IFERROR(VLOOKUP(I1390,CAD_Q!$C$6:$E$109,3,FALSE)*F1390,\"\")","v":""},null,null,"",1,0,1900,0,1,1900,"Nombre y el registro de entrada válida"]
[null,"",null,null,null,"",null,null,null,{"$f":"IF(I1391=\"\",\"\",IF(VLOOKUP(I1391,CAD_Q!$C$6:$D$105,2,FALSE)=0,\"\",VLOOKUP(I1391,CAD_Q!$C$6:$D$105,2,FALSE)))","v":""},{"$f":"IFERROR(VLOOKUP(I1391,CAD_Q!$C$6:$E$109,3,FALSE)*F1391,\"\")","v":""},null,null,"",1,0,1900,0,1,1900,"Nombre y el registro de entrada válida"]
[null,"",null,null,null,"",null,null,null,{"$f":"IF(I1392=\"\",\"\",IF(VLOOKUP(I1392,CAD_Q!$C$6:$D$105,2,FALSE)=0,\"\",VLOOKUP(I1392,CAD_Q!$C$6:$D$105,2,FALSE)))","v":""},{"$f":"IFERROR(VLOOKUP(I1392,CAD_Q!$C$6:$E$109,3,FALSE)*F1392,\"\")","v":""},null,null,"",1,0,1900,0,1,1900,"Nombre y el registro de entrada válida"]
[null,"",null,null,null,"",null,null,null,{"$f":"IF(I1393=\"\",\"\",IF(VLOOKUP(I1393,CAD_Q!$C$6:$D$105,2,FALSE)=0,\"\",VLOOKUP(I1393,CAD_Q!$C$6:$D$105,2,FALSE)))","v":""},{"$f":"IFERROR(VLOOKUP(I1393,CAD_Q!$C$6:$E$109,3,FALSE)*F1393,\"\")","v":""},null,null,"",1,0,1900,0,1,1900,"Nombre y el registro de entrada válida"]
[null,"",null,null,null,"",null,null,null,{"$f":"IF(I1394=\"\",\"\",IF(VLOOKUP(I1394,CAD_Q!$C$6:$D$105,2,FALSE)=0,\"\",VLOOKUP(I1394,CAD_Q!$C$6:$D$105,2,FALSE)))","v":""},{"$f":"IFERROR(VLOOKUP(I1394,CAD_Q!$C$6:$E$109,3,FALSE)*F1394,\"\")","v":""},null,null,"",1,0,1900,0,1,1900,"Nombre y el registro de entrada válida"]
[null,"",null,null,null,"",null,null,null,{"$f":"IF(I1395=\"\",\"\",IF(VLOOKUP(I1395,CAD_Q!$C$6:$D$105,2,FALSE)=0,\"\",VLOOKUP(I1395,CAD_Q!$C$6:$D$105,2,FALSE)))","v":""},{"$f":"IFERROR(VLOOKUP(I1395,CAD_Q!$C$6:$E$109,3,FALSE)*F1395,\"\")","v":""},null,null,"",1,0,1900,0,1,1900,"Nombre y el registro de entrada válida"]
[null,"",null,null,null,"",null,null,null,{"$f":"IF(I1396=\"\",\"\",IF(VLOOKUP(I1396,CAD_Q!$C$6:$D$105,2,FALSE)=0,\"\",VLOOKUP(I1396,CAD_Q!$C$6:$D$105,2,FALSE)))","v":""},{"$f":"IFERROR(VLOOKUP(I1396,CAD_Q!$C$6:$E$109,3,FALSE)*F1396,\"\")","v":""},null,null,"",1,0,1900,0,1,1900,"Nombre y el registro de entrada válida"]
[null,"",null,null,null,"",null,null,null,{"$f":"IF(I1397=\"\",\"\",IF(VLOOKUP(I1397,CAD_Q!$C$6:$D$105,2,FALSE)=0,\"\",VLOOKUP(I1397,CAD_Q!$C$6:$D$105,2,FALSE)))","v":""},{"$f":"IFERROR(VLOOKUP(I1397,CAD_Q!$C$6:$E$109,3,FALSE)*F1397,\"\")","v":""},null,null,"",1,0,1900,0,1,1900,"Nombre y el registro de entrada válida"]
[null,"",null,null,null,"",null,null,null,{"$f":"IF(I1398=\"\",\"\",IF(VLOOKUP(I1398,CAD_Q!$C$6:$D$105,2,FALSE)=0,\"\",VLOOKUP(I1398,CAD_Q!$C$6:$D$105,2,FALSE)))","v":""},{"$f":"IFERROR(VLOOKUP(I1398,CAD_Q!$C$6:$E$109,3,FALSE)*F1398,\"\")","v":""},null,null,"",1,0,1900,0,1,1900,"Nombre y el registro de entrada válida"]
[null,"",null,null,null,"",null,null,null,{"$f":"IF(I1399=\"\",\"\",IF(VLOOKUP(I1399,CAD_Q!$C$6:$D$105,2,FALSE)=0,\"\",VLOOKUP(I1399,CAD_Q!$C$6:$D$105,2,FALSE)))","v":""},{"$f":"IFERROR(VLOOKUP(I1399,CAD_Q!$C$6:$E$109,3,FALSE)*F1399,\"\")","v":""},null,null,"",1,0,1900,0,1,1900,"Nombre y el registro de entrada válida"]
[null,"",null,null,null,"",null,null,null,{"$f":"IF(I1400=\"\",\"\",IF(VLOOKUP(I1400,CAD_Q!$C$6:$D$105,2,FALSE)=0,\"\",VLOOKUP(I1400,CAD_Q!$C$6:$D$105,2,FALSE)))","v":""},{"$f":"IFERROR(VLOOKUP(I1400,CAD_Q!$C$6:$E$109,3,FALSE)*F1400,\"\")","v":""},null,null,"",1,0,1900,0,1,1900,"Nombre y el registro de entrada válida"]
[null,"",null,null,null,"",null,null,null,{"$f":"IF(I1401=\"\",\"\",IF(VLOOKUP(I1401,CAD_Q!$C$6:$D$105,2,FALSE)=0,\"\",VLOOKUP(I1401,CAD_Q!$C$6:$D$105,2,FALSE)))","v":""},{"$f":"IFERROR(VLOOKUP(I1401,CAD_Q!$C$6:$E$109,3,FALSE)*F1401,\"\")","v":""},null,null,"",1,0,1900,0,1,1900,"Nombre y el registro de entrada válida"]
[null,"",null,null,null,"",null,null,null,{"$f":"IF(I1402=\"\",\"\",IF(VLOOKUP(I1402,CAD_Q!$C$6:$D$105,2,FALSE)=0,\"\",VLOOKUP(I1402,CAD_Q!$C$6:$D$105,2,FALSE)))","v":""},{"$f":"IFERROR(VLOOKUP(I1402,CAD_Q!$C$6:$E$109,3,FALSE)*F1402,\"\")","v":""},null,null,"",1,0,1900,0,1,1900,"Nombre y el registro de entrada válida"]
[null,"",null,null,null,"",null,null,null,{"$f":"IF(I1403=\"\",\"\",IF(VLOOKUP(I1403,CAD_Q!$C$6:$D$105,2,FALSE)=0,\"\",VLOOKUP(I1403,CAD_Q!$C$6:$D$105,2,FALSE)))","v":""},{"$f":"IFERROR(VLOOKUP(I1403,CAD_Q!$C$6:$E$109,3,FALSE)*F1403,\"\")","v":""},null,null,"",1,0,1900,0,1,1900,"Nombre y el registro de entrada válida"]
[null,"",null,null,null,"",null,null,null,{"$f":"IF(I1404=\"\",\"\",IF(VLOOKUP(I1404,CAD_Q!$C$6:$D$105,2,FALSE)=0,\"\",VLOOKUP(I1404,CAD_Q!$C$6:$D$105,2,FALSE)))","v":""},{"$f":"IFERROR(VLOOKUP(I1404,CAD_Q!$C$6:$E$109,3,FALSE)*F1404,\"\")","v":""},null,null,"",1,0,1900,0,1,1900,"Nombre y el registro de entrada válida"]
[null,"",null,null,null,"",null,null,null,{"$f":"IF(I1405=\"\",\"\",IF(VLOOKUP(I1405,CAD_Q!$C$6:$D$105,2,FALSE)=0,\"\",VLOOKUP(I1405,CAD_Q!$C$6:$D$105,2,FALSE)))","v":""},{"$f":"IFERROR(VLOOKUP(I1405,CAD_Q!$C$6:$E$109,3,FALSE)*F1405,\"\")","v":""},null,null,"",1,0,1900,0,1,1900,"Nombre y el registro de entrada válida"]
[null,"",null,null,null,"",null,null,null,{"$f":"IF(I1406=\"\",\"\",IF(VLOOKUP(I1406,CAD_Q!$C$6:$D$105,2,FALSE)=0,\"\",VLOOKUP(I1406,CAD_Q!$C$6:$D$105,2,FALSE)))","v":""},{"$f":"IFERROR(VLOOKUP(I1406,CAD_Q!$C$6:$E$109,3,FALSE)*F1406,\"\")","v":""},null,null,"",1,0,1900,0,1,1900,"Nombre y el registro de entrada válida"]
[null,"",null,null,null,"",null,null,null,{"$f":"IF(I1407=\"\",\"\",IF(VLOOKUP(I1407,CAD_Q!$C$6:$D$105,2,FALSE)=0,\"\",VLOOKUP(I1407,CAD_Q!$C$6:$D$105,2,FALSE)))","v":""},{"$f":"IFERROR(VLOOKUP(I1407,CAD_Q!$C$6:$E$109,3,FALSE)*F1407,\"\")","v":""},null,null,"",1,0,1900,0,1,1900,"Nombre y el registro de entrada válida"]
[null,"",null,null,null,"",null,null,null,{"$f":"IF(I1408=\"\",\"\",IF(VLOOKUP(I1408,CAD_Q!$C$6:$D$105,2,FALSE)=0,\"\",VLOOKUP(I1408,CAD_Q!$C$6:$D$105,2,FALSE)))","v":""},{"$f":"IFERROR(VLOOKUP(I1408,CAD_Q!$C$6:$E$109,3,FALSE)*F1408,\"\")","v":""},null,null,"",1,0,1900,0,1,1900,"Nombre y el registro de entrada válida"]
[null,"",null,null,null,"",null,null,null,{"$f":"IF(I1409=\"\",\"\",IF(VLOOKUP(I1409,CAD_Q!$C$6:$D$105,2,FALSE)=0,\"\",VLOOKUP(I1409,CAD_Q!$C$6:$D$105,2,FALSE)))","v":""},{"$f":"IFERROR(VLOOKUP(I1409,CAD_Q!$C$6:$E$109,3,FALSE)*F1409,\"\")","v":""},null,null,"",1,0,1900,0,1,1900,"Nombre y el registro de entrada válida"]
[null,"",null,null,null,"",null,null,null,{"$f":"IF(I1410=\"\",\"\",IF(VLOOKUP(I1410,CAD_Q!$C$6:$D$105,2,FALSE)=0,\"\",VLOOKUP(I1410,CAD_Q!$C$6:$D$105,2,FALSE)))","v":""},{"$f":"IFERROR(VLOOKUP(I1410,CAD_Q!$C$6:$E$109,3,FALSE)*F1410,\"\")","v":""},null,null,"",1,0,1900,0,1,1900,"Nombre y el registro de entrada válida"]
[null,"",null,null,null,"",null,null,null,{"$f":"IF(I1411=\"\",\"\",IF(VLOOKUP(I1411,CAD_Q!$C$6:$D$105,2,FALSE)=0,\"\",VLOOKUP(I1411,CAD_Q!$C$6:$D$105,2,FALSE)))","v":""},{"$f":"IFERROR(VLOOKUP(I1411,CAD_Q!$C$6:$E$109,3,FALSE)*F1411,\"\")","v":""},null,null,"",1,0,1900,0,1,1900,"Nombre y el registro de entrada válida"]
[null,"",null,null,null,"",null,null,null,{"$f":"IF(I1412=\"\",\"\",IF(VLOOKUP(I1412,CAD_Q!$C$6:$D$105,2,FALSE)=0,\"\",VLOOKUP(I1412,CAD_Q!$C$6:$D$105,2,FALSE)))","v":""},{"$f":"IFERROR(VLOOKUP(I1412,CAD_Q!$C$6:$E$109,3,FALSE)*F1412,\"\")","v":""},null,null,"",1,0,1900,0,1,1900,"Nombre y el registro de entrada válida"]
[null,"",null,null,null,"",null,null,null,{"$f":"IF(I1413=\"\",\"\",IF(VLOOKUP(I1413,CAD_Q!$C$6:$D$105,2,FALSE)=0,\"\",VLOOKUP(I1413,CAD_Q!$C$6:$D$105,2,FALSE)))","v":""},{"$f":"IFERROR(VLOOKUP(I1413,CAD_Q!$C$6:$E$109,3,FALSE)*F1413,\"\")","v":""},null,null,"",1,0,1900,0,1,1900,"Nombre y el registro de entrada válida"]
[null,"",null,null,null,"",null,null,null,{"$f":"IF(I1414=\"\",\"\",IF(VLOOKUP(I1414,CAD_Q!$C$6:$D$105,2,FALSE)=0,\"\",VLOOKUP(I1414,CAD_Q!$C$6:$D$105,2,FALSE)))","v":""},{"$f":"IFERROR(VLOOKUP(I1414,CAD_Q!$C$6:$E$109,3,FALSE)*F1414,\"\")","v":""},null,null,"",1,0,1900,0,1,1900,"Nombre y el registro de entrada válida"]
[null,{"$f":"CONCATENATE(C1415,D1415)","v":""},null,null,null,"",null,null,null,{"$f":"IF(I1415=\"\",\"\",IF(VLOOKUP(I1415,CAD_Q!$C$6:$D$105,2,FALSE)=0,\"\",VLOOKUP(I1415,CAD_Q!$C$6:$D$105,2,FALSE)))","v":""},{"$f":"IFERROR(VLOOKUP(I1415,CAD_Q!$C$6:$E$109,3,FALSE)*F1415,\"\")","v":""},null,null,{"$f":"IFERROR(K1415-L1415+M1415,\"\")","v":""},1,0,1900,0,1,1900,"Nombre y el registro de entrada válida"]
[null,"",null,null,null,"",null,null,null,{"$f":"IF(I1416=\"\",\"\",IF(VLOOKUP(I1416,CAD_Q!$C$6:$D$105,2,FALSE)=0,\"\",VLOOKUP(I1416,CAD_Q!$C$6:$D$105,2,FALSE)))","v":""},{"$f":"IFERROR(VLOOKUP(I1416,CAD_Q!$C$6:$E$109,3,FALSE)*F1416,\"\")","v":""},null,null,"",1,0,1900,0,1,1900,"Nombre y el registro de entrada válida"]
[null,"",null,null,null,"",null,null,null,{"$f":"IF(I1417=\"\",\"\",IF(VLOOKUP(I1417,CAD_Q!$C$6:$D$105,2,FALSE)=0,\"\",VLOOKUP(I1417,CAD_Q!$C$6:$D$105,2,FALSE)))","v":""},{"$f":"IFERROR(VLOOKUP(I1417,CAD_Q!$C$6:$E$109,3,FALSE)*F1417,\"\")","v":""},null,null,"",1,0,1900,0,1,1900,"Nombre y el registro de entrada válida"]
[null,"",null,null,null,"",null,null,null,{"$f":"IF(I1418=\"\",\"\",IF(VLOOKUP(I1418,CAD_Q!$C$6:$D$105,2,FALSE)=0,\"\",VLOOKUP(I1418,CAD_Q!$C$6:$D$105,2,FALSE)))","v":""},{"$f":"IFERROR(VLOOKUP(I1418,CAD_Q!$C$6:$E$109,3,FALSE)*F1418,\"\")","v":""},null,null,"",{"$f":"MONTH(D1418)","v":1},{"$f":"DAY(D1418)","v":0},{"$f":"YEAR(D1418)","v":1900},{"$f":"DAY(E1418)","v":0},{"$f":"MONTH(E1418)","v":1},{"$f":"YEAR(E1418)","v":1900},"Nombre y el registro de entrada válida"]
[null,"",null,null,null,"",null,null,null,{"$f":"IF(I1419=\"\",\"\",IF(VLOOKUP(I1419,CAD_Q!$C$6:$D$105,2,FALSE)=0,\"\",VLOOKUP(I1419,CAD_Q!$C$6:$D$105,2,FALSE)))","v":""},{"$f":"IFERROR(VLOOKUP(I1419,CAD_Q!$C$6:$E$109,3,FALSE)*F1419,\"\")","v":""},null,null,"",1,0,1900,0,1,1900,"Nombre y el registro de entrada válida"]
[null,"",null,null,null,"",null,null,null,{"$f":"IF(I1420=\"\",\"\",IF(VLOOKUP(I1420,CAD_Q!$C$6:$D$105,2,FALSE)=0,\"\",VLOOKUP(I1420,CAD_Q!$C$6:$D$105,2,FALSE)))","v":""},{"$f":"IFERROR(VLOOKUP(I1420,CAD_Q!$C$6:$E$109,3,FALSE)*F1420,\"\")","v":""},null,null,"",1,0,1900,0,1,1900,"Nombre y el registro de entrada válida"]
[null,"",null,null,null,"",null,null,null,{"$f":"IF(I1421=\"\",\"\",IF(VLOOKUP(I1421,CAD_Q!$C$6:$D$105,2,FALSE)=0,\"\",VLOOKUP(I1421,CAD_Q!$C$6:$D$105,2,FALSE)))","v":""},{"$f":"IFERROR(VLOOKUP(I1421,CAD_Q!$C$6:$E$109,3,FALSE)*F1421,\"\")","v":""},null,null,"",1,0,1900,0,1,1900,"Nombre y el registro de entrada válida"]
[null,"",null,null,null,"",null,null,null,{"$f":"IF(I1422=\"\",\"\",IF(VLOOKUP(I1422,CAD_Q!$C$6:$D$105,2,FALSE)=0,\"\",VLOOKUP(I1422,CAD_Q!$C$6:$D$105,2,FALSE)))","v":""},{"$f":"IFERROR(VLOOKUP(I1422,CAD_Q!$C$6:$E$109,3,FALSE)*F1422,\"\")","v":""},null,null,"",1,0,1900,0,1,1900,"Nombre y el registro de entrada válida"]
[null,"",null,null,null,"",null,null,null,{"$f":"IF(I1423=\"\",\"\",IF(VLOOKUP(I1423,CAD_Q!$C$6:$D$105,2,FALSE)=0,\"\",VLOOKUP(I1423,CAD_Q!$C$6:$D$105,2,FALSE)))","v":""},{"$f":"IFERROR(VLOOKUP(I1423,CAD_Q!$C$6:$E$109,3,FALSE)*F1423,\"\")","v":""},null,null,"",1,0,1900,0,1,1900,"Nombre y el registro de entrada válida"]
[null,"",null,null,null,"",null,null,null,{"$f":"IF(I1424=\"\",\"\",IF(VLOOKUP(I1424,CAD_Q!$C$6:$D$105,2,FALSE)=0,\"\",VLOOKUP(I1424,CAD_Q!$C$6:$D$105,2,FALSE)))","v":""},{"$f":"IFERROR(VLOOKUP(I1424,CAD_Q!$C$6:$E$109,3,FALSE)*F1424,\"\")","v":""},null,null,"",1,0,1900,0,1,1900,"Nombre y el registro de entrada válida"]
[null,"",null,null,null,"",null,null,null,{"$f":"IF(I1425=\"\",\"\",IF(VLOOKUP(I1425,CAD_Q!$C$6:$D$105,2,FALSE)=0,\"\",VLOOKUP(I1425,CAD_Q!$C$6:$D$105,2,FALSE)))","v":""},{"$f":"IFERROR(VLOOKUP(I1425,CAD_Q!$C$6:$E$109,3,FALSE)*F1425,\"\")","v":""},null,null,"",1,0,1900,0,1,1900,"Nombre y el registro de entrada válida"]
[null,"",null,null,null,"",null,null,null,{"$f":"IF(I1426=\"\",\"\",IF(VLOOKUP(I1426,CAD_Q!$C$6:$D$105,2,FALSE)=0,\"\",VLOOKUP(I1426,CAD_Q!$C$6:$D$105,2,FALSE)))","v":""},{"$f":"IFERROR(VLOOKUP(I1426,CAD_Q!$C$6:$E$109,3,FALSE)*F1426,\"\")","v":""},null,null,"",1,0,1900,0,1,1900,"Nombre y el registro de entrada válida"]
[null,"",null,null,null,"",null,null,null,{"$f":"IF(I1427=\"\",\"\",IF(VLOOKUP(I1427,CAD_Q!$C$6:$D$105,2,FALSE)=0,\"\",VLOOKUP(I1427,CAD_Q!$C$6:$D$105,2,FALSE)))","v":""},{"$f":"IFERROR(VLOOKUP(I1427,CAD_Q!$C$6:$E$109,3,FALSE)*F1427,\"\")","v":""},null,null,"",1,0,1900,0,1,1900,"Nombre y el registro de entrada válida"]
[null,"",null,null,null,"",null,null,null,{"$f":"IF(I1428=\"\",\"\",IF(VLOOKUP(I1428,CAD_Q!$C$6:$D$105,2,FALSE)=0,\"\",VLOOKUP(I1428,CAD_Q!$C$6:$D$105,2,FALSE)))","v":""},{"$f":"IFERROR(VLOOKUP(I1428,CAD_Q!$C$6:$E$109,3,FALSE)*F1428,\"\")","v":""},null,null,"",1,0,1900,0,1,1900,"Nombre y el registro de entrada válida"]
[null,"",null,null,null,"",null,null,null,{"$f":"IF(I1429=\"\",\"\",IF(VLOOKUP(I1429,CAD_Q!$C$6:$D$105,2,FALSE)=0,\"\",VLOOKUP(I1429,CAD_Q!$C$6:$D$105,2,FALSE)))","v":""},{"$f":"IFERROR(VLOOKUP(I1429,CAD_Q!$C$6:$E$109,3,FALSE)*F1429,\"\")","v":""},null,null,"",1,0,1900,0,1,1900,"Nombre y el registro de entrada válida"]
[null,"",null,null,null,"",null,null,null,{"$f":"IF(I1430=\"\",\"\",IF(VLOOKUP(I1430,CAD_Q!$C$6:$D$105,2,FALSE)=0,\"\",VLOOKUP(I1430,CAD_Q!$C$6:$D$105,2,FALSE)))","v":""},{"$f":"IFERROR(VLOOKUP(I1430,CAD_Q!$C$6:$E$109,3,FALSE)*F1430,\"\")","v":""},null,null,"",1,0,1900,0,1,1900,"Nombre y el registro de entrada válida"]
[null,"",null,null,null,"",null,null,null,{"$f":"IF(I1431=\"\",\"\",IF(VLOOKUP(I1431,CAD_Q!$C$6:$D$105,2,FALSE)=0,\"\",VLOOKUP(I1431,CAD_Q!$C$6:$D$105,2,FALSE)))","v":""},{"$f":"IFERROR(VLOOKUP(I1431,CAD_Q!$C$6:$E$109,3,FALSE)*F1431,\"\")","v":""},null,null,"",1,0,1900,0,1,1900,"Nombre y el registro de entrada válida"]
[null,"",null,null,null,"",null,null,null,{"$f":"IF(I1432=\"\",\"\",IF(VLOOKUP(I1432,CAD_Q!$C$6:$D$105,2,FALSE)=0,\"\",VLOOKUP(I1432,CAD_Q!$C$6:$D$105,2,FALSE)))","v":""},{"$f":"IFERROR(VLOOKUP(I1432,CAD_Q!$C$6:$E$109,3,FALSE)*F1432,\"\")","v":""},null,null,"",1,0,1900,0,1,1900,"Nombre y el registro de entrada válida"]
[null,"",null,null,null,"",null,null,null,{"$f":"IF(I1433=\"\",\"\",IF(VLOOKUP(I1433,CAD_Q!$C$6:$D$105,2,FALSE)=0,\"\",VLOOKUP(I1433,CAD_Q!$C$6:$D$105,2,FALSE)))","v":""},{"$f":"IFERROR(VLOOKUP(I1433,CAD_Q!$C$6:$E$109,3,FALSE)*F1433,\"\")","v":""},null,null,"",1,0,1900,0,1,1900,"Nombre y el registro de entrada válida"]
[null,"",null,null,null,"",null,null,null,{"$f":"IF(I1434=\"\",\"\",IF(VLOOKUP(I1434,CAD_Q!$C$6:$D$105,2,FALSE)=0,\"\",VLOOKUP(I1434,CAD_Q!$C$6:$D$105,2,FALSE)))","v":""},{"$f":"IFERROR(VLOOKUP(I1434,CAD_Q!$C$6:$E$109,3,FALSE)*F1434,\"\")","v":""},null,null,"",1,0,1900,0,1,1900,"Nombre y el registro de entrada válida"]
[null,"",null,null,null,"",null,null,null,{"$f":"IF(I1435=\"\",\"\",IF(VLOOKUP(I1435,CAD_Q!$C$6:$D$105,2,FALSE)=0,\"\",VLOOKUP(I1435,CAD_Q!$C$6:$D$105,2,FALSE)))","v":""},{"$f":"IFERROR(VLOOKUP(I1435,CAD_Q!$C$6:$E$109,3,FALSE)*F1435,\"\")","v":""},null,null,"",1,0,1900,0,1,1900,"Nombre y el registro de entrada válida"]
[null,"",null,null,null,"",null,null,null,{"$f":"IF(I1436=\"\",\"\",IF(VLOOKUP(I1436,CAD_Q!$C$6:$D$105,2,FALSE)=0,\"\",VLOOKUP(I1436,CAD_Q!$C$6:$D$105,2,FALSE)))","v":""},{"$f":"IFERROR(VLOOKUP(I1436,CAD_Q!$C$6:$E$109,3,FALSE)*F1436,\"\")","v":""},null,null,"",1,0,1900,0,1,1900,"Nombre y el registro de entrada válida"]
[null,"",null,null,null,"",null,null,null,{"$f":"IF(I1437=\"\",\"\",IF(VLOOKUP(I1437,CAD_Q!$C$6:$D$105,2,FALSE)=0,\"\",VLOOKUP(I1437,CAD_Q!$C$6:$D$105,2,FALSE)))","v":""},{"$f":"IFERROR(VLOOKUP(I1437,CAD_Q!$C$6:$E$109,3,FALSE)*F1437,\"\")","v":""},null,null,"",1,0,1900,0,1,1900,"Nombre y el registro de entrada válida"]
[null,"",null,null,null,"",null,null,null,{"$f":"IF(I1438=\"\",\"\",IF(VLOOKUP(I1438,CAD_Q!$C$6:$D$105,2,FALSE)=0,\"\",VLOOKUP(I1438,CAD_Q!$C$6:$D$105,2,FALSE)))","v":""},{"$f":"IFERROR(VLOOKUP(I1438,CAD_Q!$C$6:$E$109,3,FALSE)*F1438,\"\")","v":""},null,null,"",1,0,1900,0,1,1900,"Nombre y el registro de entrada válida"]
[null,"",null,null,null,"",null,null,null,{"$f":"IF(I1439=\"\",\"\",IF(VLOOKUP(I1439,CAD_Q!$C$6:$D$105,2,FALSE)=0,\"\",VLOOKUP(I1439,CAD_Q!$C$6:$D$105,2,FALSE)))","v":""},{"$f":"IFERROR(VLOOKUP(I1439,CAD_Q!$C$6:$E$109,3,FALSE)*F1439,\"\")","v":""},null,null,"",1,0,1900,0,1,1900,"Nombre y el registro de entrada válida"]
[null,"",null,null,null,"",null,null,null,{"$f":"IF(I1440=\"\",\"\",IF(VLOOKUP(I1440,CAD_Q!$C$6:$D$105,2,FALSE)=0,\"\",VLOOKUP(I1440,CAD_Q!$C$6:$D$105,2,FALSE)))","v":""},{"$f":"IFERROR(VLOOKUP(I1440,CAD_Q!$C$6:$E$109,3,FALSE)*F1440,\"\")","v":""},null,null,"",1,0,1900,0,1,1900,"Nombre y el registro de entrada válida"]
[null,"",null,null,null,"",null,null,null,{"$f":"IF(I1441=\"\",\"\",IF(VLOOKUP(I1441,CAD_Q!$C$6:$D$105,2,FALSE)=0,\"\",VLOOKUP(I1441,CAD_Q!$C$6:$D$105,2,FALSE)))","v":""},{"$f":"IFERROR(VLOOKUP(I1441,CAD_Q!$C$6:$E$109,3,FALSE)*F1441,\"\")","v":""},null,null,"",1,0,1900,0,1,1900,"Nombre y el registro de entrada válida"]
[null,"",null,null,null,"",null,null,null,{"$f":"IF(I1442=\"\",\"\",IF(VLOOKUP(I1442,CAD_Q!$C$6:$D$105,2,FALSE)=0,\"\",VLOOKUP(I1442,CAD_Q!$C$6:$D$105,2,FALSE)))","v":""},{"$f":"IFERROR(VLOOKUP(I1442,CAD_Q!$C$6:$E$109,3,FALSE)*F1442,\"\")","v":""},null,null,"",1,0,1900,0,1,1900,"Nombre y el registro de entrada válida"]
[null,"",null,null,null,"",null,null,null,{"$f":"IF(I1443=\"\",\"\",IF(VLOOKUP(I1443,CAD_Q!$C$6:$D$105,2,FALSE)=0,\"\",VLOOKUP(I1443,CAD_Q!$C$6:$D$105,2,FALSE)))","v":""},{"$f":"IFERROR(VLOOKUP(I1443,CAD_Q!$C$6:$E$109,3,FALSE)*F1443,\"\")","v":""},null,null,"",1,0,1900,0,1,1900,"Nombre y el registro de entrada válida"]
[null,"",null,null,null,{"$f":"IF(OR(D1444=\"\",E1444=\"\"),\"\",E1444-D1444)","v":""},null,null,null,{"$f":"IF(I1444=\"\",\"\",IF(VLOOKUP(I1444,CAD_Q!$C$6:$D$105,2,FALSE)=0,\"\",VLOOKUP(I1444,CAD_Q!$C$6:$D$105,2,FALSE)))","v":""},{"$f":"IFERROR(VLOOKUP(I1444,CAD_Q!$C$6:$E$109,3,FALSE)*F1444,\"\")","v":""},null,null,"",1,0,1900,0,1,1900,"Nombre y el registro de entrada válida"]
[null,"",null,null,null,"",null,null,null,{"$f":"IF(I1445=\"\",\"\",IF(VLOOKUP(I1445,CAD_Q!$C$6:$D$105,2,FALSE)=0,\"\",VLOOKUP(I1445,CAD_Q!$C$6:$D$105,2,FALSE)))","v":""},{"$f":"IFERROR(VLOOKUP(I1445,CAD_Q!$C$6:$E$109,3,FALSE)*F1445,\"\")","v":""},null,null,"",1,0,1900,0,1,1900,"Nombre y el registro de entrada válida"]
[null,"",null,null,null,"",null,null,null,{"$f":"IF(I1446=\"\",\"\",IF(VLOOKUP(I1446,CAD_Q!$C$6:$D$105,2,FALSE)=0,\"\",VLOOKUP(I1446,CAD_Q!$C$6:$D$105,2,FALSE)))","v":""},{"$f":"IFERROR(VLOOKUP(I1446,CAD_Q!$C$6:$E$109,3,FALSE)*F1446,\"\")","v":""},null,null,"",1,0,1900,0,1,1900,"Nombre y el registro de entrada válida"]
[null,"",null,null,null,"",null,null,null,{"$f":"IF(I1447=\"\",\"\",IF(VLOOKUP(I1447,CAD_Q!$C$6:$D$105,2,FALSE)=0,\"\",VLOOKUP(I1447,CAD_Q!$C$6:$D$105,2,FALSE)))","v":""},{"$f":"IFERROR(VLOOKUP(I1447,CAD_Q!$C$6:$E$109,3,FALSE)*F1447,\"\")","v":""},null,null,"",1,0,1900,0,1,1900,"Nombre y el registro de entrada válida"]
[null,"",null,null,null,"",null,null,null,{"$f":"IF(I1448=\"\",\"\",IF(VLOOKUP(I1448,CAD_Q!$C$6:$D$105,2,FALSE)=0,\"\",VLOOKUP(I1448,CAD_Q!$C$6:$D$105,2,FALSE)))","v":""},{"$f":"IFERROR(VLOOKUP(I1448,CAD_Q!$C$6:$E$109,3,FALSE)*F1448,\"\")","v":""},null,null,"",1,0,1900,0,1,1900,"Nombre y el registro de entrada válida"]
[null,"",null,null,null,"",null,null,null,{"$f":"IF(I1449=\"\",\"\",IF(VLOOKUP(I1449,CAD_Q!$C$6:$D$105,2,FALSE)=0,\"\",VLOOKUP(I1449,CAD_Q!$C$6:$D$105,2,FALSE)))","v":""},{"$f":"IFERROR(VLOOKUP(I1449,CAD_Q!$C$6:$E$109,3,FALSE)*F1449,\"\")","v":""},null,null,"",1,0,1900,0,1,1900,"Nombre y el registro de entrada válida"]
[null,"",null,null,null,"",null,null,null,{"$f":"IF(I1450=\"\",\"\",IF(VLOOKUP(I1450,CAD_Q!$C$6:$D$105,2,FALSE)=0,\"\",VLOOKUP(I1450,CAD_Q!$C$6:$D$105,2,FALSE)))","v":""},{"$f":"IFERROR(VLOOKUP(I1450,CAD_Q!$C$6:$E$109,3,FALSE)*F1450,\"\")","v":""},null,null,"",1,0,1900,0,1,1900,"Nombre y el registro de entrada válida"]
[null,"",null,null,null,"",null,null,null,{"$f":"IF(I1451=\"\",\"\",IF(VLOOKUP(I1451,CAD_Q!$C$6:$D$105,2,FALSE)=0,\"\",VLOOKUP(I1451,CAD_Q!$C$6:$D$105,2,FALSE)))","v":""},{"$f":"IFERROR(VLOOKUP(I1451,CAD_Q!$C$6:$E$109,3,FALSE)*F1451,\"\")","v":""},null,null,"",1,0,1900,0,1,1900,"Nombre y el registro de entrada válida"]
[null,"",null,null,null,"",null,null,null,{"$f":"IF(I1452=\"\",\"\",IF(VLOOKUP(I1452,CAD_Q!$C$6:$D$105,2,FALSE)=0,\"\",VLOOKUP(I1452,CAD_Q!$C$6:$D$105,2,FALSE)))","v":""},{"$f":"IFERROR(VLOOKUP(I1452,CAD_Q!$C$6:$E$109,3,FALSE)*F1452,\"\")","v":""},null,null,"",1,0,1900,0,1,1900,"Nombre y el registro de entrada válida"]
[null,"",null,null,null,"",null,null,null,{"$f":"IF(I1453=\"\",\"\",IF(VLOOKUP(I1453,CAD_Q!$C$6:$D$105,2,FALSE)=0,\"\",VLOOKUP(I1453,CAD_Q!$C$6:$D$105,2,FALSE)))","v":""},{"$f":"IFERROR(VLOOKUP(I1453,CAD_Q!$C$6:$E$109,3,FALSE)*F1453,\"\")","v":""},null,null,"",1,0,1900,0,1,1900,"Nombre y el registro de entrada válida"]
[null,"",null,null,null,"",null,null,null,{"$f":"IF(I1454=\"\",\"\",IF(VLOOKUP(I1454,CAD_Q!$C$6:$D$105,2,FALSE)=0,\"\",VLOOKUP(I1454,CAD_Q!$C$6:$D$105,2,FALSE)))","v":""},{"$f":"IFERROR(VLOOKUP(I1454,CAD_Q!$C$6:$E$109,3,FALSE)*F1454,\"\")","v":""},null,null,"",1,0,1900,0,1,1900,"Nombre y el registro de entrada válida"]
[null,"",null,null,null,"",null,null,null,{"$f":"IF(I1455=\"\",\"\",IF(VLOOKUP(I1455,CAD_Q!$C$6:$D$105,2,FALSE)=0,\"\",VLOOKUP(I1455,CAD_Q!$C$6:$D$105,2,FALSE)))","v":""},{"$f":"IFERROR(VLOOKUP(I1455,CAD_Q!$C$6:$E$109,3,FALSE)*F1455,\"\")","v":""},null,null,"",1,0,1900,0,1,1900,"Nombre y el registro de entrada válida"]
[null,"",null,null,null,"",null,null,null,{"$f":"IF(I1456=\"\",\"\",IF(VLOOKUP(I1456,CAD_Q!$C$6:$D$105,2,FALSE)=0,\"\",VLOOKUP(I1456,CAD_Q!$C$6:$D$105,2,FALSE)))","v":""},{"$f":"IFERROR(VLOOKUP(I1456,CAD_Q!$C$6:$E$109,3,FALSE)*F1456,\"\")","v":""},null,null,"",1,0,1900,0,1,1900,"Nombre y el registro de entrada válida"]
[null,"",null,null,null,"",null,null,null,{"$f":"IF(I1457=\"\",\"\",IF(VLOOKUP(I1457,CAD_Q!$C$6:$D$105,2,FALSE)=0,\"\",VLOOKUP(I1457,CAD_Q!$C$6:$D$105,2,FALSE)))","v":""},{"$f":"IFERROR(VLOOKUP(I1457,CAD_Q!$C$6:$E$109,3,FALSE)*F1457,\"\")","v":""},null,null,"",1,0,1900,0,1,1900,"Nombre y el registro de entrada válida"]
[null,"",null,null,null,"",null,null,null,{"$f":"IF(I1458=\"\",\"\",IF(VLOOKUP(I1458,CAD_Q!$C$6:$D$105,2,FALSE)=0,\"\",VLOOKUP(I1458,CAD_Q!$C$6:$D$105,2,FALSE)))","v":""},{"$f":"IFERROR(VLOOKUP(I1458,CAD_Q!$C$6:$E$109,3,FALSE)*F1458,\"\")","v":""},null,null,"",1,0,1900,0,1,1900,"Nombre y el registro de entrada válida"]
[null,"",null,null,null,"",null,null,null,{"$f":"IF(I1459=\"\",\"\",IF(VLOOKUP(I1459,CAD_Q!$C$6:$D$105,2,FALSE)=0,\"\",VLOOKUP(I1459,CAD_Q!$C$6:$D$105,2,FALSE)))","v":""},{"$f":"IFERROR(VLOOKUP(I1459,CAD_Q!$C$6:$E$109,3,FALSE)*F1459,\"\")","v":""},null,null,"",1,0,1900,0,1,1900,"Nombre y el registro de entrada válida"]
[null,"",null,null,null,"",null,null,null,{"$f":"IF(I1460=\"\",\"\",IF(VLOOKUP(I1460,CAD_Q!$C$6:$D$105,2,FALSE)=0,\"\",VLOOKUP(I1460,CAD_Q!$C$6:$D$105,2,FALSE)))","v":""},{"$f":"IFERROR(VLOOKUP(I1460,CAD_Q!$C$6:$E$109,3,FALSE)*F1460,\"\")","v":""},null,null,"",1,0,1900,0,1,1900,"Nombre y el registro de entrada válida"]
[null,"",null,null,null,"",null,null,null,{"$f":"IF(I1461=\"\",\"\",IF(VLOOKUP(I1461,CAD_Q!$C$6:$D$105,2,FALSE)=0,\"\",VLOOKUP(I1461,CAD_Q!$C$6:$D$105,2,FALSE)))","v":""},{"$f":"IFERROR(VLOOKUP(I1461,CAD_Q!$C$6:$E$109,3,FALSE)*F1461,\"\")","v":""},null,null,"",1,0,1900,0,1,1900,"Nombre y el registro de entrada válida"]
[null,"",null,null,null,"",null,null,null,{"$f":"IF(I1462=\"\",\"\",IF(VLOOKUP(I1462,CAD_Q!$C$6:$D$105,2,FALSE)=0,\"\",VLOOKUP(I1462,CAD_Q!$C$6:$D$105,2,FALSE)))","v":""},{"$f":"IFERROR(VLOOKUP(I1462,CAD_Q!$C$6:$E$109,3,FALSE)*F1462,\"\")","v":""},null,null,"",1,0,1900,0,1,1900,"Nombre y el registro de entrada válida"]
[null,"",null,null,null,"",null,null,null,{"$f":"IF(I1463=\"\",\"\",IF(VLOOKUP(I1463,CAD_Q!$C$6:$D$105,2,FALSE)=0,\"\",VLOOKUP(I1463,CAD_Q!$C$6:$D$105,2,FALSE)))","v":""},{"$f":"IFERROR(VLOOKUP(I1463,CAD_Q!$C$6:$E$109,3,FALSE)*F1463,\"\")","v":""},null,null,"",1,0,1900,0,1,1900,"Nombre y el registro de entrada válida"]
[null,"",null,null,null,"",null,null,null,{"$f":"IF(I1464=\"\",\"\",IF(VLOOKUP(I1464,CAD_Q!$C$6:$D$105,2,FALSE)=0,\"\",VLOOKUP(I1464,CAD_Q!$C$6:$D$105,2,FALSE)))","v":""},{"$f":"IFERROR(VLOOKUP(I1464,CAD_Q!$C$6:$E$109,3,FALSE)*F1464,\"\")","v":""},null,null,"",1,0,1900,0,1,1900,"Nombre y el registro de entrada válida"]
[null,"",null,null,null,"",null,null,null,{"$f":"IF(I1465=\"\",\"\",IF(VLOOKUP(I1465,CAD_Q!$C$6:$D$105,2,FALSE)=0,\"\",VLOOKUP(I1465,CAD_Q!$C$6:$D$105,2,FALSE)))","v":""},{"$f":"IFERROR(VLOOKUP(I1465,CAD_Q!$C$6:$E$109,3,FALSE)*F1465,\"\")","v":""},null,null,"",1,0,1900,0,1,1900,"Nombre y el registro de entrada válida"]
[null,"",null,null,null,"",null,null,null,{"$f":"IF(I1466=\"\",\"\",IF(VLOOKUP(I1466,CAD_Q!$C$6:$D$105,2,FALSE)=0,\"\",VLOOKUP(I1466,CAD_Q!$C$6:$D$105,2,FALSE)))","v":""},{"$f":"IFERROR(VLOOKUP(I1466,CAD_Q!$C$6:$E$109,3,FALSE)*F1466,\"\")","v":""},null,null,"",1,0,1900,0,1,1900,"Nombre y el registro de entrada válida"]
[null,"",null,null,null,"",null,null,null,{"$f":"IF(I1467=\"\",\"\",IF(VLOOKUP(I1467,CAD_Q!$C$6:$D$105,2,FALSE)=0,\"\",VLOOKUP(I1467,CAD_Q!$C$6:$D$105,2,FALSE)))","v":""},{"$f":"IFERROR(VLOOKUP(I1467,CAD_Q!$C$6:$E$109,3,FALSE)*F1467,\"\")","v":""},null,null,"",1,0,1900,0,1,1900,"Nombre y el registro de entrada válida"]
[null,"",null,null,null,"",null,null,null,{"$f":"IF(I1468=\"\",\"\",IF(VLOOKUP(I1468,CAD_Q!$C$6:$D$105,2,FALSE)=0,\"\",VLOOKUP(I1468,CAD_Q!$C$6:$D$105,2,FALSE)))","v":""},{"$f":"IFERROR(VLOOKUP(I1468,CAD_Q!$C$6:$E$109,3,FALSE)*F1468,\"\")","v":""},null,null,"",1,0,1900,0,1,1900,"Nombre y el registro de entrada válida"]
[null,"",null,null,null,"",null,null,null,{"$f":"IF(I1469=\"\",\"\",IF(VLOOKUP(I1469,CAD_Q!$C$6:$D$105,2,FALSE)=0,\"\",VLOOKUP(I1469,CAD_Q!$C$6:$D$105,2,FALSE)))","v":""},{"$f":"IFERROR(VLOOKUP(I1469,CAD_Q!$C$6:$E$109,3,FALSE)*F1469,\"\")","v":""},null,null,"",1,0,1900,0,1,1900,"Nombre y el registro de entrada válida"]
[null,"",null,null,null,"",null,null,null,{"$f":"IF(I1470=\"\",\"\",IF(VLOOKUP(I1470,CAD_Q!$C$6:$D$105,2,FALSE)=0,\"\",VLOOKUP(I1470,CAD_Q!$C$6:$D$105,2,FALSE)))","v":""},{"$f":"IFERROR(VLOOKUP(I1470,CAD_Q!$C$6:$E$109,3,FALSE)*F1470,\"\")","v":""},null,null,"",1,0,1900,0,1,1900,"Nombre y el registro de entrada válida"]
[null,"",null,null,null,"",null,null,null,{"$f":"IF(I1471=\"\",\"\",IF(VLOOKUP(I1471,CAD_Q!$C$6:$D$105,2,FALSE)=0,\"\",VLOOKUP(I1471,CAD_Q!$C$6:$D$105,2,FALSE)))","v":""},{"$f":"IFERROR(VLOOKUP(I1471,CAD_Q!$C$6:$E$109,3,FALSE)*F1471,\"\")","v":""},null,null,"",1,0,1900,0,1,1900,"Nombre y el registro de entrada válida"]
[null,"",null,null,null,"",null,null,null,{"$f":"IF(I1472=\"\",\"\",IF(VLOOKUP(I1472,CAD_Q!$C$6:$D$105,2,FALSE)=0,\"\",VLOOKUP(I1472,CAD_Q!$C$6:$D$105,2,FALSE)))","v":""},{"$f":"IFERROR(VLOOKUP(I1472,CAD_Q!$C$6:$E$109,3,FALSE)*F1472,\"\")","v":""},null,null,"",1,0,1900,0,1,1900,"Nombre y el registro de entrada válida"]
[null,"",null,null,null,"",null,null,null,{"$f":"IF(I1473=\"\",\"\",IF(VLOOKUP(I1473,CAD_Q!$C$6:$D$105,2,FALSE)=0,\"\",VLOOKUP(I1473,CAD_Q!$C$6:$D$105,2,FALSE)))","v":""},{"$f":"IFERROR(VLOOKUP(I1473,CAD_Q!$C$6:$E$109,3,FALSE)*F1473,\"\")","v":""},null,null,"",1,0,1900,0,1,1900,"Nombre y el registro de entrada válida"]
[null,"",null,null,null,"",null,null,null,{"$f":"IF(I1474=\"\",\"\",IF(VLOOKUP(I1474,CAD_Q!$C$6:$D$105,2,FALSE)=0,\"\",VLOOKUP(I1474,CAD_Q!$C$6:$D$105,2,FALSE)))","v":""},{"$f":"IFERROR(VLOOKUP(I1474,CAD_Q!$C$6:$E$109,3,FALSE)*F1474,\"\")","v":""},null,null,"",1,0,1900,0,1,1900,"Nombre y el registro de entrada válida"]
[null,"",null,null,null,"",null,null,null,{"$f":"IF(I1475=\"\",\"\",IF(VLOOKUP(I1475,CAD_Q!$C$6:$D$105,2,FALSE)=0,\"\",VLOOKUP(I1475,CAD_Q!$C$6:$D$105,2,FALSE)))","v":""},{"$f":"IFERROR(VLOOKUP(I1475,CAD_Q!$C$6:$E$109,3,FALSE)*F1475,\"\")","v":""},null,null,"",1,0,1900,0,1,1900,"Nombre y el registro de entrada válida"]
[null,"",null,null,null,"",null,null,null,{"$f":"IF(I1476=\"\",\"\",IF(VLOOKUP(I1476,CAD_Q!$C$6:$D$105,2,FALSE)=0,\"\",VLOOKUP(I1476,CAD_Q!$C$6:$D$105,2,FALSE)))","v":""},{"$f":"IFERROR(VLOOKUP(I1476,CAD_Q!$C$6:$E$109,3,FALSE)*F1476,\"\")","v":""},null,null,"",1,0,1900,0,1,1900,"Nombre y el registro de entrada válida"]
[null,"",null,null,null,"",null,null,null,{"$f":"IF(I1477=\"\",\"\",IF(VLOOKUP(I1477,CAD_Q!$C$6:$D$105,2,FALSE)=0,\"\",VLOOKUP(I1477,CAD_Q!$C$6:$D$105,2,FALSE)))","v":""},{"$f":"IFERROR(VLOOKUP(I1477,CAD_Q!$C$6:$E$109,3,FALSE)*F1477,\"\")","v":""},null,null,"",1,0,1900,0,1,1900,"Nombre y el registro de entrada válida"]
[null,"",null,null,null,"",null,null,null,{"$f":"IF(I1478=\"\",\"\",IF(VLOOKUP(I1478,CAD_Q!$C$6:$D$105,2,FALSE)=0,\"\",VLOOKUP(I1478,CAD_Q!$C$6:$D$105,2,FALSE)))","v":""},{"$f":"IFERROR(VLOOKUP(I1478,CAD_Q!$C$6:$E$109,3,FALSE)*F1478,\"\")","v":""},null,null,"",1,0,1900,0,1,1900,"Nombre y el registro de entrada válida"]
[null,{"$f":"CONCATENATE(C1479,D1479)","v":""},null,null,null,"",null,null,null,{"$f":"IF(I1479=\"\",\"\",IF(VLOOKUP(I1479,CAD_Q!$C$6:$D$105,2,FALSE)=0,\"\",VLOOKUP(I1479,CAD_Q!$C$6:$D$105,2,FALSE)))","v":""},{"$f":"IFERROR(VLOOKUP(I1479,CAD_Q!$C$6:$E$109,3,FALSE)*F1479,\"\")","v":""},null,null,{"$f":"IFERROR(K1479-L1479+M1479,\"\")","v":""},1,0,1900,0,1,1900,"Nombre y el registro de entrada válida"]
[null,"",null,null,null,"",null,null,null,{"$f":"IF(I1480=\"\",\"\",IF(VLOOKUP(I1480,CAD_Q!$C$6:$D$105,2,FALSE)=0,\"\",VLOOKUP(I1480,CAD_Q!$C$6:$D$105,2,FALSE)))","v":""},{"$f":"IFERROR(VLOOKUP(I1480,CAD_Q!$C$6:$E$109,3,FALSE)*F1480,\"\")","v":""},null,null,"",1,0,1900,0,1,1900,"Nombre y el registro de entrada válida"]
[null,"",null,null,null,"",null,null,null,{"$f":"IF(I1481=\"\",\"\",IF(VLOOKUP(I1481,CAD_Q!$C$6:$D$105,2,FALSE)=0,\"\",VLOOKUP(I1481,CAD_Q!$C$6:$D$105,2,FALSE)))","v":""},{"$f":"IFERROR(VLOOKUP(I1481,CAD_Q!$C$6:$E$109,3,FALSE)*F1481,\"\")","v":""},null,null,"",1,0,1900,0,1,1900,"Nombre y el registro de entrada válida"]
[null,"",null,null,null,"",null,null,null,{"$f":"IF(I1482=\"\",\"\",IF(VLOOKUP(I1482,CAD_Q!$C$6:$D$105,2,FALSE)=0,\"\",VLOOKUP(I1482,CAD_Q!$C$6:$D$105,2,FALSE)))","v":""},{"$f":"IFERROR(VLOOKUP(I1482,CAD_Q!$C$6:$E$109,3,FALSE)*F1482,\"\")","v":""},null,null,"",{"$f":"MONTH(D1482)","v":1},{"$f":"DAY(D1482)","v":0},{"$f":"YEAR(D1482)","v":1900},{"$f":"DAY(E1482)","v":0},{"$f":"MONTH(E1482)","v":1},{"$f":"YEAR(E1482)","v":1900},"Nombre y el registro de entrada válida"]
[null,"",null,null,null,"",null,null,null,{"$f":"IF(I1483=\"\",\"\",IF(VLOOKUP(I1483,CAD_Q!$C$6:$D$105,2,FALSE)=0,\"\",VLOOKUP(I1483,CAD_Q!$C$6:$D$105,2,FALSE)))","v":""},{"$f":"IFERROR(VLOOKUP(I1483,CAD_Q!$C$6:$E$109,3,FALSE)*F1483,\"\")","v":""},null,null,"",1,0,1900,0,1,1900,"Nombre y el registro de entrada válida"]
[null,"",null,null,null,"",null,null,null,{"$f":"IF(I1484=\"\",\"\",IF(VLOOKUP(I1484,CAD_Q!$C$6:$D$105,2,FALSE)=0,\"\",VLOOKUP(I1484,CAD_Q!$C$6:$D$105,2,FALSE)))","v":""},{"$f":"IFERROR(VLOOKUP(I1484,CAD_Q!$C$6:$E$109,3,FALSE)*F1484,\"\")","v":""},null,null,"",1,0,1900,0,1,1900,"Nombre y el registro de entrada válida"]
[null,"",null,null,null,"",null,null,null,{"$f":"IF(I1485=\"\",\"\",IF(VLOOKUP(I1485,CAD_Q!$C$6:$D$105,2,FALSE)=0,\"\",VLOOKUP(I1485,CAD_Q!$C$6:$D$105,2,FALSE)))","v":""},{"$f":"IFERROR(VLOOKUP(I1485,CAD_Q!$C$6:$E$109,3,FALSE)*F1485,\"\")","v":""},null,null,"",1,0,1900,0,1,1900,"Nombre y el registro de entrada válida"]
[null,"",null,null,null,"",null,null,null,{"$f":"IF(I1486=\"\",\"\",IF(VLOOKUP(I1486,CAD_Q!$C$6:$D$105,2,FALSE)=0,\"\",VLOOKUP(I1486,CAD_Q!$C$6:$D$105,2,FALSE)))","v":""},{"$f":"IFERROR(VLOOKUP(I1486,CAD_Q!$C$6:$E$109,3,FALSE)*F1486,\"\")","v":""},null,null,"",1,0,1900,0,1,1900,"Nombre y el registro de entrada válida"]
[null,"",null,null,null,"",null,null,null,{"$f":"IF(I1487=\"\",\"\",IF(VLOOKUP(I1487,CAD_Q!$C$6:$D$105,2,FALSE)=0,\"\",VLOOKUP(I1487,CAD_Q!$C$6:$D$105,2,FALSE)))","v":""},{"$f":"IFERROR(VLOOKUP(I1487,CAD_Q!$C$6:$E$109,3,FALSE)*F1487,\"\")","v":""},null,null,"",1,0,1900,0,1,1900,"Nombre y el registro de entrada válida"]
[null,"",null,null,null,"",null,null,null,{"$f":"IF(I1488=\"\",\"\",IF(VLOOKUP(I1488,CAD_Q!$C$6:$D$105,2,FALSE)=0,\"\",VLOOKUP(I1488,CAD_Q!$C$6:$D$105,2,FALSE)))","v":""},{"$f":"IFERROR(VLOOKUP(I1488,CAD_Q!$C$6:$E$109,3,FALSE)*F1488,\"\")","v":""},null,null,"",1,0,1900,0,1,1900,"Nombre y el registro de entrada válida"]
[null,"",null,null,null,"",null,null,null,{"$f":"IF(I1489=\"\",\"\",IF(VLOOKUP(I1489,CAD_Q!$C$6:$D$105,2,FALSE)=0,\"\",VLOOKUP(I1489,CAD_Q!$C$6:$D$105,2,FALSE)))","v":""},{"$f":"IFERROR(VLOOKUP(I1489,CAD_Q!$C$6:$E$109,3,FALSE)*F1489,\"\")","v":""},null,null,"",1,0,1900,0,1,1900,"Nombre y el registro de entrada válida"]
[null,"",null,null,null,"",null,null,null,{"$f":"IF(I1490=\"\",\"\",IF(VLOOKUP(I1490,CAD_Q!$C$6:$D$105,2,FALSE)=0,\"\",VLOOKUP(I1490,CAD_Q!$C$6:$D$105,2,FALSE)))","v":""},{"$f":"IFERROR(VLOOKUP(I1490,CAD_Q!$C$6:$E$109,3,FALSE)*F1490,\"\")","v":""},null,null,"",1,0,1900,0,1,1900,"Nombre y el registro de entrada válida"]
[null,"",null,null,null,"",null,null,null,{"$f":"IF(I1491=\"\",\"\",IF(VLOOKUP(I1491,CAD_Q!$C$6:$D$105,2,FALSE)=0,\"\",VLOOKUP(I1491,CAD_Q!$C$6:$D$105,2,FALSE)))","v":""},{"$f":"IFERROR(VLOOKUP(I1491,CAD_Q!$C$6:$E$109,3,FALSE)*F1491,\"\")","v":""},null,null,"",1,0,1900,0,1,1900,"Nombre y el registro de entrada válida"]
[null,"",null,null,null,"",null,null,null,{"$f":"IF(I1492=\"\",\"\",IF(VLOOKUP(I1492,CAD_Q!$C$6:$D$105,2,FALSE)=0,\"\",VLOOKUP(I1492,CAD_Q!$C$6:$D$105,2,FALSE)))","v":""},{"$f":"IFERROR(VLOOKUP(I1492,CAD_Q!$C$6:$E$109,3,FALSE)*F1492,\"\")","v":""},null,null,"",1,0,1900,0,1,1900,"Nombre y el registro de entrada válida"]
[null,"",null,null,null,"",null,null,null,{"$f":"IF(I1493=\"\",\"\",IF(VLOOKUP(I1493,CAD_Q!$C$6:$D$105,2,FALSE)=0,\"\",VLOOKUP(I1493,CAD_Q!$C$6:$D$105,2,FALSE)))","v":""},{"$f":"IFERROR(VLOOKUP(I1493,CAD_Q!$C$6:$E$109,3,FALSE)*F1493,\"\")","v":""},null,null,"",1,0,1900,0,1,1900,"Nombre y el registro de entrada válida"]
[null,"",null,null,null,"",null,null,null,{"$f":"IF(I1494=\"\",\"\",IF(VLOOKUP(I1494,CAD_Q!$C$6:$D$105,2,FALSE)=0,\"\",VLOOKUP(I1494,CAD_Q!$C$6:$D$105,2,FALSE)))","v":""},{"$f":"IFERROR(VLOOKUP(I1494,CAD_Q!$C$6:$E$109,3,FALSE)*F1494,\"\")","v":""},null,null,"",1,0,1900,0,1,1900,"Nombre y el registro de entrada válida"]
[null,"",null,null,null,"",null,null,null,{"$f":"IF(I1495=\"\",\"\",IF(VLOOKUP(I1495,CAD_Q!$C$6:$D$105,2,FALSE)=0,\"\",VLOOKUP(I1495,CAD_Q!$C$6:$D$105,2,FALSE)))","v":""},{"$f":"IFERROR(VLOOKUP(I1495,CAD_Q!$C$6:$E$109,3,FALSE)*F1495,\"\")","v":""},null,null,"",1,0,1900,0,1,1900,"Nombre y el registro de entrada válida"]
[null,"",null,null,null,"",null,null,null,{"$f":"IF(I1496=\"\",\"\",IF(VLOOKUP(I1496,CAD_Q!$C$6:$D$105,2,FALSE)=0,\"\",VLOOKUP(I1496,CAD_Q!$C$6:$D$105,2,FALSE)))","v":""},{"$f":"IFERROR(VLOOKUP(I1496,CAD_Q!$C$6:$E$109,3,FALSE)*F1496,\"\")","v":""},null,null,"",1,0,1900,0,1,1900,"Nombre y el registro de entrada válida"]
[null,"",null,null,null,"",null,null,null,{"$f":"IF(I1497=\"\",\"\",IF(VLOOKUP(I1497,CAD_Q!$C$6:$D$105,2,FALSE)=0,\"\",VLOOKUP(I1497,CAD_Q!$C$6:$D$105,2,FALSE)))","v":""},{"$f":"IFERROR(VLOOKUP(I1497,CAD_Q!$C$6:$E$109,3,FALSE)*F1497,\"\")","v":""},null,null,"",1,0,1900,0,1,1900,"Nombre y el registro de entrada válida"]
[null,"",null,null,null,"",null,null,null,{"$f":"IF(I1498=\"\",\"\",IF(VLOOKUP(I1498,CAD_Q!$C$6:$D$105,2,FALSE)=0,\"\",VLOOKUP(I1498,CAD_Q!$C$6:$D$105,2,FALSE)))","v":""},{"$f":"IFERROR(VLOOKUP(I1498,CAD_Q!$C$6:$E$109,3,FALSE)*F1498,\"\")","v":""},null,null,"",1,0,1900,0,1,1900,"Nombre y el registro de entrada válida"]
[null,"",null,null,null,"",null,null,null,{"$f":"IF(I1499=\"\",\"\",IF(VLOOKUP(I1499,CAD_Q!$C$6:$D$105,2,FALSE)=0,\"\",VLOOKUP(I1499,CAD_Q!$C$6:$D$105,2,FALSE)))","v":""},{"$f":"IFERROR(VLOOKUP(I1499,CAD_Q!$C$6:$E$109,3,FALSE)*F1499,\"\")","v":""},null,null,"",1,0,1900,0,1,1900,"Nombre y el registro de entrada válida"]
[null,"",null,null,null,"",null,null,null,{"$f":"IF(I1500=\"\",\"\",IF(VLOOKUP(I1500,CAD_Q!$C$6:$D$105,2,FALSE)=0,\"\",VLOOKUP(I1500,CAD_Q!$C$6:$D$105,2,FALSE)))","v":""},{"$f":"IFERROR(VLOOKUP(I1500,CAD_Q!$C$6:$E$109,3,FALSE)*F1500,\"\")","v":""},null,null,"",1,0,1900,0,1,1900,"Nombre y el registro de entrada válida"]
[null,"",null,null,null,"",null,null,null,{"$f":"IF(I1501=\"\",\"\",IF(VLOOKUP(I1501,CAD_Q!$C$6:$D$105,2,FALSE)=0,\"\",VLOOKUP(I1501,CAD_Q!$C$6:$D$105,2,FALSE)))","v":""},{"$f":"IFERROR(VLOOKUP(I1501,CAD_Q!$C$6:$E$109,3,FALSE)*F1501,\"\")","v":""},null,null,"",1,0,1900,0,1,1900,"Nombre y el registro de entrada válida"]
[null,"",null,null,null,"",null,null,null,{"$f":"IF(I1502=\"\",\"\",IF(VLOOKUP(I1502,CAD_Q!$C$6:$D$105,2,FALSE)=0,\"\",VLOOKUP(I1502,CAD_Q!$C$6:$D$105,2,FALSE)))","v":""},{"$f":"IFERROR(VLOOKUP(I1502,CAD_Q!$C$6:$E$109,3,FALSE)*F1502,\"\")","v":""},null,null,"",1,0,1900,0,1,1900,"Nombre y el registro de entrada válida"]
[null,"",null,null,null,"",null,null,null,{"$f":"IF(I1503=\"\",\"\",IF(VLOOKUP(I1503,CAD_Q!$C$6:$D$105,2,FALSE)=0,\"\",VLOOKUP(I1503,CAD_Q!$C$6:$D$105,2,FALSE)))","v":""},{"$f":"IFERROR(VLOOKUP(I1503,CAD_Q!$C$6:$E$109,3,FALSE)*F1503,\"\")","v":""},null,null,"",1,0,1900,0,1,1900,"Nombre y el registro de entrada válida"]
[null,"",null,null,null,"",null,null,null,{"$f":"IF(I1504=\"\",\"\",IF(VLOOKUP(I1504,CAD_Q!$C$6:$D$105,2,FALSE)=0,\"\",VLOOKUP(I1504,CAD_Q!$C$6:$D$105,2,FALSE)))","v":""},{"$f":"IFERROR(VLOOKUP(I1504,CAD_Q!$C$6:$E$109,3,FALSE)*F1504,\"\")","v":""},null,null,"",1,0,1900,0,1,1900,"Nombre y el registro de entrada válida"]
[null,"",null,null,null,"",null,null,null,{"$f":"IF(I1505=\"\",\"\",IF(VLOOKUP(I1505,CAD_Q!$C$6:$D$105,2,FALSE)=0,\"\",VLOOKUP(I1505,CAD_Q!$C$6:$D$105,2,FALSE)))","v":""},{"$f":"IFERROR(VLOOKUP(I1505,CAD_Q!$C$6:$E$109,3,FALSE)*F1505,\"\")","v":""},null,null,"",1,0,1900,0,1,1900,"Nombre y el registro de entrada válida"]
[null,"",null,null,null,"",null,null,null,{"$f":"IF(I1506=\"\",\"\",IF(VLOOKUP(I1506,CAD_Q!$C$6:$D$105,2,FALSE)=0,\"\",VLOOKUP(I1506,CAD_Q!$C$6:$D$105,2,FALSE)))","v":""},{"$f":"IFERROR(VLOOKUP(I1506,CAD_Q!$C$6:$E$109,3,FALSE)*F1506,\"\")","v":""},null,null,"",1,0,1900,0,1,1900,"Nombre y el registro de entrada válida"]
[null,"",null,null,null,"",null,null,null,{"$f":"IF(I1507=\"\",\"\",IF(VLOOKUP(I1507,CAD_Q!$C$6:$D$105,2,FALSE)=0,\"\",VLOOKUP(I1507,CAD_Q!$C$6:$D$105,2,FALSE)))","v":""},{"$f":"IFERROR(VLOOKUP(I1507,CAD_Q!$C$6:$E$109,3,FALSE)*F1507,\"\")","v":""},null,null,"",1,0,1900,0,1,1900,"Nombre y el registro de entrada válida"]
[null,"",null,null,null,{"$f":"IF(OR(D1508=\"\",E1508=\"\"),\"\",E1508-D1508)","v":""},null,null,null,{"$f":"IF(I1508=\"\",\"\",IF(VLOOKUP(I1508,CAD_Q!$C$6:$D$105,2,FALSE)=0,\"\",VLOOKUP(I1508,CAD_Q!$C$6:$D$105,2,FALSE)))","v":""},{"$f":"IFERROR(VLOOKUP(I1508,CAD_Q!$C$6:$E$109,3,FALSE)*F1508,\"\")","v":""},null,null,"",1,0,1900,0,1,1900,"Nombre y el registro de entrada válida"]
[null,"",null,null,null,"",null,null,null,{"$f":"IF(I1509=\"\",\"\",IF(VLOOKUP(I1509,CAD_Q!$C$6:$D$105,2,FALSE)=0,\"\",VLOOKUP(I1509,CAD_Q!$C$6:$D$105,2,FALSE)))","v":""},{"$f":"IFERROR(VLOOKUP(I1509,CAD_Q!$C$6:$E$109,3,FALSE)*F1509,\"\")","v":""},null,null,"",1,0,1900,0,1,1900,"Nombre y el registro de entrada válida"]
[null,"",null,null,null,"",null,null,null,{"$f":"IF(I1510=\"\",\"\",IF(VLOOKUP(I1510,CAD_Q!$C$6:$D$105,2,FALSE)=0,\"\",VLOOKUP(I1510,CAD_Q!$C$6:$D$105,2,FALSE)))","v":""},{"$f":"IFERROR(VLOOKUP(I1510,CAD_Q!$C$6:$E$109,3,FALSE)*F1510,\"\")","v":""},null,null,"",1,0,1900,0,1,1900,"Nombre y el registro de entrada válida"]
[null,"",null,null,null,"",null,null,null,{"$f":"IF(I1511=\"\",\"\",IF(VLOOKUP(I1511,CAD_Q!$C$6:$D$105,2,FALSE)=0,\"\",VLOOKUP(I1511,CAD_Q!$C$6:$D$105,2,FALSE)))","v":""},{"$f":"IFERROR(VLOOKUP(I1511,CAD_Q!$C$6:$E$109,3,FALSE)*F1511,\"\")","v":""},null,null,"",1,0,1900,0,1,1900,"Nombre y el registro de entrada válida"]
[null,"",null,null,null,"",null,null,null,{"$f":"IF(I1512=\"\",\"\",IF(VLOOKUP(I1512,CAD_Q!$C$6:$D$105,2,FALSE)=0,\"\",VLOOKUP(I1512,CAD_Q!$C$6:$D$105,2,FALSE)))","v":""},{"$f":"IFERROR(VLOOKUP(I1512,CAD_Q!$C$6:$E$109,3,FALSE)*F1512,\"\")","v":""},null,null,"",1,0,1900,0,1,1900,"Nombre y el registro de entrada válida"]
[null,"",null,null,null,"",null,null,null,{"$f":"IF(I1513=\"\",\"\",IF(VLOOKUP(I1513,CAD_Q!$C$6:$D$105,2,FALSE)=0,\"\",VLOOKUP(I1513,CAD_Q!$C$6:$D$105,2,FALSE)))","v":""},{"$f":"IFERROR(VLOOKUP(I1513,CAD_Q!$C$6:$E$109,3,FALSE)*F1513,\"\")","v":""},null,null,"",1,0,1900,0,1,1900,"Nombre y el registro de entrada válida"]
[null,"",null,null,null,"",null,null,null,{"$f":"IF(I1514=\"\",\"\",IF(VLOOKUP(I1514,CAD_Q!$C$6:$D$105,2,FALSE)=0,\"\",VLOOKUP(I1514,CAD_Q!$C$6:$D$105,2,FALSE)))","v":""},{"$f":"IFERROR(VLOOKUP(I1514,CAD_Q!$C$6:$E$109,3,FALSE)*F1514,\"\")","v":""},null,null,"",1,0,1900,0,1,1900,"Nombre y el registro de entrada válida"]
[null,"",null,null,null,"",null,null,null,{"$f":"IF(I1515=\"\",\"\",IF(VLOOKUP(I1515,CAD_Q!$C$6:$D$105,2,FALSE)=0,\"\",VLOOKUP(I1515,CAD_Q!$C$6:$D$105,2,FALSE)))","v":""},{"$f":"IFERROR(VLOOKUP(I1515,CAD_Q!$C$6:$E$109,3,FALSE)*F1515,\"\")","v":""},null,null,"",1,0,1900,0,1,1900,"Nombre y el registro de entrada válida"]
[null,"",null,null,null,"",null,null,null,{"$f":"IF(I1516=\"\",\"\",IF(VLOOKUP(I1516,CAD_Q!$C$6:$D$105,2,FALSE)=0,\"\",VLOOKUP(I1516,CAD_Q!$C$6:$D$105,2,FALSE)))","v":""},{"$f":"IFERROR(VLOOKUP(I1516,CAD_Q!$C$6:$E$109,3,FALSE)*F1516,\"\")","v":""},null,null,"",1,0,1900,0,1,1900,"Nombre y el registro de entrada válida"]
[null,"",null,null,null,"",null,null,null,{"$f":"IF(I1517=\"\",\"\",IF(VLOOKUP(I1517,CAD_Q!$C$6:$D$105,2,FALSE)=0,\"\",VLOOKUP(I1517,CAD_Q!$C$6:$D$105,2,FALSE)))","v":""},{"$f":"IFERROR(VLOOKUP(I1517,CAD_Q!$C$6:$E$109,3,FALSE)*F1517,\"\")","v":""},null,null,"",1,0,1900,0,1,1900,"Nombre y el registro de entrada válida"]
[null,"",null,null,null,"",null,null,null,{"$f":"IF(I1518=\"\",\"\",IF(VLOOKUP(I1518,CAD_Q!$C$6:$D$105,2,FALSE)=0,\"\",VLOOKUP(I1518,CAD_Q!$C$6:$D$105,2,FALSE)))","v":""},{"$f":"IFERROR(VLOOKUP(I1518,CAD_Q!$C$6:$E$109,3,FALSE)*F1518,\"\")","v":""},null,null,"",1,0,1900,0,1,1900,"Nombre y el registro de entrada válida"]
[null,"",null,null,null,"",null,null,null,{"$f":"IF(I1519=\"\",\"\",IF(VLOOKUP(I1519,CAD_Q!$C$6:$D$105,2,FALSE)=0,\"\",VLOOKUP(I1519,CAD_Q!$C$6:$D$105,2,FALSE)))","v":""},{"$f":"IFERROR(VLOOKUP(I1519,CAD_Q!$C$6:$E$109,3,FALSE)*F1519,\"\")","v":""},null,null,"",1,0,1900,0,1,1900,"Nombre y el registro de entrada válida"]
[null,"",null,null,null,"",null,null,null,{"$f":"IF(I1520=\"\",\"\",IF(VLOOKUP(I1520,CAD_Q!$C$6:$D$105,2,FALSE)=0,\"\",VLOOKUP(I1520,CAD_Q!$C$6:$D$105,2,FALSE)))","v":""},{"$f":"IFERROR(VLOOKUP(I1520,CAD_Q!$C$6:$E$109,3,FALSE)*F1520,\"\")","v":""},null,null,"",1,0,1900,0,1,1900,"Nombre y el registro de entrada válida"]
[null,"",null,null,null,"",null,null,null,{"$f":"IF(I1521=\"\",\"\",IF(VLOOKUP(I1521,CAD_Q!$C$6:$D$105,2,FALSE)=0,\"\",VLOOKUP(I1521,CAD_Q!$C$6:$D$105,2,FALSE)))","v":""},{"$f":"IFERROR(VLOOKUP(I1521,CAD_Q!$C$6:$E$109,3,FALSE)*F1521,\"\")","v":""},null,null,"",1,0,1900,0,1,1900,"Nombre y el registro de entrada válida"]
[null,"",null,null,null,"",null,null,null,{"$f":"IF(I1522=\"\",\"\",IF(VLOOKUP(I1522,CAD_Q!$C$6:$D$105,2,FALSE)=0,\"\",VLOOKUP(I1522,CAD_Q!$C$6:$D$105,2,FALSE)))","v":""},{"$f":"IFERROR(VLOOKUP(I1522,CAD_Q!$C$6:$E$109,3,FALSE)*F1522,\"\")","v":""},null,null,"",1,0,1900,0,1,1900,"Nombre y el registro de entrada válida"]
[null,"",null,null,null,"",null,null,null,{"$f":"IF(I1523=\"\",\"\",IF(VLOOKUP(I1523,CAD_Q!$C$6:$D$105,2,FALSE)=0,\"\",VLOOKUP(I1523,CAD_Q!$C$6:$D$105,2,FALSE)))","v":""},{"$f":"IFERROR(VLOOKUP(I1523,CAD_Q!$C$6:$E$109,3,FALSE)*F1523,\"\")","v":""},null,null,"",1,0,1900,0,1,1900,"Nombre y el registro de entrada válida"]
[null,"",null,null,null,"",null,null,null,{"$f":"IF(I1524=\"\",\"\",IF(VLOOKUP(I1524,CAD_Q!$C$6:$D$105,2,FALSE)=0,\"\",VLOOKUP(I1524,CAD_Q!$C$6:$D$105,2,FALSE)))","v":""},{"$f":"IFERROR(VLOOKUP(I1524,CAD_Q!$C$6:$E$109,3,FALSE)*F1524,\"\")","v":""},null,null,"",1,0,1900,0,1,1900,"Nombre y el registro de entrada válida"]
[null,"",null,null,null,"",null,null,null,{"$f":"IF(I1525=\"\",\"\",IF(VLOOKUP(I1525,CAD_Q!$C$6:$D$105,2,FALSE)=0,\"\",VLOOKUP(I1525,CAD_Q!$C$6:$D$105,2,FALSE)))","v":""},{"$f":"IFERROR(VLOOKUP(I1525,CAD_Q!$C$6:$E$109,3,FALSE)*F1525,\"\")","v":""},null,null,"",1,0,1900,0,1,1900,"Nombre y el registro de entrada válida"]
[null,"",null,null,null,"",null,null,null,{"$f":"IF(I1526=\"\",\"\",IF(VLOOKUP(I1526,CAD_Q!$C$6:$D$105,2,FALSE)=0,\"\",VLOOKUP(I1526,CAD_Q!$C$6:$D$105,2,FALSE)))","v":""},{"$f":"IFERROR(VLOOKUP(I1526,CAD_Q!$C$6:$E$109,3,FALSE)*F1526,\"\")","v":""},null,null,"",1,0,1900,0,1,1900,"Nombre y el registro de entrada válida"]
[null,"",null,null,null,"",null,null,null,{"$f":"IF(I1527=\"\",\"\",IF(VLOOKUP(I1527,CAD_Q!$C$6:$D$105,2,FALSE)=0,\"\",VLOOKUP(I1527,CAD_Q!$C$6:$D$105,2,FALSE)))","v":""},{"$f":"IFERROR(VLOOKUP(I1527,CAD_Q!$C$6:$E$109,3,FALSE)*F1527,\"\")","v":""},null,null,"",1,0,1900,0,1,1900,"Nombre y el registro de entrada válida"]
[null,"",null,null,null,"",null,null,null,{"$f":"IF(I1528=\"\",\"\",IF(VLOOKUP(I1528,CAD_Q!$C$6:$D$105,2,FALSE)=0,\"\",VLOOKUP(I1528,CAD_Q!$C$6:$D$105,2,FALSE)))","v":""},{"$f":"IFERROR(VLOOKUP(I1528,CAD_Q!$C$6:$E$109,3,FALSE)*F1528,\"\")","v":""},null,null,"",1,0,1900,0,1,1900,"Nombre y el registro de entrada válida"]
[null,"",null,null,null,"",null,null,null,{"$f":"IF(I1529=\"\",\"\",IF(VLOOKUP(I1529,CAD_Q!$C$6:$D$105,2,FALSE)=0,\"\",VLOOKUP(I1529,CAD_Q!$C$6:$D$105,2,FALSE)))","v":""},{"$f":"IFERROR(VLOOKUP(I1529,CAD_Q!$C$6:$E$109,3,FALSE)*F1529,\"\")","v":""},null,null,"",1,0,1900,0,1,1900,"Nombre y el registro de entrada válida"]
[null,"",null,null,null,"",null,null,null,{"$f":"IF(I1530=\"\",\"\",IF(VLOOKUP(I1530,CAD_Q!$C$6:$D$105,2,FALSE)=0,\"\",VLOOKUP(I1530,CAD_Q!$C$6:$D$105,2,FALSE)))","v":""},{"$f":"IFERROR(VLOOKUP(I1530,CAD_Q!$C$6:$E$109,3,FALSE)*F1530,\"\")","v":""},null,null,"",1,0,1900,0,1,1900,"Nombre y el registro de entrada válida"]
[null,"",null,null,null,"",null,null,null,{"$f":"IF(I1531=\"\",\"\",IF(VLOOKUP(I1531,CAD_Q!$C$6:$D$105,2,FALSE)=0,\"\",VLOOKUP(I1531,CAD_Q!$C$6:$D$105,2,FALSE)))","v":""},{"$f":"IFERROR(VLOOKUP(I1531,CAD_Q!$C$6:$E$109,3,FALSE)*F1531,\"\")","v":""},null,null,"",1,0,1900,0,1,1900,"Nombre y el registro de entrada válida"]
[null,"",null,null,null,"",null,null,null,{"$f":"IF(I1532=\"\",\"\",IF(VLOOKUP(I1532,CAD_Q!$C$6:$D$105,2,FALSE)=0,\"\",VLOOKUP(I1532,CAD_Q!$C$6:$D$105,2,FALSE)))","v":""},{"$f":"IFERROR(VLOOKUP(I1532,CAD_Q!$C$6:$E$109,3,FALSE)*F1532,\"\")","v":""},null,null,"",1,0,1900,0,1,1900,"Nombre y el registro de entrada válida"]
[null,"",null,null,null,"",null,null,null,{"$f":"IF(I1533=\"\",\"\",IF(VLOOKUP(I1533,CAD_Q!$C$6:$D$105,2,FALSE)=0,\"\",VLOOKUP(I1533,CAD_Q!$C$6:$D$105,2,FALSE)))","v":""},{"$f":"IFERROR(VLOOKUP(I1533,CAD_Q!$C$6:$E$109,3,FALSE)*F1533,\"\")","v":""},null,null,"",1,0,1900,0,1,1900,"Nombre y el registro de entrada válida"]
[null,"",null,null,null,"",null,null,null,{"$f":"IF(I1534=\"\",\"\",IF(VLOOKUP(I1534,CAD_Q!$C$6:$D$105,2,FALSE)=0,\"\",VLOOKUP(I1534,CAD_Q!$C$6:$D$105,2,FALSE)))","v":""},{"$f":"IFERROR(VLOOKUP(I1534,CAD_Q!$C$6:$E$109,3,FALSE)*F1534,\"\")","v":""},null,null,"",1,0,1900,0,1,1900,"Nombre y el registro de entrada válida"]
[null,"",null,null,null,"",null,null,null,{"$f":"IF(I1535=\"\",\"\",IF(VLOOKUP(I1535,CAD_Q!$C$6:$D$105,2,FALSE)=0,\"\",VLOOKUP(I1535,CAD_Q!$C$6:$D$105,2,FALSE)))","v":""},{"$f":"IFERROR(VLOOKUP(I1535,CAD_Q!$C$6:$E$109,3,FALSE)*F1535,\"\")","v":""},null,null,"",1,0,1900,0,1,1900,"Nombre y el registro de entrada válida"]
[null,"",null,null,null,"",null,null,null,{"$f":"IF(I1536=\"\",\"\",IF(VLOOKUP(I1536,CAD_Q!$C$6:$D$105,2,FALSE)=0,\"\",VLOOKUP(I1536,CAD_Q!$C$6:$D$105,2,FALSE)))","v":""},{"$f":"IFERROR(VLOOKUP(I1536,CAD_Q!$C$6:$E$109,3,FALSE)*F1536,\"\")","v":""},null,null,"",1,0,1900,0,1,1900,"Nombre y el registro de entrada válida"]
[null,"",null,null,null,"",null,null,null,{"$f":"IF(I1537=\"\",\"\",IF(VLOOKUP(I1537,CAD_Q!$C$6:$D$105,2,FALSE)=0,\"\",VLOOKUP(I1537,CAD_Q!$C$6:$D$105,2,FALSE)))","v":""},{"$f":"IFERROR(VLOOKUP(I1537,CAD_Q!$C$6:$E$109,3,FALSE)*F1537,\"\")","v":""},null,null,"",1,0,1900,0,1,1900,"Nombre y el registro de entrada válida"]
[null,"",null,null,null,"",null,null,null,{"$f":"IF(I1538=\"\",\"\",IF(VLOOKUP(I1538,CAD_Q!$C$6:$D$105,2,FALSE)=0,\"\",VLOOKUP(I1538,CAD_Q!$C$6:$D$105,2,FALSE)))","v":""},{"$f":"IFERROR(VLOOKUP(I1538,CAD_Q!$C$6:$E$109,3,FALSE)*F1538,\"\")","v":""},null,null,"",1,0,1900,0,1,1900,"Nombre y el registro de entrada válida"]
[null,"",null,null,null,"",null,null,null,{"$f":"IF(I1539=\"\",\"\",IF(VLOOKUP(I1539,CAD_Q!$C$6:$D$105,2,FALSE)=0,\"\",VLOOKUP(I1539,CAD_Q!$C$6:$D$105,2,FALSE)))","v":""},{"$f":"IFERROR(VLOOKUP(I1539,CAD_Q!$C$6:$E$109,3,FALSE)*F1539,\"\")","v":""},null,null,"",1,0,1900,0,1,1900,"Nombre y el registro de entrada válida"]
[null,"",null,null,null,"",null,null,null,{"$f":"IF(I1540=\"\",\"\",IF(VLOOKUP(I1540,CAD_Q!$C$6:$D$105,2,FALSE)=0,\"\",VLOOKUP(I1540,CAD_Q!$C$6:$D$105,2,FALSE)))","v":""},{"$f":"IFERROR(VLOOKUP(I1540,CAD_Q!$C$6:$E$109,3,FALSE)*F1540,\"\")","v":""},null,null,"",1,0,1900,0,1,1900,"Nombre y el registro de entrada válida"]
[null,"",null,null,null,"",null,null,null,{"$f":"IF(I1541=\"\",\"\",IF(VLOOKUP(I1541,CAD_Q!$C$6:$D$105,2,FALSE)=0,\"\",VLOOKUP(I1541,CAD_Q!$C$6:$D$105,2,FALSE)))","v":""},{"$f":"IFERROR(VLOOKUP(I1541,CAD_Q!$C$6:$E$109,3,FALSE)*F1541,\"\")","v":""},null,null,"",1,0,1900,0,1,1900,"Nombre y el registro de entrada válida"]
[null,"",null,null,null,"",null,null,null,{"$f":"IF(I1542=\"\",\"\",IF(VLOOKUP(I1542,CAD_Q!$C$6:$D$105,2,FALSE)=0,\"\",VLOOKUP(I1542,CAD_Q!$C$6:$D$105,2,FALSE)))","v":""},{"$f":"IFERROR(VLOOKUP(I1542,CAD_Q!$C$6:$E$109,3,FALSE)*F1542,\"\")","v":""},null,null,"",1,0,1900,0,1,1900,"Nombre y el registro de entrada válida"]
[null,{"$f":"CONCATENATE(C1543,D1543)","v":""},null,null,null,"",null,null,null,{"$f":"IF(I1543=\"\",\"\",IF(VLOOKUP(I1543,CAD_Q!$C$6:$D$105,2,FALSE)=0,\"\",VLOOKUP(I1543,CAD_Q!$C$6:$D$105,2,FALSE)))","v":""},{"$f":"IFERROR(VLOOKUP(I1543,CAD_Q!$C$6:$E$109,3,FALSE)*F1543,\"\")","v":""},null,null,{"$f":"IFERROR(K1543-L1543+M1543,\"\")","v":""},1,0,1900,0,1,1900,"Nombre y el registro de entrada válida"]
[null,"",null,null,null,"",null,null,null,{"$f":"IF(I1544=\"\",\"\",IF(VLOOKUP(I1544,CAD_Q!$C$6:$D$105,2,FALSE)=0,\"\",VLOOKUP(I1544,CAD_Q!$C$6:$D$105,2,FALSE)))","v":""},{"$f":"IFERROR(VLOOKUP(I1544,CAD_Q!$C$6:$E$109,3,FALSE)*F1544,\"\")","v":""},null,null,"",1,0,1900,0,1,1900,"Nombre y el registro de entrada válida"]
[null,"",null,null,null,"",null,null,null,{"$f":"IF(I1545=\"\",\"\",IF(VLOOKUP(I1545,CAD_Q!$C$6:$D$105,2,FALSE)=0,\"\",VLOOKUP(I1545,CAD_Q!$C$6:$D$105,2,FALSE)))","v":""},{"$f":"IFERROR(VLOOKUP(I1545,CAD_Q!$C$6:$E$109,3,FALSE)*F1545,\"\")","v":""},null,null,"",1,0,1900,0,1,1900,"Nombre y el registro de entrada válida"]
[null,"",null,null,null,"",null,null,null,{"$f":"IF(I1546=\"\",\"\",IF(VLOOKUP(I1546,CAD_Q!$C$6:$D$105,2,FALSE)=0,\"\",VLOOKUP(I1546,CAD_Q!$C$6:$D$105,2,FALSE)))","v":""},{"$f":"IFERROR(VLOOKUP(I1546,CAD_Q!$C$6:$E$109,3,FALSE)*F1546,\"\")","v":""},null,null,"",{"$f":"MONTH(D1546)","v":1},{"$f":"DAY(D1546)","v":0},{"$f":"YEAR(D1546)","v":1900},{"$f":"DAY(E1546)","v":0},{"$f":"MONTH(E1546)","v":1},{"$f":"YEAR(E1546)","v":1900},"Nombre y el registro de entrada válida"]
[null,"",null,null,null,"",null,null,null,{"$f":"IF(I1547=\"\",\"\",IF(VLOOKUP(I1547,CAD_Q!$C$6:$D$105,2,FALSE)=0,\"\",VLOOKUP(I1547,CAD_Q!$C$6:$D$105,2,FALSE)))","v":""},{"$f":"IFERROR(VLOOKUP(I1547,CAD_Q!$C$6:$E$109,3,FALSE)*F1547,\"\")","v":""},null,null,"",1,0,1900,0,1,1900,"Nombre y el registro de entrada válida"]
[null,"",null,null,null,"",null,null,null,{"$f":"IF(I1548=\"\",\"\",IF(VLOOKUP(I1548,CAD_Q!$C$6:$D$105,2,FALSE)=0,\"\",VLOOKUP(I1548,CAD_Q!$C$6:$D$105,2,FALSE)))","v":""},{"$f":"IFERROR(VLOOKUP(I1548,CAD_Q!$C$6:$E$109,3,FALSE)*F1548,\"\")","v":""},null,null,"",1,0,1900,0,1,1900,"Nombre y el registro de entrada válida"]
[null,"",null,null,null,"",null,null,null,{"$f":"IF(I1549=\"\",\"\",IF(VLOOKUP(I1549,CAD_Q!$C$6:$D$105,2,FALSE)=0,\"\",VLOOKUP(I1549,CAD_Q!$C$6:$D$105,2,FALSE)))","v":""},{"$f":"IFERROR(VLOOKUP(I1549,CAD_Q!$C$6:$E$109,3,FALSE)*F1549,\"\")","v":""},null,null,"",1,0,1900,0,1,1900,"Nombre y el registro de entrada válida"]
[null,"",null,null,null,"",null,null,null,{"$f":"IF(I1550=\"\",\"\",IF(VLOOKUP(I1550,CAD_Q!$C$6:$D$105,2,FALSE)=0,\"\",VLOOKUP(I1550,CAD_Q!$C$6:$D$105,2,FALSE)))","v":""},{"$f":"IFERROR(VLOOKUP(I1550,CAD_Q!$C$6:$E$109,3,FALSE)*F1550,\"\")","v":""},null,null,"",1,0,1900,0,1,1900,"Nombre y el registro de entrada válida"]
[null,"",null,null,null,"",null,null,null,{"$f":"IF(I1551=\"\",\"\",IF(VLOOKUP(I1551,CAD_Q!$C$6:$D$105,2,FALSE)=0,\"\",VLOOKUP(I1551,CAD_Q!$C$6:$D$105,2,FALSE)))","v":""},{"$f":"IFERROR(VLOOKUP(I1551,CAD_Q!$C$6:$E$109,3,FALSE)*F1551,\"\")","v":""},null,null,"",1,0,1900,0,1,1900,"Nombre y el registro de entrada válida"]
[null,"",null,null,null,"",null,null,null,{"$f":"IF(I1552=\"\",\"\",IF(VLOOKUP(I1552,CAD_Q!$C$6:$D$105,2,FALSE)=0,\"\",VLOOKUP(I1552,CAD_Q!$C$6:$D$105,2,FALSE)))","v":""},{"$f":"IFERROR(VLOOKUP(I1552,CAD_Q!$C$6:$E$109,3,FALSE)*F1552,\"\")","v":""},null,null,"",1,0,1900,0,1,1900,"Nombre y el registro de entrada válida"]
[null,"",null,null,null,"",null,null,null,{"$f":"IF(I1553=\"\",\"\",IF(VLOOKUP(I1553,CAD_Q!$C$6:$D$105,2,FALSE)=0,\"\",VLOOKUP(I1553,CAD_Q!$C$6:$D$105,2,FALSE)))","v":""},{"$f":"IFERROR(VLOOKUP(I1553,CAD_Q!$C$6:$E$109,3,FALSE)*F1553,\"\")","v":""},null,null,"",1,0,1900,0,1,1900,"Nombre y el registro de entrada válida"]
[null,"",null,null,null,"",null,null,null,{"$f":"IF(I1554=\"\",\"\",IF(VLOOKUP(I1554,CAD_Q!$C$6:$D$105,2,FALSE)=0,\"\",VLOOKUP(I1554,CAD_Q!$C$6:$D$105,2,FALSE)))","v":""},{"$f":"IFERROR(VLOOKUP(I1554,CAD_Q!$C$6:$E$109,3,FALSE)*F1554,\"\")","v":""},null,null,"",1,0,1900,0,1,1900,"Nombre y el registro de entrada válida"]
[null,"",null,null,null,"",null,null,null,{"$f":"IF(I1555=\"\",\"\",IF(VLOOKUP(I1555,CAD_Q!$C$6:$D$105,2,FALSE)=0,\"\",VLOOKUP(I1555,CAD_Q!$C$6:$D$105,2,FALSE)))","v":""},{"$f":"IFERROR(VLOOKUP(I1555,CAD_Q!$C$6:$E$109,3,FALSE)*F1555,\"\")","v":""},null,null,"",1,0,1900,0,1,1900,"Nombre y el registro de entrada válida"]
[null,"",null,null,null,"",null,null,null,{"$f":"IF(I1556=\"\",\"\",IF(VLOOKUP(I1556,CAD_Q!$C$6:$D$105,2,FALSE)=0,\"\",VLOOKUP(I1556,CAD_Q!$C$6:$D$105,2,FALSE)))","v":""},{"$f":"IFERROR(VLOOKUP(I1556,CAD_Q!$C$6:$E$109,3,FALSE)*F1556,\"\")","v":""},null,null,"",1,0,1900,0,1,1900,"Nombre y el registro de entrada válida"]
[null,"",null,null,null,"",null,null,null,{"$f":"IF(I1557=\"\",\"\",IF(VLOOKUP(I1557,CAD_Q!$C$6:$D$105,2,FALSE)=0,\"\",VLOOKUP(I1557,CAD_Q!$C$6:$D$105,2,FALSE)))","v":""},{"$f":"IFERROR(VLOOKUP(I1557,CAD_Q!$C$6:$E$109,3,FALSE)*F1557,\"\")","v":""},null,null,"",1,0,1900,0,1,1900,"Nombre y el registro de entrada válida"]
[null,"",null,null,null,"",null,null,null,{"$f":"IF(I1558=\"\",\"\",IF(VLOOKUP(I1558,CAD_Q!$C$6:$D$105,2,FALSE)=0,\"\",VLOOKUP(I1558,CAD_Q!$C$6:$D$105,2,FALSE)))","v":""},{"$f":"IFERROR(VLOOKUP(I1558,CAD_Q!$C$6:$E$109,3,FALSE)*F1558,\"\")","v":""},null,null,"",1,0,1900,0,1,1900,"Nombre y el registro de entrada válida"]
[null,"",null,null,null,"",null,null,null,{"$f":"IF(I1559=\"\",\"\",IF(VLOOKUP(I1559,CAD_Q!$C$6:$D$105,2,FALSE)=0,\"\",VLOOKUP(I1559,CAD_Q!$C$6:$D$105,2,FALSE)))","v":""},{"$f":"IFERROR(VLOOKUP(I1559,CAD_Q!$C$6:$E$109,3,FALSE)*F1559,\"\")","v":""},null,null,"",1,0,1900,0,1,1900,"Nombre y el registro de entrada válida"]
[null,"",null,null,null,"",null,null,null,{"$f":"IF(I1560=\"\",\"\",IF(VLOOKUP(I1560,CAD_Q!$C$6:$D$105,2,FALSE)=0,\"\",VLOOKUP(I1560,CAD_Q!$C$6:$D$105,2,FALSE)))","v":""},{"$f":"IFERROR(VLOOKUP(I1560,CAD_Q!$C$6:$E$109,3,FALSE)*F1560,\"\")","v":""},null,null,"",1,0,1900,0,1,1900,"Nombre y el registro de entrada válida"]
[null,"",null,null,null,"",null,null,null,{"$f":"IF(I1561=\"\",\"\",IF(VLOOKUP(I1561,CAD_Q!$C$6:$D$105,2,FALSE)=0,\"\",VLOOKUP(I1561,CAD_Q!$C$6:$D$105,2,FALSE)))","v":""},{"$f":"IFERROR(VLOOKUP(I1561,CAD_Q!$C$6:$E$109,3,FALSE)*F1561,\"\")","v":""},null,null,"",1,0,1900,0,1,1900,"Nombre y el registro de entrada válida"]
[null,"",null,null,null,"",null,null,null,{"$f":"IF(I1562=\"\",\"\",IF(VLOOKUP(I1562,CAD_Q!$C$6:$D$105,2,FALSE)=0,\"\",VLOOKUP(I1562,CAD_Q!$C$6:$D$105,2,FALSE)))","v":""},{"$f":"IFERROR(VLOOKUP(I1562,CAD_Q!$C$6:$E$109,3,FALSE)*F1562,\"\")","v":""},null,null,"",1,0,1900,0,1,1900,"Nombre y el registro de entrada válida"]
[null,"",null,null,null,"",null,null,null,{"$f":"IF(I1563=\"\",\"\",IF(VLOOKUP(I1563,CAD_Q!$C$6:$D$105,2,FALSE)=0,\"\",VLOOKUP(I1563,CAD_Q!$C$6:$D$105,2,FALSE)))","v":""},{"$f":"IFERROR(VLOOKUP(I1563,CAD_Q!$C$6:$E$109,3,FALSE)*F1563,\"\")","v":""},null,null,"",1,0,1900,0,1,1900,"Nombre y el registro de entrada válida"]
[null,"",null,null,null,"",null,null,null,{"$f":"IF(I1564=\"\",\"\",IF(VLOOKUP(I1564,CAD_Q!$C$6:$D$105,2,FALSE)=0,\"\",VLOOKUP(I1564,CAD_Q!$C$6:$D$105,2,FALSE)))","v":""},{"$f":"IFERROR(VLOOKUP(I1564,CAD_Q!$C$6:$E$109,3,FALSE)*F1564,\"\")","v":""},null,null,"",1,0,1900,0,1,1900,"Nombre y el registro de entrada válida"]
[null,"",null,null,null,"",null,null,null,{"$f":"IF(I1565=\"\",\"\",IF(VLOOKUP(I1565,CAD_Q!$C$6:$D$105,2,FALSE)=0,\"\",VLOOKUP(I1565,CAD_Q!$C$6:$D$105,2,FALSE)))","v":""},{"$f":"IFERROR(VLOOKUP(I1565,CAD_Q!$C$6:$E$109,3,FALSE)*F1565,\"\")","v":""},null,null,"",1,0,1900,0,1,1900,"Nombre y el registro de entrada válida"]
[null,"",null,null,null,"",null,null,null,{"$f":"IF(I1566=\"\",\"\",IF(VLOOKUP(I1566,CAD_Q!$C$6:$D$105,2,FALSE)=0,\"\",VLOOKUP(I1566,CAD_Q!$C$6:$D$105,2,FALSE)))","v":""},{"$f":"IFERROR(VLOOKUP(I1566,CAD_Q!$C$6:$E$109,3,FALSE)*F1566,\"\")","v":""},null,null,"",1,0,1900,0,1,1900,"Nombre y el registro de entrada válida"]
[null,"",null,null,null,"",null,null,null,{"$f":"IF(I1567=\"\",\"\",IF(VLOOKUP(I1567,CAD_Q!$C$6:$D$105,2,FALSE)=0,\"\",VLOOKUP(I1567,CAD_Q!$C$6:$D$105,2,FALSE)))","v":""},{"$f":"IFERROR(VLOOKUP(I1567,CAD_Q!$C$6:$E$109,3,FALSE)*F1567,\"\")","v":""},null,null,"",1,0,1900,0,1,1900,"Nombre y el registro de entrada válida"]
[null,"",null,null,null,"",null,null,null,{"$f":"IF(I1568=\"\",\"\",IF(VLOOKUP(I1568,CAD_Q!$C$6:$D$105,2,FALSE)=0,\"\",VLOOKUP(I1568,CAD_Q!$C$6:$D$105,2,FALSE)))","v":""},{"$f":"IFERROR(VLOOKUP(I1568,CAD_Q!$C$6:$E$109,3,FALSE)*F1568,\"\")","v":""},null,null,"",1,0,1900,0,1,1900,"Nombre y el registro de entrada válida"]
[null,"",null,null,null,"",null,null,null,{"$f":"IF(I1569=\"\",\"\",IF(VLOOKUP(I1569,CAD_Q!$C$6:$D$105,2,FALSE)=0,\"\",VLOOKUP(I1569,CAD_Q!$C$6:$D$105,2,FALSE)))","v":""},{"$f":"IFERROR(VLOOKUP(I1569,CAD_Q!$C$6:$E$109,3,FALSE)*F1569,\"\")","v":""},null,null,"",1,0,1900,0,1,1900,"Nombre y el registro de entrada válida"]
[null,"",null,null,null,"",null,null,null,{"$f":"IF(I1570=\"\",\"\",IF(VLOOKUP(I1570,CAD_Q!$C$6:$D$105,2,FALSE)=0,\"\",VLOOKUP(I1570,CAD_Q!$C$6:$D$105,2,FALSE)))","v":""},{"$f":"IFERROR(VLOOKUP(I1570,CAD_Q!$C$6:$E$109,3,FALSE)*F1570,\"\")","v":""},null,null,"",1,0,1900,0,1,1900,"Nombre y el registro de entrada válida"]
[null,"",null,null,null,"",null,null,null,{"$f":"IF(I1571=\"\",\"\",IF(VLOOKUP(I1571,CAD_Q!$C$6:$D$105,2,FALSE)=0,\"\",VLOOKUP(I1571,CAD_Q!$C$6:$D$105,2,FALSE)))","v":""},{"$f":"IFERROR(VLOOKUP(I1571,CAD_Q!$C$6:$E$109,3,FALSE)*F1571,\"\")","v":""},null,null,"",1,0,1900,0,1,1900,"Nombre y el registro de entrada válida"]
[null,"",null,null,null,{"$f":"IF(OR(D1572=\"\",E1572=\"\"),\"\",E1572-D1572)","v":""},null,null,null,{"$f":"IF(I1572=\"\",\"\",IF(VLOOKUP(I1572,CAD_Q!$C$6:$D$105,2,FALSE)=0,\"\",VLOOKUP(I1572,CAD_Q!$C$6:$D$105,2,FALSE)))","v":""},{"$f":"IFERROR(VLOOKUP(I1572,CAD_Q!$C$6:$E$109,3,FALSE)*F1572,\"\")","v":""},null,null,"",1,0,1900,0,1,1900,"Nombre y el registro de entrada válida"]
[null,"",null,null,null,"",null,null,null,{"$f":"IF(I1573=\"\",\"\",IF(VLOOKUP(I1573,CAD_Q!$C$6:$D$105,2,FALSE)=0,\"\",VLOOKUP(I1573,CAD_Q!$C$6:$D$105,2,FALSE)))","v":""},{"$f":"IFERROR(VLOOKUP(I1573,CAD_Q!$C$6:$E$109,3,FALSE)*F1573,\"\")","v":""},null,null,"",1,0,1900,0,1,1900,"Nombre y el registro de entrada válida"]
[null,"",null,null,null,"",null,null,null,{"$f":"IF(I1574=\"\",\"\",IF(VLOOKUP(I1574,CAD_Q!$C$6:$D$105,2,FALSE)=0,\"\",VLOOKUP(I1574,CAD_Q!$C$6:$D$105,2,FALSE)))","v":""},{"$f":"IFERROR(VLOOKUP(I1574,CAD_Q!$C$6:$E$109,3,FALSE)*F1574,\"\")","v":""},null,null,"",1,0,1900,0,1,1900,"Nombre y el registro de entrada válida"]
[null,"",null,null,null,"",null,null,null,{"$f":"IF(I1575=\"\",\"\",IF(VLOOKUP(I1575,CAD_Q!$C$6:$D$105,2,FALSE)=0,\"\",VLOOKUP(I1575,CAD_Q!$C$6:$D$105,2,FALSE)))","v":""},{"$f":"IFERROR(VLOOKUP(I1575,CAD_Q!$C$6:$E$109,3,FALSE)*F1575,\"\")","v":""},null,null,"",1,0,1900,0,1,1900,"Nombre y el registro de entrada válida"]
[null,"",null,null,null,"",null,null,null,{"$f":"IF(I1576=\"\",\"\",IF(VLOOKUP(I1576,CAD_Q!$C$6:$D$105,2,FALSE)=0,\"\",VLOOKUP(I1576,CAD_Q!$C$6:$D$105,2,FALSE)))","v":""},{"$f":"IFERROR(VLOOKUP(I1576,CAD_Q!$C$6:$E$109,3,FALSE)*F1576,\"\")","v":""},null,null,"",1,0,1900,0,1,1900,"Nombre y el registro de entrada válida"]
[null,"",null,null,null,"",null,null,null,{"$f":"IF(I1577=\"\",\"\",IF(VLOOKUP(I1577,CAD_Q!$C$6:$D$105,2,FALSE)=0,\"\",VLOOKUP(I1577,CAD_Q!$C$6:$D$105,2,FALSE)))","v":""},{"$f":"IFERROR(VLOOKUP(I1577,CAD_Q!$C$6:$E$109,3,FALSE)*F1577,\"\")","v":""},null,null,"",1,0,1900,0,1,1900,"Nombre y el registro de entrada válida"]
[null,"",null,null,null,"",null,null,null,{"$f":"IF(I1578=\"\",\"\",IF(VLOOKUP(I1578,CAD_Q!$C$6:$D$105,2,FALSE)=0,\"\",VLOOKUP(I1578,CAD_Q!$C$6:$D$105,2,FALSE)))","v":""},{"$f":"IFERROR(VLOOKUP(I1578,CAD_Q!$C$6:$E$109,3,FALSE)*F1578,\"\")","v":""},null,null,"",1,0,1900,0,1,1900,"Nombre y el registro de entrada válida"]
[null,"",null,null,null,"",null,null,null,{"$f":"IF(I1579=\"\",\"\",IF(VLOOKUP(I1579,CAD_Q!$C$6:$D$105,2,FALSE)=0,\"\",VLOOKUP(I1579,CAD_Q!$C$6:$D$105,2,FALSE)))","v":""},{"$f":"IFERROR(VLOOKUP(I1579,CAD_Q!$C$6:$E$109,3,FALSE)*F1579,\"\")","v":""},null,null,"",1,0,1900,0,1,1900,"Nombre y el registro de entrada válida"]
[null,"",null,null,null,"",null,null,null,{"$f":"IF(I1580=\"\",\"\",IF(VLOOKUP(I1580,CAD_Q!$C$6:$D$105,2,FALSE)=0,\"\",VLOOKUP(I1580,CAD_Q!$C$6:$D$105,2,FALSE)))","v":""},{"$f":"IFERROR(VLOOKUP(I1580,CAD_Q!$C$6:$E$109,3,FALSE)*F1580,\"\")","v":""},null,null,"",1,0,1900,0,1,1900,"Nombre y el registro de entrada válida"]
[null,"",null,null,null,"",null,null,null,{"$f":"IF(I1581=\"\",\"\",IF(VLOOKUP(I1581,CAD_Q!$C$6:$D$105,2,FALSE)=0,\"\",VLOOKUP(I1581,CAD_Q!$C$6:$D$105,2,FALSE)))","v":""},{"$f":"IFERROR(VLOOKUP(I1581,CAD_Q!$C$6:$E$109,3,FALSE)*F1581,\"\")","v":""},null,null,"",1,0,1900,0,1,1900,"Nombre y el registro de entrada válida"]
[null,"",null,null,null,"",null,null,null,{"$f":"IF(I1582=\"\",\"\",IF(VLOOKUP(I1582,CAD_Q!$C$6:$D$105,2,FALSE)=0,\"\",VLOOKUP(I1582,CAD_Q!$C$6:$D$105,2,FALSE)))","v":""},{"$f":"IFERROR(VLOOKUP(I1582,CAD_Q!$C$6:$E$109,3,FALSE)*F1582,\"\")","v":""},null,null,"",1,0,1900,0,1,1900,"Nombre y el registro de entrada válida"]
[null,"",null,null,null,"",null,null,null,{"$f":"IF(I1583=\"\",\"\",IF(VLOOKUP(I1583,CAD_Q!$C$6:$D$105,2,FALSE)=0,\"\",VLOOKUP(I1583,CAD_Q!$C$6:$D$105,2,FALSE)))","v":""},{"$f":"IFERROR(VLOOKUP(I1583,CAD_Q!$C$6:$E$109,3,FALSE)*F1583,\"\")","v":""},null,null,"",1,0,1900,0,1,1900,"Nombre y el registro de entrada válida"]
[null,"",null,null,null,"",null,null,null,{"$f":"IF(I1584=\"\",\"\",IF(VLOOKUP(I1584,CAD_Q!$C$6:$D$105,2,FALSE)=0,\"\",VLOOKUP(I1584,CAD_Q!$C$6:$D$105,2,FALSE)))","v":""},{"$f":"IFERROR(VLOOKUP(I1584,CAD_Q!$C$6:$E$109,3,FALSE)*F1584,\"\")","v":""},null,null,"",1,0,1900,0,1,1900,"Nombre y el registro de entrada válida"]
[null,"",null,null,null,"",null,null,null,{"$f":"IF(I1585=\"\",\"\",IF(VLOOKUP(I1585,CAD_Q!$C$6:$D$105,2,FALSE)=0,\"\",VLOOKUP(I1585,CAD_Q!$C$6:$D$105,2,FALSE)))","v":""},{"$f":"IFERROR(VLOOKUP(I1585,CAD_Q!$C$6:$E$109,3,FALSE)*F1585,\"\")","v":""},null,null,"",1,0,1900,0,1,1900,"Nombre y el registro de entrada válida"]
[null,"",null,null,null,"",null,null,null,{"$f":"IF(I1586=\"\",\"\",IF(VLOOKUP(I1586,CAD_Q!$C$6:$D$105,2,FALSE)=0,\"\",VLOOKUP(I1586,CAD_Q!$C$6:$D$105,2,FALSE)))","v":""},{"$f":"IFERROR(VLOOKUP(I1586,CAD_Q!$C$6:$E$109,3,FALSE)*F1586,\"\")","v":""},null,null,"",1,0,1900,0,1,1900,"Nombre y el registro de entrada válida"]
[null,"",null,null,null,"",null,null,null,{"$f":"IF(I1587=\"\",\"\",IF(VLOOKUP(I1587,CAD_Q!$C$6:$D$105,2,FALSE)=0,\"\",VLOOKUP(I1587,CAD_Q!$C$6:$D$105,2,FALSE)))","v":""},{"$f":"IFERROR(VLOOKUP(I1587,CAD_Q!$C$6:$E$109,3,FALSE)*F1587,\"\")","v":""},null,null,"",1,0,1900,0,1,1900,"Nombre y el registro de entrada válida"]
[null,"",null,null,null,"",null,null,null,{"$f":"IF(I1588=\"\",\"\",IF(VLOOKUP(I1588,CAD_Q!$C$6:$D$105,2,FALSE)=0,\"\",VLOOKUP(I1588,CAD_Q!$C$6:$D$105,2,FALSE)))","v":""},{"$f":"IFERROR(VLOOKUP(I1588,CAD_Q!$C$6:$E$109,3,FALSE)*F1588,\"\")","v":""},null,null,"",1,0,1900,0,1,1900,"Nombre y el registro de entrada válida"]
[null,"",null,null,null,"",null,null,null,{"$f":"IF(I1589=\"\",\"\",IF(VLOOKUP(I1589,CAD_Q!$C$6:$D$105,2,FALSE)=0,\"\",VLOOKUP(I1589,CAD_Q!$C$6:$D$105,2,FALSE)))","v":""},{"$f":"IFERROR(VLOOKUP(I1589,CAD_Q!$C$6:$E$109,3,FALSE)*F1589,\"\")","v":""},null,null,"",1,0,1900,0,1,1900,"Nombre y el registro de entrada válida"]
[null,"",null,null,null,"",null,null,null,{"$f":"IF(I1590=\"\",\"\",IF(VLOOKUP(I1590,CAD_Q!$C$6:$D$105,2,FALSE)=0,\"\",VLOOKUP(I1590,CAD_Q!$C$6:$D$105,2,FALSE)))","v":""},{"$f":"IFERROR(VLOOKUP(I1590,CAD_Q!$C$6:$E$109,3,FALSE)*F1590,\"\")","v":""},null,null,"",1,0,1900,0,1,1900,"Nombre y el registro de entrada válida"]
[null,"",null,null,null,"",null,null,null,{"$f":"IF(I1591=\"\",\"\",IF(VLOOKUP(I1591,CAD_Q!$C$6:$D$105,2,FALSE)=0,\"\",VLOOKUP(I1591,CAD_Q!$C$6:$D$105,2,FALSE)))","v":""},{"$f":"IFERROR(VLOOKUP(I1591,CAD_Q!$C$6:$E$109,3,FALSE)*F1591,\"\")","v":""},null,null,"",1,0,1900,0,1,1900,"Nombre y el registro de entrada válida"]
[null,"",null,null,null,"",null,null,null,{"$f":"IF(I1592=\"\",\"\",IF(VLOOKUP(I1592,CAD_Q!$C$6:$D$105,2,FALSE)=0,\"\",VLOOKUP(I1592,CAD_Q!$C$6:$D$105,2,FALSE)))","v":""},{"$f":"IFERROR(VLOOKUP(I1592,CAD_Q!$C$6:$E$109,3,FALSE)*F1592,\"\")","v":""},null,null,"",1,0,1900,0,1,1900,"Nombre y el registro de entrada válida"]
[null,"",null,null,null,"",null,null,null,{"$f":"IF(I1593=\"\",\"\",IF(VLOOKUP(I1593,CAD_Q!$C$6:$D$105,2,FALSE)=0,\"\",VLOOKUP(I1593,CAD_Q!$C$6:$D$105,2,FALSE)))","v":""},{"$f":"IFERROR(VLOOKUP(I1593,CAD_Q!$C$6:$E$109,3,FALSE)*F1593,\"\")","v":""},null,null,"",1,0,1900,0,1,1900,"Nombre y el registro de entrada válida"]
[null,"",null,null,null,"",null,null,null,{"$f":"IF(I1594=\"\",\"\",IF(VLOOKUP(I1594,CAD_Q!$C$6:$D$105,2,FALSE)=0,\"\",VLOOKUP(I1594,CAD_Q!$C$6:$D$105,2,FALSE)))","v":""},{"$f":"IFERROR(VLOOKUP(I1594,CAD_Q!$C$6:$E$109,3,FALSE)*F1594,\"\")","v":""},null,null,"",1,0,1900,0,1,1900,"Nombre y el registro de entrada válida"]
[null,"",null,null,null,"",null,null,null,{"$f":"IF(I1595=\"\",\"\",IF(VLOOKUP(I1595,CAD_Q!$C$6:$D$105,2,FALSE)=0,\"\",VLOOKUP(I1595,CAD_Q!$C$6:$D$105,2,FALSE)))","v":""},{"$f":"IFERROR(VLOOKUP(I1595,CAD_Q!$C$6:$E$109,3,FALSE)*F1595,\"\")","v":""},null,null,"",1,0,1900,0,1,1900,"Nombre y el registro de entrada válida"]
[null,"",null,null,null,"",null,null,null,{"$f":"IF(I1596=\"\",\"\",IF(VLOOKUP(I1596,CAD_Q!$C$6:$D$105,2,FALSE)=0,\"\",VLOOKUP(I1596,CAD_Q!$C$6:$D$105,2,FALSE)))","v":""},{"$f":"IFERROR(VLOOKUP(I1596,CAD_Q!$C$6:$E$109,3,FALSE)*F1596,\"\")","v":""},null,null,"",1,0,1900,0,1,1900,"Nombre y el registro de entrada válida"]
[null,"",null,null,null,"",null,null,null,{"$f":"IF(I1597=\"\",\"\",IF(VLOOKUP(I1597,CAD_Q!$C$6:$D$105,2,FALSE)=0,\"\",VLOOKUP(I1597,CAD_Q!$C$6:$D$105,2,FALSE)))","v":""},{"$f":"IFERROR(VLOOKUP(I1597,CAD_Q!$C$6:$E$109,3,FALSE)*F1597,\"\")","v":""},null,null,"",1,0,1900,0,1,1900,"Nombre y el registro de entrada válida"]
[null,"",null,null,null,"",null,null,null,{"$f":"IF(I1598=\"\",\"\",IF(VLOOKUP(I1598,CAD_Q!$C$6:$D$105,2,FALSE)=0,\"\",VLOOKUP(I1598,CAD_Q!$C$6:$D$105,2,FALSE)))","v":""},{"$f":"IFERROR(VLOOKUP(I1598,CAD_Q!$C$6:$E$109,3,FALSE)*F1598,\"\")","v":""},null,null,"",1,0,1900,0,1,1900,"Nombre y el registro de entrada válida"]
[null,"",null,null,null,"",null,null,null,{"$f":"IF(I1599=\"\",\"\",IF(VLOOKUP(I1599,CAD_Q!$C$6:$D$105,2,FALSE)=0,\"\",VLOOKUP(I1599,CAD_Q!$C$6:$D$105,2,FALSE)))","v":""},{"$f":"IFERROR(VLOOKUP(I1599,CAD_Q!$C$6:$E$109,3,FALSE)*F1599,\"\")","v":""},null,null,"",1,0,1900,0,1,1900,"Nombre y el registro de entrada válida"]
[null,"",null,null,null,"",null,null,null,{"$f":"IF(I1600=\"\",\"\",IF(VLOOKUP(I1600,CAD_Q!$C$6:$D$105,2,FALSE)=0,\"\",VLOOKUP(I1600,CAD_Q!$C$6:$D$105,2,FALSE)))","v":""},{"$f":"IFERROR(VLOOKUP(I1600,CAD_Q!$C$6:$E$109,3,FALSE)*F1600,\"\")","v":""},null,null,"",1,0,1900,0,1,1900,"Nombre y el registro de entrada válida"]
[null,"",null,null,null,"",null,null,null,{"$f":"IF(I1601=\"\",\"\",IF(VLOOKUP(I1601,CAD_Q!$C$6:$D$105,2,FALSE)=0,\"\",VLOOKUP(I1601,CAD_Q!$C$6:$D$105,2,FALSE)))","v":""},{"$f":"IFERROR(VLOOKUP(I1601,CAD_Q!$C$6:$E$109,3,FALSE)*F1601,\"\")","v":""},null,null,"",1,0,1900,0,1,1900,"Nombre y el registro de entrada válida"]
[null,"",null,null,null,"",null,null,null,{"$f":"IF(I1602=\"\",\"\",IF(VLOOKUP(I1602,CAD_Q!$C$6:$D$105,2,FALSE)=0,\"\",VLOOKUP(I1602,CAD_Q!$C$6:$D$105,2,FALSE)))","v":""},{"$f":"IFERROR(VLOOKUP(I1602,CAD_Q!$C$6:$E$109,3,FALSE)*F1602,\"\")","v":""},null,null,"",1,0,1900,0,1,1900,"Nombre y el registro de entrada válida"]
[null,"",null,null,null,"",null,null,null,{"$f":"IF(I1603=\"\",\"\",IF(VLOOKUP(I1603,CAD_Q!$C$6:$D$105,2,FALSE)=0,\"\",VLOOKUP(I1603,CAD_Q!$C$6:$D$105,2,FALSE)))","v":""},{"$f":"IFERROR(VLOOKUP(I1603,CAD_Q!$C$6:$E$109,3,FALSE)*F1603,\"\")","v":""},null,null,"",1,0,1900,0,1,1900,"Nombre y el registro de entrada válida"]
[null,"",null,null,null,"",null,null,null,{"$f":"IF(I1604=\"\",\"\",IF(VLOOKUP(I1604,CAD_Q!$C$6:$D$105,2,FALSE)=0,\"\",VLOOKUP(I1604,CAD_Q!$C$6:$D$105,2,FALSE)))","v":""},{"$f":"IFERROR(VLOOKUP(I1604,CAD_Q!$C$6:$E$109,3,FALSE)*F1604,\"\")","v":""},null,null,"",1,0,1900,0,1,1900,"Nombre y el registro de entrada válida"]
[null,"",null,null,null,"",null,null,null,{"$f":"IF(I1605=\"\",\"\",IF(VLOOKUP(I1605,CAD_Q!$C$6:$D$105,2,FALSE)=0,\"\",VLOOKUP(I1605,CAD_Q!$C$6:$D$105,2,FALSE)))","v":""},{"$f":"IFERROR(VLOOKUP(I1605,CAD_Q!$C$6:$E$109,3,FALSE)*F1605,\"\")","v":""},null,null,"",1,0,1900,0,1,1900,"Nombre y el registro de entrada válida"]
[null,"",null,null,null,"",null,null,null,{"$f":"IF(I1606=\"\",\"\",IF(VLOOKUP(I1606,CAD_Q!$C$6:$D$105,2,FALSE)=0,\"\",VLOOKUP(I1606,CAD_Q!$C$6:$D$105,2,FALSE)))","v":""},{"$f":"IFERROR(VLOOKUP(I1606,CAD_Q!$C$6:$E$109,3,FALSE)*F1606,\"\")","v":""},null,null,"",1,0,1900,0,1,1900,"Nombre y el registro de entrada válida"]
[null,{"$f":"CONCATENATE(C1607,D1607)","v":""},null,null,null,"",null,null,null,{"$f":"IF(I1607=\"\",\"\",IF(VLOOKUP(I1607,CAD_Q!$C$6:$D$105,2,FALSE)=0,\"\",VLOOKUP(I1607,CAD_Q!$C$6:$D$105,2,FALSE)))","v":""},{"$f":"IFERROR(VLOOKUP(I1607,CAD_Q!$C$6:$E$109,3,FALSE)*F1607,\"\")","v":""},null,null,{"$f":"IFERROR(K1607-L1607+M1607,\"\")","v":""},1,0,1900,0,1,1900,"Nombre y el registro de entrada válida"]
[null,"",null,null,null,"",null,null,null,{"$f":"IF(I1608=\"\",\"\",IF(VLOOKUP(I1608,CAD_Q!$C$6:$D$105,2,FALSE)=0,\"\",VLOOKUP(I1608,CAD_Q!$C$6:$D$105,2,FALSE)))","v":""},{"$f":"IFERROR(VLOOKUP(I1608,CAD_Q!$C$6:$E$109,3,FALSE)*F1608,\"\")","v":""},null,null,"",1,0,1900,0,1,1900,"Nombre y el registro de entrada válida"]
[null,"",null,null,null,"",null,null,null,{"$f":"IF(I1609=\"\",\"\",IF(VLOOKUP(I1609,CAD_Q!$C$6:$D$105,2,FALSE)=0,\"\",VLOOKUP(I1609,CAD_Q!$C$6:$D$105,2,FALSE)))","v":""},{"$f":"IFERROR(VLOOKUP(I1609,CAD_Q!$C$6:$E$109,3,FALSE)*F1609,\"\")","v":""},null,null,"",1,0,1900,0,1,1900,"Nombre y el registro de entrada válida"]
[null,"",null,null,null,"",null,null,null,{"$f":"IF(I1610=\"\",\"\",IF(VLOOKUP(I1610,CAD_Q!$C$6:$D$105,2,FALSE)=0,\"\",VLOOKUP(I1610,CAD_Q!$C$6:$D$105,2,FALSE)))","v":""},{"$f":"IFERROR(VLOOKUP(I1610,CAD_Q!$C$6:$E$109,3,FALSE)*F1610,\"\")","v":""},null,null,"",{"$f":"MONTH(D1610)","v":1},{"$f":"DAY(D1610)","v":0},{"$f":"YEAR(D1610)","v":1900},{"$f":"DAY(E1610)","v":0},{"$f":"MONTH(E1610)","v":1},{"$f":"YEAR(E1610)","v":1900},"Nombre y el registro de entrada válida"]
[null,"",null,null,null,"",null,null,null,{"$f":"IF(I1611=\"\",\"\",IF(VLOOKUP(I1611,CAD_Q!$C$6:$D$105,2,FALSE)=0,\"\",VLOOKUP(I1611,CAD_Q!$C$6:$D$105,2,FALSE)))","v":""},{"$f":"IFERROR(VLOOKUP(I1611,CAD_Q!$C$6:$E$109,3,FALSE)*F1611,\"\")","v":""},null,null,"",1,0,1900,0,1,1900,"Nombre y el registro de entrada válida"]
[null,"",null,null,null,"",null,null,null,{"$f":"IF(I1612=\"\",\"\",IF(VLOOKUP(I1612,CAD_Q!$C$6:$D$105,2,FALSE)=0,\"\",VLOOKUP(I1612,CAD_Q!$C$6:$D$105,2,FALSE)))","v":""},{"$f":"IFERROR(VLOOKUP(I1612,CAD_Q!$C$6:$E$109,3,FALSE)*F1612,\"\")","v":""},null,null,"",1,0,1900,0,1,1900,"Nombre y el registro de entrada válida"]
[null,"",null,null,null,"",null,null,null,{"$f":"IF(I1613=\"\",\"\",IF(VLOOKUP(I1613,CAD_Q!$C$6:$D$105,2,FALSE)=0,\"\",VLOOKUP(I1613,CAD_Q!$C$6:$D$105,2,FALSE)))","v":""},{"$f":"IFERROR(VLOOKUP(I1613,CAD_Q!$C$6:$E$109,3,FALSE)*F1613,\"\")","v":""},null,null,"",1,0,1900,0,1,1900,"Nombre y el registro de entrada válida"]
[null,"",null,null,null,"",null,null,null,{"$f":"IF(I1614=\"\",\"\",IF(VLOOKUP(I1614,CAD_Q!$C$6:$D$105,2,FALSE)=0,\"\",VLOOKUP(I1614,CAD_Q!$C$6:$D$105,2,FALSE)))","v":""},{"$f":"IFERROR(VLOOKUP(I1614,CAD_Q!$C$6:$E$109,3,FALSE)*F1614,\"\")","v":""},null,null,"",1,0,1900,0,1,1900,"Nombre y el registro de entrada válida"]
[null,"",null,null,null,"",null,null,null,{"$f":"IF(I1615=\"\",\"\",IF(VLOOKUP(I1615,CAD_Q!$C$6:$D$105,2,FALSE)=0,\"\",VLOOKUP(I1615,CAD_Q!$C$6:$D$105,2,FALSE)))","v":""},{"$f":"IFERROR(VLOOKUP(I1615,CAD_Q!$C$6:$E$109,3,FALSE)*F1615,\"\")","v":""},null,null,"",1,0,1900,0,1,1900,"Nombre y el registro de entrada válida"]
[null,"",null,null,null,"",null,null,null,{"$f":"IF(I1616=\"\",\"\",IF(VLOOKUP(I1616,CAD_Q!$C$6:$D$105,2,FALSE)=0,\"\",VLOOKUP(I1616,CAD_Q!$C$6:$D$105,2,FALSE)))","v":""},{"$f":"IFERROR(VLOOKUP(I1616,CAD_Q!$C$6:$E$109,3,FALSE)*F1616,\"\")","v":""},null,null,"",1,0,1900,0,1,1900,"Nombre y el registro de entrada válida"]
[null,"",null,null,null,"",null,null,null,{"$f":"IF(I1617=\"\",\"\",IF(VLOOKUP(I1617,CAD_Q!$C$6:$D$105,2,FALSE)=0,\"\",VLOOKUP(I1617,CAD_Q!$C$6:$D$105,2,FALSE)))","v":""},{"$f":"IFERROR(VLOOKUP(I1617,CAD_Q!$C$6:$E$109,3,FALSE)*F1617,\"\")","v":""},null,null,"",1,0,1900,0,1,1900,"Nombre y el registro de entrada válida"]
[null,"",null,null,null,"",null,null,null,{"$f":"IF(I1618=\"\",\"\",IF(VLOOKUP(I1618,CAD_Q!$C$6:$D$105,2,FALSE)=0,\"\",VLOOKUP(I1618,CAD_Q!$C$6:$D$105,2,FALSE)))","v":""},{"$f":"IFERROR(VLOOKUP(I1618,CAD_Q!$C$6:$E$109,3,FALSE)*F1618,\"\")","v":""},null,null,"",1,0,1900,0,1,1900,"Nombre y el registro de entrada válida"]
[null,"",null,null,null,"",null,null,null,{"$f":"IF(I1619=\"\",\"\",IF(VLOOKUP(I1619,CAD_Q!$C$6:$D$105,2,FALSE)=0,\"\",VLOOKUP(I1619,CAD_Q!$C$6:$D$105,2,FALSE)))","v":""},{"$f":"IFERROR(VLOOKUP(I1619,CAD_Q!$C$6:$E$109,3,FALSE)*F1619,\"\")","v":""},null,null,"",1,0,1900,0,1,1900,"Nombre y el registro de entrada válida"]
[null,"",null,null,null,"",null,null,null,{"$f":"IF(I1620=\"\",\"\",IF(VLOOKUP(I1620,CAD_Q!$C$6:$D$105,2,FALSE)=0,\"\",VLOOKUP(I1620,CAD_Q!$C$6:$D$105,2,FALSE)))","v":""},{"$f":"IFERROR(VLOOKUP(I1620,CAD_Q!$C$6:$E$109,3,FALSE)*F1620,\"\")","v":""},null,null,"",1,0,1900,0,1,1900,"Nombre y el registro de entrada válida"]
[null,"",null,null,null,"",null,null,null,{"$f":"IF(I1621=\"\",\"\",IF(VLOOKUP(I1621,CAD_Q!$C$6:$D$105,2,FALSE)=0,\"\",VLOOKUP(I1621,CAD_Q!$C$6:$D$105,2,FALSE)))","v":""},{"$f":"IFERROR(VLOOKUP(I1621,CAD_Q!$C$6:$E$109,3,FALSE)*F1621,\"\")","v":""},null,null,"",1,0,1900,0,1,1900,"Nombre y el registro de entrada válida"]
[null,"",null,null,null,"",null,null,null,{"$f":"IF(I1622=\"\",\"\",IF(VLOOKUP(I1622,CAD_Q!$C$6:$D$105,2,FALSE)=0,\"\",VLOOKUP(I1622,CAD_Q!$C$6:$D$105,2,FALSE)))","v":""},{"$f":"IFERROR(VLOOKUP(I1622,CAD_Q!$C$6:$E$109,3,FALSE)*F1622,\"\")","v":""},null,null,"",1,0,1900,0,1,1900,"Nombre y el registro de entrada válida"]
[null,"",null,null,null,"",null,null,null,{"$f":"IF(I1623=\"\",\"\",IF(VLOOKUP(I1623,CAD_Q!$C$6:$D$105,2,FALSE)=0,\"\",VLOOKUP(I1623,CAD_Q!$C$6:$D$105,2,FALSE)))","v":""},{"$f":"IFERROR(VLOOKUP(I1623,CAD_Q!$C$6:$E$109,3,FALSE)*F1623,\"\")","v":""},null,null,"",1,0,1900,0,1,1900,"Nombre y el registro de entrada válida"]
[null,"",null,null,null,"",null,null,null,{"$f":"IF(I1624=\"\",\"\",IF(VLOOKUP(I1624,CAD_Q!$C$6:$D$105,2,FALSE)=0,\"\",VLOOKUP(I1624,CAD_Q!$C$6:$D$105,2,FALSE)))","v":""},{"$f":"IFERROR(VLOOKUP(I1624,CAD_Q!$C$6:$E$109,3,FALSE)*F1624,\"\")","v":""},null,null,"",1,0,1900,0,1,1900,"Nombre y el registro de entrada válida"]
[null,"",null,null,null,"",null,null,null,{"$f":"IF(I1625=\"\",\"\",IF(VLOOKUP(I1625,CAD_Q!$C$6:$D$105,2,FALSE)=0,\"\",VLOOKUP(I1625,CAD_Q!$C$6:$D$105,2,FALSE)))","v":""},{"$f":"IFERROR(VLOOKUP(I1625,CAD_Q!$C$6:$E$109,3,FALSE)*F1625,\"\")","v":""},null,null,"",1,0,1900,0,1,1900,"Nombre y el registro de entrada válida"]
[null,"",null,null,null,"",null,null,null,{"$f":"IF(I1626=\"\",\"\",IF(VLOOKUP(I1626,CAD_Q!$C$6:$D$105,2,FALSE)=0,\"\",VLOOKUP(I1626,CAD_Q!$C$6:$D$105,2,FALSE)))","v":""},{"$f":"IFERROR(VLOOKUP(I1626,CAD_Q!$C$6:$E$109,3,FALSE)*F1626,\"\")","v":""},null,null,"",1,0,1900,0,1,1900,"Nombre y el registro de entrada válida"]
[null,"",null,null,null,"",null,null,null,{"$f":"IF(I1627=\"\",\"\",IF(VLOOKUP(I1627,CAD_Q!$C$6:$D$105,2,FALSE)=0,\"\",VLOOKUP(I1627,CAD_Q!$C$6:$D$105,2,FALSE)))","v":""},{"$f":"IFERROR(VLOOKUP(I1627,CAD_Q!$C$6:$E$109,3,FALSE)*F1627,\"\")","v":""},null,null,"",1,0,1900,0,1,1900,"Nombre y el registro de entrada válida"]
[null,"",null,null,null,"",null,null,null,{"$f":"IF(I1628=\"\",\"\",IF(VLOOKUP(I1628,CAD_Q!$C$6:$D$105,2,FALSE)=0,\"\",VLOOKUP(I1628,CAD_Q!$C$6:$D$105,2,FALSE)))","v":""},{"$f":"IFERROR(VLOOKUP(I1628,CAD_Q!$C$6:$E$109,3,FALSE)*F1628,\"\")","v":""},null,null,"",1,0,1900,0,1,1900,"Nombre y el registro de entrada válida"]
[null,"",null,null,null,"",null,null,null,{"$f":"IF(I1629=\"\",\"\",IF(VLOOKUP(I1629,CAD_Q!$C$6:$D$105,2,FALSE)=0,\"\",VLOOKUP(I1629,CAD_Q!$C$6:$D$105,2,FALSE)))","v":""},{"$f":"IFERROR(VLOOKUP(I1629,CAD_Q!$C$6:$E$109,3,FALSE)*F1629,\"\")","v":""},null,null,"",1,0,1900,0,1,1900,"Nombre y el registro de entrada válida"]
[null,"",null,null,null,"",null,null,null,{"$f":"IF(I1630=\"\",\"\",IF(VLOOKUP(I1630,CAD_Q!$C$6:$D$105,2,FALSE)=0,\"\",VLOOKUP(I1630,CAD_Q!$C$6:$D$105,2,FALSE)))","v":""},{"$f":"IFERROR(VLOOKUP(I1630,CAD_Q!$C$6:$E$109,3,FALSE)*F1630,\"\")","v":""},null,null,"",1,0,1900,0,1,1900,"Nombre y el registro de entrada válida"]
[null,"",null,null,null,"",null,null,null,{"$f":"IF(I1631=\"\",\"\",IF(VLOOKUP(I1631,CAD_Q!$C$6:$D$105,2,FALSE)=0,\"\",VLOOKUP(I1631,CAD_Q!$C$6:$D$105,2,FALSE)))","v":""},{"$f":"IFERROR(VLOOKUP(I1631,CAD_Q!$C$6:$E$109,3,FALSE)*F1631,\"\")","v":""},null,null,"",1,0,1900,0,1,1900,"Nombre y el registro de entrada válida"]
[null,"",null,null,null,"",null,null,null,{"$f":"IF(I1632=\"\",\"\",IF(VLOOKUP(I1632,CAD_Q!$C$6:$D$105,2,FALSE)=0,\"\",VLOOKUP(I1632,CAD_Q!$C$6:$D$105,2,FALSE)))","v":""},{"$f":"IFERROR(VLOOKUP(I1632,CAD_Q!$C$6:$E$109,3,FALSE)*F1632,\"\")","v":""},null,null,"",1,0,1900,0,1,1900,"Nombre y el registro de entrada válida"]
[null,"",null,null,null,"",null,null,null,{"$f":"IF(I1633=\"\",\"\",IF(VLOOKUP(I1633,CAD_Q!$C$6:$D$105,2,FALSE)=0,\"\",VLOOKUP(I1633,CAD_Q!$C$6:$D$105,2,FALSE)))","v":""},{"$f":"IFERROR(VLOOKUP(I1633,CAD_Q!$C$6:$E$109,3,FALSE)*F1633,\"\")","v":""},null,null,"",1,0,1900,0,1,1900,"Nombre y el registro de entrada válida"]
[null,"",null,null,null,"",null,null,null,{"$f":"IF(I1634=\"\",\"\",IF(VLOOKUP(I1634,CAD_Q!$C$6:$D$105,2,FALSE)=0,\"\",VLOOKUP(I1634,CAD_Q!$C$6:$D$105,2,FALSE)))","v":""},{"$f":"IFERROR(VLOOKUP(I1634,CAD_Q!$C$6:$E$109,3,FALSE)*F1634,\"\")","v":""},null,null,"",1,0,1900,0,1,1900,"Nombre y el registro de entrada válida"]
[null,"",null,null,null,"",null,null,null,{"$f":"IF(I1635=\"\",\"\",IF(VLOOKUP(I1635,CAD_Q!$C$6:$D$105,2,FALSE)=0,\"\",VLOOKUP(I1635,CAD_Q!$C$6:$D$105,2,FALSE)))","v":""},{"$f":"IFERROR(VLOOKUP(I1635,CAD_Q!$C$6:$E$109,3,FALSE)*F1635,\"\")","v":""},null,null,"",1,0,1900,0,1,1900,"Nombre y el registro de entrada válida"]
[null,"",null,null,null,{"$f":"IF(OR(D1636=\"\",E1636=\"\"),\"\",E1636-D1636)","v":""},null,null,null,{"$f":"IF(I1636=\"\",\"\",IF(VLOOKUP(I1636,CAD_Q!$C$6:$D$105,2,FALSE)=0,\"\",VLOOKUP(I1636,CAD_Q!$C$6:$D$105,2,FALSE)))","v":""},{"$f":"IFERROR(VLOOKUP(I1636,CAD_Q!$C$6:$E$109,3,FALSE)*F1636,\"\")","v":""},null,null,"",1,0,1900,0,1,1900,"Nombre y el registro de entrada válida"]
[null,"",null,null,null,"",null,null,null,{"$f":"IF(I1637=\"\",\"\",IF(VLOOKUP(I1637,CAD_Q!$C$6:$D$105,2,FALSE)=0,\"\",VLOOKUP(I1637,CAD_Q!$C$6:$D$105,2,FALSE)))","v":""},{"$f":"IFERROR(VLOOKUP(I1637,CAD_Q!$C$6:$E$109,3,FALSE)*F1637,\"\")","v":""},null,null,"",1,0,1900,0,1,1900,"Nombre y el registro de entrada válida"]
[null,"",null,null,null,"",null,null,null,{"$f":"IF(I1638=\"\",\"\",IF(VLOOKUP(I1638,CAD_Q!$C$6:$D$105,2,FALSE)=0,\"\",VLOOKUP(I1638,CAD_Q!$C$6:$D$105,2,FALSE)))","v":""},{"$f":"IFERROR(VLOOKUP(I1638,CAD_Q!$C$6:$E$109,3,FALSE)*F1638,\"\")","v":""},null,null,"",1,0,1900,0,1,1900,"Nombre y el registro de entrada válida"]
[null,"",null,null,null,"",null,null,null,{"$f":"IF(I1639=\"\",\"\",IF(VLOOKUP(I1639,CAD_Q!$C$6:$D$105,2,FALSE)=0,\"\",VLOOKUP(I1639,CAD_Q!$C$6:$D$105,2,FALSE)))","v":""},{"$f":"IFERROR(VLOOKUP(I1639,CAD_Q!$C$6:$E$109,3,FALSE)*F1639,\"\")","v":""},null,null,"",1,0,1900,0,1,1900,"Nombre y el registro de entrada válida"]
[null,"",null,null,null,"",null,null,null,{"$f":"IF(I1640=\"\",\"\",IF(VLOOKUP(I1640,CAD_Q!$C$6:$D$105,2,FALSE)=0,\"\",VLOOKUP(I1640,CAD_Q!$C$6:$D$105,2,FALSE)))","v":""},{"$f":"IFERROR(VLOOKUP(I1640,CAD_Q!$C$6:$E$109,3,FALSE)*F1640,\"\")","v":""},null,null,"",1,0,1900,0,1,1900,"Nombre y el registro de entrada válida"]
[null,"",null,null,null,"",null,null,null,{"$f":"IF(I1641=\"\",\"\",IF(VLOOKUP(I1641,CAD_Q!$C$6:$D$105,2,FALSE)=0,\"\",VLOOKUP(I1641,CAD_Q!$C$6:$D$105,2,FALSE)))","v":""},{"$f":"IFERROR(VLOOKUP(I1641,CAD_Q!$C$6:$E$109,3,FALSE)*F1641,\"\")","v":""},null,null,"",1,0,1900,0,1,1900,"Nombre y el registro de entrada válida"]
[null,"",null,null,null,"",null,null,null,{"$f":"IF(I1642=\"\",\"\",IF(VLOOKUP(I1642,CAD_Q!$C$6:$D$105,2,FALSE)=0,\"\",VLOOKUP(I1642,CAD_Q!$C$6:$D$105,2,FALSE)))","v":""},{"$f":"IFERROR(VLOOKUP(I1642,CAD_Q!$C$6:$E$109,3,FALSE)*F1642,\"\")","v":""},null,null,"",1,0,1900,0,1,1900,"Nombre y el registro de entrada válida"]
[null,"",null,null,null,"",null,null,null,{"$f":"IF(I1643=\"\",\"\",IF(VLOOKUP(I1643,CAD_Q!$C$6:$D$105,2,FALSE)=0,\"\",VLOOKUP(I1643,CAD_Q!$C$6:$D$105,2,FALSE)))","v":""},{"$f":"IFERROR(VLOOKUP(I1643,CAD_Q!$C$6:$E$109,3,FALSE)*F1643,\"\")","v":""},null,null,"",1,0,1900,0,1,1900,"Nombre y el registro de entrada válida"]
[null,"",null,null,null,"",null,null,null,{"$f":"IF(I1644=\"\",\"\",IF(VLOOKUP(I1644,CAD_Q!$C$6:$D$105,2,FALSE)=0,\"\",VLOOKUP(I1644,CAD_Q!$C$6:$D$105,2,FALSE)))","v":""},{"$f":"IFERROR(VLOOKUP(I1644,CAD_Q!$C$6:$E$109,3,FALSE)*F1644,\"\")","v":""},null,null,"",1,0,1900,0,1,1900,"Nombre y el registro de entrada válida"]
[null,"",null,null,null,"",null,null,null,{"$f":"IF(I1645=\"\",\"\",IF(VLOOKUP(I1645,CAD_Q!$C$6:$D$105,2,FALSE)=0,\"\",VLOOKUP(I1645,CAD_Q!$C$6:$D$105,2,FALSE)))","v":""},{"$f":"IFERROR(VLOOKUP(I1645,CAD_Q!$C$6:$E$109,3,FALSE)*F1645,\"\")","v":""},null,null,"",1,0,1900,0,1,1900,"Nombre y el registro de entrada válida"]
[null,"",null,null,null,"",null,null,null,{"$f":"IF(I1646=\"\",\"\",IF(VLOOKUP(I1646,CAD_Q!$C$6:$D$105,2,FALSE)=0,\"\",VLOOKUP(I1646,CAD_Q!$C$6:$D$105,2,FALSE)))","v":""},{"$f":"IFERROR(VLOOKUP(I1646,CAD_Q!$C$6:$E$109,3,FALSE)*F1646,\"\")","v":""},null,null,"",1,0,1900,0,1,1900,"Nombre y el registro de entrada válida"]
[null,"",null,null,null,"",null,null,null,{"$f":"IF(I1647=\"\",\"\",IF(VLOOKUP(I1647,CAD_Q!$C$6:$D$105,2,FALSE)=0,\"\",VLOOKUP(I1647,CAD_Q!$C$6:$D$105,2,FALSE)))","v":""},{"$f":"IFERROR(VLOOKUP(I1647,CAD_Q!$C$6:$E$109,3,FALSE)*F1647,\"\")","v":""},null,null,"",1,0,1900,0,1,1900,"Nombre y el registro de entrada válida"]
[null,"",null,null,null,"",null,null,null,{"$f":"IF(I1648=\"\",\"\",IF(VLOOKUP(I1648,CAD_Q!$C$6:$D$105,2,FALSE)=0,\"\",VLOOKUP(I1648,CAD_Q!$C$6:$D$105,2,FALSE)))","v":""},{"$f":"IFERROR(VLOOKUP(I1648,CAD_Q!$C$6:$E$109,3,FALSE)*F1648,\"\")","v":""},null,null,"",1,0,1900,0,1,1900,"Nombre y el registro de entrada válida"]
[null,"",null,null,null,"",null,null,null,{"$f":"IF(I1649=\"\",\"\",IF(VLOOKUP(I1649,CAD_Q!$C$6:$D$105,2,FALSE)=0,\"\",VLOOKUP(I1649,CAD_Q!$C$6:$D$105,2,FALSE)))","v":""},{"$f":"IFERROR(VLOOKUP(I1649,CAD_Q!$C$6:$E$109,3,FALSE)*F1649,\"\")","v":""},null,null,"",1,0,1900,0,1,1900,"Nombre y el registro de entrada válida"]
[null,"",null,null,null,"",null,null,null,{"$f":"IF(I1650=\"\",\"\",IF(VLOOKUP(I1650,CAD_Q!$C$6:$D$105,2,FALSE)=0,\"\",VLOOKUP(I1650,CAD_Q!$C$6:$D$105,2,FALSE)))","v":""},{"$f":"IFERROR(VLOOKUP(I1650,CAD_Q!$C$6:$E$109,3,FALSE)*F1650,\"\")","v":""},null,null,"",1,0,1900,0,1,1900,"Nombre y el registro de entrada válida"]
[null,"",null,null,null,"",null,null,null,{"$f":"IF(I1651=\"\",\"\",IF(VLOOKUP(I1651,CAD_Q!$C$6:$D$105,2,FALSE)=0,\"\",VLOOKUP(I1651,CAD_Q!$C$6:$D$105,2,FALSE)))","v":""},{"$f":"IFERROR(VLOOKUP(I1651,CAD_Q!$C$6:$E$109,3,FALSE)*F1651,\"\")","v":""},null,null,"",1,0,1900,0,1,1900,"Nombre y el registro de entrada válida"]
[null,"",null,null,null,"",null,null,null,{"$f":"IF(I1652=\"\",\"\",IF(VLOOKUP(I1652,CAD_Q!$C$6:$D$105,2,FALSE)=0,\"\",VLOOKUP(I1652,CAD_Q!$C$6:$D$105,2,FALSE)))","v":""},{"$f":"IFERROR(VLOOKUP(I1652,CAD_Q!$C$6:$E$109,3,FALSE)*F1652,\"\")","v":""},null,null,"",1,0,1900,0,1,1900,"Nombre y el registro de entrada válida"]
[null,"",null,null,null,"",null,null,null,{"$f":"IF(I1653=\"\",\"\",IF(VLOOKUP(I1653,CAD_Q!$C$6:$D$105,2,FALSE)=0,\"\",VLOOKUP(I1653,CAD_Q!$C$6:$D$105,2,FALSE)))","v":""},{"$f":"IFERROR(VLOOKUP(I1653,CAD_Q!$C$6:$E$109,3,FALSE)*F1653,\"\")","v":""},null,null,"",1,0,1900,0,1,1900,"Nombre y el registro de entrada válida"]
[null,"",null,null,null,"",null,null,null,{"$f":"IF(I1654=\"\",\"\",IF(VLOOKUP(I1654,CAD_Q!$C$6:$D$105,2,FALSE)=0,\"\",VLOOKUP(I1654,CAD_Q!$C$6:$D$105,2,FALSE)))","v":""},{"$f":"IFERROR(VLOOKUP(I1654,CAD_Q!$C$6:$E$109,3,FALSE)*F1654,\"\")","v":""},null,null,"",1,0,1900,0,1,1900,"Nombre y el registro de entrada válida"]
[null,"",null,null,null,"",null,null,null,{"$f":"IF(I1655=\"\",\"\",IF(VLOOKUP(I1655,CAD_Q!$C$6:$D$105,2,FALSE)=0,\"\",VLOOKUP(I1655,CAD_Q!$C$6:$D$105,2,FALSE)))","v":""},{"$f":"IFERROR(VLOOKUP(I1655,CAD_Q!$C$6:$E$109,3,FALSE)*F1655,\"\")","v":""},null,null,"",1,0,1900,0,1,1900,"Nombre y el registro de entrada válida"]
[null,"",null,null,null,"",null,null,null,{"$f":"IF(I1656=\"\",\"\",IF(VLOOKUP(I1656,CAD_Q!$C$6:$D$105,2,FALSE)=0,\"\",VLOOKUP(I1656,CAD_Q!$C$6:$D$105,2,FALSE)))","v":""},{"$f":"IFERROR(VLOOKUP(I1656,CAD_Q!$C$6:$E$109,3,FALSE)*F1656,\"\")","v":""},null,null,"",1,0,1900,0,1,1900,"Nombre y el registro de entrada válida"]
[null,"",null,null,null,"",null,null,null,{"$f":"IF(I1657=\"\",\"\",IF(VLOOKUP(I1657,CAD_Q!$C$6:$D$105,2,FALSE)=0,\"\",VLOOKUP(I1657,CAD_Q!$C$6:$D$105,2,FALSE)))","v":""},{"$f":"IFERROR(VLOOKUP(I1657,CAD_Q!$C$6:$E$109,3,FALSE)*F1657,\"\")","v":""},null,null,"",1,0,1900,0,1,1900,"Nombre y el registro de entrada válida"]
[null,"",null,null,null,"",null,null,null,{"$f":"IF(I1658=\"\",\"\",IF(VLOOKUP(I1658,CAD_Q!$C$6:$D$105,2,FALSE)=0,\"\",VLOOKUP(I1658,CAD_Q!$C$6:$D$105,2,FALSE)))","v":""},{"$f":"IFERROR(VLOOKUP(I1658,CAD_Q!$C$6:$E$109,3,FALSE)*F1658,\"\")","v":""},null,null,"",1,0,1900,0,1,1900,"Nombre y el registro de entrada válida"]
[null,"",null,null,null,"",null,null,null,{"$f":"IF(I1659=\"\",\"\",IF(VLOOKUP(I1659,CAD_Q!$C$6:$D$105,2,FALSE)=0,\"\",VLOOKUP(I1659,CAD_Q!$C$6:$D$105,2,FALSE)))","v":""},{"$f":"IFERROR(VLOOKUP(I1659,CAD_Q!$C$6:$E$109,3,FALSE)*F1659,\"\")","v":""},null,null,"",1,0,1900,0,1,1900,"Nombre y el registro de entrada válida"]
[null,"",null,null,null,"",null,null,null,{"$f":"IF(I1660=\"\",\"\",IF(VLOOKUP(I1660,CAD_Q!$C$6:$D$105,2,FALSE)=0,\"\",VLOOKUP(I1660,CAD_Q!$C$6:$D$105,2,FALSE)))","v":""},{"$f":"IFERROR(VLOOKUP(I1660,CAD_Q!$C$6:$E$109,3,FALSE)*F1660,\"\")","v":""},null,null,"",1,0,1900,0,1,1900,"Nombre y el registro de entrada válida"]
[null,"",null,null,null,"",null,null,null,{"$f":"IF(I1661=\"\",\"\",IF(VLOOKUP(I1661,CAD_Q!$C$6:$D$105,2,FALSE)=0,\"\",VLOOKUP(I1661,CAD_Q!$C$6:$D$105,2,FALSE)))","v":""},{"$f":"IFERROR(VLOOKUP(I1661,CAD_Q!$C$6:$E$109,3,FALSE)*F1661,\"\")","v":""},null,null,"",1,0,1900,0,1,1900,"Nombre y el registro de entrada válida"]
[null,"",null,null,null,"",null,null,null,{"$f":"IF(I1662=\"\",\"\",IF(VLOOKUP(I1662,CAD_Q!$C$6:$D$105,2,FALSE)=0,\"\",VLOOKUP(I1662,CAD_Q!$C$6:$D$105,2,FALSE)))","v":""},{"$f":"IFERROR(VLOOKUP(I1662,CAD_Q!$C$6:$E$109,3,FALSE)*F1662,\"\")","v":""},null,null,"",1,0,1900,0,1,1900,"Nombre y el registro de entrada válida"]
[null,"",null,null,null,"",null,null,null,{"$f":"IF(I1663=\"\",\"\",IF(VLOOKUP(I1663,CAD_Q!$C$6:$D$105,2,FALSE)=0,\"\",VLOOKUP(I1663,CAD_Q!$C$6:$D$105,2,FALSE)))","v":""},{"$f":"IFERROR(VLOOKUP(I1663,CAD_Q!$C$6:$E$109,3,FALSE)*F1663,\"\")","v":""},null,null,"",1,0,1900,0,1,1900,"Nombre y el registro de entrada válida"]
[null,"",null,null,null,"",null,null,null,{"$f":"IF(I1664=\"\",\"\",IF(VLOOKUP(I1664,CAD_Q!$C$6:$D$105,2,FALSE)=0,\"\",VLOOKUP(I1664,CAD_Q!$C$6:$D$105,2,FALSE)))","v":""},{"$f":"IFERROR(VLOOKUP(I1664,CAD_Q!$C$6:$E$109,3,FALSE)*F1664,\"\")","v":""},null,null,"",1,0,1900,0,1,1900,"Nombre y el registro de entrada válida"]
[null,"",null,null,null,"",null,null,null,{"$f":"IF(I1665=\"\",\"\",IF(VLOOKUP(I1665,CAD_Q!$C$6:$D$105,2,FALSE)=0,\"\",VLOOKUP(I1665,CAD_Q!$C$6:$D$105,2,FALSE)))","v":""},{"$f":"IFERROR(VLOOKUP(I1665,CAD_Q!$C$6:$E$109,3,FALSE)*F1665,\"\")","v":""},null,null,"",1,0,1900,0,1,1900,"Nombre y el registro de entrada válida"]
[null,"",null,null,null,"",null,null,null,{"$f":"IF(I1666=\"\",\"\",IF(VLOOKUP(I1666,CAD_Q!$C$6:$D$105,2,FALSE)=0,\"\",VLOOKUP(I1666,CAD_Q!$C$6:$D$105,2,FALSE)))","v":""},{"$f":"IFERROR(VLOOKUP(I1666,CAD_Q!$C$6:$E$109,3,FALSE)*F1666,\"\")","v":""},null,null,"",1,0,1900,0,1,1900,"Nombre y el registro de entrada válida"]
[null,"",null,null,null,"",null,null,null,{"$f":"IF(I1667=\"\",\"\",IF(VLOOKUP(I1667,CAD_Q!$C$6:$D$105,2,FALSE)=0,\"\",VLOOKUP(I1667,CAD_Q!$C$6:$D$105,2,FALSE)))","v":""},{"$f":"IFERROR(VLOOKUP(I1667,CAD_Q!$C$6:$E$109,3,FALSE)*F1667,\"\")","v":""},null,null,"",1,0,1900,0,1,1900,"Nombre y el registro de entrada válida"]
[null,"",null,null,null,"",null,null,null,{"$f":"IF(I1668=\"\",\"\",IF(VLOOKUP(I1668,CAD_Q!$C$6:$D$105,2,FALSE)=0,\"\",VLOOKUP(I1668,CAD_Q!$C$6:$D$105,2,FALSE)))","v":""},{"$f":"IFERROR(VLOOKUP(I1668,CAD_Q!$C$6:$E$109,3,FALSE)*F1668,\"\")","v":""},null,null,"",1,0,1900,0,1,1900,"Nombre y el registro de entrada válida"]
[null,"",null,null,null,"",null,null,null,{"$f":"IF(I1669=\"\",\"\",IF(VLOOKUP(I1669,CAD_Q!$C$6:$D$105,2,FALSE)=0,\"\",VLOOKUP(I1669,CAD_Q!$C$6:$D$105,2,FALSE)))","v":""},{"$f":"IFERROR(VLOOKUP(I1669,CAD_Q!$C$6:$E$109,3,FALSE)*F1669,\"\")","v":""},null,null,"",1,0,1900,0,1,1900,"Nombre y el registro de entrada válida"]
[null,"",null,null,null,"",null,null,null,{"$f":"IF(I1670=\"\",\"\",IF(VLOOKUP(I1670,CAD_Q!$C$6:$D$105,2,FALSE)=0,\"\",VLOOKUP(I1670,CAD_Q!$C$6:$D$105,2,FALSE)))","v":""},{"$f":"IFERROR(VLOOKUP(I1670,CAD_Q!$C$6:$E$109,3,FALSE)*F1670,\"\")","v":""},null,null,"",1,0,1900,0,1,1900,"Nombre y el registro de entrada válida"]
[null,{"$f":"CONCATENATE(C1671,D1671)","v":""},null,null,null,"",null,null,null,{"$f":"IF(I1671=\"\",\"\",IF(VLOOKUP(I1671,CAD_Q!$C$6:$D$105,2,FALSE)=0,\"\",VLOOKUP(I1671,CAD_Q!$C$6:$D$105,2,FALSE)))","v":""},{"$f":"IFERROR(VLOOKUP(I1671,CAD_Q!$C$6:$E$109,3,FALSE)*F1671,\"\")","v":""},null,null,{"$f":"IFERROR(K1671-L1671+M1671,\"\")","v":""},1,0,1900,0,1,1900,"Nombre y el registro de entrada válida"]
[null,"",null,null,null,"",null,null,null,{"$f":"IF(I1672=\"\",\"\",IF(VLOOKUP(I1672,CAD_Q!$C$6:$D$105,2,FALSE)=0,\"\",VLOOKUP(I1672,CAD_Q!$C$6:$D$105,2,FALSE)))","v":""},{"$f":"IFERROR(VLOOKUP(I1672,CAD_Q!$C$6:$E$109,3,FALSE)*F1672,\"\")","v":""},null,null,"",1,0,1900,0,1,1900,"Nombre y el registro de entrada válida"]
[null,"",null,null,null,"",null,null,null,{"$f":"IF(I1673=\"\",\"\",IF(VLOOKUP(I1673,CAD_Q!$C$6:$D$105,2,FALSE)=0,\"\",VLOOKUP(I1673,CAD_Q!$C$6:$D$105,2,FALSE)))","v":""},{"$f":"IFERROR(VLOOKUP(I1673,CAD_Q!$C$6:$E$109,3,FALSE)*F1673,\"\")","v":""},null,null,"",1,0,1900,0,1,1900,"Nombre y el registro de entrada válida"]
[null,"",null,null,null,"",null,null,null,{"$f":"IF(I1674=\"\",\"\",IF(VLOOKUP(I1674,CAD_Q!$C$6:$D$105,2,FALSE)=0,\"\",VLOOKUP(I1674,CAD_Q!$C$6:$D$105,2,FALSE)))","v":""},{"$f":"IFERROR(VLOOKUP(I1674,CAD_Q!$C$6:$E$109,3,FALSE)*F1674,\"\")","v":""},null,null,"",{"$f":"MONTH(D1674)","v":1},{"$f":"DAY(D1674)","v":0},{"$f":"YEAR(D1674)","v":1900},{"$f":"DAY(E1674)","v":0},{"$f":"MONTH(E1674)","v":1},{"$f":"YEAR(E1674)","v":1900},"Nombre y el registro de entrada válida"]
[null,"",null,null,null,"",null,null,null,{"$f":"IF(I1675=\"\",\"\",IF(VLOOKUP(I1675,CAD_Q!$C$6:$D$105,2,FALSE)=0,\"\",VLOOKUP(I1675,CAD_Q!$C$6:$D$105,2,FALSE)))","v":""},{"$f":"IFERROR(VLOOKUP(I1675,CAD_Q!$C$6:$E$109,3,FALSE)*F1675,\"\")","v":""},null,null,"",1,0,1900,0,1,1900,"Nombre y el registro de entrada válida"]
[null,"",null,null,null,"",null,null,null,{"$f":"IF(I1676=\"\",\"\",IF(VLOOKUP(I1676,CAD_Q!$C$6:$D$105,2,FALSE)=0,\"\",VLOOKUP(I1676,CAD_Q!$C$6:$D$105,2,FALSE)))","v":""},{"$f":"IFERROR(VLOOKUP(I1676,CAD_Q!$C$6:$E$109,3,FALSE)*F1676,\"\")","v":""},null,null,"",1,0,1900,0,1,1900,"Nombre y el registro de entrada válida"]
[null,"",null,null,null,"",null,null,null,{"$f":"IF(I1677=\"\",\"\",IF(VLOOKUP(I1677,CAD_Q!$C$6:$D$105,2,FALSE)=0,\"\",VLOOKUP(I1677,CAD_Q!$C$6:$D$105,2,FALSE)))","v":""},{"$f":"IFERROR(VLOOKUP(I1677,CAD_Q!$C$6:$E$109,3,FALSE)*F1677,\"\")","v":""},null,null,"",1,0,1900,0,1,1900,"Nombre y el registro de entrada válida"]
[null,"",null,null,null,"",null,null,null,{"$f":"IF(I1678=\"\",\"\",IF(VLOOKUP(I1678,CAD_Q!$C$6:$D$105,2,FALSE)=0,\"\",VLOOKUP(I1678,CAD_Q!$C$6:$D$105,2,FALSE)))","v":""},{"$f":"IFERROR(VLOOKUP(I1678,CAD_Q!$C$6:$E$109,3,FALSE)*F1678,\"\")","v":""},null,null,"",1,0,1900,0,1,1900,"Nombre y el registro de entrada válida"]
[null,"",null,null,null,"",null,null,null,{"$f":"IF(I1679=\"\",\"\",IF(VLOOKUP(I1679,CAD_Q!$C$6:$D$105,2,FALSE)=0,\"\",VLOOKUP(I1679,CAD_Q!$C$6:$D$105,2,FALSE)))","v":""},{"$f":"IFERROR(VLOOKUP(I1679,CAD_Q!$C$6:$E$109,3,FALSE)*F1679,\"\")","v":""},null,null,"",1,0,1900,0,1,1900,"Nombre y el registro de entrada válida"]
[null,"",null,null,null,"",null,null,null,{"$f":"IF(I1680=\"\",\"\",IF(VLOOKUP(I1680,CAD_Q!$C$6:$D$105,2,FALSE)=0,\"\",VLOOKUP(I1680,CAD_Q!$C$6:$D$105,2,FALSE)))","v":""},{"$f":"IFERROR(VLOOKUP(I1680,CAD_Q!$C$6:$E$109,3,FALSE)*F1680,\"\")","v":""},null,null,"",1,0,1900,0,1,1900,"Nombre y el registro de entrada válida"]
[null,"",null,null,null,"",null,null,null,{"$f":"IF(I1681=\"\",\"\",IF(VLOOKUP(I1681,CAD_Q!$C$6:$D$105,2,FALSE)=0,\"\",VLOOKUP(I1681,CAD_Q!$C$6:$D$105,2,FALSE)))","v":""},{"$f":"IFERROR(VLOOKUP(I1681,CAD_Q!$C$6:$E$109,3,FALSE)*F1681,\"\")","v":""},null,null,"",1,0,1900,0,1,1900,"Nombre y el registro de entrada válida"]
[null,"",null,null,null,"",null,null,null,{"$f":"IF(I1682=\"\",\"\",IF(VLOOKUP(I1682,CAD_Q!$C$6:$D$105,2,FALSE)=0,\"\",VLOOKUP(I1682,CAD_Q!$C$6:$D$105,2,FALSE)))","v":""},{"$f":"IFERROR(VLOOKUP(I1682,CAD_Q!$C$6:$E$109,3,FALSE)*F1682,\"\")","v":""},null,null,"",1,0,1900,0,1,1900,"Nombre y el registro de entrada válida"]
[null,"",null,null,null,"",null,null,null,{"$f":"IF(I1683=\"\",\"\",IF(VLOOKUP(I1683,CAD_Q!$C$6:$D$105,2,FALSE)=0,\"\",VLOOKUP(I1683,CAD_Q!$C$6:$D$105,2,FALSE)))","v":""},{"$f":"IFERROR(VLOOKUP(I1683,CAD_Q!$C$6:$E$109,3,FALSE)*F1683,\"\")","v":""},null,null,"",1,0,1900,0,1,1900,"Nombre y el registro de entrada válida"]
[null,"",null,null,null,"",null,null,null,{"$f":"IF(I1684=\"\",\"\",IF(VLOOKUP(I1684,CAD_Q!$C$6:$D$105,2,FALSE)=0,\"\",VLOOKUP(I1684,CAD_Q!$C$6:$D$105,2,FALSE)))","v":""},{"$f":"IFERROR(VLOOKUP(I1684,CAD_Q!$C$6:$E$109,3,FALSE)*F1684,\"\")","v":""},null,null,"",1,0,1900,0,1,1900,"Nombre y el registro de entrada válida"]
[null,"",null,null,null,"",null,null,null,{"$f":"IF(I1685=\"\",\"\",IF(VLOOKUP(I1685,CAD_Q!$C$6:$D$105,2,FALSE)=0,\"\",VLOOKUP(I1685,CAD_Q!$C$6:$D$105,2,FALSE)))","v":""},{"$f":"IFERROR(VLOOKUP(I1685,CAD_Q!$C$6:$E$109,3,FALSE)*F1685,\"\")","v":""},null,null,"",1,0,1900,0,1,1900,"Nombre y el registro de entrada válida"]
[null,"",null,null,null,"",null,null,null,{"$f":"IF(I1686=\"\",\"\",IF(VLOOKUP(I1686,CAD_Q!$C$6:$D$105,2,FALSE)=0,\"\",VLOOKUP(I1686,CAD_Q!$C$6:$D$105,2,FALSE)))","v":""},{"$f":"IFERROR(VLOOKUP(I1686,CAD_Q!$C$6:$E$109,3,FALSE)*F1686,\"\")","v":""},null,null,"",1,0,1900,0,1,1900,"Nombre y el registro de entrada válida"]
[null,"",null,null,null,"",null,null,null,{"$f":"IF(I1687=\"\",\"\",IF(VLOOKUP(I1687,CAD_Q!$C$6:$D$105,2,FALSE)=0,\"\",VLOOKUP(I1687,CAD_Q!$C$6:$D$105,2,FALSE)))","v":""},{"$f":"IFERROR(VLOOKUP(I1687,CAD_Q!$C$6:$E$109,3,FALSE)*F1687,\"\")","v":""},null,null,"",1,0,1900,0,1,1900,"Nombre y el registro de entrada válida"]
[null,"",null,null,null,"",null,null,null,{"$f":"IF(I1688=\"\",\"\",IF(VLOOKUP(I1688,CAD_Q!$C$6:$D$105,2,FALSE)=0,\"\",VLOOKUP(I1688,CAD_Q!$C$6:$D$105,2,FALSE)))","v":""},{"$f":"IFERROR(VLOOKUP(I1688,CAD_Q!$C$6:$E$109,3,FALSE)*F1688,\"\")","v":""},null,null,"",1,0,1900,0,1,1900,"Nombre y el registro de entrada válida"]
[null,"",null,null,null,"",null,null,null,{"$f":"IF(I1689=\"\",\"\",IF(VLOOKUP(I1689,CAD_Q!$C$6:$D$105,2,FALSE)=0,\"\",VLOOKUP(I1689,CAD_Q!$C$6:$D$105,2,FALSE)))","v":""},{"$f":"IFERROR(VLOOKUP(I1689,CAD_Q!$C$6:$E$109,3,FALSE)*F1689,\"\")","v":""},null,null,"",1,0,1900,0,1,1900,"Nombre y el registro de entrada válida"]
[null,"",null,null,null,"",null,null,null,{"$f":"IF(I1690=\"\",\"\",IF(VLOOKUP(I1690,CAD_Q!$C$6:$D$105,2,FALSE)=0,\"\",VLOOKUP(I1690,CAD_Q!$C$6:$D$105,2,FALSE)))","v":""},{"$f":"IFERROR(VLOOKUP(I1690,CAD_Q!$C$6:$E$109,3,FALSE)*F1690,\"\")","v":""},null,null,"",1,0,1900,0,1,1900,"Nombre y el registro de entrada válida"]
[null,"",null,null,null,"",null,null,null,{"$f":"IF(I1691=\"\",\"\",IF(VLOOKUP(I1691,CAD_Q!$C$6:$D$105,2,FALSE)=0,\"\",VLOOKUP(I1691,CAD_Q!$C$6:$D$105,2,FALSE)))","v":""},{"$f":"IFERROR(VLOOKUP(I1691,CAD_Q!$C$6:$E$109,3,FALSE)*F1691,\"\")","v":""},null,null,"",1,0,1900,0,1,1900,"Nombre y el registro de entrada válida"]
[null,"",null,null,null,"",null,null,null,{"$f":"IF(I1692=\"\",\"\",IF(VLOOKUP(I1692,CAD_Q!$C$6:$D$105,2,FALSE)=0,\"\",VLOOKUP(I1692,CAD_Q!$C$6:$D$105,2,FALSE)))","v":""},{"$f":"IFERROR(VLOOKUP(I1692,CAD_Q!$C$6:$E$109,3,FALSE)*F1692,\"\")","v":""},null,null,"",1,0,1900,0,1,1900,"Nombre y el registro de entrada válida"]
[null,"",null,null,null,"",null,null,null,{"$f":"IF(I1693=\"\",\"\",IF(VLOOKUP(I1693,CAD_Q!$C$6:$D$105,2,FALSE)=0,\"\",VLOOKUP(I1693,CAD_Q!$C$6:$D$105,2,FALSE)))","v":""},{"$f":"IFERROR(VLOOKUP(I1693,CAD_Q!$C$6:$E$109,3,FALSE)*F1693,\"\")","v":""},null,null,"",1,0,1900,0,1,1900,"Nombre y el registro de entrada válida"]
[null,"",null,null,null,"",null,null,null,{"$f":"IF(I1694=\"\",\"\",IF(VLOOKUP(I1694,CAD_Q!$C$6:$D$105,2,FALSE)=0,\"\",VLOOKUP(I1694,CAD_Q!$C$6:$D$105,2,FALSE)))","v":""},{"$f":"IFERROR(VLOOKUP(I1694,CAD_Q!$C$6:$E$109,3,FALSE)*F1694,\"\")","v":""},null,null,"",1,0,1900,0,1,1900,"Nombre y el registro de entrada válida"]
[null,"",null,null,null,"",null,null,null,{"$f":"IF(I1695=\"\",\"\",IF(VLOOKUP(I1695,CAD_Q!$C$6:$D$105,2,FALSE)=0,\"\",VLOOKUP(I1695,CAD_Q!$C$6:$D$105,2,FALSE)))","v":""},{"$f":"IFERROR(VLOOKUP(I1695,CAD_Q!$C$6:$E$109,3,FALSE)*F1695,\"\")","v":""},null,null,"",1,0,1900,0,1,1900,"Nombre y el registro de entrada válida"]
[null,"",null,null,null,"",null,null,null,{"$f":"IF(I1696=\"\",\"\",IF(VLOOKUP(I1696,CAD_Q!$C$6:$D$105,2,FALSE)=0,\"\",VLOOKUP(I1696,CAD_Q!$C$6:$D$105,2,FALSE)))","v":""},{"$f":"IFERROR(VLOOKUP(I1696,CAD_Q!$C$6:$E$109,3,FALSE)*F1696,\"\")","v":""},null,null,"",1,0,1900,0,1,1900,"Nombre y el registro de entrada válida"]
[null,"",null,null,null,"",null,null,null,{"$f":"IF(I1697=\"\",\"\",IF(VLOOKUP(I1697,CAD_Q!$C$6:$D$105,2,FALSE)=0,\"\",VLOOKUP(I1697,CAD_Q!$C$6:$D$105,2,FALSE)))","v":""},{"$f":"IFERROR(VLOOKUP(I1697,CAD_Q!$C$6:$E$109,3,FALSE)*F1697,\"\")","v":""},null,null,"",1,0,1900,0,1,1900,"Nombre y el registro de entrada válida"]
[null,"",null,null,null,"",null,null,null,{"$f":"IF(I1698=\"\",\"\",IF(VLOOKUP(I1698,CAD_Q!$C$6:$D$105,2,FALSE)=0,\"\",VLOOKUP(I1698,CAD_Q!$C$6:$D$105,2,FALSE)))","v":""},{"$f":"IFERROR(VLOOKUP(I1698,CAD_Q!$C$6:$E$109,3,FALSE)*F1698,\"\")","v":""},null,null,"",1,0,1900,0,1,1900,"Nombre y el registro de entrada válida"]
[null,"",null,null,null,"",null,null,null,{"$f":"IF(I1699=\"\",\"\",IF(VLOOKUP(I1699,CAD_Q!$C$6:$D$105,2,FALSE)=0,\"\",VLOOKUP(I1699,CAD_Q!$C$6:$D$105,2,FALSE)))","v":""},{"$f":"IFERROR(VLOOKUP(I1699,CAD_Q!$C$6:$E$109,3,FALSE)*F1699,\"\")","v":""},null,null,"",1,0,1900,0,1,1900,"Nombre y el registro de entrada válida"]
[null,"",null,null,null,{"$f":"IF(OR(D1700=\"\",E1700=\"\"),\"\",E1700-D1700)","v":""},null,null,null,{"$f":"IF(I1700=\"\",\"\",IF(VLOOKUP(I1700,CAD_Q!$C$6:$D$105,2,FALSE)=0,\"\",VLOOKUP(I1700,CAD_Q!$C$6:$D$105,2,FALSE)))","v":""},{"$f":"IFERROR(VLOOKUP(I1700,CAD_Q!$C$6:$E$109,3,FALSE)*F1700,\"\")","v":""},null,null,"",1,0,1900,0,1,1900,"Nombre y el registro de entrada válida"]
[null,"",null,null,null,"",null,null,null,{"$f":"IF(I1701=\"\",\"\",IF(VLOOKUP(I1701,CAD_Q!$C$6:$D$105,2,FALSE)=0,\"\",VLOOKUP(I1701,CAD_Q!$C$6:$D$105,2,FALSE)))","v":""},{"$f":"IFERROR(VLOOKUP(I1701,CAD_Q!$C$6:$E$109,3,FALSE)*F1701,\"\")","v":""},null,null,"",1,0,1900,0,1,1900,"Nombre y el registro de entrada válida"]
[null,"",null,null,null,"",null,null,null,{"$f":"IF(I1702=\"\",\"\",IF(VLOOKUP(I1702,CAD_Q!$C$6:$D$105,2,FALSE)=0,\"\",VLOOKUP(I1702,CAD_Q!$C$6:$D$105,2,FALSE)))","v":""},{"$f":"IFERROR(VLOOKUP(I1702,CAD_Q!$C$6:$E$109,3,FALSE)*F1702,\"\")","v":""},null,null,"",1,0,1900,0,1,1900,"Nombre y el registro de entrada válida"]
[null,"",null,null,null,"",null,null,null,{"$f":"IF(I1703=\"\",\"\",IF(VLOOKUP(I1703,CAD_Q!$C$6:$D$105,2,FALSE)=0,\"\",VLOOKUP(I1703,CAD_Q!$C$6:$D$105,2,FALSE)))","v":""},{"$f":"IFERROR(VLOOKUP(I1703,CAD_Q!$C$6:$E$109,3,FALSE)*F1703,\"\")","v":""},null,null,"",1,0,1900,0,1,1900,"Nombre y el registro de entrada válida"]
[null,"",null,null,null,"",null,null,null,{"$f":"IF(I1704=\"\",\"\",IF(VLOOKUP(I1704,CAD_Q!$C$6:$D$105,2,FALSE)=0,\"\",VLOOKUP(I1704,CAD_Q!$C$6:$D$105,2,FALSE)))","v":""},{"$f":"IFERROR(VLOOKUP(I1704,CAD_Q!$C$6:$E$109,3,FALSE)*F1704,\"\")","v":""},null,null,"",1,0,1900,0,1,1900,"Nombre y el registro de entrada válida"]
[null,"",null,null,null,"",null,null,null,{"$f":"IF(I1705=\"\",\"\",IF(VLOOKUP(I1705,CAD_Q!$C$6:$D$105,2,FALSE)=0,\"\",VLOOKUP(I1705,CAD_Q!$C$6:$D$105,2,FALSE)))","v":""},{"$f":"IFERROR(VLOOKUP(I1705,CAD_Q!$C$6:$E$109,3,FALSE)*F1705,\"\")","v":""},null,null,"",1,0,1900,0,1,1900,"Nombre y el registro de entrada válida"]
[null,"",null,null,null,"",null,null,null,{"$f":"IF(I1706=\"\",\"\",IF(VLOOKUP(I1706,CAD_Q!$C$6:$D$105,2,FALSE)=0,\"\",VLOOKUP(I1706,CAD_Q!$C$6:$D$105,2,FALSE)))","v":""},{"$f":"IFERROR(VLOOKUP(I1706,CAD_Q!$C$6:$E$109,3,FALSE)*F1706,\"\")","v":""},null,null,"",1,0,1900,0,1,1900,"Nombre y el registro de entrada válida"]
[null,"",null,null,null,"",null,null,null,{"$f":"IF(I1707=\"\",\"\",IF(VLOOKUP(I1707,CAD_Q!$C$6:$D$105,2,FALSE)=0,\"\",VLOOKUP(I1707,CAD_Q!$C$6:$D$105,2,FALSE)))","v":""},{"$f":"IFERROR(VLOOKUP(I1707,CAD_Q!$C$6:$E$109,3,FALSE)*F1707,\"\")","v":""},null,null,"",1,0,1900,0,1,1900,"Nombre y el registro de entrada válida"]
[null,"",null,null,null,"",null,null,null,{"$f":"IF(I1708=\"\",\"\",IF(VLOOKUP(I1708,CAD_Q!$C$6:$D$105,2,FALSE)=0,\"\",VLOOKUP(I1708,CAD_Q!$C$6:$D$105,2,FALSE)))","v":""},{"$f":"IFERROR(VLOOKUP(I1708,CAD_Q!$C$6:$E$109,3,FALSE)*F1708,\"\")","v":""},null,null,"",1,0,1900,0,1,1900,"Nombre y el registro de entrada válida"]
[null,"",null,null,null,"",null,null,null,{"$f":"IF(I1709=\"\",\"\",IF(VLOOKUP(I1709,CAD_Q!$C$6:$D$105,2,FALSE)=0,\"\",VLOOKUP(I1709,CAD_Q!$C$6:$D$105,2,FALSE)))","v":""},{"$f":"IFERROR(VLOOKUP(I1709,CAD_Q!$C$6:$E$109,3,FALSE)*F1709,\"\")","v":""},null,null,"",1,0,1900,0,1,1900,"Nombre y el registro de entrada válida"]
[null,"",null,null,null,"",null,null,null,{"$f":"IF(I1710=\"\",\"\",IF(VLOOKUP(I1710,CAD_Q!$C$6:$D$105,2,FALSE)=0,\"\",VLOOKUP(I1710,CAD_Q!$C$6:$D$105,2,FALSE)))","v":""},{"$f":"IFERROR(VLOOKUP(I1710,CAD_Q!$C$6:$E$109,3,FALSE)*F1710,\"\")","v":""},null,null,"",1,0,1900,0,1,1900,"Nombre y el registro de entrada válida"]
[null,"",null,null,null,"",null,null,null,{"$f":"IF(I1711=\"\",\"\",IF(VLOOKUP(I1711,CAD_Q!$C$6:$D$105,2,FALSE)=0,\"\",VLOOKUP(I1711,CAD_Q!$C$6:$D$105,2,FALSE)))","v":""},{"$f":"IFERROR(VLOOKUP(I1711,CAD_Q!$C$6:$E$109,3,FALSE)*F1711,\"\")","v":""},null,null,"",1,0,1900,0,1,1900,"Nombre y el registro de entrada válida"]
[null,"",null,null,null,"",null,null,null,{"$f":"IF(I1712=\"\",\"\",IF(VLOOKUP(I1712,CAD_Q!$C$6:$D$105,2,FALSE)=0,\"\",VLOOKUP(I1712,CAD_Q!$C$6:$D$105,2,FALSE)))","v":""},{"$f":"IFERROR(VLOOKUP(I1712,CAD_Q!$C$6:$E$109,3,FALSE)*F1712,\"\")","v":""},null,null,"",1,0,1900,0,1,1900,"Nombre y el registro de entrada válida"]
[null,"",null,null,null,"",null,null,null,{"$f":"IF(I1713=\"\",\"\",IF(VLOOKUP(I1713,CAD_Q!$C$6:$D$105,2,FALSE)=0,\"\",VLOOKUP(I1713,CAD_Q!$C$6:$D$105,2,FALSE)))","v":""},{"$f":"IFERROR(VLOOKUP(I1713,CAD_Q!$C$6:$E$109,3,FALSE)*F1713,\"\")","v":""},null,null,"",1,0,1900,0,1,1900,"Nombre y el registro de entrada válida"]
[null,"",null,null,null,"",null,null,null,{"$f":"IF(I1714=\"\",\"\",IF(VLOOKUP(I1714,CAD_Q!$C$6:$D$105,2,FALSE)=0,\"\",VLOOKUP(I1714,CAD_Q!$C$6:$D$105,2,FALSE)))","v":""},{"$f":"IFERROR(VLOOKUP(I1714,CAD_Q!$C$6:$E$109,3,FALSE)*F1714,\"\")","v":""},null,null,"",1,0,1900,0,1,1900,"Nombre y el registro de entrada válida"]
[null,"",null,null,null,"",null,null,null,{"$f":"IF(I1715=\"\",\"\",IF(VLOOKUP(I1715,CAD_Q!$C$6:$D$105,2,FALSE)=0,\"\",VLOOKUP(I1715,CAD_Q!$C$6:$D$105,2,FALSE)))","v":""},{"$f":"IFERROR(VLOOKUP(I1715,CAD_Q!$C$6:$E$109,3,FALSE)*F1715,\"\")","v":""},null,null,"",1,0,1900,0,1,1900,"Nombre y el registro de entrada válida"]
[null,"",null,null,null,"",null,null,null,{"$f":"IF(I1716=\"\",\"\",IF(VLOOKUP(I1716,CAD_Q!$C$6:$D$105,2,FALSE)=0,\"\",VLOOKUP(I1716,CAD_Q!$C$6:$D$105,2,FALSE)))","v":""},{"$f":"IFERROR(VLOOKUP(I1716,CAD_Q!$C$6:$E$109,3,FALSE)*F1716,\"\")","v":""},null,null,"",1,0,1900,0,1,1900,"Nombre y el registro de entrada válida"]
[null,"",null,null,null,"",null,null,null,{"$f":"IF(I1717=\"\",\"\",IF(VLOOKUP(I1717,CAD_Q!$C$6:$D$105,2,FALSE)=0,\"\",VLOOKUP(I1717,CAD_Q!$C$6:$D$105,2,FALSE)))","v":""},{"$f":"IFERROR(VLOOKUP(I1717,CAD_Q!$C$6:$E$109,3,FALSE)*F1717,\"\")","v":""},null,null,"",1,0,1900,0,1,1900,"Nombre y el registro de entrada válida"]
[null,"",null,null,null,"",null,null,null,{"$f":"IF(I1718=\"\",\"\",IF(VLOOKUP(I1718,CAD_Q!$C$6:$D$105,2,FALSE)=0,\"\",VLOOKUP(I1718,CAD_Q!$C$6:$D$105,2,FALSE)))","v":""},{"$f":"IFERROR(VLOOKUP(I1718,CAD_Q!$C$6:$E$109,3,FALSE)*F1718,\"\")","v":""},null,null,"",1,0,1900,0,1,1900,"Nombre y el registro de entrada válida"]
[null,"",null,null,null,"",null,null,null,{"$f":"IF(I1719=\"\",\"\",IF(VLOOKUP(I1719,CAD_Q!$C$6:$D$105,2,FALSE)=0,\"\",VLOOKUP(I1719,CAD_Q!$C$6:$D$105,2,FALSE)))","v":""},{"$f":"IFERROR(VLOOKUP(I1719,CAD_Q!$C$6:$E$109,3,FALSE)*F1719,\"\")","v":""},null,null,"",1,0,1900,0,1,1900,"Nombre y el registro de entrada válida"]
[null,"",null,null,null,"",null,null,null,{"$f":"IF(I1720=\"\",\"\",IF(VLOOKUP(I1720,CAD_Q!$C$6:$D$105,2,FALSE)=0,\"\",VLOOKUP(I1720,CAD_Q!$C$6:$D$105,2,FALSE)))","v":""},{"$f":"IFERROR(VLOOKUP(I1720,CAD_Q!$C$6:$E$109,3,FALSE)*F1720,\"\")","v":""},null,null,"",1,0,1900,0,1,1900,"Nombre y el registro de entrada válida"]
[null,"",null,null,null,"",null,null,null,{"$f":"IF(I1721=\"\",\"\",IF(VLOOKUP(I1721,CAD_Q!$C$6:$D$105,2,FALSE)=0,\"\",VLOOKUP(I1721,CAD_Q!$C$6:$D$105,2,FALSE)))","v":""},{"$f":"IFERROR(VLOOKUP(I1721,CAD_Q!$C$6:$E$109,3,FALSE)*F1721,\"\")","v":""},null,null,"",1,0,1900,0,1,1900,"Nombre y el registro de entrada válida"]
[null,"",null,null,null,"",null,null,null,{"$f":"IF(I1722=\"\",\"\",IF(VLOOKUP(I1722,CAD_Q!$C$6:$D$105,2,FALSE)=0,\"\",VLOOKUP(I1722,CAD_Q!$C$6:$D$105,2,FALSE)))","v":""},{"$f":"IFERROR(VLOOKUP(I1722,CAD_Q!$C$6:$E$109,3,FALSE)*F1722,\"\")","v":""},null,null,"",1,0,1900,0,1,1900,"Nombre y el registro de entrada válida"]
[null,"",null,null,null,"",null,null,null,{"$f":"IF(I1723=\"\",\"\",IF(VLOOKUP(I1723,CAD_Q!$C$6:$D$105,2,FALSE)=0,\"\",VLOOKUP(I1723,CAD_Q!$C$6:$D$105,2,FALSE)))","v":""},{"$f":"IFERROR(VLOOKUP(I1723,CAD_Q!$C$6:$E$109,3,FALSE)*F1723,\"\")","v":""},null,null,"",1,0,1900,0,1,1900,"Nombre y el registro de entrada válida"]
[null,"",null,null,null,"",null,null,null,{"$f":"IF(I1724=\"\",\"\",IF(VLOOKUP(I1724,CAD_Q!$C$6:$D$105,2,FALSE)=0,\"\",VLOOKUP(I1724,CAD_Q!$C$6:$D$105,2,FALSE)))","v":""},{"$f":"IFERROR(VLOOKUP(I1724,CAD_Q!$C$6:$E$109,3,FALSE)*F1724,\"\")","v":""},null,null,"",1,0,1900,0,1,1900,"Nombre y el registro de entrada válida"]
[null,"",null,null,null,"",null,null,null,{"$f":"IF(I1725=\"\",\"\",IF(VLOOKUP(I1725,CAD_Q!$C$6:$D$105,2,FALSE)=0,\"\",VLOOKUP(I1725,CAD_Q!$C$6:$D$105,2,FALSE)))","v":""},{"$f":"IFERROR(VLOOKUP(I1725,CAD_Q!$C$6:$E$109,3,FALSE)*F1725,\"\")","v":""},null,null,"",1,0,1900,0,1,1900,"Nombre y el registro de entrada válida"]
[null,"",null,null,null,"",null,null,null,{"$f":"IF(I1726=\"\",\"\",IF(VLOOKUP(I1726,CAD_Q!$C$6:$D$105,2,FALSE)=0,\"\",VLOOKUP(I1726,CAD_Q!$C$6:$D$105,2,FALSE)))","v":""},{"$f":"IFERROR(VLOOKUP(I1726,CAD_Q!$C$6:$E$109,3,FALSE)*F1726,\"\")","v":""},null,null,"",1,0,1900,0,1,1900,"Nombre y el registro de entrada válida"]
[null,"",null,null,null,"",null,null,null,{"$f":"IF(I1727=\"\",\"\",IF(VLOOKUP(I1727,CAD_Q!$C$6:$D$105,2,FALSE)=0,\"\",VLOOKUP(I1727,CAD_Q!$C$6:$D$105,2,FALSE)))","v":""},{"$f":"IFERROR(VLOOKUP(I1727,CAD_Q!$C$6:$E$109,3,FALSE)*F1727,\"\")","v":""},null,null,"",1,0,1900,0,1,1900,"Nombre y el registro de entrada válida"]
[null,"",null,null,null,"",null,null,null,{"$f":"IF(I1728=\"\",\"\",IF(VLOOKUP(I1728,CAD_Q!$C$6:$D$105,2,FALSE)=0,\"\",VLOOKUP(I1728,CAD_Q!$C$6:$D$105,2,FALSE)))","v":""},{"$f":"IFERROR(VLOOKUP(I1728,CAD_Q!$C$6:$E$109,3,FALSE)*F1728,\"\")","v":""},null,null,"",1,0,1900,0,1,1900,"Nombre y el registro de entrada válida"]
[null,"",null,null,null,"",null,null,null,{"$f":"IF(I1729=\"\",\"\",IF(VLOOKUP(I1729,CAD_Q!$C$6:$D$105,2,FALSE)=0,\"\",VLOOKUP(I1729,CAD_Q!$C$6:$D$105,2,FALSE)))","v":""},{"$f":"IFERROR(VLOOKUP(I1729,CAD_Q!$C$6:$E$109,3,FALSE)*F1729,\"\")","v":""},null,null,"",1,0,1900,0,1,1900,"Nombre y el registro de entrada válida"]
[null,"",null,null,null,"",null,null,null,{"$f":"IF(I1730=\"\",\"\",IF(VLOOKUP(I1730,CAD_Q!$C$6:$D$105,2,FALSE)=0,\"\",VLOOKUP(I1730,CAD_Q!$C$6:$D$105,2,FALSE)))","v":""},{"$f":"IFERROR(VLOOKUP(I1730,CAD_Q!$C$6:$E$109,3,FALSE)*F1730,\"\")","v":""},null,null,"",1,0,1900,0,1,1900,"Nombre y el registro de entrada válida"]
[null,"",null,null,null,"",null,null,null,{"$f":"IF(I1731=\"\",\"\",IF(VLOOKUP(I1731,CAD_Q!$C$6:$D$105,2,FALSE)=0,\"\",VLOOKUP(I1731,CAD_Q!$C$6:$D$105,2,FALSE)))","v":""},{"$f":"IFERROR(VLOOKUP(I1731,CAD_Q!$C$6:$E$109,3,FALSE)*F1731,\"\")","v":""},null,null,"",1,0,1900,0,1,1900,"Nombre y el registro de entrada válida"]
[null,"",null,null,null,"",null,null,null,{"$f":"IF(I1732=\"\",\"\",IF(VLOOKUP(I1732,CAD_Q!$C$6:$D$105,2,FALSE)=0,\"\",VLOOKUP(I1732,CAD_Q!$C$6:$D$105,2,FALSE)))","v":""},{"$f":"IFERROR(VLOOKUP(I1732,CAD_Q!$C$6:$E$109,3,FALSE)*F1732,\"\")","v":""},null,null,"",1,0,1900,0,1,1900,"Nombre y el registro de entrada válida"]
[null,"",null,null,null,"",null,null,null,{"$f":"IF(I1733=\"\",\"\",IF(VLOOKUP(I1733,CAD_Q!$C$6:$D$105,2,FALSE)=0,\"\",VLOOKUP(I1733,CAD_Q!$C$6:$D$105,2,FALSE)))","v":""},{"$f":"IFERROR(VLOOKUP(I1733,CAD_Q!$C$6:$E$109,3,FALSE)*F1733,\"\")","v":""},null,null,"",1,0,1900,0,1,1900,"Nombre y el registro de entrada válida"]
[null,"",null,null,null,"",null,null,null,{"$f":"IF(I1734=\"\",\"\",IF(VLOOKUP(I1734,CAD_Q!$C$6:$D$105,2,FALSE)=0,\"\",VLOOKUP(I1734,CAD_Q!$C$6:$D$105,2,FALSE)))","v":""},{"$f":"IFERROR(VLOOKUP(I1734,CAD_Q!$C$6:$E$109,3,FALSE)*F1734,\"\")","v":""},null,null,"",1,0,1900,0,1,1900,"Nombre y el registro de entrada válida"]
[null,{"$f":"CONCATENATE(C1735,D1735)","v":""},null,null,null,"",null,null,null,{"$f":"IF(I1735=\"\",\"\",IF(VLOOKUP(I1735,CAD_Q!$C$6:$D$105,2,FALSE)=0,\"\",VLOOKUP(I1735,CAD_Q!$C$6:$D$105,2,FALSE)))","v":""},{"$f":"IFERROR(VLOOKUP(I1735,CAD_Q!$C$6:$E$109,3,FALSE)*F1735,\"\")","v":""},null,null,{"$f":"IFERROR(K1735-L1735+M1735,\"\")","v":""},1,0,1900,0,1,1900,"Nombre y el registro de entrada válida"]
[null,"",null,null,null,"",null,null,null,{"$f":"IF(I1736=\"\",\"\",IF(VLOOKUP(I1736,CAD_Q!$C$6:$D$105,2,FALSE)=0,\"\",VLOOKUP(I1736,CAD_Q!$C$6:$D$105,2,FALSE)))","v":""},{"$f":"IFERROR(VLOOKUP(I1736,CAD_Q!$C$6:$E$109,3,FALSE)*F1736,\"\")","v":""},null,null,"",1,0,1900,0,1,1900,"Nombre y el registro de entrada válida"]
[null,"",null,null,null,"",null,null,null,{"$f":"IF(I1737=\"\",\"\",IF(VLOOKUP(I1737,CAD_Q!$C$6:$D$105,2,FALSE)=0,\"\",VLOOKUP(I1737,CAD_Q!$C$6:$D$105,2,FALSE)))","v":""},{"$f":"IFERROR(VLOOKUP(I1737,CAD_Q!$C$6:$E$109,3,FALSE)*F1737,\"\")","v":""},null,null,"",1,0,1900,0,1,1900,"Nombre y el registro de entrada válida"]
[null,"",null,null,null,"",null,null,null,{"$f":"IF(I1738=\"\",\"\",IF(VLOOKUP(I1738,CAD_Q!$C$6:$D$105,2,FALSE)=0,\"\",VLOOKUP(I1738,CAD_Q!$C$6:$D$105,2,FALSE)))","v":""},{"$f":"IFERROR(VLOOKUP(I1738,CAD_Q!$C$6:$E$109,3,FALSE)*F1738,\"\")","v":""},null,null,"",{"$f":"MONTH(D1738)","v":1},{"$f":"DAY(D1738)","v":0},{"$f":"YEAR(D1738)","v":1900},{"$f":"DAY(E1738)","v":0},{"$f":"MONTH(E1738)","v":1},{"$f":"YEAR(E1738)","v":1900},"Nombre y el registro de entrada válida"]
[null,"",null,null,null,"",null,null,null,{"$f":"IF(I1739=\"\",\"\",IF(VLOOKUP(I1739,CAD_Q!$C$6:$D$105,2,FALSE)=0,\"\",VLOOKUP(I1739,CAD_Q!$C$6:$D$105,2,FALSE)))","v":""},{"$f":"IFERROR(VLOOKUP(I1739,CAD_Q!$C$6:$E$109,3,FALSE)*F1739,\"\")","v":""},null,null,"",1,0,1900,0,1,1900,"Nombre y el registro de entrada válida"]
[null,"",null,null,null,"",null,null,null,{"$f":"IF(I1740=\"\",\"\",IF(VLOOKUP(I1740,CAD_Q!$C$6:$D$105,2,FALSE)=0,\"\",VLOOKUP(I1740,CAD_Q!$C$6:$D$105,2,FALSE)))","v":""},{"$f":"IFERROR(VLOOKUP(I1740,CAD_Q!$C$6:$E$109,3,FALSE)*F1740,\"\")","v":""},null,null,"",1,0,1900,0,1,1900,"Nombre y el registro de entrada válida"]
[null,"",null,null,null,"",null,null,null,{"$f":"IF(I1741=\"\",\"\",IF(VLOOKUP(I1741,CAD_Q!$C$6:$D$105,2,FALSE)=0,\"\",VLOOKUP(I1741,CAD_Q!$C$6:$D$105,2,FALSE)))","v":""},{"$f":"IFERROR(VLOOKUP(I1741,CAD_Q!$C$6:$E$109,3,FALSE)*F1741,\"\")","v":""},null,null,"",1,0,1900,0,1,1900,"Nombre y el registro de entrada válida"]
[null,"",null,null,null,"",null,null,null,{"$f":"IF(I1742=\"\",\"\",IF(VLOOKUP(I1742,CAD_Q!$C$6:$D$105,2,FALSE)=0,\"\",VLOOKUP(I1742,CAD_Q!$C$6:$D$105,2,FALSE)))","v":""},{"$f":"IFERROR(VLOOKUP(I1742,CAD_Q!$C$6:$E$109,3,FALSE)*F1742,\"\")","v":""},null,null,"",1,0,1900,0,1,1900,"Nombre y el registro de entrada válida"]
[null,"",null,null,null,"",null,null,null,{"$f":"IF(I1743=\"\",\"\",IF(VLOOKUP(I1743,CAD_Q!$C$6:$D$105,2,FALSE)=0,\"\",VLOOKUP(I1743,CAD_Q!$C$6:$D$105,2,FALSE)))","v":""},{"$f":"IFERROR(VLOOKUP(I1743,CAD_Q!$C$6:$E$109,3,FALSE)*F1743,\"\")","v":""},null,null,"",1,0,1900,0,1,1900,"Nombre y el registro de entrada válida"]
[null,"",null,null,null,"",null,null,null,{"$f":"IF(I1744=\"\",\"\",IF(VLOOKUP(I1744,CAD_Q!$C$6:$D$105,2,FALSE)=0,\"\",VLOOKUP(I1744,CAD_Q!$C$6:$D$105,2,FALSE)))","v":""},{"$f":"IFERROR(VLOOKUP(I1744,CAD_Q!$C$6:$E$109,3,FALSE)*F1744,\"\")","v":""},null,null,"",1,0,1900,0,1,1900,"Nombre y el registro de entrada válida"]
[null,"",null,null,null,"",null,null,null,{"$f":"IF(I1745=\"\",\"\",IF(VLOOKUP(I1745,CAD_Q!$C$6:$D$105,2,FALSE)=0,\"\",VLOOKUP(I1745,CAD_Q!$C$6:$D$105,2,FALSE)))","v":""},{"$f":"IFERROR(VLOOKUP(I1745,CAD_Q!$C$6:$E$109,3,FALSE)*F1745,\"\")","v":""},null,null,"",1,0,1900,0,1,1900,"Nombre y el registro de entrada válida"]
[null,"",null,null,null,"",null,null,null,{"$f":"IF(I1746=\"\",\"\",IF(VLOOKUP(I1746,CAD_Q!$C$6:$D$105,2,FALSE)=0,\"\",VLOOKUP(I1746,CAD_Q!$C$6:$D$105,2,FALSE)))","v":""},{"$f":"IFERROR(VLOOKUP(I1746,CAD_Q!$C$6:$E$109,3,FALSE)*F1746,\"\")","v":""},null,null,"",1,0,1900,0,1,1900,"Nombre y el registro de entrada válida"]
[null,"",null,null,null,"",null,null,null,{"$f":"IF(I1747=\"\",\"\",IF(VLOOKUP(I1747,CAD_Q!$C$6:$D$105,2,FALSE)=0,\"\",VLOOKUP(I1747,CAD_Q!$C$6:$D$105,2,FALSE)))","v":""},{"$f":"IFERROR(VLOOKUP(I1747,CAD_Q!$C$6:$E$109,3,FALSE)*F1747,\"\")","v":""},null,null,"",1,0,1900,0,1,1900,"Nombre y el registro de entrada válida"]
[null,"",null,null,null,"",null,null,null,{"$f":"IF(I1748=\"\",\"\",IF(VLOOKUP(I1748,CAD_Q!$C$6:$D$105,2,FALSE)=0,\"\",VLOOKUP(I1748,CAD_Q!$C$6:$D$105,2,FALSE)))","v":""},{"$f":"IFERROR(VLOOKUP(I1748,CAD_Q!$C$6:$E$109,3,FALSE)*F1748,\"\")","v":""},null,null,"",1,0,1900,0,1,1900,"Nombre y el registro de entrada válida"]
[null,"",null,null,null,"",null,null,null,{"$f":"IF(I1749=\"\",\"\",IF(VLOOKUP(I1749,CAD_Q!$C$6:$D$105,2,FALSE)=0,\"\",VLOOKUP(I1749,CAD_Q!$C$6:$D$105,2,FALSE)))","v":""},{"$f":"IFERROR(VLOOKUP(I1749,CAD_Q!$C$6:$E$109,3,FALSE)*F1749,\"\")","v":""},null,null,"",1,0,1900,0,1,1900,"Nombre y el registro de entrada válida"]
[null,"",null,null,null,"",null,null,null,{"$f":"IF(I1750=\"\",\"\",IF(VLOOKUP(I1750,CAD_Q!$C$6:$D$105,2,FALSE)=0,\"\",VLOOKUP(I1750,CAD_Q!$C$6:$D$105,2,FALSE)))","v":""},{"$f":"IFERROR(VLOOKUP(I1750,CAD_Q!$C$6:$E$109,3,FALSE)*F1750,\"\")","v":""},null,null,"",1,0,1900,0,1,1900,"Nombre y el registro de entrada válida"]
[null,"",null,null,null,"",null,null,null,{"$f":"IF(I1751=\"\",\"\",IF(VLOOKUP(I1751,CAD_Q!$C$6:$D$105,2,FALSE)=0,\"\",VLOOKUP(I1751,CAD_Q!$C$6:$D$105,2,FALSE)))","v":""},{"$f":"IFERROR(VLOOKUP(I1751,CAD_Q!$C$6:$E$109,3,FALSE)*F1751,\"\")","v":""},null,null,"",1,0,1900,0,1,1900,"Nombre y el registro de entrada válida"]
[null,"",null,null,null,"",null,null,null,{"$f":"IF(I1752=\"\",\"\",IF(VLOOKUP(I1752,CAD_Q!$C$6:$D$105,2,FALSE)=0,\"\",VLOOKUP(I1752,CAD_Q!$C$6:$D$105,2,FALSE)))","v":""},{"$f":"IFERROR(VLOOKUP(I1752,CAD_Q!$C$6:$E$109,3,FALSE)*F1752,\"\")","v":""},null,null,"",1,0,1900,0,1,1900,"Nombre y el registro de entrada válida"]
[null,"",null,null,null,"",null,null,null,{"$f":"IF(I1753=\"\",\"\",IF(VLOOKUP(I1753,CAD_Q!$C$6:$D$105,2,FALSE)=0,\"\",VLOOKUP(I1753,CAD_Q!$C$6:$D$105,2,FALSE)))","v":""},{"$f":"IFERROR(VLOOKUP(I1753,CAD_Q!$C$6:$E$109,3,FALSE)*F1753,\"\")","v":""},null,null,"",1,0,1900,0,1,1900,"Nombre y el registro de entrada válida"]
[null,"",null,null,null,"",null,null,null,{"$f":"IF(I1754=\"\",\"\",IF(VLOOKUP(I1754,CAD_Q!$C$6:$D$105,2,FALSE)=0,\"\",VLOOKUP(I1754,CAD_Q!$C$6:$D$105,2,FALSE)))","v":""},{"$f":"IFERROR(VLOOKUP(I1754,CAD_Q!$C$6:$E$109,3,FALSE)*F1754,\"\")","v":""},null,null,"",1,0,1900,0,1,1900,"Nombre y el registro de entrada válida"]
[null,"",null,null,null,"",null,null,null,{"$f":"IF(I1755=\"\",\"\",IF(VLOOKUP(I1755,CAD_Q!$C$6:$D$105,2,FALSE)=0,\"\",VLOOKUP(I1755,CAD_Q!$C$6:$D$105,2,FALSE)))","v":""},{"$f":"IFERROR(VLOOKUP(I1755,CAD_Q!$C$6:$E$109,3,FALSE)*F1755,\"\")","v":""},null,null,"",1,0,1900,0,1,1900,"Nombre y el registro de entrada válida"]
[null,"",null,null,null,"",null,null,null,{"$f":"IF(I1756=\"\",\"\",IF(VLOOKUP(I1756,CAD_Q!$C$6:$D$105,2,FALSE)=0,\"\",VLOOKUP(I1756,CAD_Q!$C$6:$D$105,2,FALSE)))","v":""},{"$f":"IFERROR(VLOOKUP(I1756,CAD_Q!$C$6:$E$109,3,FALSE)*F1756,\"\")","v":""},null,null,"",1,0,1900,0,1,1900,"Nombre y el registro de entrada válida"]
[null,"",null,null,null,"",null,null,null,{"$f":"IF(I1757=\"\",\"\",IF(VLOOKUP(I1757,CAD_Q!$C$6:$D$105,2,FALSE)=0,\"\",VLOOKUP(I1757,CAD_Q!$C$6:$D$105,2,FALSE)))","v":""},{"$f":"IFERROR(VLOOKUP(I1757,CAD_Q!$C$6:$E$109,3,FALSE)*F1757,\"\")","v":""},null,null,"",1,0,1900,0,1,1900,"Nombre y el registro de entrada válida"]
[null,"",null,null,null,"",null,null,null,{"$f":"IF(I1758=\"\",\"\",IF(VLOOKUP(I1758,CAD_Q!$C$6:$D$105,2,FALSE)=0,\"\",VLOOKUP(I1758,CAD_Q!$C$6:$D$105,2,FALSE)))","v":""},{"$f":"IFERROR(VLOOKUP(I1758,CAD_Q!$C$6:$E$109,3,FALSE)*F1758,\"\")","v":""},null,null,"",1,0,1900,0,1,1900,"Nombre y el registro de entrada válida"]
[null,"",null,null,null,"",null,null,null,{"$f":"IF(I1759=\"\",\"\",IF(VLOOKUP(I1759,CAD_Q!$C$6:$D$105,2,FALSE)=0,\"\",VLOOKUP(I1759,CAD_Q!$C$6:$D$105,2,FALSE)))","v":""},{"$f":"IFERROR(VLOOKUP(I1759,CAD_Q!$C$6:$E$109,3,FALSE)*F1759,\"\")","v":""},null,null,"",1,0,1900,0,1,1900,"Nombre y el registro de entrada válida"]
[null,"",null,null,null,"",null,null,null,{"$f":"IF(I1760=\"\",\"\",IF(VLOOKUP(I1760,CAD_Q!$C$6:$D$105,2,FALSE)=0,\"\",VLOOKUP(I1760,CAD_Q!$C$6:$D$105,2,FALSE)))","v":""},{"$f":"IFERROR(VLOOKUP(I1760,CAD_Q!$C$6:$E$109,3,FALSE)*F1760,\"\")","v":""},null,null,"",1,0,1900,0,1,1900,"Nombre y el registro de entrada válida"]
[null,"",null,null,null,"",null,null,null,{"$f":"IF(I1761=\"\",\"\",IF(VLOOKUP(I1761,CAD_Q!$C$6:$D$105,2,FALSE)=0,\"\",VLOOKUP(I1761,CAD_Q!$C$6:$D$105,2,FALSE)))","v":""},{"$f":"IFERROR(VLOOKUP(I1761,CAD_Q!$C$6:$E$109,3,FALSE)*F1761,\"\")","v":""},null,null,"",1,0,1900,0,1,1900,"Nombre y el registro de entrada válida"]
[null,"",null,null,null,"",null,null,null,{"$f":"IF(I1762=\"\",\"\",IF(VLOOKUP(I1762,CAD_Q!$C$6:$D$105,2,FALSE)=0,\"\",VLOOKUP(I1762,CAD_Q!$C$6:$D$105,2,FALSE)))","v":""},{"$f":"IFERROR(VLOOKUP(I1762,CAD_Q!$C$6:$E$109,3,FALSE)*F1762,\"\")","v":""},null,null,"",1,0,1900,0,1,1900,"Nombre y el registro de entrada válida"]
[null,"",null,null,null,"",null,null,null,{"$f":"IF(I1763=\"\",\"\",IF(VLOOKUP(I1763,CAD_Q!$C$6:$D$105,2,FALSE)=0,\"\",VLOOKUP(I1763,CAD_Q!$C$6:$D$105,2,FALSE)))","v":""},{"$f":"IFERROR(VLOOKUP(I1763,CAD_Q!$C$6:$E$109,3,FALSE)*F1763,\"\")","v":""},null,null,"",1,0,1900,0,1,1900,"Nombre y el registro de entrada válida"]
[null,"",null,null,null,{"$f":"IF(OR(D1764=\"\",E1764=\"\"),\"\",E1764-D1764)","v":""},null,null,null,{"$f":"IF(I1764=\"\",\"\",IF(VLOOKUP(I1764,CAD_Q!$C$6:$D$105,2,FALSE)=0,\"\",VLOOKUP(I1764,CAD_Q!$C$6:$D$105,2,FALSE)))","v":""},{"$f":"IFERROR(VLOOKUP(I1764,CAD_Q!$C$6:$E$109,3,FALSE)*F1764,\"\")","v":""},null,null,"",1,0,1900,0,1,1900,"Nombre y el registro de entrada válida"]
[null,"",null,null,null,"",null,null,null,{"$f":"IF(I1765=\"\",\"\",IF(VLOOKUP(I1765,CAD_Q!$C$6:$D$105,2,FALSE)=0,\"\",VLOOKUP(I1765,CAD_Q!$C$6:$D$105,2,FALSE)))","v":""},{"$f":"IFERROR(VLOOKUP(I1765,CAD_Q!$C$6:$E$109,3,FALSE)*F1765,\"\")","v":""},null,null,"",1,0,1900,0,1,1900,"Nombre y el registro de entrada válida"]
[null,"",null,null,null,"",null,null,null,{"$f":"IF(I1766=\"\",\"\",IF(VLOOKUP(I1766,CAD_Q!$C$6:$D$105,2,FALSE)=0,\"\",VLOOKUP(I1766,CAD_Q!$C$6:$D$105,2,FALSE)))","v":""},{"$f":"IFERROR(VLOOKUP(I1766,CAD_Q!$C$6:$E$109,3,FALSE)*F1766,\"\")","v":""},null,null,"",1,0,1900,0,1,1900,"Nombre y el registro de entrada válida"]
[null,"",null,null,null,"",null,null,null,{"$f":"IF(I1767=\"\",\"\",IF(VLOOKUP(I1767,CAD_Q!$C$6:$D$105,2,FALSE)=0,\"\",VLOOKUP(I1767,CAD_Q!$C$6:$D$105,2,FALSE)))","v":""},{"$f":"IFERROR(VLOOKUP(I1767,CAD_Q!$C$6:$E$109,3,FALSE)*F1767,\"\")","v":""},null,null,"",1,0,1900,0,1,1900,"Nombre y el registro de entrada válida"]
[null,"",null,null,null,"",null,null,null,{"$f":"IF(I1768=\"\",\"\",IF(VLOOKUP(I1768,CAD_Q!$C$6:$D$105,2,FALSE)=0,\"\",VLOOKUP(I1768,CAD_Q!$C$6:$D$105,2,FALSE)))","v":""},{"$f":"IFERROR(VLOOKUP(I1768,CAD_Q!$C$6:$E$109,3,FALSE)*F1768,\"\")","v":""},null,null,"",1,0,1900,0,1,1900,"Nombre y el registro de entrada válida"]
[null,"",null,null,null,"",null,null,null,{"$f":"IF(I1769=\"\",\"\",IF(VLOOKUP(I1769,CAD_Q!$C$6:$D$105,2,FALSE)=0,\"\",VLOOKUP(I1769,CAD_Q!$C$6:$D$105,2,FALSE)))","v":""},{"$f":"IFERROR(VLOOKUP(I1769,CAD_Q!$C$6:$E$109,3,FALSE)*F1769,\"\")","v":""},null,null,"",1,0,1900,0,1,1900,"Nombre y el registro de entrada válida"]
[null,"",null,null,null,"",null,null,null,{"$f":"IF(I1770=\"\",\"\",IF(VLOOKUP(I1770,CAD_Q!$C$6:$D$105,2,FALSE)=0,\"\",VLOOKUP(I1770,CAD_Q!$C$6:$D$105,2,FALSE)))","v":""},{"$f":"IFERROR(VLOOKUP(I1770,CAD_Q!$C$6:$E$109,3,FALSE)*F1770,\"\")","v":""},null,null,"",1,0,1900,0,1,1900,"Nombre y el registro de entrada válida"]
[null,"",null,null,null,"",null,null,null,{"$f":"IF(I1771=\"\",\"\",IF(VLOOKUP(I1771,CAD_Q!$C$6:$D$105,2,FALSE)=0,\"\",VLOOKUP(I1771,CAD_Q!$C$6:$D$105,2,FALSE)))","v":""},{"$f":"IFERROR(VLOOKUP(I1771,CAD_Q!$C$6:$E$109,3,FALSE)*F1771,\"\")","v":""},null,null,"",1,0,1900,0,1,1900,"Nombre y el registro de entrada válida"]
[null,"",null,null,null,"",null,null,null,{"$f":"IF(I1772=\"\",\"\",IF(VLOOKUP(I1772,CAD_Q!$C$6:$D$105,2,FALSE)=0,\"\",VLOOKUP(I1772,CAD_Q!$C$6:$D$105,2,FALSE)))","v":""},{"$f":"IFERROR(VLOOKUP(I1772,CAD_Q!$C$6:$E$109,3,FALSE)*F1772,\"\")","v":""},null,null,"",1,0,1900,0,1,1900,"Nombre y el registro de entrada válida"]
[null,"",null,null,null,"",null,null,null,{"$f":"IF(I1773=\"\",\"\",IF(VLOOKUP(I1773,CAD_Q!$C$6:$D$105,2,FALSE)=0,\"\",VLOOKUP(I1773,CAD_Q!$C$6:$D$105,2,FALSE)))","v":""},{"$f":"IFERROR(VLOOKUP(I1773,CAD_Q!$C$6:$E$109,3,FALSE)*F1773,\"\")","v":""},null,null,"",1,0,1900,0,1,1900,"Nombre y el registro de entrada válida"]
[null,"",null,null,null,"",null,null,null,{"$f":"IF(I1774=\"\",\"\",IF(VLOOKUP(I1774,CAD_Q!$C$6:$D$105,2,FALSE)=0,\"\",VLOOKUP(I1774,CAD_Q!$C$6:$D$105,2,FALSE)))","v":""},{"$f":"IFERROR(VLOOKUP(I1774,CAD_Q!$C$6:$E$109,3,FALSE)*F1774,\"\")","v":""},null,null,"",1,0,1900,0,1,1900,"Nombre y el registro de entrada válida"]
[null,"",null,null,null,"",null,null,null,{"$f":"IF(I1775=\"\",\"\",IF(VLOOKUP(I1775,CAD_Q!$C$6:$D$105,2,FALSE)=0,\"\",VLOOKUP(I1775,CAD_Q!$C$6:$D$105,2,FALSE)))","v":""},{"$f":"IFERROR(VLOOKUP(I1775,CAD_Q!$C$6:$E$109,3,FALSE)*F1775,\"\")","v":""},null,null,"",1,0,1900,0,1,1900,"Nombre y el registro de entrada válida"]
[null,"",null,null,null,"",null,null,null,{"$f":"IF(I1776=\"\",\"\",IF(VLOOKUP(I1776,CAD_Q!$C$6:$D$105,2,FALSE)=0,\"\",VLOOKUP(I1776,CAD_Q!$C$6:$D$105,2,FALSE)))","v":""},{"$f":"IFERROR(VLOOKUP(I1776,CAD_Q!$C$6:$E$109,3,FALSE)*F1776,\"\")","v":""},null,null,"",1,0,1900,0,1,1900,"Nombre y el registro de entrada válida"]
[null,"",null,null,null,"",null,null,null,{"$f":"IF(I1777=\"\",\"\",IF(VLOOKUP(I1777,CAD_Q!$C$6:$D$105,2,FALSE)=0,\"\",VLOOKUP(I1777,CAD_Q!$C$6:$D$105,2,FALSE)))","v":""},{"$f":"IFERROR(VLOOKUP(I1777,CAD_Q!$C$6:$E$109,3,FALSE)*F1777,\"\")","v":""},null,null,"",1,0,1900,0,1,1900,"Nombre y el registro de entrada válida"]
[null,"",null,null,null,"",null,null,null,{"$f":"IF(I1778=\"\",\"\",IF(VLOOKUP(I1778,CAD_Q!$C$6:$D$105,2,FALSE)=0,\"\",VLOOKUP(I1778,CAD_Q!$C$6:$D$105,2,FALSE)))","v":""},{"$f":"IFERROR(VLOOKUP(I1778,CAD_Q!$C$6:$E$109,3,FALSE)*F1778,\"\")","v":""},null,null,"",1,0,1900,0,1,1900,"Nombre y el registro de entrada válida"]
[null,"",null,null,null,"",null,null,null,{"$f":"IF(I1779=\"\",\"\",IF(VLOOKUP(I1779,CAD_Q!$C$6:$D$105,2,FALSE)=0,\"\",VLOOKUP(I1779,CAD_Q!$C$6:$D$105,2,FALSE)))","v":""},{"$f":"IFERROR(VLOOKUP(I1779,CAD_Q!$C$6:$E$109,3,FALSE)*F1779,\"\")","v":""},null,null,"",1,0,1900,0,1,1900,"Nombre y el registro de entrada válida"]
[null,"",null,null,null,"",null,null,null,{"$f":"IF(I1780=\"\",\"\",IF(VLOOKUP(I1780,CAD_Q!$C$6:$D$105,2,FALSE)=0,\"\",VLOOKUP(I1780,CAD_Q!$C$6:$D$105,2,FALSE)))","v":""},{"$f":"IFERROR(VLOOKUP(I1780,CAD_Q!$C$6:$E$109,3,FALSE)*F1780,\"\")","v":""},null,null,"",1,0,1900,0,1,1900,"Nombre y el registro de entrada válida"]
[null,"",null,null,null,"",null,null,null,{"$f":"IF(I1781=\"\",\"\",IF(VLOOKUP(I1781,CAD_Q!$C$6:$D$105,2,FALSE)=0,\"\",VLOOKUP(I1781,CAD_Q!$C$6:$D$105,2,FALSE)))","v":""},{"$f":"IFERROR(VLOOKUP(I1781,CAD_Q!$C$6:$E$109,3,FALSE)*F1781,\"\")","v":""},null,null,"",1,0,1900,0,1,1900,"Nombre y el registro de entrada válida"]
[null,"",null,null,null,"",null,null,null,{"$f":"IF(I1782=\"\",\"\",IF(VLOOKUP(I1782,CAD_Q!$C$6:$D$105,2,FALSE)=0,\"\",VLOOKUP(I1782,CAD_Q!$C$6:$D$105,2,FALSE)))","v":""},{"$f":"IFERROR(VLOOKUP(I1782,CAD_Q!$C$6:$E$109,3,FALSE)*F1782,\"\")","v":""},null,null,"",1,0,1900,0,1,1900,"Nombre y el registro de entrada válida"]
[null,"",null,null,null,"",null,null,null,{"$f":"IF(I1783=\"\",\"\",IF(VLOOKUP(I1783,CAD_Q!$C$6:$D$105,2,FALSE)=0,\"\",VLOOKUP(I1783,CAD_Q!$C$6:$D$105,2,FALSE)))","v":""},{"$f":"IFERROR(VLOOKUP(I1783,CAD_Q!$C$6:$E$109,3,FALSE)*F1783,\"\")","v":""},null,null,"",1,0,1900,0,1,1900,"Nombre y el registro de entrada válida"]
[null,"",null,null,null,"",null,null,null,{"$f":"IF(I1784=\"\",\"\",IF(VLOOKUP(I1784,CAD_Q!$C$6:$D$105,2,FALSE)=0,\"\",VLOOKUP(I1784,CAD_Q!$C$6:$D$105,2,FALSE)))","v":""},{"$f":"IFERROR(VLOOKUP(I1784,CAD_Q!$C$6:$E$109,3,FALSE)*F1784,\"\")","v":""},null,null,"",1,0,1900,0,1,1900,"Nombre y el registro de entrada válida"]
[null,"",null,null,null,"",null,null,null,{"$f":"IF(I1785=\"\",\"\",IF(VLOOKUP(I1785,CAD_Q!$C$6:$D$105,2,FALSE)=0,\"\",VLOOKUP(I1785,CAD_Q!$C$6:$D$105,2,FALSE)))","v":""},{"$f":"IFERROR(VLOOKUP(I1785,CAD_Q!$C$6:$E$109,3,FALSE)*F1785,\"\")","v":""},null,null,"",1,0,1900,0,1,1900,"Nombre y el registro de entrada válida"]
[null,"",null,null,null,"",null,null,null,{"$f":"IF(I1786=\"\",\"\",IF(VLOOKUP(I1786,CAD_Q!$C$6:$D$105,2,FALSE)=0,\"\",VLOOKUP(I1786,CAD_Q!$C$6:$D$105,2,FALSE)))","v":""},{"$f":"IFERROR(VLOOKUP(I1786,CAD_Q!$C$6:$E$109,3,FALSE)*F1786,\"\")","v":""},null,null,"",1,0,1900,0,1,1900,"Nombre y el registro de entrada válida"]
[null,"",null,null,null,"",null,null,null,{"$f":"IF(I1787=\"\",\"\",IF(VLOOKUP(I1787,CAD_Q!$C$6:$D$105,2,FALSE)=0,\"\",VLOOKUP(I1787,CAD_Q!$C$6:$D$105,2,FALSE)))","v":""},{"$f":"IFERROR(VLOOKUP(I1787,CAD_Q!$C$6:$E$109,3,FALSE)*F1787,\"\")","v":""},null,null,"",1,0,1900,0,1,1900,"Nombre y el registro de entrada válida"]
[null,"",null,null,null,"",null,null,null,{"$f":"IF(I1788=\"\",\"\",IF(VLOOKUP(I1788,CAD_Q!$C$6:$D$105,2,FALSE)=0,\"\",VLOOKUP(I1788,CAD_Q!$C$6:$D$105,2,FALSE)))","v":""},{"$f":"IFERROR(VLOOKUP(I1788,CAD_Q!$C$6:$E$109,3,FALSE)*F1788,\"\")","v":""},null,null,"",1,0,1900,0,1,1900,"Nombre y el registro de entrada válida"]
[null,"",null,null,null,"",null,null,null,{"$f":"IF(I1789=\"\",\"\",IF(VLOOKUP(I1789,CAD_Q!$C$6:$D$105,2,FALSE)=0,\"\",VLOOKUP(I1789,CAD_Q!$C$6:$D$105,2,FALSE)))","v":""},{"$f":"IFERROR(VLOOKUP(I1789,CAD_Q!$C$6:$E$109,3,FALSE)*F1789,\"\")","v":""},null,null,"",1,0,1900,0,1,1900,"Nombre y el registro de entrada válida"]
[null,"",null,null,null,"",null,null,null,{"$f":"IF(I1790=\"\",\"\",IF(VLOOKUP(I1790,CAD_Q!$C$6:$D$105,2,FALSE)=0,\"\",VLOOKUP(I1790,CAD_Q!$C$6:$D$105,2,FALSE)))","v":""},{"$f":"IFERROR(VLOOKUP(I1790,CAD_Q!$C$6:$E$109,3,FALSE)*F1790,\"\")","v":""},null,null,"",1,0,1900,0,1,1900,"Nombre y el registro de entrada válida"]
[null,"",null,null,null,"",null,null,null,{"$f":"IF(I1791=\"\",\"\",IF(VLOOKUP(I1791,CAD_Q!$C$6:$D$105,2,FALSE)=0,\"\",VLOOKUP(I1791,CAD_Q!$C$6:$D$105,2,FALSE)))","v":""},{"$f":"IFERROR(VLOOKUP(I1791,CAD_Q!$C$6:$E$109,3,FALSE)*F1791,\"\")","v":""},null,null,"",1,0,1900,0,1,1900,"Nombre y el registro de entrada válida"]
[null,"",null,null,null,"",null,null,null,{"$f":"IF(I1792=\"\",\"\",IF(VLOOKUP(I1792,CAD_Q!$C$6:$D$105,2,FALSE)=0,\"\",VLOOKUP(I1792,CAD_Q!$C$6:$D$105,2,FALSE)))","v":""},{"$f":"IFERROR(VLOOKUP(I1792,CAD_Q!$C$6:$E$109,3,FALSE)*F1792,\"\")","v":""},null,null,"",1,0,1900,0,1,1900,"Nombre y el registro de entrada válida"]
[null,"",null,null,null,"",null,null,null,{"$f":"IF(I1793=\"\",\"\",IF(VLOOKUP(I1793,CAD_Q!$C$6:$D$105,2,FALSE)=0,\"\",VLOOKUP(I1793,CAD_Q!$C$6:$D$105,2,FALSE)))","v":""},{"$f":"IFERROR(VLOOKUP(I1793,CAD_Q!$C$6:$E$109,3,FALSE)*F1793,\"\")","v":""},null,null,"",1,0,1900,0,1,1900,"Nombre y el registro de entrada válida"]
[null,"",null,null,null,"",null,null,null,{"$f":"IF(I1794=\"\",\"\",IF(VLOOKUP(I1794,CAD_Q!$C$6:$D$105,2,FALSE)=0,\"\",VLOOKUP(I1794,CAD_Q!$C$6:$D$105,2,FALSE)))","v":""},{"$f":"IFERROR(VLOOKUP(I1794,CAD_Q!$C$6:$E$109,3,FALSE)*F1794,\"\")","v":""},null,null,"",1,0,1900,0,1,1900,"Nombre y el registro de entrada válida"]
[null,"",null,null,null,"",null,null,null,{"$f":"IF(I1795=\"\",\"\",IF(VLOOKUP(I1795,CAD_Q!$C$6:$D$105,2,FALSE)=0,\"\",VLOOKUP(I1795,CAD_Q!$C$6:$D$105,2,FALSE)))","v":""},{"$f":"IFERROR(VLOOKUP(I1795,CAD_Q!$C$6:$E$109,3,FALSE)*F1795,\"\")","v":""},null,null,"",1,0,1900,0,1,1900,"Nombre y el registro de entrada válida"]
[null,"",null,null,null,"",null,null,null,{"$f":"IF(I1796=\"\",\"\",IF(VLOOKUP(I1796,CAD_Q!$C$6:$D$105,2,FALSE)=0,\"\",VLOOKUP(I1796,CAD_Q!$C$6:$D$105,2,FALSE)))","v":""},{"$f":"IFERROR(VLOOKUP(I1796,CAD_Q!$C$6:$E$109,3,FALSE)*F1796,\"\")","v":""},null,null,"",1,0,1900,0,1,1900,"Nombre y el registro de entrada válida"]
[null,"",null,null,null,"",null,null,null,{"$f":"IF(I1797=\"\",\"\",IF(VLOOKUP(I1797,CAD_Q!$C$6:$D$105,2,FALSE)=0,\"\",VLOOKUP(I1797,CAD_Q!$C$6:$D$105,2,FALSE)))","v":""},{"$f":"IFERROR(VLOOKUP(I1797,CAD_Q!$C$6:$E$109,3,FALSE)*F1797,\"\")","v":""},null,null,"",1,0,1900,0,1,1900,"Nombre y el registro de entrada válida"]
[null,"",null,null,null,"",null,null,null,{"$f":"IF(I1798=\"\",\"\",IF(VLOOKUP(I1798,CAD_Q!$C$6:$D$105,2,FALSE)=0,\"\",VLOOKUP(I1798,CAD_Q!$C$6:$D$105,2,FALSE)))","v":""},{"$f":"IFERROR(VLOOKUP(I1798,CAD_Q!$C$6:$E$109,3,FALSE)*F1798,\"\")","v":""},null,null,"",1,0,1900,0,1,1900,"Nombre y el registro de entrada válida"]
[null,{"$f":"CONCATENATE(C1799,D1799)","v":""},null,null,null,"",null,null,null,{"$f":"IF(I1799=\"\",\"\",IF(VLOOKUP(I1799,CAD_Q!$C$6:$D$105,2,FALSE)=0,\"\",VLOOKUP(I1799,CAD_Q!$C$6:$D$105,2,FALSE)))","v":""},{"$f":"IFERROR(VLOOKUP(I1799,CAD_Q!$C$6:$E$109,3,FALSE)*F1799,\"\")","v":""},null,null,{"$f":"IFERROR(K1799-L1799+M1799,\"\")","v":""},1,0,1900,0,1,1900,"Nombre y el registro de entrada válida"]
[null,"",null,null,null,"",null,null,null,{"$f":"IF(I1800=\"\",\"\",IF(VLOOKUP(I1800,CAD_Q!$C$6:$D$105,2,FALSE)=0,\"\",VLOOKUP(I1800,CAD_Q!$C$6:$D$105,2,FALSE)))","v":""},{"$f":"IFERROR(VLOOKUP(I1800,CAD_Q!$C$6:$E$109,3,FALSE)*F1800,\"\")","v":""},null,null,"",1,0,1900,0,1,1900,"Nombre y el registro de entrada válida"]
[null,"",null,null,null,"",null,null,null,{"$f":"IF(I1801=\"\",\"\",IF(VLOOKUP(I1801,CAD_Q!$C$6:$D$105,2,FALSE)=0,\"\",VLOOKUP(I1801,CAD_Q!$C$6:$D$105,2,FALSE)))","v":""},{"$f":"IFERROR(VLOOKUP(I1801,CAD_Q!$C$6:$E$109,3,FALSE)*F1801,\"\")","v":""},null,null,"",1,0,1900,0,1,1900,"Nombre y el registro de entrada válida"]
[null,"",null,null,null,"",null,null,null,{"$f":"IF(I1802=\"\",\"\",IF(VLOOKUP(I1802,CAD_Q!$C$6:$D$105,2,FALSE)=0,\"\",VLOOKUP(I1802,CAD_Q!$C$6:$D$105,2,FALSE)))","v":""},{"$f":"IFERROR(VLOOKUP(I1802,CAD_Q!$C$6:$E$109,3,FALSE)*F1802,\"\")","v":""},null,null,"",{"$f":"MONTH(D1802)","v":1},{"$f":"DAY(D1802)","v":0},{"$f":"YEAR(D1802)","v":1900},{"$f":"DAY(E1802)","v":0},{"$f":"MONTH(E1802)","v":1},{"$f":"YEAR(E1802)","v":1900},"Nombre y el registro de entrada válida"]
[null,"",null,null,null,"",null,null,null,{"$f":"IF(I1803=\"\",\"\",IF(VLOOKUP(I1803,CAD_Q!$C$6:$D$105,2,FALSE)=0,\"\",VLOOKUP(I1803,CAD_Q!$C$6:$D$105,2,FALSE)))","v":""},{"$f":"IFERROR(VLOOKUP(I1803,CAD_Q!$C$6:$E$109,3,FALSE)*F1803,\"\")","v":""},null,null,"",1,0,1900,0,1,1900,"Nombre y el registro de entrada válida"]
[null,"",null,null,null,"",null,null,null,{"$f":"IF(I1804=\"\",\"\",IF(VLOOKUP(I1804,CAD_Q!$C$6:$D$105,2,FALSE)=0,\"\",VLOOKUP(I1804,CAD_Q!$C$6:$D$105,2,FALSE)))","v":""},{"$f":"IFERROR(VLOOKUP(I1804,CAD_Q!$C$6:$E$109,3,FALSE)*F1804,\"\")","v":""},null,null,"",1,0,1900,0,1,1900,"Nombre y el registro de entrada válida"]
[null,"",null,null,null,"",null,null,null,{"$f":"IF(I1805=\"\",\"\",IF(VLOOKUP(I1805,CAD_Q!$C$6:$D$105,2,FALSE)=0,\"\",VLOOKUP(I1805,CAD_Q!$C$6:$D$105,2,FALSE)))","v":""},{"$f":"IFERROR(VLOOKUP(I1805,CAD_Q!$C$6:$E$109,3,FALSE)*F1805,\"\")","v":""},null,null,"",1,0,1900,0,1,1900,"Nombre y el registro de entrada válida"]
[null,"",null,null,null,"",null,null,null,{"$f":"IF(I1806=\"\",\"\",IF(VLOOKUP(I1806,CAD_Q!$C$6:$D$105,2,FALSE)=0,\"\",VLOOKUP(I1806,CAD_Q!$C$6:$D$105,2,FALSE)))","v":""},{"$f":"IFERROR(VLOOKUP(I1806,CAD_Q!$C$6:$E$109,3,FALSE)*F1806,\"\")","v":""},null,null,"",1,0,1900,0,1,1900,"Nombre y el registro de entrada válida"]
[null,"",null,null,null,"",null,null,null,{"$f":"IF(I1807=\"\",\"\",IF(VLOOKUP(I1807,CAD_Q!$C$6:$D$105,2,FALSE)=0,\"\",VLOOKUP(I1807,CAD_Q!$C$6:$D$105,2,FALSE)))","v":""},{"$f":"IFERROR(VLOOKUP(I1807,CAD_Q!$C$6:$E$109,3,FALSE)*F1807,\"\")","v":""},null,null,"",1,0,1900,0,1,1900,"Nombre y el registro de entrada válida"]
[null,"",null,null,null,"",null,null,null,{"$f":"IF(I1808=\"\",\"\",IF(VLOOKUP(I1808,CAD_Q!$C$6:$D$105,2,FALSE)=0,\"\",VLOOKUP(I1808,CAD_Q!$C$6:$D$105,2,FALSE)))","v":""},{"$f":"IFERROR(VLOOKUP(I1808,CAD_Q!$C$6:$E$109,3,FALSE)*F1808,\"\")","v":""},null,null,"",1,0,1900,0,1,1900,"Nombre y el registro de entrada válida"]
[null,"",null,null,null,"",null,null,null,{"$f":"IF(I1809=\"\",\"\",IF(VLOOKUP(I1809,CAD_Q!$C$6:$D$105,2,FALSE)=0,\"\",VLOOKUP(I1809,CAD_Q!$C$6:$D$105,2,FALSE)))","v":""},{"$f":"IFERROR(VLOOKUP(I1809,CAD_Q!$C$6:$E$109,3,FALSE)*F1809,\"\")","v":""},null,null,"",1,0,1900,0,1,1900,"Nombre y el registro de entrada válida"]
[null,"",null,null,null,"",null,null,null,{"$f":"IF(I1810=\"\",\"\",IF(VLOOKUP(I1810,CAD_Q!$C$6:$D$105,2,FALSE)=0,\"\",VLOOKUP(I1810,CAD_Q!$C$6:$D$105,2,FALSE)))","v":""},{"$f":"IFERROR(VLOOKUP(I1810,CAD_Q!$C$6:$E$109,3,FALSE)*F1810,\"\")","v":""},null,null,"",1,0,1900,0,1,1900,"Nombre y el registro de entrada válida"]
[null,"",null,null,null,"",null,null,null,{"$f":"IF(I1811=\"\",\"\",IF(VLOOKUP(I1811,CAD_Q!$C$6:$D$105,2,FALSE)=0,\"\",VLOOKUP(I1811,CAD_Q!$C$6:$D$105,2,FALSE)))","v":""},{"$f":"IFERROR(VLOOKUP(I1811,CAD_Q!$C$6:$E$109,3,FALSE)*F1811,\"\")","v":""},null,null,"",1,0,1900,0,1,1900,"Nombre y el registro de entrada válida"]
[null,"",null,null,null,"",null,null,null,{"$f":"IF(I1812=\"\",\"\",IF(VLOOKUP(I1812,CAD_Q!$C$6:$D$105,2,FALSE)=0,\"\",VLOOKUP(I1812,CAD_Q!$C$6:$D$105,2,FALSE)))","v":""},{"$f":"IFERROR(VLOOKUP(I1812,CAD_Q!$C$6:$E$109,3,FALSE)*F1812,\"\")","v":""},null,null,"",1,0,1900,0,1,1900,"Nombre y el registro de entrada válida"]
[null,"",null,null,null,"",null,null,null,{"$f":"IF(I1813=\"\",\"\",IF(VLOOKUP(I1813,CAD_Q!$C$6:$D$105,2,FALSE)=0,\"\",VLOOKUP(I1813,CAD_Q!$C$6:$D$105,2,FALSE)))","v":""},{"$f":"IFERROR(VLOOKUP(I1813,CAD_Q!$C$6:$E$109,3,FALSE)*F1813,\"\")","v":""},null,null,"",1,0,1900,0,1,1900,"Nombre y el registro de entrada válida"]
[null,"",null,null,null,"",null,null,null,{"$f":"IF(I1814=\"\",\"\",IF(VLOOKUP(I1814,CAD_Q!$C$6:$D$105,2,FALSE)=0,\"\",VLOOKUP(I1814,CAD_Q!$C$6:$D$105,2,FALSE)))","v":""},{"$f":"IFERROR(VLOOKUP(I1814,CAD_Q!$C$6:$E$109,3,FALSE)*F1814,\"\")","v":""},null,null,"",1,0,1900,0,1,1900,"Nombre y el registro de entrada válida"]
[null,"",null,null,null,"",null,null,null,{"$f":"IF(I1815=\"\",\"\",IF(VLOOKUP(I1815,CAD_Q!$C$6:$D$105,2,FALSE)=0,\"\",VLOOKUP(I1815,CAD_Q!$C$6:$D$105,2,FALSE)))","v":""},{"$f":"IFERROR(VLOOKUP(I1815,CAD_Q!$C$6:$E$109,3,FALSE)*F1815,\"\")","v":""},null,null,"",1,0,1900,0,1,1900,"Nombre y el registro de entrada válida"]
[null,"",null,null,null,"",null,null,null,{"$f":"IF(I1816=\"\",\"\",IF(VLOOKUP(I1816,CAD_Q!$C$6:$D$105,2,FALSE)=0,\"\",VLOOKUP(I1816,CAD_Q!$C$6:$D$105,2,FALSE)))","v":""},{"$f":"IFERROR(VLOOKUP(I1816,CAD_Q!$C$6:$E$109,3,FALSE)*F1816,\"\")","v":""},null,null,"",1,0,1900,0,1,1900,"Nombre y el registro de entrada válida"]
[null,"",null,null,null,"",null,null,null,{"$f":"IF(I1817=\"\",\"\",IF(VLOOKUP(I1817,CAD_Q!$C$6:$D$105,2,FALSE)=0,\"\",VLOOKUP(I1817,CAD_Q!$C$6:$D$105,2,FALSE)))","v":""},{"$f":"IFERROR(VLOOKUP(I1817,CAD_Q!$C$6:$E$109,3,FALSE)*F1817,\"\")","v":""},null,null,"",1,0,1900,0,1,1900,"Nombre y el registro de entrada válida"]
[null,"",null,null,null,"",null,null,null,{"$f":"IF(I1818=\"\",\"\",IF(VLOOKUP(I1818,CAD_Q!$C$6:$D$105,2,FALSE)=0,\"\",VLOOKUP(I1818,CAD_Q!$C$6:$D$105,2,FALSE)))","v":""},{"$f":"IFERROR(VLOOKUP(I1818,CAD_Q!$C$6:$E$109,3,FALSE)*F1818,\"\")","v":""},null,null,"",1,0,1900,0,1,1900,"Nombre y el registro de entrada válida"]
[null,"",null,null,null,"",null,null,null,{"$f":"IF(I1819=\"\",\"\",IF(VLOOKUP(I1819,CAD_Q!$C$6:$D$105,2,FALSE)=0,\"\",VLOOKUP(I1819,CAD_Q!$C$6:$D$105,2,FALSE)))","v":""},{"$f":"IFERROR(VLOOKUP(I1819,CAD_Q!$C$6:$E$109,3,FALSE)*F1819,\"\")","v":""},null,null,"",1,0,1900,0,1,1900,"Nombre y el registro de entrada válida"]
[null,"",null,null,null,"",null,null,null,{"$f":"IF(I1820=\"\",\"\",IF(VLOOKUP(I1820,CAD_Q!$C$6:$D$105,2,FALSE)=0,\"\",VLOOKUP(I1820,CAD_Q!$C$6:$D$105,2,FALSE)))","v":""},{"$f":"IFERROR(VLOOKUP(I1820,CAD_Q!$C$6:$E$109,3,FALSE)*F1820,\"\")","v":""},null,null,"",1,0,1900,0,1,1900,"Nombre y el registro de entrada válida"]
[null,"",null,null,null,"",null,null,null,{"$f":"IF(I1821=\"\",\"\",IF(VLOOKUP(I1821,CAD_Q!$C$6:$D$105,2,FALSE)=0,\"\",VLOOKUP(I1821,CAD_Q!$C$6:$D$105,2,FALSE)))","v":""},{"$f":"IFERROR(VLOOKUP(I1821,CAD_Q!$C$6:$E$109,3,FALSE)*F1821,\"\")","v":""},null,null,"",1,0,1900,0,1,1900,"Nombre y el registro de entrada válida"]
[null,"",null,null,null,"",null,null,null,{"$f":"IF(I1822=\"\",\"\",IF(VLOOKUP(I1822,CAD_Q!$C$6:$D$105,2,FALSE)=0,\"\",VLOOKUP(I1822,CAD_Q!$C$6:$D$105,2,FALSE)))","v":""},{"$f":"IFERROR(VLOOKUP(I1822,CAD_Q!$C$6:$E$109,3,FALSE)*F1822,\"\")","v":""},null,null,"",1,0,1900,0,1,1900,"Nombre y el registro de entrada válida"]
[null,"",null,null,null,"",null,null,null,{"$f":"IF(I1823=\"\",\"\",IF(VLOOKUP(I1823,CAD_Q!$C$6:$D$105,2,FALSE)=0,\"\",VLOOKUP(I1823,CAD_Q!$C$6:$D$105,2,FALSE)))","v":""},{"$f":"IFERROR(VLOOKUP(I1823,CAD_Q!$C$6:$E$109,3,FALSE)*F1823,\"\")","v":""},null,null,"",1,0,1900,0,1,1900,"Nombre y el registro de entrada válida"]
[null,"",null,null,null,"",null,null,null,{"$f":"IF(I1824=\"\",\"\",IF(VLOOKUP(I1824,CAD_Q!$C$6:$D$105,2,FALSE)=0,\"\",VLOOKUP(I1824,CAD_Q!$C$6:$D$105,2,FALSE)))","v":""},{"$f":"IFERROR(VLOOKUP(I1824,CAD_Q!$C$6:$E$109,3,FALSE)*F1824,\"\")","v":""},null,null,"",1,0,1900,0,1,1900,"Nombre y el registro de entrada válida"]
[null,"",null,null,null,"",null,null,null,{"$f":"IF(I1825=\"\",\"\",IF(VLOOKUP(I1825,CAD_Q!$C$6:$D$105,2,FALSE)=0,\"\",VLOOKUP(I1825,CAD_Q!$C$6:$D$105,2,FALSE)))","v":""},{"$f":"IFERROR(VLOOKUP(I1825,CAD_Q!$C$6:$E$109,3,FALSE)*F1825,\"\")","v":""},null,null,"",1,0,1900,0,1,1900,"Nombre y el registro de entrada válida"]
[null,"",null,null,null,"",null,null,null,{"$f":"IF(I1826=\"\",\"\",IF(VLOOKUP(I1826,CAD_Q!$C$6:$D$105,2,FALSE)=0,\"\",VLOOKUP(I1826,CAD_Q!$C$6:$D$105,2,FALSE)))","v":""},{"$f":"IFERROR(VLOOKUP(I1826,CAD_Q!$C$6:$E$109,3,FALSE)*F1826,\"\")","v":""},null,null,"",1,0,1900,0,1,1900,"Nombre y el registro de entrada válida"]
[null,"",null,null,null,"",null,null,null,{"$f":"IF(I1827=\"\",\"\",IF(VLOOKUP(I1827,CAD_Q!$C$6:$D$105,2,FALSE)=0,\"\",VLOOKUP(I1827,CAD_Q!$C$6:$D$105,2,FALSE)))","v":""},{"$f":"IFERROR(VLOOKUP(I1827,CAD_Q!$C$6:$E$109,3,FALSE)*F1827,\"\")","v":""},null,null,"",1,0,1900,0,1,1900,"Nombre y el registro de entrada válida"]
[null,"",null,null,null,{"$f":"IF(OR(D1828=\"\",E1828=\"\"),\"\",E1828-D1828)","v":""},null,null,null,{"$f":"IF(I1828=\"\",\"\",IF(VLOOKUP(I1828,CAD_Q!$C$6:$D$105,2,FALSE)=0,\"\",VLOOKUP(I1828,CAD_Q!$C$6:$D$105,2,FALSE)))","v":""},{"$f":"IFERROR(VLOOKUP(I1828,CAD_Q!$C$6:$E$109,3,FALSE)*F1828,\"\")","v":""},null,null,"",1,0,1900,0,1,1900,"Nombre y el registro de entrada válida"]
[null,"",null,null,null,"",null,null,null,{"$f":"IF(I1829=\"\",\"\",IF(VLOOKUP(I1829,CAD_Q!$C$6:$D$105,2,FALSE)=0,\"\",VLOOKUP(I1829,CAD_Q!$C$6:$D$105,2,FALSE)))","v":""},{"$f":"IFERROR(VLOOKUP(I1829,CAD_Q!$C$6:$E$109,3,FALSE)*F1829,\"\")","v":""},null,null,"",1,0,1900,0,1,1900,"Nombre y el registro de entrada válida"]
[null,"",null,null,null,"",null,null,null,{"$f":"IF(I1830=\"\",\"\",IF(VLOOKUP(I1830,CAD_Q!$C$6:$D$105,2,FALSE)=0,\"\",VLOOKUP(I1830,CAD_Q!$C$6:$D$105,2,FALSE)))","v":""},{"$f":"IFERROR(VLOOKUP(I1830,CAD_Q!$C$6:$E$109,3,FALSE)*F1830,\"\")","v":""},null,null,"",1,0,1900,0,1,1900,"Nombre y el registro de entrada válida"]
[null,"",null,null,null,"",null,null,null,{"$f":"IF(I1831=\"\",\"\",IF(VLOOKUP(I1831,CAD_Q!$C$6:$D$105,2,FALSE)=0,\"\",VLOOKUP(I1831,CAD_Q!$C$6:$D$105,2,FALSE)))","v":""},{"$f":"IFERROR(VLOOKUP(I1831,CAD_Q!$C$6:$E$109,3,FALSE)*F1831,\"\")","v":""},null,null,"",1,0,1900,0,1,1900,"Nombre y el registro de entrada válida"]
[null,"",null,null,null,"",null,null,null,{"$f":"IF(I1832=\"\",\"\",IF(VLOOKUP(I1832,CAD_Q!$C$6:$D$105,2,FALSE)=0,\"\",VLOOKUP(I1832,CAD_Q!$C$6:$D$105,2,FALSE)))","v":""},{"$f":"IFERROR(VLOOKUP(I1832,CAD_Q!$C$6:$E$109,3,FALSE)*F1832,\"\")","v":""},null,null,"",1,0,1900,0,1,1900,"Nombre y el registro de entrada válida"]
[null,"",null,null,null,"",null,null,null,{"$f":"IF(I1833=\"\",\"\",IF(VLOOKUP(I1833,CAD_Q!$C$6:$D$105,2,FALSE)=0,\"\",VLOOKUP(I1833,CAD_Q!$C$6:$D$105,2,FALSE)))","v":""},{"$f":"IFERROR(VLOOKUP(I1833,CAD_Q!$C$6:$E$109,3,FALSE)*F1833,\"\")","v":""},null,null,"",1,0,1900,0,1,1900,"Nombre y el registro de entrada válida"]
[null,"",null,null,null,"",null,null,null,{"$f":"IF(I1834=\"\",\"\",IF(VLOOKUP(I1834,CAD_Q!$C$6:$D$105,2,FALSE)=0,\"\",VLOOKUP(I1834,CAD_Q!$C$6:$D$105,2,FALSE)))","v":""},{"$f":"IFERROR(VLOOKUP(I1834,CAD_Q!$C$6:$E$109,3,FALSE)*F1834,\"\")","v":""},null,null,"",1,0,1900,0,1,1900,"Nombre y el registro de entrada válida"]
[null,"",null,null,null,"",null,null,null,{"$f":"IF(I1835=\"\",\"\",IF(VLOOKUP(I1835,CAD_Q!$C$6:$D$105,2,FALSE)=0,\"\",VLOOKUP(I1835,CAD_Q!$C$6:$D$105,2,FALSE)))","v":""},{"$f":"IFERROR(VLOOKUP(I1835,CAD_Q!$C$6:$E$109,3,FALSE)*F1835,\"\")","v":""},null,null,"",1,0,1900,0,1,1900,"Nombre y el registro de entrada válida"]
[null,"",null,null,null,"",null,null,null,{"$f":"IF(I1836=\"\",\"\",IF(VLOOKUP(I1836,CAD_Q!$C$6:$D$105,2,FALSE)=0,\"\",VLOOKUP(I1836,CAD_Q!$C$6:$D$105,2,FALSE)))","v":""},{"$f":"IFERROR(VLOOKUP(I1836,CAD_Q!$C$6:$E$109,3,FALSE)*F1836,\"\")","v":""},null,null,"",1,0,1900,0,1,1900,"Nombre y el registro de entrada válida"]
[null,"",null,null,null,"",null,null,null,{"$f":"IF(I1837=\"\",\"\",IF(VLOOKUP(I1837,CAD_Q!$C$6:$D$105,2,FALSE)=0,\"\",VLOOKUP(I1837,CAD_Q!$C$6:$D$105,2,FALSE)))","v":""},{"$f":"IFERROR(VLOOKUP(I1837,CAD_Q!$C$6:$E$109,3,FALSE)*F1837,\"\")","v":""},null,null,"",1,0,1900,0,1,1900,"Nombre y el registro de entrada válida"]
[null,"",null,null,null,"",null,null,null,{"$f":"IF(I1838=\"\",\"\",IF(VLOOKUP(I1838,CAD_Q!$C$6:$D$105,2,FALSE)=0,\"\",VLOOKUP(I1838,CAD_Q!$C$6:$D$105,2,FALSE)))","v":""},{"$f":"IFERROR(VLOOKUP(I1838,CAD_Q!$C$6:$E$109,3,FALSE)*F1838,\"\")","v":""},null,null,"",1,0,1900,0,1,1900,"Nombre y el registro de entrada válida"]
[null,"",null,null,null,"",null,null,null,{"$f":"IF(I1839=\"\",\"\",IF(VLOOKUP(I1839,CAD_Q!$C$6:$D$105,2,FALSE)=0,\"\",VLOOKUP(I1839,CAD_Q!$C$6:$D$105,2,FALSE)))","v":""},{"$f":"IFERROR(VLOOKUP(I1839,CAD_Q!$C$6:$E$109,3,FALSE)*F1839,\"\")","v":""},null,null,"",1,0,1900,0,1,1900,"Nombre y el registro de entrada válida"]
[null,"",null,null,null,"",null,null,null,{"$f":"IF(I1840=\"\",\"\",IF(VLOOKUP(I1840,CAD_Q!$C$6:$D$105,2,FALSE)=0,\"\",VLOOKUP(I1840,CAD_Q!$C$6:$D$105,2,FALSE)))","v":""},{"$f":"IFERROR(VLOOKUP(I1840,CAD_Q!$C$6:$E$109,3,FALSE)*F1840,\"\")","v":""},null,null,"",1,0,1900,0,1,1900,"Nombre y el registro de entrada válida"]
[null,"",null,null,null,"",null,null,null,{"$f":"IF(I1841=\"\",\"\",IF(VLOOKUP(I1841,CAD_Q!$C$6:$D$105,2,FALSE)=0,\"\",VLOOKUP(I1841,CAD_Q!$C$6:$D$105,2,FALSE)))","v":""},{"$f":"IFERROR(VLOOKUP(I1841,CAD_Q!$C$6:$E$109,3,FALSE)*F1841,\"\")","v":""},null,null,"",1,0,1900,0,1,1900,"Nombre y el registro de entrada válida"]
[null,"",null,null,null,"",null,null,null,{"$f":"IF(I1842=\"\",\"\",IF(VLOOKUP(I1842,CAD_Q!$C$6:$D$105,2,FALSE)=0,\"\",VLOOKUP(I1842,CAD_Q!$C$6:$D$105,2,FALSE)))","v":""},{"$f":"IFERROR(VLOOKUP(I1842,CAD_Q!$C$6:$E$109,3,FALSE)*F1842,\"\")","v":""},null,null,"",1,0,1900,0,1,1900,"Nombre y el registro de entrada válida"]
[null,"",null,null,null,"",null,null,null,{"$f":"IF(I1843=\"\",\"\",IF(VLOOKUP(I1843,CAD_Q!$C$6:$D$105,2,FALSE)=0,\"\",VLOOKUP(I1843,CAD_Q!$C$6:$D$105,2,FALSE)))","v":""},{"$f":"IFERROR(VLOOKUP(I1843,CAD_Q!$C$6:$E$109,3,FALSE)*F1843,\"\")","v":""},null,null,"",1,0,1900,0,1,1900,"Nombre y el registro de entrada válida"]
[null,"",null,null,null,"",null,null,null,{"$f":"IF(I1844=\"\",\"\",IF(VLOOKUP(I1844,CAD_Q!$C$6:$D$105,2,FALSE)=0,\"\",VLOOKUP(I1844,CAD_Q!$C$6:$D$105,2,FALSE)))","v":""},{"$f":"IFERROR(VLOOKUP(I1844,CAD_Q!$C$6:$E$109,3,FALSE)*F1844,\"\")","v":""},null,null,"",1,0,1900,0,1,1900,"Nombre y el registro de entrada válida"]
[null,"",null,null,null,"",null,null,null,{"$f":"IF(I1845=\"\",\"\",IF(VLOOKUP(I1845,CAD_Q!$C$6:$D$105,2,FALSE)=0,\"\",VLOOKUP(I1845,CAD_Q!$C$6:$D$105,2,FALSE)))","v":""},{"$f":"IFERROR(VLOOKUP(I1845,CAD_Q!$C$6:$E$109,3,FALSE)*F1845,\"\")","v":""},null,null,"",1,0,1900,0,1,1900,"Nombre y el registro de entrada válida"]
[null,"",null,null,null,"",null,null,null,{"$f":"IF(I1846=\"\",\"\",IF(VLOOKUP(I1846,CAD_Q!$C$6:$D$105,2,FALSE)=0,\"\",VLOOKUP(I1846,CAD_Q!$C$6:$D$105,2,FALSE)))","v":""},{"$f":"IFERROR(VLOOKUP(I1846,CAD_Q!$C$6:$E$109,3,FALSE)*F1846,\"\")","v":""},null,null,"",1,0,1900,0,1,1900,"Nombre y el registro de entrada válida"]
[null,"",null,null,null,"",null,null,null,{"$f":"IF(I1847=\"\",\"\",IF(VLOOKUP(I1847,CAD_Q!$C$6:$D$105,2,FALSE)=0,\"\",VLOOKUP(I1847,CAD_Q!$C$6:$D$105,2,FALSE)))","v":""},{"$f":"IFERROR(VLOOKUP(I1847,CAD_Q!$C$6:$E$109,3,FALSE)*F1847,\"\")","v":""},null,null,"",1,0,1900,0,1,1900,"Nombre y el registro de entrada válida"]
[null,"",null,null,null,"",null,null,null,{"$f":"IF(I1848=\"\",\"\",IF(VLOOKUP(I1848,CAD_Q!$C$6:$D$105,2,FALSE)=0,\"\",VLOOKUP(I1848,CAD_Q!$C$6:$D$105,2,FALSE)))","v":""},{"$f":"IFERROR(VLOOKUP(I1848,CAD_Q!$C$6:$E$109,3,FALSE)*F1848,\"\")","v":""},null,null,"",1,0,1900,0,1,1900,"Nombre y el registro de entrada válida"]
[null,"",null,null,null,"",null,null,null,{"$f":"IF(I1849=\"\",\"\",IF(VLOOKUP(I1849,CAD_Q!$C$6:$D$105,2,FALSE)=0,\"\",VLOOKUP(I1849,CAD_Q!$C$6:$D$105,2,FALSE)))","v":""},{"$f":"IFERROR(VLOOKUP(I1849,CAD_Q!$C$6:$E$109,3,FALSE)*F1849,\"\")","v":""},null,null,"",1,0,1900,0,1,1900,"Nombre y el registro de entrada válida"]
[null,"",null,null,null,"",null,null,null,{"$f":"IF(I1850=\"\",\"\",IF(VLOOKUP(I1850,CAD_Q!$C$6:$D$105,2,FALSE)=0,\"\",VLOOKUP(I1850,CAD_Q!$C$6:$D$105,2,FALSE)))","v":""},{"$f":"IFERROR(VLOOKUP(I1850,CAD_Q!$C$6:$E$109,3,FALSE)*F1850,\"\")","v":""},null,null,"",1,0,1900,0,1,1900,"Nombre y el registro de entrada válida"]
[null,"",null,null,null,"",null,null,null,{"$f":"IF(I1851=\"\",\"\",IF(VLOOKUP(I1851,CAD_Q!$C$6:$D$105,2,FALSE)=0,\"\",VLOOKUP(I1851,CAD_Q!$C$6:$D$105,2,FALSE)))","v":""},{"$f":"IFERROR(VLOOKUP(I1851,CAD_Q!$C$6:$E$109,3,FALSE)*F1851,\"\")","v":""},null,null,"",1,0,1900,0,1,1900,"Nombre y el registro de entrada válida"]
[null,"",null,null,null,"",null,null,null,{"$f":"IF(I1852=\"\",\"\",IF(VLOOKUP(I1852,CAD_Q!$C$6:$D$105,2,FALSE)=0,\"\",VLOOKUP(I1852,CAD_Q!$C$6:$D$105,2,FALSE)))","v":""},{"$f":"IFERROR(VLOOKUP(I1852,CAD_Q!$C$6:$E$109,3,FALSE)*F1852,\"\")","v":""},null,null,"",1,0,1900,0,1,1900,"Nombre y el registro de entrada válida"]
[null,"",null,null,null,"",null,null,null,{"$f":"IF(I1853=\"\",\"\",IF(VLOOKUP(I1853,CAD_Q!$C$6:$D$105,2,FALSE)=0,\"\",VLOOKUP(I1853,CAD_Q!$C$6:$D$105,2,FALSE)))","v":""},{"$f":"IFERROR(VLOOKUP(I1853,CAD_Q!$C$6:$E$109,3,FALSE)*F1853,\"\")","v":""},null,null,"",1,0,1900,0,1,1900,"Nombre y el registro de entrada válida"]
[null,"",null,null,null,"",null,null,null,{"$f":"IF(I1854=\"\",\"\",IF(VLOOKUP(I1854,CAD_Q!$C$6:$D$105,2,FALSE)=0,\"\",VLOOKUP(I1854,CAD_Q!$C$6:$D$105,2,FALSE)))","v":""},{"$f":"IFERROR(VLOOKUP(I1854,CAD_Q!$C$6:$E$109,3,FALSE)*F1854,\"\")","v":""},null,null,"",1,0,1900,0,1,1900,"Nombre y el registro de entrada válida"]
[null,"",null,null,null,"",null,null,null,{"$f":"IF(I1855=\"\",\"\",IF(VLOOKUP(I1855,CAD_Q!$C$6:$D$105,2,FALSE)=0,\"\",VLOOKUP(I1855,CAD_Q!$C$6:$D$105,2,FALSE)))","v":""},{"$f":"IFERROR(VLOOKUP(I1855,CAD_Q!$C$6:$E$109,3,FALSE)*F1855,\"\")","v":""},null,null,"",1,0,1900,0,1,1900,"Nombre y el registro de entrada válida"]
[null,"",null,null,null,"",null,null,null,{"$f":"IF(I1856=\"\",\"\",IF(VLOOKUP(I1856,CAD_Q!$C$6:$D$105,2,FALSE)=0,\"\",VLOOKUP(I1856,CAD_Q!$C$6:$D$105,2,FALSE)))","v":""},{"$f":"IFERROR(VLOOKUP(I1856,CAD_Q!$C$6:$E$109,3,FALSE)*F1856,\"\")","v":""},null,null,"",1,0,1900,0,1,1900,"Nombre y el registro de entrada válida"]
[null,"",null,null,null,"",null,null,null,{"$f":"IF(I1857=\"\",\"\",IF(VLOOKUP(I1857,CAD_Q!$C$6:$D$105,2,FALSE)=0,\"\",VLOOKUP(I1857,CAD_Q!$C$6:$D$105,2,FALSE)))","v":""},{"$f":"IFERROR(VLOOKUP(I1857,CAD_Q!$C$6:$E$109,3,FALSE)*F1857,\"\")","v":""},null,null,"",1,0,1900,0,1,1900,"Nombre y el registro de entrada válida"]
[null,"",null,null,null,"",null,null,null,{"$f":"IF(I1858=\"\",\"\",IF(VLOOKUP(I1858,CAD_Q!$C$6:$D$105,2,FALSE)=0,\"\",VLOOKUP(I1858,CAD_Q!$C$6:$D$105,2,FALSE)))","v":""},{"$f":"IFERROR(VLOOKUP(I1858,CAD_Q!$C$6:$E$109,3,FALSE)*F1858,\"\")","v":""},null,null,"",1,0,1900,0,1,1900,"Nombre y el registro de entrada válida"]
[null,"",null,null,null,"",null,null,null,{"$f":"IF(I1859=\"\",\"\",IF(VLOOKUP(I1859,CAD_Q!$C$6:$D$105,2,FALSE)=0,\"\",VLOOKUP(I1859,CAD_Q!$C$6:$D$105,2,FALSE)))","v":""},{"$f":"IFERROR(VLOOKUP(I1859,CAD_Q!$C$6:$E$109,3,FALSE)*F1859,\"\")","v":""},null,null,"",1,0,1900,0,1,1900,"Nombre y el registro de entrada válida"]
[null,"",null,null,null,"",null,null,null,{"$f":"IF(I1860=\"\",\"\",IF(VLOOKUP(I1860,CAD_Q!$C$6:$D$105,2,FALSE)=0,\"\",VLOOKUP(I1860,CAD_Q!$C$6:$D$105,2,FALSE)))","v":""},{"$f":"IFERROR(VLOOKUP(I1860,CAD_Q!$C$6:$E$109,3,FALSE)*F1860,\"\")","v":""},null,null,"",1,0,1900,0,1,1900,"Nombre y el registro de entrada válida"]
[null,"",null,null,null,"",null,null,null,{"$f":"IF(I1861=\"\",\"\",IF(VLOOKUP(I1861,CAD_Q!$C$6:$D$105,2,FALSE)=0,\"\",VLOOKUP(I1861,CAD_Q!$C$6:$D$105,2,FALSE)))","v":""},{"$f":"IFERROR(VLOOKUP(I1861,CAD_Q!$C$6:$E$109,3,FALSE)*F1861,\"\")","v":""},null,null,"",1,0,1900,0,1,1900,"Nombre y el registro de entrada válida"]
[null,"",null,null,null,"",null,null,null,{"$f":"IF(I1862=\"\",\"\",IF(VLOOKUP(I1862,CAD_Q!$C$6:$D$105,2,FALSE)=0,\"\",VLOOKUP(I1862,CAD_Q!$C$6:$D$105,2,FALSE)))","v":""},{"$f":"IFERROR(VLOOKUP(I1862,CAD_Q!$C$6:$E$109,3,FALSE)*F1862,\"\")","v":""},null,null,"",1,0,1900,0,1,1900,"Nombre y el registro de entrada válida"]
[null,{"$f":"CONCATENATE(C1863,D1863)","v":""},null,null,null,"",null,null,null,{"$f":"IF(I1863=\"\",\"\",IF(VLOOKUP(I1863,CAD_Q!$C$6:$D$105,2,FALSE)=0,\"\",VLOOKUP(I1863,CAD_Q!$C$6:$D$105,2,FALSE)))","v":""},{"$f":"IFERROR(VLOOKUP(I1863,CAD_Q!$C$6:$E$109,3,FALSE)*F1863,\"\")","v":""},null,null,{"$f":"IFERROR(K1863-L1863+M1863,\"\")","v":""},1,0,1900,0,1,1900,"Nombre y el registro de entrada válida"]
[null,"",null,null,null,"",null,null,null,{"$f":"IF(I1864=\"\",\"\",IF(VLOOKUP(I1864,CAD_Q!$C$6:$D$105,2,FALSE)=0,\"\",VLOOKUP(I1864,CAD_Q!$C$6:$D$105,2,FALSE)))","v":""},{"$f":"IFERROR(VLOOKUP(I1864,CAD_Q!$C$6:$E$109,3,FALSE)*F1864,\"\")","v":""},null,null,"",1,0,1900,0,1,1900,"Nombre y el registro de entrada válida"]
[null,"",null,null,null,"",null,null,null,{"$f":"IF(I1865=\"\",\"\",IF(VLOOKUP(I1865,CAD_Q!$C$6:$D$105,2,FALSE)=0,\"\",VLOOKUP(I1865,CAD_Q!$C$6:$D$105,2,FALSE)))","v":""},{"$f":"IFERROR(VLOOKUP(I1865,CAD_Q!$C$6:$E$109,3,FALSE)*F1865,\"\")","v":""},null,null,"",1,0,1900,0,1,1900,"Nombre y el registro de entrada válida"]
[null,"",null,null,null,"",null,null,null,{"$f":"IF(I1866=\"\",\"\",IF(VLOOKUP(I1866,CAD_Q!$C$6:$D$105,2,FALSE)=0,\"\",VLOOKUP(I1866,CAD_Q!$C$6:$D$105,2,FALSE)))","v":""},{"$f":"IFERROR(VLOOKUP(I1866,CAD_Q!$C$6:$E$109,3,FALSE)*F1866,\"\")","v":""},null,null,"",{"$f":"MONTH(D1866)","v":1},{"$f":"DAY(D1866)","v":0},{"$f":"YEAR(D1866)","v":1900},{"$f":"DAY(E1866)","v":0},{"$f":"MONTH(E1866)","v":1},{"$f":"YEAR(E1866)","v":1900},"Nombre y el registro de entrada válida"]
[null,"",null,null,null,"",null,null,null,{"$f":"IF(I1867=\"\",\"\",IF(VLOOKUP(I1867,CAD_Q!$C$6:$D$105,2,FALSE)=0,\"\",VLOOKUP(I1867,CAD_Q!$C$6:$D$105,2,FALSE)))","v":""},{"$f":"IFERROR(VLOOKUP(I1867,CAD_Q!$C$6:$E$109,3,FALSE)*F1867,\"\")","v":""},null,null,"",1,0,1900,0,1,1900,"Nombre y el registro de entrada válida"]
[null,"",null,null,null,"",null,null,null,{"$f":"IF(I1868=\"\",\"\",IF(VLOOKUP(I1868,CAD_Q!$C$6:$D$105,2,FALSE)=0,\"\",VLOOKUP(I1868,CAD_Q!$C$6:$D$105,2,FALSE)))","v":""},{"$f":"IFERROR(VLOOKUP(I1868,CAD_Q!$C$6:$E$109,3,FALSE)*F1868,\"\")","v":""},null,null,"",1,0,1900,0,1,1900,"Nombre y el registro de entrada válida"]
[null,"",null,null,null,"",null,null,null,{"$f":"IF(I1869=\"\",\"\",IF(VLOOKUP(I1869,CAD_Q!$C$6:$D$105,2,FALSE)=0,\"\",VLOOKUP(I1869,CAD_Q!$C$6:$D$105,2,FALSE)))","v":""},{"$f":"IFERROR(VLOOKUP(I1869,CAD_Q!$C$6:$E$109,3,FALSE)*F1869,\"\")","v":""},null,null,"",1,0,1900,0,1,1900,"Nombre y el registro de entrada válida"]
[null,"",null,null,null,"",null,null,null,{"$f":"IF(I1870=\"\",\"\",IF(VLOOKUP(I1870,CAD_Q!$C$6:$D$105,2,FALSE)=0,\"\",VLOOKUP(I1870,CAD_Q!$C$6:$D$105,2,FALSE)))","v":""},{"$f":"IFERROR(VLOOKUP(I1870,CAD_Q!$C$6:$E$109,3,FALSE)*F1870,\"\")","v":""},null,null,"",1,0,1900,0,1,1900,"Nombre y el registro de entrada válida"]
[null,"",null,null,null,"",null,null,null,{"$f":"IF(I1871=\"\",\"\",IF(VLOOKUP(I1871,CAD_Q!$C$6:$D$105,2,FALSE)=0,\"\",VLOOKUP(I1871,CAD_Q!$C$6:$D$105,2,FALSE)))","v":""},{"$f":"IFERROR(VLOOKUP(I1871,CAD_Q!$C$6:$E$109,3,FALSE)*F1871,\"\")","v":""},null,null,"",1,0,1900,0,1,1900,"Nombre y el registro de entrada válida"]
[null,"",null,null,null,"",null,null,null,{"$f":"IF(I1872=\"\",\"\",IF(VLOOKUP(I1872,CAD_Q!$C$6:$D$105,2,FALSE)=0,\"\",VLOOKUP(I1872,CAD_Q!$C$6:$D$105,2,FALSE)))","v":""},{"$f":"IFERROR(VLOOKUP(I1872,CAD_Q!$C$6:$E$109,3,FALSE)*F1872,\"\")","v":""},null,null,"",1,0,1900,0,1,1900,"Nombre y el registro de entrada válida"]
[null,"",null,null,null,"",null,null,null,{"$f":"IF(I1873=\"\",\"\",IF(VLOOKUP(I1873,CAD_Q!$C$6:$D$105,2,FALSE)=0,\"\",VLOOKUP(I1873,CAD_Q!$C$6:$D$105,2,FALSE)))","v":""},{"$f":"IFERROR(VLOOKUP(I1873,CAD_Q!$C$6:$E$109,3,FALSE)*F1873,\"\")","v":""},null,null,"",1,0,1900,0,1,1900,"Nombre y el registro de entrada válida"]
[null,"",null,null,null,"",null,null,null,{"$f":"IF(I1874=\"\",\"\",IF(VLOOKUP(I1874,CAD_Q!$C$6:$D$105,2,FALSE)=0,\"\",VLOOKUP(I1874,CAD_Q!$C$6:$D$105,2,FALSE)))","v":""},{"$f":"IFERROR(VLOOKUP(I1874,CAD_Q!$C$6:$E$109,3,FALSE)*F1874,\"\")","v":""},null,null,"",1,0,1900,0,1,1900,"Nombre y el registro de entrada válida"]
[null,"",null,null,null,"",null,null,null,{"$f":"IF(I1875=\"\",\"\",IF(VLOOKUP(I1875,CAD_Q!$C$6:$D$105,2,FALSE)=0,\"\",VLOOKUP(I1875,CAD_Q!$C$6:$D$105,2,FALSE)))","v":""},{"$f":"IFERROR(VLOOKUP(I1875,CAD_Q!$C$6:$E$109,3,FALSE)*F1875,\"\")","v":""},null,null,"",1,0,1900,0,1,1900,"Nombre y el registro de entrada válida"]
[null,"",null,null,null,"",null,null,null,{"$f":"IF(I1876=\"\",\"\",IF(VLOOKUP(I1876,CAD_Q!$C$6:$D$105,2,FALSE)=0,\"\",VLOOKUP(I1876,CAD_Q!$C$6:$D$105,2,FALSE)))","v":""},{"$f":"IFERROR(VLOOKUP(I1876,CAD_Q!$C$6:$E$109,3,FALSE)*F1876,\"\")","v":""},null,null,"",1,0,1900,0,1,1900,"Nombre y el registro de entrada válida"]
[null,"",null,null,null,"",null,null,null,{"$f":"IF(I1877=\"\",\"\",IF(VLOOKUP(I1877,CAD_Q!$C$6:$D$105,2,FALSE)=0,\"\",VLOOKUP(I1877,CAD_Q!$C$6:$D$105,2,FALSE)))","v":""},{"$f":"IFERROR(VLOOKUP(I1877,CAD_Q!$C$6:$E$109,3,FALSE)*F1877,\"\")","v":""},null,null,"",1,0,1900,0,1,1900,"Nombre y el registro de entrada válida"]
[null,"",null,null,null,"",null,null,null,{"$f":"IF(I1878=\"\",\"\",IF(VLOOKUP(I1878,CAD_Q!$C$6:$D$105,2,FALSE)=0,\"\",VLOOKUP(I1878,CAD_Q!$C$6:$D$105,2,FALSE)))","v":""},{"$f":"IFERROR(VLOOKUP(I1878,CAD_Q!$C$6:$E$109,3,FALSE)*F1878,\"\")","v":""},null,null,"",1,0,1900,0,1,1900,"Nombre y el registro de entrada válida"]
[null,"",null,null,null,"",null,null,null,{"$f":"IF(I1879=\"\",\"\",IF(VLOOKUP(I1879,CAD_Q!$C$6:$D$105,2,FALSE)=0,\"\",VLOOKUP(I1879,CAD_Q!$C$6:$D$105,2,FALSE)))","v":""},{"$f":"IFERROR(VLOOKUP(I1879,CAD_Q!$C$6:$E$109,3,FALSE)*F1879,\"\")","v":""},null,null,"",1,0,1900,0,1,1900,"Nombre y el registro de entrada válida"]
[null,"",null,null,null,"",null,null,null,{"$f":"IF(I1880=\"\",\"\",IF(VLOOKUP(I1880,CAD_Q!$C$6:$D$105,2,FALSE)=0,\"\",VLOOKUP(I1880,CAD_Q!$C$6:$D$105,2,FALSE)))","v":""},{"$f":"IFERROR(VLOOKUP(I1880,CAD_Q!$C$6:$E$109,3,FALSE)*F1880,\"\")","v":""},null,null,"",1,0,1900,0,1,1900,"Nombre y el registro de entrada válida"]
[null,"",null,null,null,"",null,null,null,{"$f":"IF(I1881=\"\",\"\",IF(VLOOKUP(I1881,CAD_Q!$C$6:$D$105,2,FALSE)=0,\"\",VLOOKUP(I1881,CAD_Q!$C$6:$D$105,2,FALSE)))","v":""},{"$f":"IFERROR(VLOOKUP(I1881,CAD_Q!$C$6:$E$109,3,FALSE)*F1881,\"\")","v":""},null,null,"",1,0,1900,0,1,1900,"Nombre y el registro de entrada válida"]
[null,"",null,null,null,"",null,null,null,{"$f":"IF(I1882=\"\",\"\",IF(VLOOKUP(I1882,CAD_Q!$C$6:$D$105,2,FALSE)=0,\"\",VLOOKUP(I1882,CAD_Q!$C$6:$D$105,2,FALSE)))","v":""},{"$f":"IFERROR(VLOOKUP(I1882,CAD_Q!$C$6:$E$109,3,FALSE)*F1882,\"\")","v":""},null,null,"",1,0,1900,0,1,1900,"Nombre y el registro de entrada válida"]
[null,"",null,null,null,"",null,null,null,{"$f":"IF(I1883=\"\",\"\",IF(VLOOKUP(I1883,CAD_Q!$C$6:$D$105,2,FALSE)=0,\"\",VLOOKUP(I1883,CAD_Q!$C$6:$D$105,2,FALSE)))","v":""},{"$f":"IFERROR(VLOOKUP(I1883,CAD_Q!$C$6:$E$109,3,FALSE)*F1883,\"\")","v":""},null,null,"",1,0,1900,0,1,1900,"Nombre y el registro de entrada válida"]
[null,"",null,null,null,"",null,null,null,{"$f":"IF(I1884=\"\",\"\",IF(VLOOKUP(I1884,CAD_Q!$C$6:$D$105,2,FALSE)=0,\"\",VLOOKUP(I1884,CAD_Q!$C$6:$D$105,2,FALSE)))","v":""},{"$f":"IFERROR(VLOOKUP(I1884,CAD_Q!$C$6:$E$109,3,FALSE)*F1884,\"\")","v":""},null,null,"",1,0,1900,0,1,1900,"Nombre y el registro de entrada válida"]
[null,"",null,null,null,"",null,null,null,{"$f":"IF(I1885=\"\",\"\",IF(VLOOKUP(I1885,CAD_Q!$C$6:$D$105,2,FALSE)=0,\"\",VLOOKUP(I1885,CAD_Q!$C$6:$D$105,2,FALSE)))","v":""},{"$f":"IFERROR(VLOOKUP(I1885,CAD_Q!$C$6:$E$109,3,FALSE)*F1885,\"\")","v":""},null,null,"",1,0,1900,0,1,1900,"Nombre y el registro de entrada válida"]
[null,"",null,null,null,"",null,null,null,{"$f":"IF(I1886=\"\",\"\",IF(VLOOKUP(I1886,CAD_Q!$C$6:$D$105,2,FALSE)=0,\"\",VLOOKUP(I1886,CAD_Q!$C$6:$D$105,2,FALSE)))","v":""},{"$f":"IFERROR(VLOOKUP(I1886,CAD_Q!$C$6:$E$109,3,FALSE)*F1886,\"\")","v":""},null,null,"",1,0,1900,0,1,1900,"Nombre y el registro de entrada válida"]
[null,"",null,null,null,"",null,null,null,{"$f":"IF(I1887=\"\",\"\",IF(VLOOKUP(I1887,CAD_Q!$C$6:$D$105,2,FALSE)=0,\"\",VLOOKUP(I1887,CAD_Q!$C$6:$D$105,2,FALSE)))","v":""},{"$f":"IFERROR(VLOOKUP(I1887,CAD_Q!$C$6:$E$109,3,FALSE)*F1887,\"\")","v":""},null,null,"",1,0,1900,0,1,1900,"Nombre y el registro de entrada válida"]
[null,"",null,null,null,"",null,null,null,{"$f":"IF(I1888=\"\",\"\",IF(VLOOKUP(I1888,CAD_Q!$C$6:$D$105,2,FALSE)=0,\"\",VLOOKUP(I1888,CAD_Q!$C$6:$D$105,2,FALSE)))","v":""},{"$f":"IFERROR(VLOOKUP(I1888,CAD_Q!$C$6:$E$109,3,FALSE)*F1888,\"\")","v":""},null,null,"",1,0,1900,0,1,1900,"Nombre y el registro de entrada válida"]
[null,"",null,null,null,"",null,null,null,{"$f":"IF(I1889=\"\",\"\",IF(VLOOKUP(I1889,CAD_Q!$C$6:$D$105,2,FALSE)=0,\"\",VLOOKUP(I1889,CAD_Q!$C$6:$D$105,2,FALSE)))","v":""},{"$f":"IFERROR(VLOOKUP(I1889,CAD_Q!$C$6:$E$109,3,FALSE)*F1889,\"\")","v":""},null,null,"",1,0,1900,0,1,1900,"Nombre y el registro de entrada válida"]
[null,"",null,null,null,"",null,null,null,{"$f":"IF(I1890=\"\",\"\",IF(VLOOKUP(I1890,CAD_Q!$C$6:$D$105,2,FALSE)=0,\"\",VLOOKUP(I1890,CAD_Q!$C$6:$D$105,2,FALSE)))","v":""},{"$f":"IFERROR(VLOOKUP(I1890,CAD_Q!$C$6:$E$109,3,FALSE)*F1890,\"\")","v":""},null,null,"",1,0,1900,0,1,1900,"Nombre y el registro de entrada válida"]
[null,"",null,null,null,"",null,null,null,{"$f":"IF(I1891=\"\",\"\",IF(VLOOKUP(I1891,CAD_Q!$C$6:$D$105,2,FALSE)=0,\"\",VLOOKUP(I1891,CAD_Q!$C$6:$D$105,2,FALSE)))","v":""},{"$f":"IFERROR(VLOOKUP(I1891,CAD_Q!$C$6:$E$109,3,FALSE)*F1891,\"\")","v":""},null,null,"",1,0,1900,0,1,1900,"Nombre y el registro de entrada válida"]
[null,"",null,null,null,{"$f":"IF(OR(D1892=\"\",E1892=\"\"),\"\",E1892-D1892)","v":""},null,null,null,{"$f":"IF(I1892=\"\",\"\",IF(VLOOKUP(I1892,CAD_Q!$C$6:$D$105,2,FALSE)=0,\"\",VLOOKUP(I1892,CAD_Q!$C$6:$D$105,2,FALSE)))","v":""},{"$f":"IFERROR(VLOOKUP(I1892,CAD_Q!$C$6:$E$109,3,FALSE)*F1892,\"\")","v":""},null,null,"",1,0,1900,0,1,1900,"Nombre y el registro de entrada válida"]
[null,"",null,null,null,"",null,null,null,{"$f":"IF(I1893=\"\",\"\",IF(VLOOKUP(I1893,CAD_Q!$C$6:$D$105,2,FALSE)=0,\"\",VLOOKUP(I1893,CAD_Q!$C$6:$D$105,2,FALSE)))","v":""},{"$f":"IFERROR(VLOOKUP(I1893,CAD_Q!$C$6:$E$109,3,FALSE)*F1893,\"\")","v":""},null,null,"",1,0,1900,0,1,1900,"Nombre y el registro de entrada válida"]
[null,"",null,null,null,"",null,null,null,{"$f":"IF(I1894=\"\",\"\",IF(VLOOKUP(I1894,CAD_Q!$C$6:$D$105,2,FALSE)=0,\"\",VLOOKUP(I1894,CAD_Q!$C$6:$D$105,2,FALSE)))","v":""},{"$f":"IFERROR(VLOOKUP(I1894,CAD_Q!$C$6:$E$109,3,FALSE)*F1894,\"\")","v":""},null,null,"",1,0,1900,0,1,1900,"Nombre y el registro de entrada válida"]
[null,"",null,null,null,"",null,null,null,{"$f":"IF(I1895=\"\",\"\",IF(VLOOKUP(I1895,CAD_Q!$C$6:$D$105,2,FALSE)=0,\"\",VLOOKUP(I1895,CAD_Q!$C$6:$D$105,2,FALSE)))","v":""},{"$f":"IFERROR(VLOOKUP(I1895,CAD_Q!$C$6:$E$109,3,FALSE)*F1895,\"\")","v":""},null,null,"",1,0,1900,0,1,1900,"Nombre y el registro de entrada válida"]
[null,"",null,null,null,"",null,null,null,{"$f":"IF(I1896=\"\",\"\",IF(VLOOKUP(I1896,CAD_Q!$C$6:$D$105,2,FALSE)=0,\"\",VLOOKUP(I1896,CAD_Q!$C$6:$D$105,2,FALSE)))","v":""},{"$f":"IFERROR(VLOOKUP(I1896,CAD_Q!$C$6:$E$109,3,FALSE)*F1896,\"\")","v":""},null,null,"",1,0,1900,0,1,1900,"Nombre y el registro de entrada válida"]
[null,"",null,null,null,"",null,null,null,{"$f":"IF(I1897=\"\",\"\",IF(VLOOKUP(I1897,CAD_Q!$C$6:$D$105,2,FALSE)=0,\"\",VLOOKUP(I1897,CAD_Q!$C$6:$D$105,2,FALSE)))","v":""},{"$f":"IFERROR(VLOOKUP(I1897,CAD_Q!$C$6:$E$109,3,FALSE)*F1897,\"\")","v":""},null,null,"",1,0,1900,0,1,1900,"Nombre y el registro de entrada válida"]
[null,"",null,null,null,"",null,null,null,{"$f":"IF(I1898=\"\",\"\",IF(VLOOKUP(I1898,CAD_Q!$C$6:$D$105,2,FALSE)=0,\"\",VLOOKUP(I1898,CAD_Q!$C$6:$D$105,2,FALSE)))","v":""},{"$f":"IFERROR(VLOOKUP(I1898,CAD_Q!$C$6:$E$109,3,FALSE)*F1898,\"\")","v":""},null,null,"",1,0,1900,0,1,1900,"Nombre y el registro de entrada válida"]
[null,"",null,null,null,"",null,null,null,{"$f":"IF(I1899=\"\",\"\",IF(VLOOKUP(I1899,CAD_Q!$C$6:$D$105,2,FALSE)=0,\"\",VLOOKUP(I1899,CAD_Q!$C$6:$D$105,2,FALSE)))","v":""},{"$f":"IFERROR(VLOOKUP(I1899,CAD_Q!$C$6:$E$109,3,FALSE)*F1899,\"\")","v":""},null,null,"",1,0,1900,0,1,1900,"Nombre y el registro de entrada válida"]
[null,"",null,null,null,"",null,null,null,{"$f":"IF(I1900=\"\",\"\",IF(VLOOKUP(I1900,CAD_Q!$C$6:$D$105,2,FALSE)=0,\"\",VLOOKUP(I1900,CAD_Q!$C$6:$D$105,2,FALSE)))","v":""},{"$f":"IFERROR(VLOOKUP(I1900,CAD_Q!$C$6:$E$109,3,FALSE)*F1900,\"\")","v":""},null,null,"",1,0,1900,0,1,1900,"Nombre y el registro de entrada válida"]
[null,"",null,null,null,"",null,null,null,{"$f":"IF(I1901=\"\",\"\",IF(VLOOKUP(I1901,CAD_Q!$C$6:$D$105,2,FALSE)=0,\"\",VLOOKUP(I1901,CAD_Q!$C$6:$D$105,2,FALSE)))","v":""},{"$f":"IFERROR(VLOOKUP(I1901,CAD_Q!$C$6:$E$109,3,FALSE)*F1901,\"\")","v":""},null,null,"",1,0,1900,0,1,1900,"Nombre y el registro de entrada válida"]
[null,"",null,null,null,"",null,null,null,{"$f":"IF(I1902=\"\",\"\",IF(VLOOKUP(I1902,CAD_Q!$C$6:$D$105,2,FALSE)=0,\"\",VLOOKUP(I1902,CAD_Q!$C$6:$D$105,2,FALSE)))","v":""},{"$f":"IFERROR(VLOOKUP(I1902,CAD_Q!$C$6:$E$109,3,FALSE)*F1902,\"\")","v":""},null,null,"",1,0,1900,0,1,1900,"Nombre y el registro de entrada válida"]
[null,"",null,null,null,"",null,null,null,{"$f":"IF(I1903=\"\",\"\",IF(VLOOKUP(I1903,CAD_Q!$C$6:$D$105,2,FALSE)=0,\"\",VLOOKUP(I1903,CAD_Q!$C$6:$D$105,2,FALSE)))","v":""},{"$f":"IFERROR(VLOOKUP(I1903,CAD_Q!$C$6:$E$109,3,FALSE)*F1903,\"\")","v":""},null,null,"",1,0,1900,0,1,1900,"Nombre y el registro de entrada válida"]
[null,"",null,null,null,"",null,null,null,{"$f":"IF(I1904=\"\",\"\",IF(VLOOKUP(I1904,CAD_Q!$C$6:$D$105,2,FALSE)=0,\"\",VLOOKUP(I1904,CAD_Q!$C$6:$D$105,2,FALSE)))","v":""},{"$f":"IFERROR(VLOOKUP(I1904,CAD_Q!$C$6:$E$109,3,FALSE)*F1904,\"\")","v":""},null,null,"",1,0,1900,0,1,1900,"Nombre y el registro de entrada válida"]
[null,"",null,null,null,"",null,null,null,{"$f":"IF(I1905=\"\",\"\",IF(VLOOKUP(I1905,CAD_Q!$C$6:$D$105,2,FALSE)=0,\"\",VLOOKUP(I1905,CAD_Q!$C$6:$D$105,2,FALSE)))","v":""},{"$f":"IFERROR(VLOOKUP(I1905,CAD_Q!$C$6:$E$109,3,FALSE)*F1905,\"\")","v":""},null,null,"",1,0,1900,0,1,1900,"Nombre y el registro de entrada válida"]
[null,"",null,null,null,"",null,null,null,{"$f":"IF(I1906=\"\",\"\",IF(VLOOKUP(I1906,CAD_Q!$C$6:$D$105,2,FALSE)=0,\"\",VLOOKUP(I1906,CAD_Q!$C$6:$D$105,2,FALSE)))","v":""},{"$f":"IFERROR(VLOOKUP(I1906,CAD_Q!$C$6:$E$109,3,FALSE)*F1906,\"\")","v":""},null,null,"",1,0,1900,0,1,1900,"Nombre y el registro de entrada válida"]
[null,"",null,null,null,"",null,null,null,{"$f":"IF(I1907=\"\",\"\",IF(VLOOKUP(I1907,CAD_Q!$C$6:$D$105,2,FALSE)=0,\"\",VLOOKUP(I1907,CAD_Q!$C$6:$D$105,2,FALSE)))","v":""},{"$f":"IFERROR(VLOOKUP(I1907,CAD_Q!$C$6:$E$109,3,FALSE)*F1907,\"\")","v":""},null,null,"",1,0,1900,0,1,1900,"Nombre y el registro de entrada válida"]
[null,"",null,null,null,"",null,null,null,{"$f":"IF(I1908=\"\",\"\",IF(VLOOKUP(I1908,CAD_Q!$C$6:$D$105,2,FALSE)=0,\"\",VLOOKUP(I1908,CAD_Q!$C$6:$D$105,2,FALSE)))","v":""},{"$f":"IFERROR(VLOOKUP(I1908,CAD_Q!$C$6:$E$109,3,FALSE)*F1908,\"\")","v":""},null,null,"",1,0,1900,0,1,1900,"Nombre y el registro de entrada válida"]
[null,"",null,null,null,"",null,null,null,{"$f":"IF(I1909=\"\",\"\",IF(VLOOKUP(I1909,CAD_Q!$C$6:$D$105,2,FALSE)=0,\"\",VLOOKUP(I1909,CAD_Q!$C$6:$D$105,2,FALSE)))","v":""},{"$f":"IFERROR(VLOOKUP(I1909,CAD_Q!$C$6:$E$109,3,FALSE)*F1909,\"\")","v":""},null,null,"",1,0,1900,0,1,1900,"Nombre y el registro de entrada válida"]
[null,"",null,null,null,"",null,null,null,{"$f":"IF(I1910=\"\",\"\",IF(VLOOKUP(I1910,CAD_Q!$C$6:$D$105,2,FALSE)=0,\"\",VLOOKUP(I1910,CAD_Q!$C$6:$D$105,2,FALSE)))","v":""},{"$f":"IFERROR(VLOOKUP(I1910,CAD_Q!$C$6:$E$109,3,FALSE)*F1910,\"\")","v":""},null,null,"",1,0,1900,0,1,1900,"Nombre y el registro de entrada válida"]
[null,"",null,null,null,"",null,null,null,{"$f":"IF(I1911=\"\",\"\",IF(VLOOKUP(I1911,CAD_Q!$C$6:$D$105,2,FALSE)=0,\"\",VLOOKUP(I1911,CAD_Q!$C$6:$D$105,2,FALSE)))","v":""},{"$f":"IFERROR(VLOOKUP(I1911,CAD_Q!$C$6:$E$109,3,FALSE)*F1911,\"\")","v":""},null,null,"",1,0,1900,0,1,1900,"Nombre y el registro de entrada válida"]
[null,"",null,null,null,"",null,null,null,{"$f":"IF(I1912=\"\",\"\",IF(VLOOKUP(I1912,CAD_Q!$C$6:$D$105,2,FALSE)=0,\"\",VLOOKUP(I1912,CAD_Q!$C$6:$D$105,2,FALSE)))","v":""},{"$f":"IFERROR(VLOOKUP(I1912,CAD_Q!$C$6:$E$109,3,FALSE)*F1912,\"\")","v":""},null,null,"",1,0,1900,0,1,1900,"Nombre y el registro de entrada válida"]
[null,"",null,null,null,"",null,null,null,{"$f":"IF(I1913=\"\",\"\",IF(VLOOKUP(I1913,CAD_Q!$C$6:$D$105,2,FALSE)=0,\"\",VLOOKUP(I1913,CAD_Q!$C$6:$D$105,2,FALSE)))","v":""},{"$f":"IFERROR(VLOOKUP(I1913,CAD_Q!$C$6:$E$109,3,FALSE)*F1913,\"\")","v":""},null,null,"",1,0,1900,0,1,1900,"Nombre y el registro de entrada válida"]
[null,"",null,null,null,"",null,null,null,{"$f":"IF(I1914=\"\",\"\",IF(VLOOKUP(I1914,CAD_Q!$C$6:$D$105,2,FALSE)=0,\"\",VLOOKUP(I1914,CAD_Q!$C$6:$D$105,2,FALSE)))","v":""},{"$f":"IFERROR(VLOOKUP(I1914,CAD_Q!$C$6:$E$109,3,FALSE)*F1914,\"\")","v":""},null,null,"",1,0,1900,0,1,1900,"Nombre y el registro de entrada válida"]
[null,"",null,null,null,"",null,null,null,{"$f":"IF(I1915=\"\",\"\",IF(VLOOKUP(I1915,CAD_Q!$C$6:$D$105,2,FALSE)=0,\"\",VLOOKUP(I1915,CAD_Q!$C$6:$D$105,2,FALSE)))","v":""},{"$f":"IFERROR(VLOOKUP(I1915,CAD_Q!$C$6:$E$109,3,FALSE)*F1915,\"\")","v":""},null,null,"",1,0,1900,0,1,1900,"Nombre y el registro de entrada válida"]
[null,"",null,null,null,"",null,null,null,{"$f":"IF(I1916=\"\",\"\",IF(VLOOKUP(I1916,CAD_Q!$C$6:$D$105,2,FALSE)=0,\"\",VLOOKUP(I1916,CAD_Q!$C$6:$D$105,2,FALSE)))","v":""},{"$f":"IFERROR(VLOOKUP(I1916,CAD_Q!$C$6:$E$109,3,FALSE)*F1916,\"\")","v":""},null,null,"",1,0,1900,0,1,1900,"Nombre y el registro de entrada válida"]
[null,"",null,null,null,"",null,null,null,{"$f":"IF(I1917=\"\",\"\",IF(VLOOKUP(I1917,CAD_Q!$C$6:$D$105,2,FALSE)=0,\"\",VLOOKUP(I1917,CAD_Q!$C$6:$D$105,2,FALSE)))","v":""},{"$f":"IFERROR(VLOOKUP(I1917,CAD_Q!$C$6:$E$109,3,FALSE)*F1917,\"\")","v":""},null,null,"",1,0,1900,0,1,1900,"Nombre y el registro de entrada válida"]
[null,"",null,null,null,"",null,null,null,{"$f":"IF(I1918=\"\",\"\",IF(VLOOKUP(I1918,CAD_Q!$C$6:$D$105,2,FALSE)=0,\"\",VLOOKUP(I1918,CAD_Q!$C$6:$D$105,2,FALSE)))","v":""},{"$f":"IFERROR(VLOOKUP(I1918,CAD_Q!$C$6:$E$109,3,FALSE)*F1918,\"\")","v":""},null,null,"",1,0,1900,0,1,1900,"Nombre y el registro de entrada válida"]
[null,"",null,null,null,"",null,null,null,{"$f":"IF(I1919=\"\",\"\",IF(VLOOKUP(I1919,CAD_Q!$C$6:$D$105,2,FALSE)=0,\"\",VLOOKUP(I1919,CAD_Q!$C$6:$D$105,2,FALSE)))","v":""},{"$f":"IFERROR(VLOOKUP(I1919,CAD_Q!$C$6:$E$109,3,FALSE)*F1919,\"\")","v":""},null,null,"",1,0,1900,0,1,1900,"Nombre y el registro de entrada válida"]
[null,"",null,null,null,"",null,null,null,{"$f":"IF(I1920=\"\",\"\",IF(VLOOKUP(I1920,CAD_Q!$C$6:$D$105,2,FALSE)=0,\"\",VLOOKUP(I1920,CAD_Q!$C$6:$D$105,2,FALSE)))","v":""},{"$f":"IFERROR(VLOOKUP(I1920,CAD_Q!$C$6:$E$109,3,FALSE)*F1920,\"\")","v":""},null,null,"",1,0,1900,0,1,1900,"Nombre y el registro de entrada válida"]
[null,"",null,null,null,"",null,null,null,{"$f":"IF(I1921=\"\",\"\",IF(VLOOKUP(I1921,CAD_Q!$C$6:$D$105,2,FALSE)=0,\"\",VLOOKUP(I1921,CAD_Q!$C$6:$D$105,2,FALSE)))","v":""},{"$f":"IFERROR(VLOOKUP(I1921,CAD_Q!$C$6:$E$109,3,FALSE)*F1921,\"\")","v":""},null,null,"",1,0,1900,0,1,1900,"Nombre y el registro de entrada válida"]
[null,"",null,null,null,"",null,null,null,{"$f":"IF(I1922=\"\",\"\",IF(VLOOKUP(I1922,CAD_Q!$C$6:$D$105,2,FALSE)=0,\"\",VLOOKUP(I1922,CAD_Q!$C$6:$D$105,2,FALSE)))","v":""},{"$f":"IFERROR(VLOOKUP(I1922,CAD_Q!$C$6:$E$109,3,FALSE)*F1922,\"\")","v":""},null,null,"",1,0,1900,0,1,1900,"Nombre y el registro de entrada válida"]
[null,"",null,null,null,"",null,null,null,{"$f":"IF(I1923=\"\",\"\",IF(VLOOKUP(I1923,CAD_Q!$C$6:$D$105,2,FALSE)=0,\"\",VLOOKUP(I1923,CAD_Q!$C$6:$D$105,2,FALSE)))","v":""},{"$f":"IFERROR(VLOOKUP(I1923,CAD_Q!$C$6:$E$109,3,FALSE)*F1923,\"\")","v":""},null,null,"",1,0,1900,0,1,1900,"Nombre y el registro de entrada válida"]
[null,"",null,null,null,"",null,null,null,{"$f":"IF(I1924=\"\",\"\",IF(VLOOKUP(I1924,CAD_Q!$C$6:$D$105,2,FALSE)=0,\"\",VLOOKUP(I1924,CAD_Q!$C$6:$D$105,2,FALSE)))","v":""},{"$f":"IFERROR(VLOOKUP(I1924,CAD_Q!$C$6:$E$109,3,FALSE)*F1924,\"\")","v":""},null,null,"",1,0,1900,0,1,1900,"Nombre y el registro de entrada válida"]
[null,"",null,null,null,"",null,null,null,{"$f":"IF(I1925=\"\",\"\",IF(VLOOKUP(I1925,CAD_Q!$C$6:$D$105,2,FALSE)=0,\"\",VLOOKUP(I1925,CAD_Q!$C$6:$D$105,2,FALSE)))","v":""},{"$f":"IFERROR(VLOOKUP(I1925,CAD_Q!$C$6:$E$109,3,FALSE)*F1925,\"\")","v":""},null,null,"",1,0,1900,0,1,1900,"Nombre y el registro de entrada válida"]
[null,"",null,null,null,"",null,null,null,{"$f":"IF(I1926=\"\",\"\",IF(VLOOKUP(I1926,CAD_Q!$C$6:$D$105,2,FALSE)=0,\"\",VLOOKUP(I1926,CAD_Q!$C$6:$D$105,2,FALSE)))","v":""},{"$f":"IFERROR(VLOOKUP(I1926,CAD_Q!$C$6:$E$109,3,FALSE)*F1926,\"\")","v":""},null,null,"",1,0,1900,0,1,1900,"Nombre y el registro de entrada válida"]
[null,{"$f":"CONCATENATE(C1927,D1927)","v":""},null,null,null,"",null,null,null,{"$f":"IF(I1927=\"\",\"\",IF(VLOOKUP(I1927,CAD_Q!$C$6:$D$105,2,FALSE)=0,\"\",VLOOKUP(I1927,CAD_Q!$C$6:$D$105,2,FALSE)))","v":""},{"$f":"IFERROR(VLOOKUP(I1927,CAD_Q!$C$6:$E$109,3,FALSE)*F1927,\"\")","v":""},null,null,{"$f":"IFERROR(K1927-L1927+M1927,\"\")","v":""},1,0,1900,0,1,1900,"Nombre y el registro de entrada válida"]
[null,"",null,null,null,"",null,null,null,{"$f":"IF(I1928=\"\",\"\",IF(VLOOKUP(I1928,CAD_Q!$C$6:$D$105,2,FALSE)=0,\"\",VLOOKUP(I1928,CAD_Q!$C$6:$D$105,2,FALSE)))","v":""},{"$f":"IFERROR(VLOOKUP(I1928,CAD_Q!$C$6:$E$109,3,FALSE)*F1928,\"\")","v":""},null,null,"",1,0,1900,0,1,1900,"Nombre y el registro de entrada válida"]
[null,"",null,null,null,"",null,null,null,{"$f":"IF(I1929=\"\",\"\",IF(VLOOKUP(I1929,CAD_Q!$C$6:$D$105,2,FALSE)=0,\"\",VLOOKUP(I1929,CAD_Q!$C$6:$D$105,2,FALSE)))","v":""},{"$f":"IFERROR(VLOOKUP(I1929,CAD_Q!$C$6:$E$109,3,FALSE)*F1929,\"\")","v":""},null,null,"",1,0,1900,0,1,1900,"Nombre y el registro de entrada válida"]
[null,"",null,null,null,"",null,null,null,{"$f":"IF(I1930=\"\",\"\",IF(VLOOKUP(I1930,CAD_Q!$C$6:$D$105,2,FALSE)=0,\"\",VLOOKUP(I1930,CAD_Q!$C$6:$D$105,2,FALSE)))","v":""},{"$f":"IFERROR(VLOOKUP(I1930,CAD_Q!$C$6:$E$109,3,FALSE)*F1930,\"\")","v":""},null,null,"",{"$f":"MONTH(D1930)","v":1},{"$f":"DAY(D1930)","v":0},{"$f":"YEAR(D1930)","v":1900},{"$f":"DAY(E1930)","v":0},{"$f":"MONTH(E1930)","v":1},{"$f":"YEAR(E1930)","v":1900},"Nombre y el registro de entrada válida"]
[null,"",null,null,null,"",null,null,null,{"$f":"IF(I1931=\"\",\"\",IF(VLOOKUP(I1931,CAD_Q!$C$6:$D$105,2,FALSE)=0,\"\",VLOOKUP(I1931,CAD_Q!$C$6:$D$105,2,FALSE)))","v":""},{"$f":"IFERROR(VLOOKUP(I1931,CAD_Q!$C$6:$E$109,3,FALSE)*F1931,\"\")","v":""},null,null,"",1,0,1900,0,1,1900,"Nombre y el registro de entrada válida"]
[null,"",null,null,null,"",null,null,null,{"$f":"IF(I1932=\"\",\"\",IF(VLOOKUP(I1932,CAD_Q!$C$6:$D$105,2,FALSE)=0,\"\",VLOOKUP(I1932,CAD_Q!$C$6:$D$105,2,FALSE)))","v":""},{"$f":"IFERROR(VLOOKUP(I1932,CAD_Q!$C$6:$E$109,3,FALSE)*F1932,\"\")","v":""},null,null,"",1,0,1900,0,1,1900,"Nombre y el registro de entrada válida"]
[null,"",null,null,null,"",null,null,null,{"$f":"IF(I1933=\"\",\"\",IF(VLOOKUP(I1933,CAD_Q!$C$6:$D$105,2,FALSE)=0,\"\",VLOOKUP(I1933,CAD_Q!$C$6:$D$105,2,FALSE)))","v":""},{"$f":"IFERROR(VLOOKUP(I1933,CAD_Q!$C$6:$E$109,3,FALSE)*F1933,\"\")","v":""},null,null,"",1,0,1900,0,1,1900,"Nombre y el registro de entrada válida"]
[null,"",null,null,null,"",null,null,null,{"$f":"IF(I1934=\"\",\"\",IF(VLOOKUP(I1934,CAD_Q!$C$6:$D$105,2,FALSE)=0,\"\",VLOOKUP(I1934,CAD_Q!$C$6:$D$105,2,FALSE)))","v":""},{"$f":"IFERROR(VLOOKUP(I1934,CAD_Q!$C$6:$E$109,3,FALSE)*F1934,\"\")","v":""},null,null,"",1,0,1900,0,1,1900,"Nombre y el registro de entrada válida"]
[null,"",null,null,null,"",null,null,null,{"$f":"IF(I1935=\"\",\"\",IF(VLOOKUP(I1935,CAD_Q!$C$6:$D$105,2,FALSE)=0,\"\",VLOOKUP(I1935,CAD_Q!$C$6:$D$105,2,FALSE)))","v":""},{"$f":"IFERROR(VLOOKUP(I1935,CAD_Q!$C$6:$E$109,3,FALSE)*F1935,\"\")","v":""},null,null,"",1,0,1900,0,1,1900,"Nombre y el registro de entrada válida"]
[null,"",null,null,null,"",null,null,null,{"$f":"IF(I1936=\"\",\"\",IF(VLOOKUP(I1936,CAD_Q!$C$6:$D$105,2,FALSE)=0,\"\",VLOOKUP(I1936,CAD_Q!$C$6:$D$105,2,FALSE)))","v":""},{"$f":"IFERROR(VLOOKUP(I1936,CAD_Q!$C$6:$E$109,3,FALSE)*F1936,\"\")","v":""},null,null,"",1,0,1900,0,1,1900,"Nombre y el registro de entrada válida"]
[null,"",null,null,null,"",null,null,null,{"$f":"IF(I1937=\"\",\"\",IF(VLOOKUP(I1937,CAD_Q!$C$6:$D$105,2,FALSE)=0,\"\",VLOOKUP(I1937,CAD_Q!$C$6:$D$105,2,FALSE)))","v":""},{"$f":"IFERROR(VLOOKUP(I1937,CAD_Q!$C$6:$E$109,3,FALSE)*F1937,\"\")","v":""},null,null,"",1,0,1900,0,1,1900,"Nombre y el registro de entrada válida"]
[null,"",null,null,null,"",null,null,null,{"$f":"IF(I1938=\"\",\"\",IF(VLOOKUP(I1938,CAD_Q!$C$6:$D$105,2,FALSE)=0,\"\",VLOOKUP(I1938,CAD_Q!$C$6:$D$105,2,FALSE)))","v":""},{"$f":"IFERROR(VLOOKUP(I1938,CAD_Q!$C$6:$E$109,3,FALSE)*F1938,\"\")","v":""},null,null,"",1,0,1900,0,1,1900,"Nombre y el registro de entrada válida"]
[null,"",null,null,null,"",null,null,null,{"$f":"IF(I1939=\"\",\"\",IF(VLOOKUP(I1939,CAD_Q!$C$6:$D$105,2,FALSE)=0,\"\",VLOOKUP(I1939,CAD_Q!$C$6:$D$105,2,FALSE)))","v":""},{"$f":"IFERROR(VLOOKUP(I1939,CAD_Q!$C$6:$E$109,3,FALSE)*F1939,\"\")","v":""},null,null,"",1,0,1900,0,1,1900,"Nombre y el registro de entrada válida"]
[null,"",null,null,null,"",null,null,null,{"$f":"IF(I1940=\"\",\"\",IF(VLOOKUP(I1940,CAD_Q!$C$6:$D$105,2,FALSE)=0,\"\",VLOOKUP(I1940,CAD_Q!$C$6:$D$105,2,FALSE)))","v":""},{"$f":"IFERROR(VLOOKUP(I1940,CAD_Q!$C$6:$E$109,3,FALSE)*F1940,\"\")","v":""},null,null,"",1,0,1900,0,1,1900,"Nombre y el registro de entrada válida"]
[null,"",null,null,null,"",null,null,null,{"$f":"IF(I1941=\"\",\"\",IF(VLOOKUP(I1941,CAD_Q!$C$6:$D$105,2,FALSE)=0,\"\",VLOOKUP(I1941,CAD_Q!$C$6:$D$105,2,FALSE)))","v":""},{"$f":"IFERROR(VLOOKUP(I1941,CAD_Q!$C$6:$E$109,3,FALSE)*F1941,\"\")","v":""},null,null,"",1,0,1900,0,1,1900,"Nombre y el registro de entrada válida"]
[null,"",null,null,null,"",null,null,null,{"$f":"IF(I1942=\"\",\"\",IF(VLOOKUP(I1942,CAD_Q!$C$6:$D$105,2,FALSE)=0,\"\",VLOOKUP(I1942,CAD_Q!$C$6:$D$105,2,FALSE)))","v":""},{"$f":"IFERROR(VLOOKUP(I1942,CAD_Q!$C$6:$E$109,3,FALSE)*F1942,\"\")","v":""},null,null,"",1,0,1900,0,1,1900,"Nombre y el registro de entrada válida"]
[null,"",null,null,null,"",null,null,null,{"$f":"IF(I1943=\"\",\"\",IF(VLOOKUP(I1943,CAD_Q!$C$6:$D$105,2,FALSE)=0,\"\",VLOOKUP(I1943,CAD_Q!$C$6:$D$105,2,FALSE)))","v":""},{"$f":"IFERROR(VLOOKUP(I1943,CAD_Q!$C$6:$E$109,3,FALSE)*F1943,\"\")","v":""},null,null,"",1,0,1900,0,1,1900,"Nombre y el registro de entrada válida"]
[null,"",null,null,null,"",null,null,null,{"$f":"IF(I1944=\"\",\"\",IF(VLOOKUP(I1944,CAD_Q!$C$6:$D$105,2,FALSE)=0,\"\",VLOOKUP(I1944,CAD_Q!$C$6:$D$105,2,FALSE)))","v":""},{"$f":"IFERROR(VLOOKUP(I1944,CAD_Q!$C$6:$E$109,3,FALSE)*F1944,\"\")","v":""},null,null,"",1,0,1900,0,1,1900,"Nombre y el registro de entrada válida"]
[null,"",null,null,null,"",null,null,null,{"$f":"IF(I1945=\"\",\"\",IF(VLOOKUP(I1945,CAD_Q!$C$6:$D$105,2,FALSE)=0,\"\",VLOOKUP(I1945,CAD_Q!$C$6:$D$105,2,FALSE)))","v":""},{"$f":"IFERROR(VLOOKUP(I1945,CAD_Q!$C$6:$E$109,3,FALSE)*F1945,\"\")","v":""},null,null,"",1,0,1900,0,1,1900,"Nombre y el registro de entrada válida"]
[null,"",null,null,null,"",null,null,null,{"$f":"IF(I1946=\"\",\"\",IF(VLOOKUP(I1946,CAD_Q!$C$6:$D$105,2,FALSE)=0,\"\",VLOOKUP(I1946,CAD_Q!$C$6:$D$105,2,FALSE)))","v":""},{"$f":"IFERROR(VLOOKUP(I1946,CAD_Q!$C$6:$E$109,3,FALSE)*F1946,\"\")","v":""},null,null,"",1,0,1900,0,1,1900,"Nombre y el registro de entrada válida"]
[null,"",null,null,null,"",null,null,null,{"$f":"IF(I1947=\"\",\"\",IF(VLOOKUP(I1947,CAD_Q!$C$6:$D$105,2,FALSE)=0,\"\",VLOOKUP(I1947,CAD_Q!$C$6:$D$105,2,FALSE)))","v":""},{"$f":"IFERROR(VLOOKUP(I1947,CAD_Q!$C$6:$E$109,3,FALSE)*F1947,\"\")","v":""},null,null,"",1,0,1900,0,1,1900,"Nombre y el registro de entrada válida"]
[null,"",null,null,null,"",null,null,null,{"$f":"IF(I1948=\"\",\"\",IF(VLOOKUP(I1948,CAD_Q!$C$6:$D$105,2,FALSE)=0,\"\",VLOOKUP(I1948,CAD_Q!$C$6:$D$105,2,FALSE)))","v":""},{"$f":"IFERROR(VLOOKUP(I1948,CAD_Q!$C$6:$E$109,3,FALSE)*F1948,\"\")","v":""},null,null,"",1,0,1900,0,1,1900,"Nombre y el registro de entrada válida"]
[null,"",null,null,null,"",null,null,null,{"$f":"IF(I1949=\"\",\"\",IF(VLOOKUP(I1949,CAD_Q!$C$6:$D$105,2,FALSE)=0,\"\",VLOOKUP(I1949,CAD_Q!$C$6:$D$105,2,FALSE)))","v":""},{"$f":"IFERROR(VLOOKUP(I1949,CAD_Q!$C$6:$E$109,3,FALSE)*F1949,\"\")","v":""},null,null,"",1,0,1900,0,1,1900,"Nombre y el registro de entrada válida"]
[null,"",null,null,null,"",null,null,null,{"$f":"IF(I1950=\"\",\"\",IF(VLOOKUP(I1950,CAD_Q!$C$6:$D$105,2,FALSE)=0,\"\",VLOOKUP(I1950,CAD_Q!$C$6:$D$105,2,FALSE)))","v":""},{"$f":"IFERROR(VLOOKUP(I1950,CAD_Q!$C$6:$E$109,3,FALSE)*F1950,\"\")","v":""},null,null,"",1,0,1900,0,1,1900,"Nombre y el registro de entrada válida"]
[null,"",null,null,null,"",null,null,null,{"$f":"IF(I1951=\"\",\"\",IF(VLOOKUP(I1951,CAD_Q!$C$6:$D$105,2,FALSE)=0,\"\",VLOOKUP(I1951,CAD_Q!$C$6:$D$105,2,FALSE)))","v":""},{"$f":"IFERROR(VLOOKUP(I1951,CAD_Q!$C$6:$E$109,3,FALSE)*F1951,\"\")","v":""},null,null,"",1,0,1900,0,1,1900,"Nombre y el registro de entrada válida"]
[null,"",null,null,null,"",null,null,null,{"$f":"IF(I1952=\"\",\"\",IF(VLOOKUP(I1952,CAD_Q!$C$6:$D$105,2,FALSE)=0,\"\",VLOOKUP(I1952,CAD_Q!$C$6:$D$105,2,FALSE)))","v":""},{"$f":"IFERROR(VLOOKUP(I1952,CAD_Q!$C$6:$E$109,3,FALSE)*F1952,\"\")","v":""},null,null,"",1,0,1900,0,1,1900,"Nombre y el registro de entrada válida"]
[null,"",null,null,null,"",null,null,null,{"$f":"IF(I1953=\"\",\"\",IF(VLOOKUP(I1953,CAD_Q!$C$6:$D$105,2,FALSE)=0,\"\",VLOOKUP(I1953,CAD_Q!$C$6:$D$105,2,FALSE)))","v":""},{"$f":"IFERROR(VLOOKUP(I1953,CAD_Q!$C$6:$E$109,3,FALSE)*F1953,\"\")","v":""},null,null,"",1,0,1900,0,1,1900,"Nombre y el registro de entrada válida"]
[null,"",null,null,null,"",null,null,null,{"$f":"IF(I1954=\"\",\"\",IF(VLOOKUP(I1954,CAD_Q!$C$6:$D$105,2,FALSE)=0,\"\",VLOOKUP(I1954,CAD_Q!$C$6:$D$105,2,FALSE)))","v":""},{"$f":"IFERROR(VLOOKUP(I1954,CAD_Q!$C$6:$E$109,3,FALSE)*F1954,\"\")","v":""},null,null,"",1,0,1900,0,1,1900,"Nombre y el registro de entrada válida"]
[null,"",null,null,null,"",null,null,null,{"$f":"IF(I1955=\"\",\"\",IF(VLOOKUP(I1955,CAD_Q!$C$6:$D$105,2,FALSE)=0,\"\",VLOOKUP(I1955,CAD_Q!$C$6:$D$105,2,FALSE)))","v":""},{"$f":"IFERROR(VLOOKUP(I1955,CAD_Q!$C$6:$E$109,3,FALSE)*F1955,\"\")","v":""},null,null,"",1,0,1900,0,1,1900,"Nombre y el registro de entrada válida"]
[null,"",null,null,null,{"$f":"IF(OR(D1956=\"\",E1956=\"\"),\"\",E1956-D1956)","v":""},null,null,null,{"$f":"IF(I1956=\"\",\"\",IF(VLOOKUP(I1956,CAD_Q!$C$6:$D$105,2,FALSE)=0,\"\",VLOOKUP(I1956,CAD_Q!$C$6:$D$105,2,FALSE)))","v":""},{"$f":"IFERROR(VLOOKUP(I1956,CAD_Q!$C$6:$E$109,3,FALSE)*F1956,\"\")","v":""},null,null,"",1,0,1900,0,1,1900,"Nombre y el registro de entrada válida"]
[null,"",null,null,null,"",null,null,null,{"$f":"IF(I1957=\"\",\"\",IF(VLOOKUP(I1957,CAD_Q!$C$6:$D$105,2,FALSE)=0,\"\",VLOOKUP(I1957,CAD_Q!$C$6:$D$105,2,FALSE)))","v":""},{"$f":"IFERROR(VLOOKUP(I1957,CAD_Q!$C$6:$E$109,3,FALSE)*F1957,\"\")","v":""},null,null,"",1,0,1900,0,1,1900,"Nombre y el registro de entrada válida"]
[null,"",null,null,null,"",null,null,null,{"$f":"IF(I1958=\"\",\"\",IF(VLOOKUP(I1958,CAD_Q!$C$6:$D$105,2,FALSE)=0,\"\",VLOOKUP(I1958,CAD_Q!$C$6:$D$105,2,FALSE)))","v":""},{"$f":"IFERROR(VLOOKUP(I1958,CAD_Q!$C$6:$E$109,3,FALSE)*F1958,\"\")","v":""},null,null,"",1,0,1900,0,1,1900,"Nombre y el registro de entrada válida"]
[null,"",null,null,null,"",null,null,null,{"$f":"IF(I1959=\"\",\"\",IF(VLOOKUP(I1959,CAD_Q!$C$6:$D$105,2,FALSE)=0,\"\",VLOOKUP(I1959,CAD_Q!$C$6:$D$105,2,FALSE)))","v":""},{"$f":"IFERROR(VLOOKUP(I1959,CAD_Q!$C$6:$E$109,3,FALSE)*F1959,\"\")","v":""},null,null,"",1,0,1900,0,1,1900,"Nombre y el registro de entrada válida"]
[null,"",null,null,null,"",null,null,null,{"$f":"IF(I1960=\"\",\"\",IF(VLOOKUP(I1960,CAD_Q!$C$6:$D$105,2,FALSE)=0,\"\",VLOOKUP(I1960,CAD_Q!$C$6:$D$105,2,FALSE)))","v":""},{"$f":"IFERROR(VLOOKUP(I1960,CAD_Q!$C$6:$E$109,3,FALSE)*F1960,\"\")","v":""},null,null,"",1,0,1900,0,1,1900,"Nombre y el registro de entrada válida"]
[null,"",null,null,null,"",null,null,null,{"$f":"IF(I1961=\"\",\"\",IF(VLOOKUP(I1961,CAD_Q!$C$6:$D$105,2,FALSE)=0,\"\",VLOOKUP(I1961,CAD_Q!$C$6:$D$105,2,FALSE)))","v":""},{"$f":"IFERROR(VLOOKUP(I1961,CAD_Q!$C$6:$E$109,3,FALSE)*F1961,\"\")","v":""},null,null,"",1,0,1900,0,1,1900,"Nombre y el registro de entrada válida"]
[null,"",null,null,null,"",null,null,null,{"$f":"IF(I1962=\"\",\"\",IF(VLOOKUP(I1962,CAD_Q!$C$6:$D$105,2,FALSE)=0,\"\",VLOOKUP(I1962,CAD_Q!$C$6:$D$105,2,FALSE)))","v":""},{"$f":"IFERROR(VLOOKUP(I1962,CAD_Q!$C$6:$E$109,3,FALSE)*F1962,\"\")","v":""},null,null,"",1,0,1900,0,1,1900,"Nombre y el registro de entrada válida"]
[null,"",null,null,null,"",null,null,null,{"$f":"IF(I1963=\"\",\"\",IF(VLOOKUP(I1963,CAD_Q!$C$6:$D$105,2,FALSE)=0,\"\",VLOOKUP(I1963,CAD_Q!$C$6:$D$105,2,FALSE)))","v":""},{"$f":"IFERROR(VLOOKUP(I1963,CAD_Q!$C$6:$E$109,3,FALSE)*F1963,\"\")","v":""},null,null,"",1,0,1900,0,1,1900,"Nombre y el registro de entrada válida"]
[null,"",null,null,null,"",null,null,null,{"$f":"IF(I1964=\"\",\"\",IF(VLOOKUP(I1964,CAD_Q!$C$6:$D$105,2,FALSE)=0,\"\",VLOOKUP(I1964,CAD_Q!$C$6:$D$105,2,FALSE)))","v":""},{"$f":"IFERROR(VLOOKUP(I1964,CAD_Q!$C$6:$E$109,3,FALSE)*F1964,\"\")","v":""},null,null,"",1,0,1900,0,1,1900,"Nombre y el registro de entrada válida"]
[null,"",null,null,null,"",null,null,null,{"$f":"IF(I1965=\"\",\"\",IF(VLOOKUP(I1965,CAD_Q!$C$6:$D$105,2,FALSE)=0,\"\",VLOOKUP(I1965,CAD_Q!$C$6:$D$105,2,FALSE)))","v":""},{"$f":"IFERROR(VLOOKUP(I1965,CAD_Q!$C$6:$E$109,3,FALSE)*F1965,\"\")","v":""},null,null,"",1,0,1900,0,1,1900,"Nombre y el registro de entrada válida"]
[null,"",null,null,null,"",null,null,null,{"$f":"IF(I1966=\"\",\"\",IF(VLOOKUP(I1966,CAD_Q!$C$6:$D$105,2,FALSE)=0,\"\",VLOOKUP(I1966,CAD_Q!$C$6:$D$105,2,FALSE)))","v":""},{"$f":"IFERROR(VLOOKUP(I1966,CAD_Q!$C$6:$E$109,3,FALSE)*F1966,\"\")","v":""},null,null,"",1,0,1900,0,1,1900,"Nombre y el registro de entrada válida"]
[null,"",null,null,null,"",null,null,null,{"$f":"IF(I1967=\"\",\"\",IF(VLOOKUP(I1967,CAD_Q!$C$6:$D$105,2,FALSE)=0,\"\",VLOOKUP(I1967,CAD_Q!$C$6:$D$105,2,FALSE)))","v":""},{"$f":"IFERROR(VLOOKUP(I1967,CAD_Q!$C$6:$E$109,3,FALSE)*F1967,\"\")","v":""},null,null,"",1,0,1900,0,1,1900,"Nombre y el registro de entrada válida"]
[null,"",null,null,null,"",null,null,null,{"$f":"IF(I1968=\"\",\"\",IF(VLOOKUP(I1968,CAD_Q!$C$6:$D$105,2,FALSE)=0,\"\",VLOOKUP(I1968,CAD_Q!$C$6:$D$105,2,FALSE)))","v":""},{"$f":"IFERROR(VLOOKUP(I1968,CAD_Q!$C$6:$E$109,3,FALSE)*F1968,\"\")","v":""},null,null,"",1,0,1900,0,1,1900,"Nombre y el registro de entrada válida"]
[null,"",null,null,null,"",null,null,null,{"$f":"IF(I1969=\"\",\"\",IF(VLOOKUP(I1969,CAD_Q!$C$6:$D$105,2,FALSE)=0,\"\",VLOOKUP(I1969,CAD_Q!$C$6:$D$105,2,FALSE)))","v":""},{"$f":"IFERROR(VLOOKUP(I1969,CAD_Q!$C$6:$E$109,3,FALSE)*F1969,\"\")","v":""},null,null,"",1,0,1900,0,1,1900,"Nombre y el registro de entrada válida"]
[null,"",null,null,null,"",null,null,null,{"$f":"IF(I1970=\"\",\"\",IF(VLOOKUP(I1970,CAD_Q!$C$6:$D$105,2,FALSE)=0,\"\",VLOOKUP(I1970,CAD_Q!$C$6:$D$105,2,FALSE)))","v":""},{"$f":"IFERROR(VLOOKUP(I1970,CAD_Q!$C$6:$E$109,3,FALSE)*F1970,\"\")","v":""},null,null,"",1,0,1900,0,1,1900,"Nombre y el registro de entrada válida"]
[null,"",null,null,null,"",null,null,null,{"$f":"IF(I1971=\"\",\"\",IF(VLOOKUP(I1971,CAD_Q!$C$6:$D$105,2,FALSE)=0,\"\",VLOOKUP(I1971,CAD_Q!$C$6:$D$105,2,FALSE)))","v":""},{"$f":"IFERROR(VLOOKUP(I1971,CAD_Q!$C$6:$E$109,3,FALSE)*F1971,\"\")","v":""},null,null,"",1,0,1900,0,1,1900,"Nombre y el registro de entrada válida"]
[null,"",null,null,null,"",null,null,null,{"$f":"IF(I1972=\"\",\"\",IF(VLOOKUP(I1972,CAD_Q!$C$6:$D$105,2,FALSE)=0,\"\",VLOOKUP(I1972,CAD_Q!$C$6:$D$105,2,FALSE)))","v":""},{"$f":"IFERROR(VLOOKUP(I1972,CAD_Q!$C$6:$E$109,3,FALSE)*F1972,\"\")","v":""},null,null,"",1,0,1900,0,1,1900,"Nombre y el registro de entrada válida"]
[null,"",null,null,null,"",null,null,null,{"$f":"IF(I1973=\"\",\"\",IF(VLOOKUP(I1973,CAD_Q!$C$6:$D$105,2,FALSE)=0,\"\",VLOOKUP(I1973,CAD_Q!$C$6:$D$105,2,FALSE)))","v":""},{"$f":"IFERROR(VLOOKUP(I1973,CAD_Q!$C$6:$E$109,3,FALSE)*F1973,\"\")","v":""},null,null,"",1,0,1900,0,1,1900,"Nombre y el registro de entrada válida"]
[null,"",null,null,null,"",null,null,null,{"$f":"IF(I1974=\"\",\"\",IF(VLOOKUP(I1974,CAD_Q!$C$6:$D$105,2,FALSE)=0,\"\",VLOOKUP(I1974,CAD_Q!$C$6:$D$105,2,FALSE)))","v":""},{"$f":"IFERROR(VLOOKUP(I1974,CAD_Q!$C$6:$E$109,3,FALSE)*F1974,\"\")","v":""},null,null,"",1,0,1900,0,1,1900,"Nombre y el registro de entrada válida"]
[null,"",null,null,null,"",null,null,null,{"$f":"IF(I1975=\"\",\"\",IF(VLOOKUP(I1975,CAD_Q!$C$6:$D$105,2,FALSE)=0,\"\",VLOOKUP(I1975,CAD_Q!$C$6:$D$105,2,FALSE)))","v":""},{"$f":"IFERROR(VLOOKUP(I1975,CAD_Q!$C$6:$E$109,3,FALSE)*F1975,\"\")","v":""},null,null,"",1,0,1900,0,1,1900,"Nombre y el registro de entrada válida"]
[null,"",null,null,null,"",null,null,null,{"$f":"IF(I1976=\"\",\"\",IF(VLOOKUP(I1976,CAD_Q!$C$6:$D$105,2,FALSE)=0,\"\",VLOOKUP(I1976,CAD_Q!$C$6:$D$105,2,FALSE)))","v":""},{"$f":"IFERROR(VLOOKUP(I1976,CAD_Q!$C$6:$E$109,3,FALSE)*F1976,\"\")","v":""},null,null,"",1,0,1900,0,1,1900,"Nombre y el registro de entrada válida"]
[null,"",null,null,null,"",null,null,null,{"$f":"IF(I1977=\"\",\"\",IF(VLOOKUP(I1977,CAD_Q!$C$6:$D$105,2,FALSE)=0,\"\",VLOOKUP(I1977,CAD_Q!$C$6:$D$105,2,FALSE)))","v":""},{"$f":"IFERROR(VLOOKUP(I1977,CAD_Q!$C$6:$E$109,3,FALSE)*F1977,\"\")","v":""},null,null,"",1,0,1900,0,1,1900,"Nombre y el registro de entrada válida"]
[null,"",null,null,null,"",null,null,null,{"$f":"IF(I1978=\"\",\"\",IF(VLOOKUP(I1978,CAD_Q!$C$6:$D$105,2,FALSE)=0,\"\",VLOOKUP(I1978,CAD_Q!$C$6:$D$105,2,FALSE)))","v":""},{"$f":"IFERROR(VLOOKUP(I1978,CAD_Q!$C$6:$E$109,3,FALSE)*F1978,\"\")","v":""},null,null,"",1,0,1900,0,1,1900,"Nombre y el registro de entrada válida"]
[null,"",null,null,null,"",null,null,null,{"$f":"IF(I1979=\"\",\"\",IF(VLOOKUP(I1979,CAD_Q!$C$6:$D$105,2,FALSE)=0,\"\",VLOOKUP(I1979,CAD_Q!$C$6:$D$105,2,FALSE)))","v":""},{"$f":"IFERROR(VLOOKUP(I1979,CAD_Q!$C$6:$E$109,3,FALSE)*F1979,\"\")","v":""},null,null,"",1,0,1900,0,1,1900,"Nombre y el registro de entrada válida"]
[null,"",null,null,null,"",null,null,null,{"$f":"IF(I1980=\"\",\"\",IF(VLOOKUP(I1980,CAD_Q!$C$6:$D$105,2,FALSE)=0,\"\",VLOOKUP(I1980,CAD_Q!$C$6:$D$105,2,FALSE)))","v":""},{"$f":"IFERROR(VLOOKUP(I1980,CAD_Q!$C$6:$E$109,3,FALSE)*F1980,\"\")","v":""},null,null,"",1,0,1900,0,1,1900,"Nombre y el registro de entrada válida"]
[null,"",null,null,null,"",null,null,null,{"$f":"IF(I1981=\"\",\"\",IF(VLOOKUP(I1981,CAD_Q!$C$6:$D$105,2,FALSE)=0,\"\",VLOOKUP(I1981,CAD_Q!$C$6:$D$105,2,FALSE)))","v":""},{"$f":"IFERROR(VLOOKUP(I1981,CAD_Q!$C$6:$E$109,3,FALSE)*F1981,\"\")","v":""},null,null,"",1,0,1900,0,1,1900,"Nombre y el registro de entrada válida"]
[null,"",null,null,null,"",null,null,null,{"$f":"IF(I1982=\"\",\"\",IF(VLOOKUP(I1982,CAD_Q!$C$6:$D$105,2,FALSE)=0,\"\",VLOOKUP(I1982,CAD_Q!$C$6:$D$105,2,FALSE)))","v":""},{"$f":"IFERROR(VLOOKUP(I1982,CAD_Q!$C$6:$E$109,3,FALSE)*F1982,\"\")","v":""},null,null,"",1,0,1900,0,1,1900,"Nombre y el registro de entrada válida"]
[null,"",null,null,null,"",null,null,null,{"$f":"IF(I1983=\"\",\"\",IF(VLOOKUP(I1983,CAD_Q!$C$6:$D$105,2,FALSE)=0,\"\",VLOOKUP(I1983,CAD_Q!$C$6:$D$105,2,FALSE)))","v":""},{"$f":"IFERROR(VLOOKUP(I1983,CAD_Q!$C$6:$E$109,3,FALSE)*F1983,\"\")","v":""},null,null,"",1,0,1900,0,1,1900,"Nombre y el registro de entrada válida"]
[null,"",null,null,null,"",null,null,null,{"$f":"IF(I1984=\"\",\"\",IF(VLOOKUP(I1984,CAD_Q!$C$6:$D$105,2,FALSE)=0,\"\",VLOOKUP(I1984,CAD_Q!$C$6:$D$105,2,FALSE)))","v":""},{"$f":"IFERROR(VLOOKUP(I1984,CAD_Q!$C$6:$E$109,3,FALSE)*F1984,\"\")","v":""},null,null,"",1,0,1900,0,1,1900,"Nombre y el registro de entrada válida"]
[null,"",null,null,null,"",null,null,null,{"$f":"IF(I1985=\"\",\"\",IF(VLOOKUP(I1985,CAD_Q!$C$6:$D$105,2,FALSE)=0,\"\",VLOOKUP(I1985,CAD_Q!$C$6:$D$105,2,FALSE)))","v":""},{"$f":"IFERROR(VLOOKUP(I1985,CAD_Q!$C$6:$E$109,3,FALSE)*F1985,\"\")","v":""},null,null,"",1,0,1900,0,1,1900,"Nombre y el registro de entrada válida"]
[null,"",null,null,null,"",null,null,null,{"$f":"IF(I1986=\"\",\"\",IF(VLOOKUP(I1986,CAD_Q!$C$6:$D$105,2,FALSE)=0,\"\",VLOOKUP(I1986,CAD_Q!$C$6:$D$105,2,FALSE)))","v":""},{"$f":"IFERROR(VLOOKUP(I1986,CAD_Q!$C$6:$E$109,3,FALSE)*F1986,\"\")","v":""},null,null,"",1,0,1900,0,1,1900,"Nombre y el registro de entrada válida"]
[null,"",null,null,null,"",null,null,null,{"$f":"IF(I1987=\"\",\"\",IF(VLOOKUP(I1987,CAD_Q!$C$6:$D$105,2,FALSE)=0,\"\",VLOOKUP(I1987,CAD_Q!$C$6:$D$105,2,FALSE)))","v":""},{"$f":"IFERROR(VLOOKUP(I1987,CAD_Q!$C$6:$E$109,3,FALSE)*F1987,\"\")","v":""},null,null,"",1,0,1900,0,1,1900,"Nombre y el registro de entrada válida"]
[null,"",null,null,null,"",null,null,null,{"$f":"IF(I1988=\"\",\"\",IF(VLOOKUP(I1988,CAD_Q!$C$6:$D$105,2,FALSE)=0,\"\",VLOOKUP(I1988,CAD_Q!$C$6:$D$105,2,FALSE)))","v":""},{"$f":"IFERROR(VLOOKUP(I1988,CAD_Q!$C$6:$E$109,3,FALSE)*F1988,\"\")","v":""},null,null,"",1,0,1900,0,1,1900,"Nombre y el registro de entrada válida"]
[null,"",null,null,null,"",null,null,null,{"$f":"IF(I1989=\"\",\"\",IF(VLOOKUP(I1989,CAD_Q!$C$6:$D$105,2,FALSE)=0,\"\",VLOOKUP(I1989,CAD_Q!$C$6:$D$105,2,FALSE)))","v":""},{"$f":"IFERROR(VLOOKUP(I1989,CAD_Q!$C$6:$E$109,3,FALSE)*F1989,\"\")","v":""},null,null,"",1,0,1900,0,1,1900,"Nombre y el registro de entrada válida"]
[null,"",null,null,null,"",null,null,null,{"$f":"IF(I1990=\"\",\"\",IF(VLOOKUP(I1990,CAD_Q!$C$6:$D$105,2,FALSE)=0,\"\",VLOOKUP(I1990,CAD_Q!$C$6:$D$105,2,FALSE)))","v":""},{"$f":"IFERROR(VLOOKUP(I1990,CAD_Q!$C$6:$E$109,3,FALSE)*F1990,\"\")","v":""},null,null,"",1,0,1900,0,1,1900,"Nombre y el registro de entrada válida"]
[null,{"$f":"CONCATENATE(C1991,D1991)","v":""},null,null,null,"",null,null,null,{"$f":"IF(I1991=\"\",\"\",IF(VLOOKUP(I1991,CAD_Q!$C$6:$D$105,2,FALSE)=0,\"\",VLOOKUP(I1991,CAD_Q!$C$6:$D$105,2,FALSE)))","v":""},{"$f":"IFERROR(VLOOKUP(I1991,CAD_Q!$C$6:$E$109,3,FALSE)*F1991,\"\")","v":""},null,null,{"$f":"IFERROR(K1991-L1991+M1991,\"\")","v":""},1,0,1900,0,1,1900,"Nombre y el registro de entrada válida"]
[null,"",null,null,null,"",null,null,null,{"$f":"IF(I1992=\"\",\"\",IF(VLOOKUP(I1992,CAD_Q!$C$6:$D$105,2,FALSE)=0,\"\",VLOOKUP(I1992,CAD_Q!$C$6:$D$105,2,FALSE)))","v":""},{"$f":"IFERROR(VLOOKUP(I1992,CAD_Q!$C$6:$E$109,3,FALSE)*F1992,\"\")","v":""},null,null,"",1,0,1900,0,1,1900,"Nombre y el registro de entrada válida"]
[null,"",null,null,null,"",null,null,null,{"$f":"IF(I1993=\"\",\"\",IF(VLOOKUP(I1993,CAD_Q!$C$6:$D$105,2,FALSE)=0,\"\",VLOOKUP(I1993,CAD_Q!$C$6:$D$105,2,FALSE)))","v":""},{"$f":"IFERROR(VLOOKUP(I1993,CAD_Q!$C$6:$E$109,3,FALSE)*F1993,\"\")","v":""},null,null,"",1,0,1900,0,1,1900,"Nombre y el registro de entrada válida"]
[null,"",null,null,null,"",null,null,null,{"$f":"IF(I1994=\"\",\"\",IF(VLOOKUP(I1994,CAD_Q!$C$6:$D$105,2,FALSE)=0,\"\",VLOOKUP(I1994,CAD_Q!$C$6:$D$105,2,FALSE)))","v":""},{"$f":"IFERROR(VLOOKUP(I1994,CAD_Q!$C$6:$E$109,3,FALSE)*F1994,\"\")","v":""},null,null,"",{"$f":"MONTH(D1994)","v":1},{"$f":"DAY(D1994)","v":0},{"$f":"YEAR(D1994)","v":1900},{"$f":"DAY(E1994)","v":0},{"$f":"MONTH(E1994)","v":1},{"$f":"YEAR(E1994)","v":1900},"Nombre y el registro de entrada válida"]
[null,"",null,null,null,"",null,null,null,{"$f":"IF(I1995=\"\",\"\",IF(VLOOKUP(I1995,CAD_Q!$C$6:$D$105,2,FALSE)=0,\"\",VLOOKUP(I1995,CAD_Q!$C$6:$D$105,2,FALSE)))","v":""},{"$f":"IFERROR(VLOOKUP(I1995,CAD_Q!$C$6:$E$109,3,FALSE)*F1995,\"\")","v":""},null,null,"",1,0,1900,0,1,1900,"Nombre y el registro de entrada válida"]
[null,"",null,null,null,"",null,null,null,{"$f":"IF(I1996=\"\",\"\",IF(VLOOKUP(I1996,CAD_Q!$C$6:$D$105,2,FALSE)=0,\"\",VLOOKUP(I1996,CAD_Q!$C$6:$D$105,2,FALSE)))","v":""},{"$f":"IFERROR(VLOOKUP(I1996,CAD_Q!$C$6:$E$109,3,FALSE)*F1996,\"\")","v":""},null,null,"",1,0,1900,0,1,1900,"Nombre y el registro de entrada válida"]
[null,"",null,null,null,"",null,null,null,{"$f":"IF(I1997=\"\",\"\",IF(VLOOKUP(I1997,CAD_Q!$C$6:$D$105,2,FALSE)=0,\"\",VLOOKUP(I1997,CAD_Q!$C$6:$D$105,2,FALSE)))","v":""},{"$f":"IFERROR(VLOOKUP(I1997,CAD_Q!$C$6:$E$109,3,FALSE)*F1997,\"\")","v":""},null,null,"",1,0,1900,0,1,1900,"Nombre y el registro de entrada válida"]
[null,"",null,null,null,"",null,null,null,{"$f":"IF(I1998=\"\",\"\",IF(VLOOKUP(I1998,CAD_Q!$C$6:$D$105,2,FALSE)=0,\"\",VLOOKUP(I1998,CAD_Q!$C$6:$D$105,2,FALSE)))","v":""},{"$f":"IFERROR(VLOOKUP(I1998,CAD_Q!$C$6:$E$109,3,FALSE)*F1998,\"\")","v":""},null,null,"",1,0,1900,0,1,1900,"Nombre y el registro de entrada válida"]
[null,"",null,null,null,"",null,null,null,{"$f":"IF(I1999=\"\",\"\",IF(VLOOKUP(I1999,CAD_Q!$C$6:$D$105,2,FALSE)=0,\"\",VLOOKUP(I1999,CAD_Q!$C$6:$D$105,2,FALSE)))","v":""},{"$f":"IFERROR(VLOOKUP(I1999,CAD_Q!$C$6:$E$109,3,FALSE)*F1999,\"\")","v":""},null,null,"",1,0,1900,0,1,1900,"Nombre y el registro de entrada válida"]
[null,"",null,null,null,"",null,null,null,{"$f":"IF(I2000=\"\",\"\",IF(VLOOKUP(I2000,CAD_Q!$C$6:$D$105,2,FALSE)=0,\"\",VLOOKUP(I2000,CAD_Q!$C$6:$D$105,2,FALSE)))","v":""},{"$f":"IFERROR(VLOOKUP(I2000,CAD_Q!$C$6:$E$109,3,FALSE)*F2000,\"\")","v":""},null,null,"",1,0,1900,0,1,1900,"Nombre y el registro de entrada válida"]
[null,"",null,null,null,"",null,null,null,{"$f":"IF(I2001=\"\",\"\",IF(VLOOKUP(I2001,CAD_Q!$C$6:$D$105,2,FALSE)=0,\"\",VLOOKUP(I2001,CAD_Q!$C$6:$D$105,2,FALSE)))","v":""},{"$f":"IFERROR(VLOOKUP(I2001,CAD_Q!$C$6:$E$109,3,FALSE)*F2001,\"\")","v":""},null,null,"",1,0,1900,0,1,1900,"Nombre y el registro de entrada válida"]
[null,"",null,null,null,"",null,null,null,{"$f":"IF(I2002=\"\",\"\",IF(VLOOKUP(I2002,CAD_Q!$C$6:$D$105,2,FALSE)=0,\"\",VLOOKUP(I2002,CAD_Q!$C$6:$D$105,2,FALSE)))","v":""},{"$f":"IFERROR(VLOOKUP(I2002,CAD_Q!$C$6:$E$109,3,FALSE)*F2002,\"\")","v":""},null,null,"",1,0,1900,0,1,1900,"Nombre y el registro de entrada válida"]
[null,"",null,null,null,"",null,null,null,{"$f":"IF(I2003=\"\",\"\",IF(VLOOKUP(I2003,CAD_Q!$C$6:$D$105,2,FALSE)=0,\"\",VLOOKUP(I2003,CAD_Q!$C$6:$D$105,2,FALSE)))","v":""},{"$f":"IFERROR(VLOOKUP(I2003,CAD_Q!$C$6:$E$109,3,FALSE)*F2003,\"\")","v":""},null,null,"",1,0,1900,0,1,1900,"Nombre y el registro de entrada válida"]
[null,"",null,null,null,"",null,null,null,{"$f":"IF(I2004=\"\",\"\",IF(VLOOKUP(I2004,CAD_Q!$C$6:$D$105,2,FALSE)=0,\"\",VLOOKUP(I2004,CAD_Q!$C$6:$D$105,2,FALSE)))","v":""},{"$f":"IFERROR(VLOOKUP(I2004,CAD_Q!$C$6:$E$109,3,FALSE)*F2004,\"\")","v":""},null,null,"",1,0,1900,0,1,1900,"Nombre y el registro de entrada válida"]
[null,"",null,null,null,"",null,null,null,{"$f":"IF(I2005=\"\",\"\",IF(VLOOKUP(I2005,CAD_Q!$C$6:$D$105,2,FALSE)=0,\"\",VLOOKUP(I2005,CAD_Q!$C$6:$D$105,2,FALSE)))","v":""},{"$f":"IFERROR(VLOOKUP(I2005,CAD_Q!$C$6:$E$109,3,FALSE)*F2005,\"\")","v":""},null,null,"",1,0,1900,0,1,1900,"Nombre y el registro de entrada válida"]
[null,"",null,null,null,"",null,null,null,{"$f":"IF(I2006=\"\",\"\",IF(VLOOKUP(I2006,CAD_Q!$C$6:$D$105,2,FALSE)=0,\"\",VLOOKUP(I2006,CAD_Q!$C$6:$D$105,2,FALSE)))","v":""},{"$f":"IFERROR(VLOOKUP(I2006,CAD_Q!$C$6:$E$109,3,FALSE)*F2006,\"\")","v":""},null,null,"",1,0,1900,0,1,1900,"Nombre y el registro de entrada válida"]
[null,"",null,null,null,"",null,null,null,{"$f":"IF(I2007=\"\",\"\",IF(VLOOKUP(I2007,CAD_Q!$C$6:$D$105,2,FALSE)=0,\"\",VLOOKUP(I2007,CAD_Q!$C$6:$D$105,2,FALSE)))","v":""},{"$f":"IFERROR(VLOOKUP(I2007,CAD_Q!$C$6:$E$109,3,FALSE)*F2007,\"\")","v":""},null,null,"",1,0,1900,0,1,1900,"Nombre y el registro de entrada válida"]
[null,"",null,null,null,"",null,null,null,{"$f":"IF(I2008=\"\",\"\",IF(VLOOKUP(I2008,CAD_Q!$C$6:$D$105,2,FALSE)=0,\"\",VLOOKUP(I2008,CAD_Q!$C$6:$D$105,2,FALSE)))","v":""},{"$f":"IFERROR(VLOOKUP(I2008,CAD_Q!$C$6:$E$109,3,FALSE)*F2008,\"\")","v":""},null,null,"",1,0,1900,0,1,1900,"Nombre y el registro de entrada válida"]
[null,"",null,null,null,"",null,null,null,{"$f":"IF(I2009=\"\",\"\",IF(VLOOKUP(I2009,CAD_Q!$C$6:$D$105,2,FALSE)=0,\"\",VLOOKUP(I2009,CAD_Q!$C$6:$D$105,2,FALSE)))","v":""},{"$f":"IFERROR(VLOOKUP(I2009,CAD_Q!$C$6:$E$109,3,FALSE)*F2009,\"\")","v":""},null,null,"",1,0,1900,0,1,1900,"Nombre y el registro de entrada válida"]
[null,"",null,null,null,"",null,null,null,{"$f":"IF(I2010=\"\",\"\",IF(VLOOKUP(I2010,CAD_Q!$C$6:$D$105,2,FALSE)=0,\"\",VLOOKUP(I2010,CAD_Q!$C$6:$D$105,2,FALSE)))","v":""},{"$f":"IFERROR(VLOOKUP(I2010,CAD_Q!$C$6:$E$109,3,FALSE)*F2010,\"\")","v":""},null,null,"",1,0,1900,0,1,1900,"Nombre y el registro de entrada válida"]
[null,"",null,null,null,"",null,null,null,{"$f":"IF(I2011=\"\",\"\",IF(VLOOKUP(I2011,CAD_Q!$C$6:$D$105,2,FALSE)=0,\"\",VLOOKUP(I2011,CAD_Q!$C$6:$D$105,2,FALSE)))","v":""},{"$f":"IFERROR(VLOOKUP(I2011,CAD_Q!$C$6:$E$109,3,FALSE)*F2011,\"\")","v":""},null,null,"",1,0,1900,0,1,1900,"Nombre y el registro de entrada válida"]
[null,"",null,null,null,"",null,null,null,{"$f":"IF(I2012=\"\",\"\",IF(VLOOKUP(I2012,CAD_Q!$C$6:$D$105,2,FALSE)=0,\"\",VLOOKUP(I2012,CAD_Q!$C$6:$D$105,2,FALSE)))","v":""},{"$f":"IFERROR(VLOOKUP(I2012,CAD_Q!$C$6:$E$109,3,FALSE)*F2012,\"\")","v":""},null,null,"",1,0,1900,0,1,1900,"Nombre y el registro de entrada válida"]
[null,"",null,null,null,"",null,null,null,{"$f":"IF(I2013=\"\",\"\",IF(VLOOKUP(I2013,CAD_Q!$C$6:$D$105,2,FALSE)=0,\"\",VLOOKUP(I2013,CAD_Q!$C$6:$D$105,2,FALSE)))","v":""},{"$f":"IFERROR(VLOOKUP(I2013,CAD_Q!$C$6:$E$109,3,FALSE)*F2013,\"\")","v":""},null,null,"",1,0,1900,0,1,1900,"Nombre y el registro de entrada válida"]
[null,"",null,null,null,"",null,null,null,{"$f":"IF(I2014=\"\",\"\",IF(VLOOKUP(I2014,CAD_Q!$C$6:$D$105,2,FALSE)=0,\"\",VLOOKUP(I2014,CAD_Q!$C$6:$D$105,2,FALSE)))","v":""},{"$f":"IFERROR(VLOOKUP(I2014,CAD_Q!$C$6:$E$109,3,FALSE)*F2014,\"\")","v":""},null,null,"",1,0,1900,0,1,1900,"Nombre y el registro de entrada válida"]
[null,"",null,null,null,"",null,null,null,{"$f":"IF(I2015=\"\",\"\",IF(VLOOKUP(I2015,CAD_Q!$C$6:$D$105,2,FALSE)=0,\"\",VLOOKUP(I2015,CAD_Q!$C$6:$D$105,2,FALSE)))","v":""},{"$f":"IFERROR(VLOOKUP(I2015,CAD_Q!$C$6:$E$109,3,FALSE)*F2015,\"\")","v":""},null,null,"",1,0,1900,0,1,1900,"Nombre y el registro de entrada válida"]
[null,"",null,null,null,"",null,null,null,{"$f":"IF(I2016=\"\",\"\",IF(VLOOKUP(I2016,CAD_Q!$C$6:$D$105,2,FALSE)=0,\"\",VLOOKUP(I2016,CAD_Q!$C$6:$D$105,2,FALSE)))","v":""},{"$f":"IFERROR(VLOOKUP(I2016,CAD_Q!$C$6:$E$109,3,FALSE)*F2016,\"\")","v":""},null,null,"",1,0,1900,0,1,1900,"Nombre y el registro de entrada válida"]
[null,"",null,null,null,"",null,null,null,{"$f":"IF(I2017=\"\",\"\",IF(VLOOKUP(I2017,CAD_Q!$C$6:$D$105,2,FALSE)=0,\"\",VLOOKUP(I2017,CAD_Q!$C$6:$D$105,2,FALSE)))","v":""},{"$f":"IFERROR(VLOOKUP(I2017,CAD_Q!$C$6:$E$109,3,FALSE)*F2017,\"\")","v":""},null,null,"",1,0,1900,0,1,1900,"Nombre y el registro de entrada válida"]
[null,"",null,null,null,"",null,null,null,{"$f":"IF(I2018=\"\",\"\",IF(VLOOKUP(I2018,CAD_Q!$C$6:$D$105,2,FALSE)=0,\"\",VLOOKUP(I2018,CAD_Q!$C$6:$D$105,2,FALSE)))","v":""},{"$f":"IFERROR(VLOOKUP(I2018,CAD_Q!$C$6:$E$109,3,FALSE)*F2018,\"\")","v":""},null,null,"",1,0,1900,0,1,1900,"Nombre y el registro de entrada válida"]
[null,"",null,null,null,"",null,null,null,{"$f":"IF(I2019=\"\",\"\",IF(VLOOKUP(I2019,CAD_Q!$C$6:$D$105,2,FALSE)=0,\"\",VLOOKUP(I2019,CAD_Q!$C$6:$D$105,2,FALSE)))","v":""},{"$f":"IFERROR(VLOOKUP(I2019,CAD_Q!$C$6:$E$109,3,FALSE)*F2019,\"\")","v":""},null,null,"",1,0,1900,0,1,1900,"Nombre y el registro de entrada válida"]
[null,"",null,null,null,{"$f":"IF(OR(D2020=\"\",E2020=\"\"),\"\",E2020-D2020)","v":""},null,null,null,{"$f":"IF(I2020=\"\",\"\",IF(VLOOKUP(I2020,CAD_Q!$C$6:$D$105,2,FALSE)=0,\"\",VLOOKUP(I2020,CAD_Q!$C$6:$D$105,2,FALSE)))","v":""},{"$f":"IFERROR(VLOOKUP(I2020,CAD_Q!$C$6:$E$109,3,FALSE)*F2020,\"\")","v":""},null,null,"",1,0,1900,0,1,1900,"Nombre y el registro de entrada válida"]
[null,"",null,null,null,"",null,null,null,{"$f":"IF(I2021=\"\",\"\",IF(VLOOKUP(I2021,CAD_Q!$C$6:$D$105,2,FALSE)=0,\"\",VLOOKUP(I2021,CAD_Q!$C$6:$D$105,2,FALSE)))","v":""},{"$f":"IFERROR(VLOOKUP(I2021,CAD_Q!$C$6:$E$109,3,FALSE)*F2021,\"\")","v":""},null,null,"",1,0,1900,0,1,1900,"Nombre y el registro de entrada válida"]
[null,"",null,null,null,"",null,null,null,{"$f":"IF(I2022=\"\",\"\",IF(VLOOKUP(I2022,CAD_Q!$C$6:$D$105,2,FALSE)=0,\"\",VLOOKUP(I2022,CAD_Q!$C$6:$D$105,2,FALSE)))","v":""},{"$f":"IFERROR(VLOOKUP(I2022,CAD_Q!$C$6:$E$109,3,FALSE)*F2022,\"\")","v":""},null,null,"",1,0,1900,0,1,1900,"Nombre y el registro de entrada válida"]
[null,"",null,null,null,"",null,null,null,{"$f":"IF(I2023=\"\",\"\",IF(VLOOKUP(I2023,CAD_Q!$C$6:$D$105,2,FALSE)=0,\"\",VLOOKUP(I2023,CAD_Q!$C$6:$D$105,2,FALSE)))","v":""},{"$f":"IFERROR(VLOOKUP(I2023,CAD_Q!$C$6:$E$109,3,FALSE)*F2023,\"\")","v":""},null,null,"",1,0,1900,0,1,1900,"Nombre y el registro de entrada válida"]
[null,"",null,null,null,"",null,null,null,{"$f":"IF(I2024=\"\",\"\",IF(VLOOKUP(I2024,CAD_Q!$C$6:$D$105,2,FALSE)=0,\"\",VLOOKUP(I2024,CAD_Q!$C$6:$D$105,2,FALSE)))","v":""},{"$f":"IFERROR(VLOOKUP(I2024,CAD_Q!$C$6:$E$109,3,FALSE)*F2024,\"\")","v":""},null,null,"",1,0,1900,0,1,1900,"Nombre y el registro de entrada válida"]
[null,"",null,null,null,"",null,null,null,{"$f":"IF(I2025=\"\",\"\",IF(VLOOKUP(I2025,CAD_Q!$C$6:$D$105,2,FALSE)=0,\"\",VLOOKUP(I2025,CAD_Q!$C$6:$D$105,2,FALSE)))","v":""},{"$f":"IFERROR(VLOOKUP(I2025,CAD_Q!$C$6:$E$109,3,FALSE)*F2025,\"\")","v":""},null,null,"",1,0,1900,0,1,1900,"Nombre y el registro de entrada válida"]
[null,"",null,null,null,"",null,null,null,{"$f":"IF(I2026=\"\",\"\",IF(VLOOKUP(I2026,CAD_Q!$C$6:$D$105,2,FALSE)=0,\"\",VLOOKUP(I2026,CAD_Q!$C$6:$D$105,2,FALSE)))","v":""},{"$f":"IFERROR(VLOOKUP(I2026,CAD_Q!$C$6:$E$109,3,FALSE)*F2026,\"\")","v":""},null,null,"",1,0,1900,0,1,1900,"Nombre y el registro de entrada válida"]
[null,"",null,null,null,"",null,null,null,{"$f":"IF(I2027=\"\",\"\",IF(VLOOKUP(I2027,CAD_Q!$C$6:$D$105,2,FALSE)=0,\"\",VLOOKUP(I2027,CAD_Q!$C$6:$D$105,2,FALSE)))","v":""},{"$f":"IFERROR(VLOOKUP(I2027,CAD_Q!$C$6:$E$109,3,FALSE)*F2027,\"\")","v":""},null,null,"",1,0,1900,0,1,1900,"Nombre y el registro de entrada válida"]
[null,"",null,null,null,"",null,null,null,{"$f":"IF(I2028=\"\",\"\",IF(VLOOKUP(I2028,CAD_Q!$C$6:$D$105,2,FALSE)=0,\"\",VLOOKUP(I2028,CAD_Q!$C$6:$D$105,2,FALSE)))","v":""},{"$f":"IFERROR(VLOOKUP(I2028,CAD_Q!$C$6:$E$109,3,FALSE)*F2028,\"\")","v":""},null,null,"",1,0,1900,0,1,1900,"Nombre y el registro de entrada válida"]
[null,"",null,null,null,"",null,null,null,{"$f":"IF(I2029=\"\",\"\",IF(VLOOKUP(I2029,CAD_Q!$C$6:$D$105,2,FALSE)=0,\"\",VLOOKUP(I2029,CAD_Q!$C$6:$D$105,2,FALSE)))","v":""},{"$f":"IFERROR(VLOOKUP(I2029,CAD_Q!$C$6:$E$109,3,FALSE)*F2029,\"\")","v":""},null,null,"",1,0,1900,0,1,1900,"Nombre y el registro de entrada válida"]
[null,"",null,null,null,"",null,null,null,{"$f":"IF(I2030=\"\",\"\",IF(VLOOKUP(I2030,CAD_Q!$C$6:$D$105,2,FALSE)=0,\"\",VLOOKUP(I2030,CAD_Q!$C$6:$D$105,2,FALSE)))","v":""},{"$f":"IFERROR(VLOOKUP(I2030,CAD_Q!$C$6:$E$109,3,FALSE)*F2030,\"\")","v":""},null,null,"",1,0,1900,0,1,1900,"Nombre y el registro de entrada válida"]
[null,"",null,null,null,"",null,null,null,{"$f":"IF(I2031=\"\",\"\",IF(VLOOKUP(I2031,CAD_Q!$C$6:$D$105,2,FALSE)=0,\"\",VLOOKUP(I2031,CAD_Q!$C$6:$D$105,2,FALSE)))","v":""},{"$f":"IFERROR(VLOOKUP(I2031,CAD_Q!$C$6:$E$109,3,FALSE)*F2031,\"\")","v":""},null,null,"",1,0,1900,0,1,1900,"Nombre y el registro de entrada válida"]
[null,"",null,null,null,"",null,null,null,{"$f":"IF(I2032=\"\",\"\",IF(VLOOKUP(I2032,CAD_Q!$C$6:$D$105,2,FALSE)=0,\"\",VLOOKUP(I2032,CAD_Q!$C$6:$D$105,2,FALSE)))","v":""},{"$f":"IFERROR(VLOOKUP(I2032,CAD_Q!$C$6:$E$109,3,FALSE)*F2032,\"\")","v":""},null,null,"",1,0,1900,0,1,1900,"Nombre y el registro de entrada válida"]
[null,"",null,null,null,"",null,null,null,{"$f":"IF(I2033=\"\",\"\",IF(VLOOKUP(I2033,CAD_Q!$C$6:$D$105,2,FALSE)=0,\"\",VLOOKUP(I2033,CAD_Q!$C$6:$D$105,2,FALSE)))","v":""},{"$f":"IFERROR(VLOOKUP(I2033,CAD_Q!$C$6:$E$109,3,FALSE)*F2033,\"\")","v":""},null,null,"",1,0,1900,0,1,1900,"Nombre y el registro de entrada válida"]
[null,"",null,null,null,"",null,null,null,{"$f":"IF(I2034=\"\",\"\",IF(VLOOKUP(I2034,CAD_Q!$C$6:$D$105,2,FALSE)=0,\"\",VLOOKUP(I2034,CAD_Q!$C$6:$D$105,2,FALSE)))","v":""},{"$f":"IFERROR(VLOOKUP(I2034,CAD_Q!$C$6:$E$109,3,FALSE)*F2034,\"\")","v":""},null,null,"",1,0,1900,0,1,1900,"Nombre y el registro de entrada válida"]
[null,"",null,null,null,"",null,null,null,{"$f":"IF(I2035=\"\",\"\",IF(VLOOKUP(I2035,CAD_Q!$C$6:$D$105,2,FALSE)=0,\"\",VLOOKUP(I2035,CAD_Q!$C$6:$D$105,2,FALSE)))","v":""},{"$f":"IFERROR(VLOOKUP(I2035,CAD_Q!$C$6:$E$109,3,FALSE)*F2035,\"\")","v":""},null,null,"",1,0,1900,0,1,1900,"Nombre y el registro de entrada válida"]
[null,"",null,null,null,"",null,null,null,{"$f":"IF(I2036=\"\",\"\",IF(VLOOKUP(I2036,CAD_Q!$C$6:$D$105,2,FALSE)=0,\"\",VLOOKUP(I2036,CAD_Q!$C$6:$D$105,2,FALSE)))","v":""},{"$f":"IFERROR(VLOOKUP(I2036,CAD_Q!$C$6:$E$109,3,FALSE)*F2036,\"\")","v":""},null,null,"",1,0,1900,0,1,1900,"Nombre y el registro de entrada válida"]
[null,"",null,null,null,"",null,null,null,{"$f":"IF(I2037=\"\",\"\",IF(VLOOKUP(I2037,CAD_Q!$C$6:$D$105,2,FALSE)=0,\"\",VLOOKUP(I2037,CAD_Q!$C$6:$D$105,2,FALSE)))","v":""},{"$f":"IFERROR(VLOOKUP(I2037,CAD_Q!$C$6:$E$109,3,FALSE)*F2037,\"\")","v":""},null,null,"",1,0,1900,0,1,1900,"Nombre y el registro de entrada válida"]
[null,"",null,null,null,"",null,null,null,{"$f":"IF(I2038=\"\",\"\",IF(VLOOKUP(I2038,CAD_Q!$C$6:$D$105,2,FALSE)=0,\"\",VLOOKUP(I2038,CAD_Q!$C$6:$D$105,2,FALSE)))","v":""},{"$f":"IFERROR(VLOOKUP(I2038,CAD_Q!$C$6:$E$109,3,FALSE)*F2038,\"\")","v":""},null,null,"",1,0,1900,0,1,1900,"Nombre y el registro de entrada válida"]
[null,"",null,null,null,"",null,null,null,{"$f":"IF(I2039=\"\",\"\",IF(VLOOKUP(I2039,CAD_Q!$C$6:$D$105,2,FALSE)=0,\"\",VLOOKUP(I2039,CAD_Q!$C$6:$D$105,2,FALSE)))","v":""},{"$f":"IFERROR(VLOOKUP(I2039,CAD_Q!$C$6:$E$109,3,FALSE)*F2039,\"\")","v":""},null,null,"",1,0,1900,0,1,1900,"Nombre y el registro de entrada válida"]
[null,"",null,null,null,"",null,null,null,{"$f":"IF(I2040=\"\",\"\",IF(VLOOKUP(I2040,CAD_Q!$C$6:$D$105,2,FALSE)=0,\"\",VLOOKUP(I2040,CAD_Q!$C$6:$D$105,2,FALSE)))","v":""},{"$f":"IFERROR(VLOOKUP(I2040,CAD_Q!$C$6:$E$109,3,FALSE)*F2040,\"\")","v":""},null,null,"",1,0,1900,0,1,1900,"Nombre y el registro de entrada válida"]
[null,"",null,null,null,"",null,null,null,{"$f":"IF(I2041=\"\",\"\",IF(VLOOKUP(I2041,CAD_Q!$C$6:$D$105,2,FALSE)=0,\"\",VLOOKUP(I2041,CAD_Q!$C$6:$D$105,2,FALSE)))","v":""},{"$f":"IFERROR(VLOOKUP(I2041,CAD_Q!$C$6:$E$109,3,FALSE)*F2041,\"\")","v":""},null,null,"",1,0,1900,0,1,1900,"Nombre y el registro de entrada válida"]
[null,"",null,null,null,"",null,null,null,{"$f":"IF(I2042=\"\",\"\",IF(VLOOKUP(I2042,CAD_Q!$C$6:$D$105,2,FALSE)=0,\"\",VLOOKUP(I2042,CAD_Q!$C$6:$D$105,2,FALSE)))","v":""},{"$f":"IFERROR(VLOOKUP(I2042,CAD_Q!$C$6:$E$109,3,FALSE)*F2042,\"\")","v":""},null,null,"",1,0,1900,0,1,1900,"Nombre y el registro de entrada válida"]
[null,"",null,null,null,"",null,null,null,{"$f":"IF(I2043=\"\",\"\",IF(VLOOKUP(I2043,CAD_Q!$C$6:$D$105,2,FALSE)=0,\"\",VLOOKUP(I2043,CAD_Q!$C$6:$D$105,2,FALSE)))","v":""},{"$f":"IFERROR(VLOOKUP(I2043,CAD_Q!$C$6:$E$109,3,FALSE)*F2043,\"\")","v":""},null,null,"",1,0,1900,0,1,1900,"Nombre y el registro de entrada válida"]
[null,"",null,null,null,"",null,null,null,{"$f":"IF(I2044=\"\",\"\",IF(VLOOKUP(I2044,CAD_Q!$C$6:$D$105,2,FALSE)=0,\"\",VLOOKUP(I2044,CAD_Q!$C$6:$D$105,2,FALSE)))","v":""},{"$f":"IFERROR(VLOOKUP(I2044,CAD_Q!$C$6:$E$109,3,FALSE)*F2044,\"\")","v":""},null,null,"",1,0,1900,0,1,1900,"Nombre y el registro de entrada válida"]
[null,"",null,null,null,"",null,null,null,{"$f":"IF(I2045=\"\",\"\",IF(VLOOKUP(I2045,CAD_Q!$C$6:$D$105,2,FALSE)=0,\"\",VLOOKUP(I2045,CAD_Q!$C$6:$D$105,2,FALSE)))","v":""},{"$f":"IFERROR(VLOOKUP(I2045,CAD_Q!$C$6:$E$109,3,FALSE)*F2045,\"\")","v":""},null,null,"",1,0,1900,0,1,1900,"Nombre y el registro de entrada válida"]
[null,"",null,null,null,"",null,null,null,{"$f":"IF(I2046=\"\",\"\",IF(VLOOKUP(I2046,CAD_Q!$C$6:$D$105,2,FALSE)=0,\"\",VLOOKUP(I2046,CAD_Q!$C$6:$D$105,2,FALSE)))","v":""},{"$f":"IFERROR(VLOOKUP(I2046,CAD_Q!$C$6:$E$109,3,FALSE)*F2046,\"\")","v":""},null,null,"",1,0,1900,0,1,1900,"Nombre y el registro de entrada válida"]
[null,"",null,null,null,"",null,null,null,{"$f":"IF(I2047=\"\",\"\",IF(VLOOKUP(I2047,CAD_Q!$C$6:$D$105,2,FALSE)=0,\"\",VLOOKUP(I2047,CAD_Q!$C$6:$D$105,2,FALSE)))","v":""},{"$f":"IFERROR(VLOOKUP(I2047,CAD_Q!$C$6:$E$109,3,FALSE)*F2047,\"\")","v":""},null,null,"",1,0,1900,0,1,1900,"Nombre y el registro de entrada válida"]
[null,"",null,null,null,"",null,null,null,{"$f":"IF(I2048=\"\",\"\",IF(VLOOKUP(I2048,CAD_Q!$C$6:$D$105,2,FALSE)=0,\"\",VLOOKUP(I2048,CAD_Q!$C$6:$D$105,2,FALSE)))","v":""},{"$f":"IFERROR(VLOOKUP(I2048,CAD_Q!$C$6:$E$109,3,FALSE)*F2048,\"\")","v":""},null,null,"",1,0,1900,0,1,1900,"Nombre y el registro de entrada válida"]
[null,"",null,null,null,"",null,null,null,{"$f":"IF(I2049=\"\",\"\",IF(VLOOKUP(I2049,CAD_Q!$C$6:$D$105,2,FALSE)=0,\"\",VLOOKUP(I2049,CAD_Q!$C$6:$D$105,2,FALSE)))","v":""},{"$f":"IFERROR(VLOOKUP(I2049,CAD_Q!$C$6:$E$109,3,FALSE)*F2049,\"\")","v":""},null,null,"",1,0,1900,0,1,1900,"Nombre y el registro de entrada válida"]
[null,"",null,null,null,"",null,null,null,{"$f":"IF(I2050=\"\",\"\",IF(VLOOKUP(I2050,CAD_Q!$C$6:$D$105,2,FALSE)=0,\"\",VLOOKUP(I2050,CAD_Q!$C$6:$D$105,2,FALSE)))","v":""},{"$f":"IFERROR(VLOOKUP(I2050,CAD_Q!$C$6:$E$109,3,FALSE)*F2050,\"\")","v":""},null,null,"",1,0,1900,0,1,1900,"Nombre y el registro de entrada válida"]
[null,"",null,null,null,"",null,null,null,{"$f":"IF(I2051=\"\",\"\",IF(VLOOKUP(I2051,CAD_Q!$C$6:$D$105,2,FALSE)=0,\"\",VLOOKUP(I2051,CAD_Q!$C$6:$D$105,2,FALSE)))","v":""},{"$f":"IFERROR(VLOOKUP(I2051,CAD_Q!$C$6:$E$109,3,FALSE)*F2051,\"\")","v":""},null,null,"",1,0,1900,0,1,1900,"Nombre y el registro de entrada válida"]
[null,"",null,null,null,"",null,null,null,{"$f":"IF(I2052=\"\",\"\",IF(VLOOKUP(I2052,CAD_Q!$C$6:$D$105,2,FALSE)=0,\"\",VLOOKUP(I2052,CAD_Q!$C$6:$D$105,2,FALSE)))","v":""},{"$f":"IFERROR(VLOOKUP(I2052,CAD_Q!$C$6:$E$109,3,FALSE)*F2052,\"\")","v":""},null,null,"",1,0,1900,0,1,1900,"Nombre y el registro de entrada válida"]
[null,"",null,null,null,"",null,null,null,{"$f":"IF(I2053=\"\",\"\",IF(VLOOKUP(I2053,CAD_Q!$C$6:$D$105,2,FALSE)=0,\"\",VLOOKUP(I2053,CAD_Q!$C$6:$D$105,2,FALSE)))","v":""},{"$f":"IFERROR(VLOOKUP(I2053,CAD_Q!$C$6:$E$109,3,FALSE)*F2053,\"\")","v":""},null,null,"",1,0,1900,0,1,1900,"Nombre y el registro de entrada válida"]
[null,"",null,null,null,"",null,null,null,{"$f":"IF(I2054=\"\",\"\",IF(VLOOKUP(I2054,CAD_Q!$C$6:$D$105,2,FALSE)=0,\"\",VLOOKUP(I2054,CAD_Q!$C$6:$D$105,2,FALSE)))","v":""},{"$f":"IFERROR(VLOOKUP(I2054,CAD_Q!$C$6:$E$109,3,FALSE)*F2054,\"\")","v":""},null,null,"",1,0,1900,0,1,1900,"Nombre y el registro de entrada válida"]
[null,{"$f":"CONCATENATE(C2055,D2055)","v":""},null,null,null,"",null,null,null,{"$f":"IF(I2055=\"\",\"\",IF(VLOOKUP(I2055,CAD_Q!$C$6:$D$105,2,FALSE)=0,\"\",VLOOKUP(I2055,CAD_Q!$C$6:$D$105,2,FALSE)))","v":""},{"$f":"IFERROR(VLOOKUP(I2055,CAD_Q!$C$6:$E$109,3,FALSE)*F2055,\"\")","v":""},null,null,{"$f":"IFERROR(K2055-L2055+M2055,\"\")","v":""},1,0,1900,0,1,1900,"Nombre y el registro de entrada válida"]
[null,"",null,null,null,"",null,null,null,{"$f":"IF(I2056=\"\",\"\",IF(VLOOKUP(I2056,CAD_Q!$C$6:$D$105,2,FALSE)=0,\"\",VLOOKUP(I2056,CAD_Q!$C$6:$D$105,2,FALSE)))","v":""},{"$f":"IFERROR(VLOOKUP(I2056,CAD_Q!$C$6:$E$109,3,FALSE)*F2056,\"\")","v":""},null,null,"",1,0,1900,0,1,1900,"Nombre y el registro de entrada válida"]
[null,"",null,null,null,"",null,null,null,{"$f":"IF(I2057=\"\",\"\",IF(VLOOKUP(I2057,CAD_Q!$C$6:$D$105,2,FALSE)=0,\"\",VLOOKUP(I2057,CAD_Q!$C$6:$D$105,2,FALSE)))","v":""},{"$f":"IFERROR(VLOOKUP(I2057,CAD_Q!$C$6:$E$109,3,FALSE)*F2057,\"\")","v":""},null,null,"",1,0,1900,0,1,1900,"Nombre y el registro de entrada válida"]
[null,"",null,null,null,"",null,null,null,{"$f":"IF(I2058=\"\",\"\",IF(VLOOKUP(I2058,CAD_Q!$C$6:$D$105,2,FALSE)=0,\"\",VLOOKUP(I2058,CAD_Q!$C$6:$D$105,2,FALSE)))","v":""},{"$f":"IFERROR(VLOOKUP(I2058,CAD_Q!$C$6:$E$109,3,FALSE)*F2058,\"\")","v":""},null,null,"",{"$f":"MONTH(D2058)","v":1},{"$f":"DAY(D2058)","v":0},{"$f":"YEAR(D2058)","v":1900},{"$f":"DAY(E2058)","v":0},{"$f":"MONTH(E2058)","v":1},{"$f":"YEAR(E2058)","v":1900},"Nombre y el registro de entrada válida"]
[null,"",null,null,null,"",null,null,null,{"$f":"IF(I2059=\"\",\"\",IF(VLOOKUP(I2059,CAD_Q!$C$6:$D$105,2,FALSE)=0,\"\",VLOOKUP(I2059,CAD_Q!$C$6:$D$105,2,FALSE)))","v":""},{"$f":"IFERROR(VLOOKUP(I2059,CAD_Q!$C$6:$E$109,3,FALSE)*F2059,\"\")","v":""},null,null,"",1,0,1900,0,1,1900,"Nombre y el registro de entrada válida"]
[null,"",null,null,null,"",null,null,null,{"$f":"IF(I2060=\"\",\"\",IF(VLOOKUP(I2060,CAD_Q!$C$6:$D$105,2,FALSE)=0,\"\",VLOOKUP(I2060,CAD_Q!$C$6:$D$105,2,FALSE)))","v":""},{"$f":"IFERROR(VLOOKUP(I2060,CAD_Q!$C$6:$E$109,3,FALSE)*F2060,\"\")","v":""},null,null,"",1,0,1900,0,1,1900,"Nombre y el registro de entrada válida"]
[null,"",null,null,null,"",null,null,null,{"$f":"IF(I2061=\"\",\"\",IF(VLOOKUP(I2061,CAD_Q!$C$6:$D$105,2,FALSE)=0,\"\",VLOOKUP(I2061,CAD_Q!$C$6:$D$105,2,FALSE)))","v":""},{"$f":"IFERROR(VLOOKUP(I2061,CAD_Q!$C$6:$E$109,3,FALSE)*F2061,\"\")","v":""},null,null,"",1,0,1900,0,1,1900,"Nombre y el registro de entrada válida"]
[null,"",null,null,null,"",null,null,null,{"$f":"IF(I2062=\"\",\"\",IF(VLOOKUP(I2062,CAD_Q!$C$6:$D$105,2,FALSE)=0,\"\",VLOOKUP(I2062,CAD_Q!$C$6:$D$105,2,FALSE)))","v":""},{"$f":"IFERROR(VLOOKUP(I2062,CAD_Q!$C$6:$E$109,3,FALSE)*F2062,\"\")","v":""},null,null,"",1,0,1900,0,1,1900,"Nombre y el registro de entrada válida"]
[null,"",null,null,null,"",null,null,null,{"$f":"IF(I2063=\"\",\"\",IF(VLOOKUP(I2063,CAD_Q!$C$6:$D$105,2,FALSE)=0,\"\",VLOOKUP(I2063,CAD_Q!$C$6:$D$105,2,FALSE)))","v":""},{"$f":"IFERROR(VLOOKUP(I2063,CAD_Q!$C$6:$E$109,3,FALSE)*F2063,\"\")","v":""},null,null,"",1,0,1900,0,1,1900,"Nombre y el registro de entrada válida"]
[null,"",null,null,null,"",null,null,null,{"$f":"IF(I2064=\"\",\"\",IF(VLOOKUP(I2064,CAD_Q!$C$6:$D$105,2,FALSE)=0,\"\",VLOOKUP(I2064,CAD_Q!$C$6:$D$105,2,FALSE)))","v":""},{"$f":"IFERROR(VLOOKUP(I2064,CAD_Q!$C$6:$E$109,3,FALSE)*F2064,\"\")","v":""},null,null,"",1,0,1900,0,1,1900,"Nombre y el registro de entrada válida"]
[null,"",null,null,null,"",null,null,null,{"$f":"IF(I2065=\"\",\"\",IF(VLOOKUP(I2065,CAD_Q!$C$6:$D$105,2,FALSE)=0,\"\",VLOOKUP(I2065,CAD_Q!$C$6:$D$105,2,FALSE)))","v":""},{"$f":"IFERROR(VLOOKUP(I2065,CAD_Q!$C$6:$E$109,3,FALSE)*F2065,\"\")","v":""},null,null,"",1,0,1900,0,1,1900,"Nombre y el registro de entrada válida"]
[null,"",null,null,null,"",null,null,null,{"$f":"IF(I2066=\"\",\"\",IF(VLOOKUP(I2066,CAD_Q!$C$6:$D$105,2,FALSE)=0,\"\",VLOOKUP(I2066,CAD_Q!$C$6:$D$105,2,FALSE)))","v":""},{"$f":"IFERROR(VLOOKUP(I2066,CAD_Q!$C$6:$E$109,3,FALSE)*F2066,\"\")","v":""},null,null,"",1,0,1900,0,1,1900,"Nombre y el registro de entrada válida"]
[null,"",null,null,null,"",null,null,null,{"$f":"IF(I2067=\"\",\"\",IF(VLOOKUP(I2067,CAD_Q!$C$6:$D$105,2,FALSE)=0,\"\",VLOOKUP(I2067,CAD_Q!$C$6:$D$105,2,FALSE)))","v":""},{"$f":"IFERROR(VLOOKUP(I2067,CAD_Q!$C$6:$E$109,3,FALSE)*F2067,\"\")","v":""},null,null,"",1,0,1900,0,1,1900,"Nombre y el registro de entrada válida"]
[null,"",null,null,null,"",null,null,null,{"$f":"IF(I2068=\"\",\"\",IF(VLOOKUP(I2068,CAD_Q!$C$6:$D$105,2,FALSE)=0,\"\",VLOOKUP(I2068,CAD_Q!$C$6:$D$105,2,FALSE)))","v":""},{"$f":"IFERROR(VLOOKUP(I2068,CAD_Q!$C$6:$E$109,3,FALSE)*F2068,\"\")","v":""},null,null,"",1,0,1900,0,1,1900,"Nombre y el registro de entrada válida"]
[null,"",null,null,null,"",null,null,null,{"$f":"IF(I2069=\"\",\"\",IF(VLOOKUP(I2069,CAD_Q!$C$6:$D$105,2,FALSE)=0,\"\",VLOOKUP(I2069,CAD_Q!$C$6:$D$105,2,FALSE)))","v":""},{"$f":"IFERROR(VLOOKUP(I2069,CAD_Q!$C$6:$E$109,3,FALSE)*F2069,\"\")","v":""},null,null,"",1,0,1900,0,1,1900,"Nombre y el registro de entrada válida"]
[null,"",null,null,null,"",null,null,null,{"$f":"IF(I2070=\"\",\"\",IF(VLOOKUP(I2070,CAD_Q!$C$6:$D$105,2,FALSE)=0,\"\",VLOOKUP(I2070,CAD_Q!$C$6:$D$105,2,FALSE)))","v":""},{"$f":"IFERROR(VLOOKUP(I2070,CAD_Q!$C$6:$E$109,3,FALSE)*F2070,\"\")","v":""},null,null,"",1,0,1900,0,1,1900,"Nombre y el registro de entrada válida"]
[null,"",null,null,null,"",null,null,null,{"$f":"IF(I2071=\"\",\"\",IF(VLOOKUP(I2071,CAD_Q!$C$6:$D$105,2,FALSE)=0,\"\",VLOOKUP(I2071,CAD_Q!$C$6:$D$105,2,FALSE)))","v":""},{"$f":"IFERROR(VLOOKUP(I2071,CAD_Q!$C$6:$E$109,3,FALSE)*F2071,\"\")","v":""},null,null,"",1,0,1900,0,1,1900,"Nombre y el registro de entrada válida"]
[null,"",null,null,null,"",null,null,null,{"$f":"IF(I2072=\"\",\"\",IF(VLOOKUP(I2072,CAD_Q!$C$6:$D$105,2,FALSE)=0,\"\",VLOOKUP(I2072,CAD_Q!$C$6:$D$105,2,FALSE)))","v":""},{"$f":"IFERROR(VLOOKUP(I2072,CAD_Q!$C$6:$E$109,3,FALSE)*F2072,\"\")","v":""},null,null,"",1,0,1900,0,1,1900,"Nombre y el registro de entrada válida"]
[null,"",null,null,null,"",null,null,null,{"$f":"IF(I2073=\"\",\"\",IF(VLOOKUP(I2073,CAD_Q!$C$6:$D$105,2,FALSE)=0,\"\",VLOOKUP(I2073,CAD_Q!$C$6:$D$105,2,FALSE)))","v":""},{"$f":"IFERROR(VLOOKUP(I2073,CAD_Q!$C$6:$E$109,3,FALSE)*F2073,\"\")","v":""},null,null,"",1,0,1900,0,1,1900,"Nombre y el registro de entrada válida"]
[null,"",null,null,null,"",null,null,null,{"$f":"IF(I2074=\"\",\"\",IF(VLOOKUP(I2074,CAD_Q!$C$6:$D$105,2,FALSE)=0,\"\",VLOOKUP(I2074,CAD_Q!$C$6:$D$105,2,FALSE)))","v":""},{"$f":"IFERROR(VLOOKUP(I2074,CAD_Q!$C$6:$E$109,3,FALSE)*F2074,\"\")","v":""},null,null,"",1,0,1900,0,1,1900,"Nombre y el registro de entrada válida"]
[null,"",null,null,null,"",null,null,null,{"$f":"IF(I2075=\"\",\"\",IF(VLOOKUP(I2075,CAD_Q!$C$6:$D$105,2,FALSE)=0,\"\",VLOOKUP(I2075,CAD_Q!$C$6:$D$105,2,FALSE)))","v":""},{"$f":"IFERROR(VLOOKUP(I2075,CAD_Q!$C$6:$E$109,3,FALSE)*F2075,\"\")","v":""},null,null,"",1,0,1900,0,1,1900,"Nombre y el registro de entrada válida"]
[null,"",null,null,null,"",null,null,null,{"$f":"IF(I2076=\"\",\"\",IF(VLOOKUP(I2076,CAD_Q!$C$6:$D$105,2,FALSE)=0,\"\",VLOOKUP(I2076,CAD_Q!$C$6:$D$105,2,FALSE)))","v":""},{"$f":"IFERROR(VLOOKUP(I2076,CAD_Q!$C$6:$E$109,3,FALSE)*F2076,\"\")","v":""},null,null,"",1,0,1900,0,1,1900,"Nombre y el registro de entrada válida"]
[null,"",null,null,null,"",null,null,null,{"$f":"IF(I2077=\"\",\"\",IF(VLOOKUP(I2077,CAD_Q!$C$6:$D$105,2,FALSE)=0,\"\",VLOOKUP(I2077,CAD_Q!$C$6:$D$105,2,FALSE)))","v":""},{"$f":"IFERROR(VLOOKUP(I2077,CAD_Q!$C$6:$E$109,3,FALSE)*F2077,\"\")","v":""},null,null,"",1,0,1900,0,1,1900,"Nombre y el registro de entrada válida"]
[null,"",null,null,null,"",null,null,null,{"$f":"IF(I2078=\"\",\"\",IF(VLOOKUP(I2078,CAD_Q!$C$6:$D$105,2,FALSE)=0,\"\",VLOOKUP(I2078,CAD_Q!$C$6:$D$105,2,FALSE)))","v":""},{"$f":"IFERROR(VLOOKUP(I2078,CAD_Q!$C$6:$E$109,3,FALSE)*F2078,\"\")","v":""},null,null,"",1,0,1900,0,1,1900,"Nombre y el registro de entrada válida"]
[null,"",null,null,null,"",null,null,null,{"$f":"IF(I2079=\"\",\"\",IF(VLOOKUP(I2079,CAD_Q!$C$6:$D$105,2,FALSE)=0,\"\",VLOOKUP(I2079,CAD_Q!$C$6:$D$105,2,FALSE)))","v":""},{"$f":"IFERROR(VLOOKUP(I2079,CAD_Q!$C$6:$E$109,3,FALSE)*F2079,\"\")","v":""},null,null,"",1,0,1900,0,1,1900,"Nombre y el registro de entrada válida"]
[null,"",null,null,null,"",null,null,null,{"$f":"IF(I2080=\"\",\"\",IF(VLOOKUP(I2080,CAD_Q!$C$6:$D$105,2,FALSE)=0,\"\",VLOOKUP(I2080,CAD_Q!$C$6:$D$105,2,FALSE)))","v":""},{"$f":"IFERROR(VLOOKUP(I2080,CAD_Q!$C$6:$E$109,3,FALSE)*F2080,\"\")","v":""},null,null,"",1,0,1900,0,1,1900,"Nombre y el registro de entrada válida"]
[null,"",null,null,null,"",null,null,null,{"$f":"IF(I2081=\"\",\"\",IF(VLOOKUP(I2081,CAD_Q!$C$6:$D$105,2,FALSE)=0,\"\",VLOOKUP(I2081,CAD_Q!$C$6:$D$105,2,FALSE)))","v":""},{"$f":"IFERROR(VLOOKUP(I2081,CAD_Q!$C$6:$E$109,3,FALSE)*F2081,\"\")","v":""},null,null,"",1,0,1900,0,1,1900,"Nombre y el registro de entrada válida"]
[null,"",null,null,null,"",null,null,null,{"$f":"IF(I2082=\"\",\"\",IF(VLOOKUP(I2082,CAD_Q!$C$6:$D$105,2,FALSE)=0,\"\",VLOOKUP(I2082,CAD_Q!$C$6:$D$105,2,FALSE)))","v":""},{"$f":"IFERROR(VLOOKUP(I2082,CAD_Q!$C$6:$E$109,3,FALSE)*F2082,\"\")","v":""},null,null,"",1,0,1900,0,1,1900,"Nombre y el registro de entrada válida"]
[null,"",null,null,null,"",null,null,null,{"$f":"IF(I2083=\"\",\"\",IF(VLOOKUP(I2083,CAD_Q!$C$6:$D$105,2,FALSE)=0,\"\",VLOOKUP(I2083,CAD_Q!$C$6:$D$105,2,FALSE)))","v":""},{"$f":"IFERROR(VLOOKUP(I2083,CAD_Q!$C$6:$E$109,3,FALSE)*F2083,\"\")","v":""},null,null,"",1,0,1900,0,1,1900,"Nombre y el registro de entrada válida"]
[null,"",null,null,null,{"$f":"IF(OR(D2084=\"\",E2084=\"\"),\"\",E2084-D2084)","v":""},null,null,null,{"$f":"IF(I2084=\"\",\"\",IF(VLOOKUP(I2084,CAD_Q!$C$6:$D$105,2,FALSE)=0,\"\",VLOOKUP(I2084,CAD_Q!$C$6:$D$105,2,FALSE)))","v":""},{"$f":"IFERROR(VLOOKUP(I2084,CAD_Q!$C$6:$E$109,3,FALSE)*F2084,\"\")","v":""},null,null,"",1,0,1900,0,1,1900,"Nombre y el registro de entrada válida"]
[null,"",null,null,null,"",null,null,null,{"$f":"IF(I2085=\"\",\"\",IF(VLOOKUP(I2085,CAD_Q!$C$6:$D$105,2,FALSE)=0,\"\",VLOOKUP(I2085,CAD_Q!$C$6:$D$105,2,FALSE)))","v":""},{"$f":"IFERROR(VLOOKUP(I2085,CAD_Q!$C$6:$E$109,3,FALSE)*F2085,\"\")","v":""},null,null,"",1,0,1900,0,1,1900,"Nombre y el registro de entrada válida"]
[null,"",null,null,null,"",null,null,null,{"$f":"IF(I2086=\"\",\"\",IF(VLOOKUP(I2086,CAD_Q!$C$6:$D$105,2,FALSE)=0,\"\",VLOOKUP(I2086,CAD_Q!$C$6:$D$105,2,FALSE)))","v":""},{"$f":"IFERROR(VLOOKUP(I2086,CAD_Q!$C$6:$E$109,3,FALSE)*F2086,\"\")","v":""},null,null,"",1,0,1900,0,1,1900,"Nombre y el registro de entrada válida"]
[null,"",null,null,null,"",null,null,null,{"$f":"IF(I2087=\"\",\"\",IF(VLOOKUP(I2087,CAD_Q!$C$6:$D$105,2,FALSE)=0,\"\",VLOOKUP(I2087,CAD_Q!$C$6:$D$105,2,FALSE)))","v":""},{"$f":"IFERROR(VLOOKUP(I2087,CAD_Q!$C$6:$E$109,3,FALSE)*F2087,\"\")","v":""},null,null,"",1,0,1900,0,1,1900,"Nombre y el registro de entrada válida"]
[null,"",null,null,null,"",null,null,null,{"$f":"IF(I2088=\"\",\"\",IF(VLOOKUP(I2088,CAD_Q!$C$6:$D$105,2,FALSE)=0,\"\",VLOOKUP(I2088,CAD_Q!$C$6:$D$105,2,FALSE)))","v":""},{"$f":"IFERROR(VLOOKUP(I2088,CAD_Q!$C$6:$E$109,3,FALSE)*F2088,\"\")","v":""},null,null,"",1,0,1900,0,1,1900,"Nombre y el registro de entrada válida"]
[null,"",null,null,null,"",null,null,null,{"$f":"IF(I2089=\"\",\"\",IF(VLOOKUP(I2089,CAD_Q!$C$6:$D$105,2,FALSE)=0,\"\",VLOOKUP(I2089,CAD_Q!$C$6:$D$105,2,FALSE)))","v":""},{"$f":"IFERROR(VLOOKUP(I2089,CAD_Q!$C$6:$E$109,3,FALSE)*F2089,\"\")","v":""},null,null,"",1,0,1900,0,1,1900,"Nombre y el registro de entrada válida"]
[null,"",null,null,null,"",null,null,null,{"$f":"IF(I2090=\"\",\"\",IF(VLOOKUP(I2090,CAD_Q!$C$6:$D$105,2,FALSE)=0,\"\",VLOOKUP(I2090,CAD_Q!$C$6:$D$105,2,FALSE)))","v":""},{"$f":"IFERROR(VLOOKUP(I2090,CAD_Q!$C$6:$E$109,3,FALSE)*F2090,\"\")","v":""},null,null,"",1,0,1900,0,1,1900,"Nombre y el registro de entrada válida"]
[null,"",null,null,null,"",null,null,null,{"$f":"IF(I2091=\"\",\"\",IF(VLOOKUP(I2091,CAD_Q!$C$6:$D$105,2,FALSE)=0,\"\",VLOOKUP(I2091,CAD_Q!$C$6:$D$105,2,FALSE)))","v":""},{"$f":"IFERROR(VLOOKUP(I2091,CAD_Q!$C$6:$E$109,3,FALSE)*F2091,\"\")","v":""},null,null,"",1,0,1900,0,1,1900,"Nombre y el registro de entrada válida"]
[null,"",null,null,null,"",null,null,null,{"$f":"IF(I2092=\"\",\"\",IF(VLOOKUP(I2092,CAD_Q!$C$6:$D$105,2,FALSE)=0,\"\",VLOOKUP(I2092,CAD_Q!$C$6:$D$105,2,FALSE)))","v":""},{"$f":"IFERROR(VLOOKUP(I2092,CAD_Q!$C$6:$E$109,3,FALSE)*F2092,\"\")","v":""},null,null,"",1,0,1900,0,1,1900,"Nombre y el registro de entrada válida"]
[null,"",null,null,null,"",null,null,null,{"$f":"IF(I2093=\"\",\"\",IF(VLOOKUP(I2093,CAD_Q!$C$6:$D$105,2,FALSE)=0,\"\",VLOOKUP(I2093,CAD_Q!$C$6:$D$105,2,FALSE)))","v":""},{"$f":"IFERROR(VLOOKUP(I2093,CAD_Q!$C$6:$E$109,3,FALSE)*F2093,\"\")","v":""},null,null,"",1,0,1900,0,1,1900,"Nombre y el registro de entrada válida"]
[null,"",null,null,null,"",null,null,null,{"$f":"IF(I2094=\"\",\"\",IF(VLOOKUP(I2094,CAD_Q!$C$6:$D$105,2,FALSE)=0,\"\",VLOOKUP(I2094,CAD_Q!$C$6:$D$105,2,FALSE)))","v":""},{"$f":"IFERROR(VLOOKUP(I2094,CAD_Q!$C$6:$E$109,3,FALSE)*F2094,\"\")","v":""},null,null,"",1,0,1900,0,1,1900,"Nombre y el registro de entrada válida"]
[null,"",null,null,null,"",null,null,null,{"$f":"IF(I2095=\"\",\"\",IF(VLOOKUP(I2095,CAD_Q!$C$6:$D$105,2,FALSE)=0,\"\",VLOOKUP(I2095,CAD_Q!$C$6:$D$105,2,FALSE)))","v":""},{"$f":"IFERROR(VLOOKUP(I2095,CAD_Q!$C$6:$E$109,3,FALSE)*F2095,\"\")","v":""},null,null,"",1,0,1900,0,1,1900,"Nombre y el registro de entrada válida"]
[null,"",null,null,null,"",null,null,null,{"$f":"IF(I2096=\"\",\"\",IF(VLOOKUP(I2096,CAD_Q!$C$6:$D$105,2,FALSE)=0,\"\",VLOOKUP(I2096,CAD_Q!$C$6:$D$105,2,FALSE)))","v":""},{"$f":"IFERROR(VLOOKUP(I2096,CAD_Q!$C$6:$E$109,3,FALSE)*F2096,\"\")","v":""},null,null,"",1,0,1900,0,1,1900,"Nombre y el registro de entrada válida"]
[null,"",null,null,null,"",null,null,null,{"$f":"IF(I2097=\"\",\"\",IF(VLOOKUP(I2097,CAD_Q!$C$6:$D$105,2,FALSE)=0,\"\",VLOOKUP(I2097,CAD_Q!$C$6:$D$105,2,FALSE)))","v":""},{"$f":"IFERROR(VLOOKUP(I2097,CAD_Q!$C$6:$E$109,3,FALSE)*F2097,\"\")","v":""},null,null,"",1,0,1900,0,1,1900,"Nombre y el registro de entrada válida"]
[null,"",null,null,null,"",null,null,null,{"$f":"IF(I2098=\"\",\"\",IF(VLOOKUP(I2098,CAD_Q!$C$6:$D$105,2,FALSE)=0,\"\",VLOOKUP(I2098,CAD_Q!$C$6:$D$105,2,FALSE)))","v":""},{"$f":"IFERROR(VLOOKUP(I2098,CAD_Q!$C$6:$E$109,3,FALSE)*F2098,\"\")","v":""},null,null,"",1,0,1900,0,1,1900,"Nombre y el registro de entrada válida"]
[null,"",null,null,null,"",null,null,null,{"$f":"IF(I2099=\"\",\"\",IF(VLOOKUP(I2099,CAD_Q!$C$6:$D$105,2,FALSE)=0,\"\",VLOOKUP(I2099,CAD_Q!$C$6:$D$105,2,FALSE)))","v":""},{"$f":"IFERROR(VLOOKUP(I2099,CAD_Q!$C$6:$E$109,3,FALSE)*F2099,\"\")","v":""},null,null,"",1,0,1900,0,1,1900,"Nombre y el registro de entrada válida"]
[null,"",null,null,null,"",null,null,null,{"$f":"IF(I2100=\"\",\"\",IF(VLOOKUP(I2100,CAD_Q!$C$6:$D$105,2,FALSE)=0,\"\",VLOOKUP(I2100,CAD_Q!$C$6:$D$105,2,FALSE)))","v":""},{"$f":"IFERROR(VLOOKUP(I2100,CAD_Q!$C$6:$E$109,3,FALSE)*F2100,\"\")","v":""},null,null,"",1,0,1900,0,1,1900,"Nombre y el registro de entrada válida"]
[null,"",null,null,null,"",null,null,null,{"$f":"IF(I2101=\"\",\"\",IF(VLOOKUP(I2101,CAD_Q!$C$6:$D$105,2,FALSE)=0,\"\",VLOOKUP(I2101,CAD_Q!$C$6:$D$105,2,FALSE)))","v":""},{"$f":"IFERROR(VLOOKUP(I2101,CAD_Q!$C$6:$E$109,3,FALSE)*F2101,\"\")","v":""},null,null,"",1,0,1900,0,1,1900,"Nombre y el registro de entrada válida"]
[null,"",null,null,null,"",null,null,null,{"$f":"IF(I2102=\"\",\"\",IF(VLOOKUP(I2102,CAD_Q!$C$6:$D$105,2,FALSE)=0,\"\",VLOOKUP(I2102,CAD_Q!$C$6:$D$105,2,FALSE)))","v":""},{"$f":"IFERROR(VLOOKUP(I2102,CAD_Q!$C$6:$E$109,3,FALSE)*F2102,\"\")","v":""},null,null,"",1,0,1900,0,1,1900,"Nombre y el registro de entrada válida"]
[null,"",null,null,null,"",null,null,null,{"$f":"IF(I2103=\"\",\"\",IF(VLOOKUP(I2103,CAD_Q!$C$6:$D$105,2,FALSE)=0,\"\",VLOOKUP(I2103,CAD_Q!$C$6:$D$105,2,FALSE)))","v":""},{"$f":"IFERROR(VLOOKUP(I2103,CAD_Q!$C$6:$E$109,3,FALSE)*F2103,\"\")","v":""},null,null,"",1,0,1900,0,1,1900,"Nombre y el registro de entrada válida"]
[null,"",null,null,null,"",null,null,null,{"$f":"IF(I2104=\"\",\"\",IF(VLOOKUP(I2104,CAD_Q!$C$6:$D$105,2,FALSE)=0,\"\",VLOOKUP(I2104,CAD_Q!$C$6:$D$105,2,FALSE)))","v":""},{"$f":"IFERROR(VLOOKUP(I2104,CAD_Q!$C$6:$E$109,3,FALSE)*F2104,\"\")","v":""},null,null,"",1,0,1900,0,1,1900,"Nombre y el registro de entrada válida"]
[null,"",null,null,null,"",null,null,null,{"$f":"IF(I2105=\"\",\"\",IF(VLOOKUP(I2105,CAD_Q!$C$6:$D$105,2,FALSE)=0,\"\",VLOOKUP(I2105,CAD_Q!$C$6:$D$105,2,FALSE)))","v":""},{"$f":"IFERROR(VLOOKUP(I2105,CAD_Q!$C$6:$E$109,3,FALSE)*F2105,\"\")","v":""},null,null,"",1,0,1900,0,1,1900,"Nombre y el registro de entrada válida"]
[null,"",null,null,null,"",null,null,null,{"$f":"IF(I2106=\"\",\"\",IF(VLOOKUP(I2106,CAD_Q!$C$6:$D$105,2,FALSE)=0,\"\",VLOOKUP(I2106,CAD_Q!$C$6:$D$105,2,FALSE)))","v":""},{"$f":"IFERROR(VLOOKUP(I2106,CAD_Q!$C$6:$E$109,3,FALSE)*F2106,\"\")","v":""},null,null,"",1,0,1900,0,1,1900,"Nombre y el registro de entrada válida"]
[null,"",null,null,null,"",null,null,null,{"$f":"IF(I2107=\"\",\"\",IF(VLOOKUP(I2107,CAD_Q!$C$6:$D$105,2,FALSE)=0,\"\",VLOOKUP(I2107,CAD_Q!$C$6:$D$105,2,FALSE)))","v":""},{"$f":"IFERROR(VLOOKUP(I2107,CAD_Q!$C$6:$E$109,3,FALSE)*F2107,\"\")","v":""},null,null,"",1,0,1900,0,1,1900,"Nombre y el registro de entrada válida"]
[null,"",null,null,null,"",null,null,null,{"$f":"IF(I2108=\"\",\"\",IF(VLOOKUP(I2108,CAD_Q!$C$6:$D$105,2,FALSE)=0,\"\",VLOOKUP(I2108,CAD_Q!$C$6:$D$105,2,FALSE)))","v":""},{"$f":"IFERROR(VLOOKUP(I2108,CAD_Q!$C$6:$E$109,3,FALSE)*F2108,\"\")","v":""},null,null,"",1,0,1900,0,1,1900,"Nombre y el registro de entrada válida"]
[null,"",null,null,null,"",null,null,null,{"$f":"IF(I2109=\"\",\"\",IF(VLOOKUP(I2109,CAD_Q!$C$6:$D$105,2,FALSE)=0,\"\",VLOOKUP(I2109,CAD_Q!$C$6:$D$105,2,FALSE)))","v":""},{"$f":"IFERROR(VLOOKUP(I2109,CAD_Q!$C$6:$E$109,3,FALSE)*F2109,\"\")","v":""},null,null,"",1,0,1900,0,1,1900,"Nombre y el registro de entrada válida"]
[null,"",null,null,null,"",null,null,null,{"$f":"IF(I2110=\"\",\"\",IF(VLOOKUP(I2110,CAD_Q!$C$6:$D$105,2,FALSE)=0,\"\",VLOOKUP(I2110,CAD_Q!$C$6:$D$105,2,FALSE)))","v":""},{"$f":"IFERROR(VLOOKUP(I2110,CAD_Q!$C$6:$E$109,3,FALSE)*F2110,\"\")","v":""},null,null,"",1,0,1900,0,1,1900,"Nombre y el registro de entrada válida"]
[null,"",null,null,null,"",null,null,null,{"$f":"IF(I2111=\"\",\"\",IF(VLOOKUP(I2111,CAD_Q!$C$6:$D$105,2,FALSE)=0,\"\",VLOOKUP(I2111,CAD_Q!$C$6:$D$105,2,FALSE)))","v":""},{"$f":"IFERROR(VLOOKUP(I2111,CAD_Q!$C$6:$E$109,3,FALSE)*F2111,\"\")","v":""},null,null,"",1,0,1900,0,1,1900,"Nombre y el registro de entrada válida"]
[null,"",null,null,null,"",null,null,null,{"$f":"IF(I2112=\"\",\"\",IF(VLOOKUP(I2112,CAD_Q!$C$6:$D$105,2,FALSE)=0,\"\",VLOOKUP(I2112,CAD_Q!$C$6:$D$105,2,FALSE)))","v":""},{"$f":"IFERROR(VLOOKUP(I2112,CAD_Q!$C$6:$E$109,3,FALSE)*F2112,\"\")","v":""},null,null,"",1,0,1900,0,1,1900,"Nombre y el registro de entrada válida"]
[null,"",null,null,null,"",null,null,null,{"$f":"IF(I2113=\"\",\"\",IF(VLOOKUP(I2113,CAD_Q!$C$6:$D$105,2,FALSE)=0,\"\",VLOOKUP(I2113,CAD_Q!$C$6:$D$105,2,FALSE)))","v":""},{"$f":"IFERROR(VLOOKUP(I2113,CAD_Q!$C$6:$E$109,3,FALSE)*F2113,\"\")","v":""},null,null,"",1,0,1900,0,1,1900,"Nombre y el registro de entrada válida"]
[null,"",null,null,null,"",null,null,null,{"$f":"IF(I2114=\"\",\"\",IF(VLOOKUP(I2114,CAD_Q!$C$6:$D$105,2,FALSE)=0,\"\",VLOOKUP(I2114,CAD_Q!$C$6:$D$105,2,FALSE)))","v":""},{"$f":"IFERROR(VLOOKUP(I2114,CAD_Q!$C$6:$E$109,3,FALSE)*F2114,\"\")","v":""},null,null,"",1,0,1900,0,1,1900,"Nombre y el registro de entrada válida"]
[null,"",null,null,null,"",null,null,null,{"$f":"IF(I2115=\"\",\"\",IF(VLOOKUP(I2115,CAD_Q!$C$6:$D$105,2,FALSE)=0,\"\",VLOOKUP(I2115,CAD_Q!$C$6:$D$105,2,FALSE)))","v":""},{"$f":"IFERROR(VLOOKUP(I2115,CAD_Q!$C$6:$E$109,3,FALSE)*F2115,\"\")","v":""},null,null,"",1,0,1900,0,1,1900,"Nombre y el registro de entrada válida"]
[null,"",null,null,null,"",null,null,null,{"$f":"IF(I2116=\"\",\"\",IF(VLOOKUP(I2116,CAD_Q!$C$6:$D$105,2,FALSE)=0,\"\",VLOOKUP(I2116,CAD_Q!$C$6:$D$105,2,FALSE)))","v":""},{"$f":"IFERROR(VLOOKUP(I2116,CAD_Q!$C$6:$E$109,3,FALSE)*F2116,\"\")","v":""},null,null,"",1,0,1900,0,1,1900,"Nombre y el registro de entrada válida"]
[null,"",null,null,null,"",null,null,null,{"$f":"IF(I2117=\"\",\"\",IF(VLOOKUP(I2117,CAD_Q!$C$6:$D$105,2,FALSE)=0,\"\",VLOOKUP(I2117,CAD_Q!$C$6:$D$105,2,FALSE)))","v":""},{"$f":"IFERROR(VLOOKUP(I2117,CAD_Q!$C$6:$E$109,3,FALSE)*F2117,\"\")","v":""},null,null,"",1,0,1900,0,1,1900,"Nombre y el registro de entrada válida"]
[null,"",null,null,null,"",null,null,null,{"$f":"IF(I2118=\"\",\"\",IF(VLOOKUP(I2118,CAD_Q!$C$6:$D$105,2,FALSE)=0,\"\",VLOOKUP(I2118,CAD_Q!$C$6:$D$105,2,FALSE)))","v":""},{"$f":"IFERROR(VLOOKUP(I2118,CAD_Q!$C$6:$E$109,3,FALSE)*F2118,\"\")","v":""},null,null,"",1,0,1900,0,1,1900,"Nombre y el registro de entrada válida"]
[null,{"$f":"CONCATENATE(C2119,D2119)","v":""},null,null,null,"",null,null,null,{"$f":"IF(I2119=\"\",\"\",IF(VLOOKUP(I2119,CAD_Q!$C$6:$D$105,2,FALSE)=0,\"\",VLOOKUP(I2119,CAD_Q!$C$6:$D$105,2,FALSE)))","v":""},{"$f":"IFERROR(VLOOKUP(I2119,CAD_Q!$C$6:$E$109,3,FALSE)*F2119,\"\")","v":""},null,null,{"$f":"IFERROR(K2119-L2119+M2119,\"\")","v":""},1,0,1900,0,1,1900,"Nombre y el registro de entrada válida"]
[null,"",null,null,null,"",null,null,null,{"$f":"IF(I2120=\"\",\"\",IF(VLOOKUP(I2120,CAD_Q!$C$6:$D$105,2,FALSE)=0,\"\",VLOOKUP(I2120,CAD_Q!$C$6:$D$105,2,FALSE)))","v":""},{"$f":"IFERROR(VLOOKUP(I2120,CAD_Q!$C$6:$E$109,3,FALSE)*F2120,\"\")","v":""},null,null,"",1,0,1900,0,1,1900,"Nombre y el registro de entrada válida"]
[null,"",null,null,null,"",null,null,null,{"$f":"IF(I2121=\"\",\"\",IF(VLOOKUP(I2121,CAD_Q!$C$6:$D$105,2,FALSE)=0,\"\",VLOOKUP(I2121,CAD_Q!$C$6:$D$105,2,FALSE)))","v":""},{"$f":"IFERROR(VLOOKUP(I2121,CAD_Q!$C$6:$E$109,3,FALSE)*F2121,\"\")","v":""},null,null,"",1,0,1900,0,1,1900,"Nombre y el registro de entrada válida"]
[null,"",null,null,null,"",null,null,null,{"$f":"IF(I2122=\"\",\"\",IF(VLOOKUP(I2122,CAD_Q!$C$6:$D$105,2,FALSE)=0,\"\",VLOOKUP(I2122,CAD_Q!$C$6:$D$105,2,FALSE)))","v":""},{"$f":"IFERROR(VLOOKUP(I2122,CAD_Q!$C$6:$E$109,3,FALSE)*F2122,\"\")","v":""},null,null,"",{"$f":"MONTH(D2122)","v":1},{"$f":"DAY(D2122)","v":0},{"$f":"YEAR(D2122)","v":1900},{"$f":"DAY(E2122)","v":0},{"$f":"MONTH(E2122)","v":1},{"$f":"YEAR(E2122)","v":1900},"Nombre y el registro de entrada válida"]
[null,"",null,null,null,"",null,null,null,{"$f":"IF(I2123=\"\",\"\",IF(VLOOKUP(I2123,CAD_Q!$C$6:$D$105,2,FALSE)=0,\"\",VLOOKUP(I2123,CAD_Q!$C$6:$D$105,2,FALSE)))","v":""},{"$f":"IFERROR(VLOOKUP(I2123,CAD_Q!$C$6:$E$109,3,FALSE)*F2123,\"\")","v":""},null,null,"",1,0,1900,0,1,1900,"Nombre y el registro de entrada válida"]
[null,"",null,null,null,"",null,null,null,{"$f":"IF(I2124=\"\",\"\",IF(VLOOKUP(I2124,CAD_Q!$C$6:$D$105,2,FALSE)=0,\"\",VLOOKUP(I2124,CAD_Q!$C$6:$D$105,2,FALSE)))","v":""},{"$f":"IFERROR(VLOOKUP(I2124,CAD_Q!$C$6:$E$109,3,FALSE)*F2124,\"\")","v":""},null,null,"",1,0,1900,0,1,1900,"Nombre y el registro de entrada válida"]
[null,"",null,null,null,"",null,null,null,{"$f":"IF(I2125=\"\",\"\",IF(VLOOKUP(I2125,CAD_Q!$C$6:$D$105,2,FALSE)=0,\"\",VLOOKUP(I2125,CAD_Q!$C$6:$D$105,2,FALSE)))","v":""},{"$f":"IFERROR(VLOOKUP(I2125,CAD_Q!$C$6:$E$109,3,FALSE)*F2125,\"\")","v":""},null,null,"",1,0,1900,0,1,1900,"Nombre y el registro de entrada válida"]
[null,"",null,null,null,"",null,null,null,{"$f":"IF(I2126=\"\",\"\",IF(VLOOKUP(I2126,CAD_Q!$C$6:$D$105,2,FALSE)=0,\"\",VLOOKUP(I2126,CAD_Q!$C$6:$D$105,2,FALSE)))","v":""},{"$f":"IFERROR(VLOOKUP(I2126,CAD_Q!$C$6:$E$109,3,FALSE)*F2126,\"\")","v":""},null,null,"",1,0,1900,0,1,1900,"Nombre y el registro de entrada válida"]
[null,"",null,null,null,"",null,null,null,{"$f":"IF(I2127=\"\",\"\",IF(VLOOKUP(I2127,CAD_Q!$C$6:$D$105,2,FALSE)=0,\"\",VLOOKUP(I2127,CAD_Q!$C$6:$D$105,2,FALSE)))","v":""},{"$f":"IFERROR(VLOOKUP(I2127,CAD_Q!$C$6:$E$109,3,FALSE)*F2127,\"\")","v":""},null,null,"",1,0,1900,0,1,1900,"Nombre y el registro de entrada válida"]
[null,"",null,null,null,"",null,null,null,{"$f":"IF(I2128=\"\",\"\",IF(VLOOKUP(I2128,CAD_Q!$C$6:$D$105,2,FALSE)=0,\"\",VLOOKUP(I2128,CAD_Q!$C$6:$D$105,2,FALSE)))","v":""},{"$f":"IFERROR(VLOOKUP(I2128,CAD_Q!$C$6:$E$109,3,FALSE)*F2128,\"\")","v":""},null,null,"",1,0,1900,0,1,1900,"Nombre y el registro de entrada válida"]
[null,"",null,null,null,"",null,null,null,{"$f":"IF(I2129=\"\",\"\",IF(VLOOKUP(I2129,CAD_Q!$C$6:$D$105,2,FALSE)=0,\"\",VLOOKUP(I2129,CAD_Q!$C$6:$D$105,2,FALSE)))","v":""},{"$f":"IFERROR(VLOOKUP(I2129,CAD_Q!$C$6:$E$109,3,FALSE)*F2129,\"\")","v":""},null,null,"",1,0,1900,0,1,1900,"Nombre y el registro de entrada válida"]
[null,"",null,null,null,"",null,null,null,{"$f":"IF(I2130=\"\",\"\",IF(VLOOKUP(I2130,CAD_Q!$C$6:$D$105,2,FALSE)=0,\"\",VLOOKUP(I2130,CAD_Q!$C$6:$D$105,2,FALSE)))","v":""},{"$f":"IFERROR(VLOOKUP(I2130,CAD_Q!$C$6:$E$109,3,FALSE)*F2130,\"\")","v":""},null,null,"",1,0,1900,0,1,1900,"Nombre y el registro de entrada válida"]
[null,"",null,null,null,"",null,null,null,{"$f":"IF(I2131=\"\",\"\",IF(VLOOKUP(I2131,CAD_Q!$C$6:$D$105,2,FALSE)=0,\"\",VLOOKUP(I2131,CAD_Q!$C$6:$D$105,2,FALSE)))","v":""},{"$f":"IFERROR(VLOOKUP(I2131,CAD_Q!$C$6:$E$109,3,FALSE)*F2131,\"\")","v":""},null,null,"",1,0,1900,0,1,1900,"Nombre y el registro de entrada válida"]
[null,"",null,null,null,"",null,null,null,{"$f":"IF(I2132=\"\",\"\",IF(VLOOKUP(I2132,CAD_Q!$C$6:$D$105,2,FALSE)=0,\"\",VLOOKUP(I2132,CAD_Q!$C$6:$D$105,2,FALSE)))","v":""},{"$f":"IFERROR(VLOOKUP(I2132,CAD_Q!$C$6:$E$109,3,FALSE)*F2132,\"\")","v":""},null,null,"",1,0,1900,0,1,1900,"Nombre y el registro de entrada válida"]
[null,"",null,null,null,"",null,null,null,{"$f":"IF(I2133=\"\",\"\",IF(VLOOKUP(I2133,CAD_Q!$C$6:$D$105,2,FALSE)=0,\"\",VLOOKUP(I2133,CAD_Q!$C$6:$D$105,2,FALSE)))","v":""},{"$f":"IFERROR(VLOOKUP(I2133,CAD_Q!$C$6:$E$109,3,FALSE)*F2133,\"\")","v":""},null,null,"",1,0,1900,0,1,1900,"Nombre y el registro de entrada válida"]
[null,"",null,null,null,"",null,null,null,{"$f":"IF(I2134=\"\",\"\",IF(VLOOKUP(I2134,CAD_Q!$C$6:$D$105,2,FALSE)=0,\"\",VLOOKUP(I2134,CAD_Q!$C$6:$D$105,2,FALSE)))","v":""},{"$f":"IFERROR(VLOOKUP(I2134,CAD_Q!$C$6:$E$109,3,FALSE)*F2134,\"\")","v":""},null,null,"",1,0,1900,0,1,1900,"Nombre y el registro de entrada válida"]
[null,"",null,null,null,"",null,null,null,{"$f":"IF(I2135=\"\",\"\",IF(VLOOKUP(I2135,CAD_Q!$C$6:$D$105,2,FALSE)=0,\"\",VLOOKUP(I2135,CAD_Q!$C$6:$D$105,2,FALSE)))","v":""},{"$f":"IFERROR(VLOOKUP(I2135,CAD_Q!$C$6:$E$109,3,FALSE)*F2135,\"\")","v":""},null,null,"",1,0,1900,0,1,1900,"Nombre y el registro de entrada válida"]
[null,"",null,null,null,"",null,null,null,{"$f":"IF(I2136=\"\",\"\",IF(VLOOKUP(I2136,CAD_Q!$C$6:$D$105,2,FALSE)=0,\"\",VLOOKUP(I2136,CAD_Q!$C$6:$D$105,2,FALSE)))","v":""},{"$f":"IFERROR(VLOOKUP(I2136,CAD_Q!$C$6:$E$109,3,FALSE)*F2136,\"\")","v":""},null,null,"",1,0,1900,0,1,1900,"Nombre y el registro de entrada válida"]
[null,"",null,null,null,"",null,null,null,{"$f":"IF(I2137=\"\",\"\",IF(VLOOKUP(I2137,CAD_Q!$C$6:$D$105,2,FALSE)=0,\"\",VLOOKUP(I2137,CAD_Q!$C$6:$D$105,2,FALSE)))","v":""},{"$f":"IFERROR(VLOOKUP(I2137,CAD_Q!$C$6:$E$109,3,FALSE)*F2137,\"\")","v":""},null,null,"",1,0,1900,0,1,1900,"Nombre y el registro de entrada válida"]
[null,"",null,null,null,"",null,null,null,{"$f":"IF(I2138=\"\",\"\",IF(VLOOKUP(I2138,CAD_Q!$C$6:$D$105,2,FALSE)=0,\"\",VLOOKUP(I2138,CAD_Q!$C$6:$D$105,2,FALSE)))","v":""},{"$f":"IFERROR(VLOOKUP(I2138,CAD_Q!$C$6:$E$109,3,FALSE)*F2138,\"\")","v":""},null,null,"",1,0,1900,0,1,1900,"Nombre y el registro de entrada válida"]
[null,"",null,null,null,"",null,null,null,{"$f":"IF(I2139=\"\",\"\",IF(VLOOKUP(I2139,CAD_Q!$C$6:$D$105,2,FALSE)=0,\"\",VLOOKUP(I2139,CAD_Q!$C$6:$D$105,2,FALSE)))","v":""},{"$f":"IFERROR(VLOOKUP(I2139,CAD_Q!$C$6:$E$109,3,FALSE)*F2139,\"\")","v":""},null,null,"",1,0,1900,0,1,1900,"Nombre y el registro de entrada válida"]
[null,"",null,null,null,"",null,null,null,{"$f":"IF(I2140=\"\",\"\",IF(VLOOKUP(I2140,CAD_Q!$C$6:$D$105,2,FALSE)=0,\"\",VLOOKUP(I2140,CAD_Q!$C$6:$D$105,2,FALSE)))","v":""},{"$f":"IFERROR(VLOOKUP(I2140,CAD_Q!$C$6:$E$109,3,FALSE)*F2140,\"\")","v":""},null,null,"",1,0,1900,0,1,1900,"Nombre y el registro de entrada válida"]
[null,"",null,null,null,"",null,null,null,{"$f":"IF(I2141=\"\",\"\",IF(VLOOKUP(I2141,CAD_Q!$C$6:$D$105,2,FALSE)=0,\"\",VLOOKUP(I2141,CAD_Q!$C$6:$D$105,2,FALSE)))","v":""},{"$f":"IFERROR(VLOOKUP(I2141,CAD_Q!$C$6:$E$109,3,FALSE)*F2141,\"\")","v":""},null,null,"",1,0,1900,0,1,1900,"Nombre y el registro de entrada válida"]
[null,"",null,null,null,"",null,null,null,{"$f":"IF(I2142=\"\",\"\",IF(VLOOKUP(I2142,CAD_Q!$C$6:$D$105,2,FALSE)=0,\"\",VLOOKUP(I2142,CAD_Q!$C$6:$D$105,2,FALSE)))","v":""},{"$f":"IFERROR(VLOOKUP(I2142,CAD_Q!$C$6:$E$109,3,FALSE)*F2142,\"\")","v":""},null,null,"",1,0,1900,0,1,1900,"Nombre y el registro de entrada válida"]
[null,"",null,null,null,"",null,null,null,{"$f":"IF(I2143=\"\",\"\",IF(VLOOKUP(I2143,CAD_Q!$C$6:$D$105,2,FALSE)=0,\"\",VLOOKUP(I2143,CAD_Q!$C$6:$D$105,2,FALSE)))","v":""},{"$f":"IFERROR(VLOOKUP(I2143,CAD_Q!$C$6:$E$109,3,FALSE)*F2143,\"\")","v":""},null,null,"",1,0,1900,0,1,1900,"Nombre y el registro de entrada válida"]
[null,"",null,null,null,"",null,null,null,{"$f":"IF(I2144=\"\",\"\",IF(VLOOKUP(I2144,CAD_Q!$C$6:$D$105,2,FALSE)=0,\"\",VLOOKUP(I2144,CAD_Q!$C$6:$D$105,2,FALSE)))","v":""},{"$f":"IFERROR(VLOOKUP(I2144,CAD_Q!$C$6:$E$109,3,FALSE)*F2144,\"\")","v":""},null,null,"",1,0,1900,0,1,1900,"Nombre y el registro de entrada válida"]
[null,"",null,null,null,"",null,null,null,{"$f":"IF(I2145=\"\",\"\",IF(VLOOKUP(I2145,CAD_Q!$C$6:$D$105,2,FALSE)=0,\"\",VLOOKUP(I2145,CAD_Q!$C$6:$D$105,2,FALSE)))","v":""},{"$f":"IFERROR(VLOOKUP(I2145,CAD_Q!$C$6:$E$109,3,FALSE)*F2145,\"\")","v":""},null,null,"",1,0,1900,0,1,1900,"Nombre y el registro de entrada válida"]
[null,"",null,null,null,"",null,null,null,{"$f":"IF(I2146=\"\",\"\",IF(VLOOKUP(I2146,CAD_Q!$C$6:$D$105,2,FALSE)=0,\"\",VLOOKUP(I2146,CAD_Q!$C$6:$D$105,2,FALSE)))","v":""},{"$f":"IFERROR(VLOOKUP(I2146,CAD_Q!$C$6:$E$109,3,FALSE)*F2146,\"\")","v":""},null,null,"",1,0,1900,0,1,1900,"Nombre y el registro de entrada válida"]
[null,"",null,null,null,"",null,null,null,{"$f":"IF(I2147=\"\",\"\",IF(VLOOKUP(I2147,CAD_Q!$C$6:$D$105,2,FALSE)=0,\"\",VLOOKUP(I2147,CAD_Q!$C$6:$D$105,2,FALSE)))","v":""},{"$f":"IFERROR(VLOOKUP(I2147,CAD_Q!$C$6:$E$109,3,FALSE)*F2147,\"\")","v":""},null,null,"",1,0,1900,0,1,1900,"Nombre y el registro de entrada válida"]
[null,"",null,null,null,{"$f":"IF(OR(D2148=\"\",E2148=\"\"),\"\",E2148-D2148)","v":""},null,null,null,{"$f":"IF(I2148=\"\",\"\",IF(VLOOKUP(I2148,CAD_Q!$C$6:$D$105,2,FALSE)=0,\"\",VLOOKUP(I2148,CAD_Q!$C$6:$D$105,2,FALSE)))","v":""},{"$f":"IFERROR(VLOOKUP(I2148,CAD_Q!$C$6:$E$109,3,FALSE)*F2148,\"\")","v":""},null,null,"",1,0,1900,0,1,1900,"Nombre y el registro de entrada válida"]
[null,"",null,null,null,"",null,null,null,{"$f":"IF(I2149=\"\",\"\",IF(VLOOKUP(I2149,CAD_Q!$C$6:$D$105,2,FALSE)=0,\"\",VLOOKUP(I2149,CAD_Q!$C$6:$D$105,2,FALSE)))","v":""},{"$f":"IFERROR(VLOOKUP(I2149,CAD_Q!$C$6:$E$109,3,FALSE)*F2149,\"\")","v":""},null,null,"",1,0,1900,0,1,1900,"Nombre y el registro de entrada válida"]
[null,"",null,null,null,"",null,null,null,{"$f":"IF(I2150=\"\",\"\",IF(VLOOKUP(I2150,CAD_Q!$C$6:$D$105,2,FALSE)=0,\"\",VLOOKUP(I2150,CAD_Q!$C$6:$D$105,2,FALSE)))","v":""},{"$f":"IFERROR(VLOOKUP(I2150,CAD_Q!$C$6:$E$109,3,FALSE)*F2150,\"\")","v":""},null,null,"",1,0,1900,0,1,1900,"Nombre y el registro de entrada válida"]
[null,"",null,null,null,"",null,null,null,{"$f":"IF(I2151=\"\",\"\",IF(VLOOKUP(I2151,CAD_Q!$C$6:$D$105,2,FALSE)=0,\"\",VLOOKUP(I2151,CAD_Q!$C$6:$D$105,2,FALSE)))","v":""},{"$f":"IFERROR(VLOOKUP(I2151,CAD_Q!$C$6:$E$109,3,FALSE)*F2151,\"\")","v":""},null,null,"",1,0,1900,0,1,1900,"Nombre y el registro de entrada válida"]
[null,"",null,null,null,"",null,null,null,{"$f":"IF(I2152=\"\",\"\",IF(VLOOKUP(I2152,CAD_Q!$C$6:$D$105,2,FALSE)=0,\"\",VLOOKUP(I2152,CAD_Q!$C$6:$D$105,2,FALSE)))","v":""},{"$f":"IFERROR(VLOOKUP(I2152,CAD_Q!$C$6:$E$109,3,FALSE)*F2152,\"\")","v":""},null,null,"",1,0,1900,0,1,1900,"Nombre y el registro de entrada válida"]
[null,"",null,null,null,"",null,null,null,{"$f":"IF(I2153=\"\",\"\",IF(VLOOKUP(I2153,CAD_Q!$C$6:$D$105,2,FALSE)=0,\"\",VLOOKUP(I2153,CAD_Q!$C$6:$D$105,2,FALSE)))","v":""},{"$f":"IFERROR(VLOOKUP(I2153,CAD_Q!$C$6:$E$109,3,FALSE)*F2153,\"\")","v":""},null,null,"",1,0,1900,0,1,1900,"Nombre y el registro de entrada válida"]
[null,"",null,null,null,"",null,null,null,{"$f":"IF(I2154=\"\",\"\",IF(VLOOKUP(I2154,CAD_Q!$C$6:$D$105,2,FALSE)=0,\"\",VLOOKUP(I2154,CAD_Q!$C$6:$D$105,2,FALSE)))","v":""},{"$f":"IFERROR(VLOOKUP(I2154,CAD_Q!$C$6:$E$109,3,FALSE)*F2154,\"\")","v":""},null,null,"",1,0,1900,0,1,1900,"Nombre y el registro de entrada válida"]
[null,"",null,null,null,"",null,null,null,{"$f":"IF(I2155=\"\",\"\",IF(VLOOKUP(I2155,CAD_Q!$C$6:$D$105,2,FALSE)=0,\"\",VLOOKUP(I2155,CAD_Q!$C$6:$D$105,2,FALSE)))","v":""},{"$f":"IFERROR(VLOOKUP(I2155,CAD_Q!$C$6:$E$109,3,FALSE)*F2155,\"\")","v":""},null,null,"",1,0,1900,0,1,1900,"Nombre y el registro de entrada válida"]
[null,"",null,null,null,"",null,null,null,{"$f":"IF(I2156=\"\",\"\",IF(VLOOKUP(I2156,CAD_Q!$C$6:$D$105,2,FALSE)=0,\"\",VLOOKUP(I2156,CAD_Q!$C$6:$D$105,2,FALSE)))","v":""},{"$f":"IFERROR(VLOOKUP(I2156,CAD_Q!$C$6:$E$109,3,FALSE)*F2156,\"\")","v":""},null,null,"",1,0,1900,0,1,1900,"Nombre y el registro de entrada válida"]
[null,"",null,null,null,"",null,null,null,{"$f":"IF(I2157=\"\",\"\",IF(VLOOKUP(I2157,CAD_Q!$C$6:$D$105,2,FALSE)=0,\"\",VLOOKUP(I2157,CAD_Q!$C$6:$D$105,2,FALSE)))","v":""},{"$f":"IFERROR(VLOOKUP(I2157,CAD_Q!$C$6:$E$109,3,FALSE)*F2157,\"\")","v":""},null,null,"",1,0,1900,0,1,1900,"Nombre y el registro de entrada válida"]
[null,"",null,null,null,"",null,null,null,{"$f":"IF(I2158=\"\",\"\",IF(VLOOKUP(I2158,CAD_Q!$C$6:$D$105,2,FALSE)=0,\"\",VLOOKUP(I2158,CAD_Q!$C$6:$D$105,2,FALSE)))","v":""},{"$f":"IFERROR(VLOOKUP(I2158,CAD_Q!$C$6:$E$109,3,FALSE)*F2158,\"\")","v":""},null,null,"",1,0,1900,0,1,1900,"Nombre y el registro de entrada válida"]
[null,"",null,null,null,"",null,null,null,{"$f":"IF(I2159=\"\",\"\",IF(VLOOKUP(I2159,CAD_Q!$C$6:$D$105,2,FALSE)=0,\"\",VLOOKUP(I2159,CAD_Q!$C$6:$D$105,2,FALSE)))","v":""},{"$f":"IFERROR(VLOOKUP(I2159,CAD_Q!$C$6:$E$109,3,FALSE)*F2159,\"\")","v":""},null,null,"",1,0,1900,0,1,1900,"Nombre y el registro de entrada válida"]
[null,"",null,null,null,"",null,null,null,{"$f":"IF(I2160=\"\",\"\",IF(VLOOKUP(I2160,CAD_Q!$C$6:$D$105,2,FALSE)=0,\"\",VLOOKUP(I2160,CAD_Q!$C$6:$D$105,2,FALSE)))","v":""},{"$f":"IFERROR(VLOOKUP(I2160,CAD_Q!$C$6:$E$109,3,FALSE)*F2160,\"\")","v":""},null,null,"",1,0,1900,0,1,1900,"Nombre y el registro de entrada válida"]
[null,"",null,null,null,"",null,null,null,{"$f":"IF(I2161=\"\",\"\",IF(VLOOKUP(I2161,CAD_Q!$C$6:$D$105,2,FALSE)=0,\"\",VLOOKUP(I2161,CAD_Q!$C$6:$D$105,2,FALSE)))","v":""},{"$f":"IFERROR(VLOOKUP(I2161,CAD_Q!$C$6:$E$109,3,FALSE)*F2161,\"\")","v":""},null,null,"",1,0,1900,0,1,1900,"Nombre y el registro de entrada válida"]
[null,"",null,null,null,"",null,null,null,{"$f":"IF(I2162=\"\",\"\",IF(VLOOKUP(I2162,CAD_Q!$C$6:$D$105,2,FALSE)=0,\"\",VLOOKUP(I2162,CAD_Q!$C$6:$D$105,2,FALSE)))","v":""},{"$f":"IFERROR(VLOOKUP(I2162,CAD_Q!$C$6:$E$109,3,FALSE)*F2162,\"\")","v":""},null,null,"",1,0,1900,0,1,1900,"Nombre y el registro de entrada válida"]
[null,"",null,null,null,"",null,null,null,{"$f":"IF(I2163=\"\",\"\",IF(VLOOKUP(I2163,CAD_Q!$C$6:$D$105,2,FALSE)=0,\"\",VLOOKUP(I2163,CAD_Q!$C$6:$D$105,2,FALSE)))","v":""},{"$f":"IFERROR(VLOOKUP(I2163,CAD_Q!$C$6:$E$109,3,FALSE)*F2163,\"\")","v":""},null,null,"",1,0,1900,0,1,1900,"Nombre y el registro de entrada válida"]
[null,"",null,null,null,"",null,null,null,{"$f":"IF(I2164=\"\",\"\",IF(VLOOKUP(I2164,CAD_Q!$C$6:$D$105,2,FALSE)=0,\"\",VLOOKUP(I2164,CAD_Q!$C$6:$D$105,2,FALSE)))","v":""},{"$f":"IFERROR(VLOOKUP(I2164,CAD_Q!$C$6:$E$109,3,FALSE)*F2164,\"\")","v":""},null,null,"",1,0,1900,0,1,1900,"Nombre y el registro de entrada válida"]
[null,"",null,null,null,"",null,null,null,{"$f":"IF(I2165=\"\",\"\",IF(VLOOKUP(I2165,CAD_Q!$C$6:$D$105,2,FALSE)=0,\"\",VLOOKUP(I2165,CAD_Q!$C$6:$D$105,2,FALSE)))","v":""},{"$f":"IFERROR(VLOOKUP(I2165,CAD_Q!$C$6:$E$109,3,FALSE)*F2165,\"\")","v":""},null,null,"",1,0,1900,0,1,1900,"Nombre y el registro de entrada válida"]
[null,"",null,null,null,"",null,null,null,{"$f":"IF(I2166=\"\",\"\",IF(VLOOKUP(I2166,CAD_Q!$C$6:$D$105,2,FALSE)=0,\"\",VLOOKUP(I2166,CAD_Q!$C$6:$D$105,2,FALSE)))","v":""},{"$f":"IFERROR(VLOOKUP(I2166,CAD_Q!$C$6:$E$109,3,FALSE)*F2166,\"\")","v":""},null,null,"",1,0,1900,0,1,1900,"Nombre y el registro de entrada válida"]
[null,"",null,null,null,"",null,null,null,{"$f":"IF(I2167=\"\",\"\",IF(VLOOKUP(I2167,CAD_Q!$C$6:$D$105,2,FALSE)=0,\"\",VLOOKUP(I2167,CAD_Q!$C$6:$D$105,2,FALSE)))","v":""},{"$f":"IFERROR(VLOOKUP(I2167,CAD_Q!$C$6:$E$109,3,FALSE)*F2167,\"\")","v":""},null,null,"",1,0,1900,0,1,1900,"Nombre y el registro de entrada válida"]
[null,"",null,null,null,"",null,null,null,{"$f":"IF(I2168=\"\",\"\",IF(VLOOKUP(I2168,CAD_Q!$C$6:$D$105,2,FALSE)=0,\"\",VLOOKUP(I2168,CAD_Q!$C$6:$D$105,2,FALSE)))","v":""},{"$f":"IFERROR(VLOOKUP(I2168,CAD_Q!$C$6:$E$109,3,FALSE)*F2168,\"\")","v":""},null,null,"",1,0,1900,0,1,1900,"Nombre y el registro de entrada válida"]
[null,"",null,null,null,"",null,null,null,{"$f":"IF(I2169=\"\",\"\",IF(VLOOKUP(I2169,CAD_Q!$C$6:$D$105,2,FALSE)=0,\"\",VLOOKUP(I2169,CAD_Q!$C$6:$D$105,2,FALSE)))","v":""},{"$f":"IFERROR(VLOOKUP(I2169,CAD_Q!$C$6:$E$109,3,FALSE)*F2169,\"\")","v":""},null,null,"",1,0,1900,0,1,1900,"Nombre y el registro de entrada válida"]
[null,"",null,null,null,"",null,null,null,{"$f":"IF(I2170=\"\",\"\",IF(VLOOKUP(I2170,CAD_Q!$C$6:$D$105,2,FALSE)=0,\"\",VLOOKUP(I2170,CAD_Q!$C$6:$D$105,2,FALSE)))","v":""},{"$f":"IFERROR(VLOOKUP(I2170,CAD_Q!$C$6:$E$109,3,FALSE)*F2170,\"\")","v":""},null,null,"",1,0,1900,0,1,1900,"Nombre y el registro de entrada válida"]
[null,"",null,null,null,"",null,null,null,{"$f":"IF(I2171=\"\",\"\",IF(VLOOKUP(I2171,CAD_Q!$C$6:$D$105,2,FALSE)=0,\"\",VLOOKUP(I2171,CAD_Q!$C$6:$D$105,2,FALSE)))","v":""},{"$f":"IFERROR(VLOOKUP(I2171,CAD_Q!$C$6:$E$109,3,FALSE)*F2171,\"\")","v":""},null,null,"",1,0,1900,0,1,1900,"Nombre y el registro de entrada válida"]
[null,"",null,null,null,"",null,null,null,{"$f":"IF(I2172=\"\",\"\",IF(VLOOKUP(I2172,CAD_Q!$C$6:$D$105,2,FALSE)=0,\"\",VLOOKUP(I2172,CAD_Q!$C$6:$D$105,2,FALSE)))","v":""},{"$f":"IFERROR(VLOOKUP(I2172,CAD_Q!$C$6:$E$109,3,FALSE)*F2172,\"\")","v":""},null,null,"",1,0,1900,0,1,1900,"Nombre y el registro de entrada válida"]
[null,"",null,null,null,"",null,null,null,{"$f":"IF(I2173=\"\",\"\",IF(VLOOKUP(I2173,CAD_Q!$C$6:$D$105,2,FALSE)=0,\"\",VLOOKUP(I2173,CAD_Q!$C$6:$D$105,2,FALSE)))","v":""},{"$f":"IFERROR(VLOOKUP(I2173,CAD_Q!$C$6:$E$109,3,FALSE)*F2173,\"\")","v":""},null,null,"",1,0,1900,0,1,1900,"Nombre y el registro de entrada válida"]
[null,"",null,null,null,"",null,null,null,{"$f":"IF(I2174=\"\",\"\",IF(VLOOKUP(I2174,CAD_Q!$C$6:$D$105,2,FALSE)=0,\"\",VLOOKUP(I2174,CAD_Q!$C$6:$D$105,2,FALSE)))","v":""},{"$f":"IFERROR(VLOOKUP(I2174,CAD_Q!$C$6:$E$109,3,FALSE)*F2174,\"\")","v":""},null,null,"",1,0,1900,0,1,1900,"Nombre y el registro de entrada válida"]
[null,"",null,null,null,"",null,null,null,{"$f":"IF(I2175=\"\",\"\",IF(VLOOKUP(I2175,CAD_Q!$C$6:$D$105,2,FALSE)=0,\"\",VLOOKUP(I2175,CAD_Q!$C$6:$D$105,2,FALSE)))","v":""},{"$f":"IFERROR(VLOOKUP(I2175,CAD_Q!$C$6:$E$109,3,FALSE)*F2175,\"\")","v":""},null,null,"",1,0,1900,0,1,1900,"Nombre y el registro de entrada válida"]
[null,"",null,null,null,"",null,null,null,{"$f":"IF(I2176=\"\",\"\",IF(VLOOKUP(I2176,CAD_Q!$C$6:$D$105,2,FALSE)=0,\"\",VLOOKUP(I2176,CAD_Q!$C$6:$D$105,2,FALSE)))","v":""},{"$f":"IFERROR(VLOOKUP(I2176,CAD_Q!$C$6:$E$109,3,FALSE)*F2176,\"\")","v":""},null,null,"",1,0,1900,0,1,1900,"Nombre y el registro de entrada válida"]
[null,"",null,null,null,"",null,null,null,{"$f":"IF(I2177=\"\",\"\",IF(VLOOKUP(I2177,CAD_Q!$C$6:$D$105,2,FALSE)=0,\"\",VLOOKUP(I2177,CAD_Q!$C$6:$D$105,2,FALSE)))","v":""},{"$f":"IFERROR(VLOOKUP(I2177,CAD_Q!$C$6:$E$109,3,FALSE)*F2177,\"\")","v":""},null,null,"",1,0,1900,0,1,1900,"Nombre y el registro de entrada válida"]
[null,"",null,null,null,"",null,null,null,{"$f":"IF(I2178=\"\",\"\",IF(VLOOKUP(I2178,CAD_Q!$C$6:$D$105,2,FALSE)=0,\"\",VLOOKUP(I2178,CAD_Q!$C$6:$D$105,2,FALSE)))","v":""},{"$f":"IFERROR(VLOOKUP(I2178,CAD_Q!$C$6:$E$109,3,FALSE)*F2178,\"\")","v":""},null,null,"",1,0,1900,0,1,1900,"Nombre y el registro de entrada válida"]
[null,"",null,null,null,"",null,null,null,{"$f":"IF(I2179=\"\",\"\",IF(VLOOKUP(I2179,CAD_Q!$C$6:$D$105,2,FALSE)=0,\"\",VLOOKUP(I2179,CAD_Q!$C$6:$D$105,2,FALSE)))","v":""},{"$f":"IFERROR(VLOOKUP(I2179,CAD_Q!$C$6:$E$109,3,FALSE)*F2179,\"\")","v":""},null,null,"",1,0,1900,0,1,1900,"Nombre y el registro de entrada válida"]
[null,"",null,null,null,"",null,null,null,{"$f":"IF(I2180=\"\",\"\",IF(VLOOKUP(I2180,CAD_Q!$C$6:$D$105,2,FALSE)=0,\"\",VLOOKUP(I2180,CAD_Q!$C$6:$D$105,2,FALSE)))","v":""},{"$f":"IFERROR(VLOOKUP(I2180,CAD_Q!$C$6:$E$109,3,FALSE)*F2180,\"\")","v":""},null,null,"",1,0,1900,0,1,1900,"Nombre y el registro de entrada válida"]
[null,"",null,null,null,"",null,null,null,{"$f":"IF(I2181=\"\",\"\",IF(VLOOKUP(I2181,CAD_Q!$C$6:$D$105,2,FALSE)=0,\"\",VLOOKUP(I2181,CAD_Q!$C$6:$D$105,2,FALSE)))","v":""},{"$f":"IFERROR(VLOOKUP(I2181,CAD_Q!$C$6:$E$109,3,FALSE)*F2181,\"\")","v":""},null,null,"",1,0,1900,0,1,1900,"Nombre y el registro de entrada válida"]
[null,"",null,null,null,"",null,null,null,{"$f":"IF(I2182=\"\",\"\",IF(VLOOKUP(I2182,CAD_Q!$C$6:$D$105,2,FALSE)=0,\"\",VLOOKUP(I2182,CAD_Q!$C$6:$D$105,2,FALSE)))","v":""},{"$f":"IFERROR(VLOOKUP(I2182,CAD_Q!$C$6:$E$109,3,FALSE)*F2182,\"\")","v":""},null,null,"",1,0,1900,0,1,1900,"Nombre y el registro de entrada válida"]
[null,{"$f":"CONCATENATE(C2183,D2183)","v":""},null,null,null,"",null,null,null,{"$f":"IF(I2183=\"\",\"\",IF(VLOOKUP(I2183,CAD_Q!$C$6:$D$105,2,FALSE)=0,\"\",VLOOKUP(I2183,CAD_Q!$C$6:$D$105,2,FALSE)))","v":""},{"$f":"IFERROR(VLOOKUP(I2183,CAD_Q!$C$6:$E$109,3,FALSE)*F2183,\"\")","v":""},null,null,{"$f":"IFERROR(K2183-L2183+M2183,\"\")","v":""},1,0,1900,0,1,1900,"Nombre y el registro de entrada válida"]
[null,"",null,null,null,"",null,null,null,{"$f":"IF(I2184=\"\",\"\",IF(VLOOKUP(I2184,CAD_Q!$C$6:$D$105,2,FALSE)=0,\"\",VLOOKUP(I2184,CAD_Q!$C$6:$D$105,2,FALSE)))","v":""},{"$f":"IFERROR(VLOOKUP(I2184,CAD_Q!$C$6:$E$109,3,FALSE)*F2184,\"\")","v":""},null,null,"",1,0,1900,0,1,1900,"Nombre y el registro de entrada válida"]
[null,"",null,null,null,"",null,null,null,{"$f":"IF(I2185=\"\",\"\",IF(VLOOKUP(I2185,CAD_Q!$C$6:$D$105,2,FALSE)=0,\"\",VLOOKUP(I2185,CAD_Q!$C$6:$D$105,2,FALSE)))","v":""},{"$f":"IFERROR(VLOOKUP(I2185,CAD_Q!$C$6:$E$109,3,FALSE)*F2185,\"\")","v":""},null,null,"",1,0,1900,0,1,1900,"Nombre y el registro de entrada válida"]
[null,"",null,null,null,"",null,null,null,{"$f":"IF(I2186=\"\",\"\",IF(VLOOKUP(I2186,CAD_Q!$C$6:$D$105,2,FALSE)=0,\"\",VLOOKUP(I2186,CAD_Q!$C$6:$D$105,2,FALSE)))","v":""},{"$f":"IFERROR(VLOOKUP(I2186,CAD_Q!$C$6:$E$109,3,FALSE)*F2186,\"\")","v":""},null,null,"",{"$f":"MONTH(D2186)","v":1},{"$f":"DAY(D2186)","v":0},{"$f":"YEAR(D2186)","v":1900},{"$f":"DAY(E2186)","v":0},{"$f":"MONTH(E2186)","v":1},{"$f":"YEAR(E2186)","v":1900},"Nombre y el registro de entrada válida"]
[null,"",null,null,null,"",null,null,null,{"$f":"IF(I2187=\"\",\"\",IF(VLOOKUP(I2187,CAD_Q!$C$6:$D$105,2,FALSE)=0,\"\",VLOOKUP(I2187,CAD_Q!$C$6:$D$105,2,FALSE)))","v":""},{"$f":"IFERROR(VLOOKUP(I2187,CAD_Q!$C$6:$E$109,3,FALSE)*F2187,\"\")","v":""},null,null,"",1,0,1900,0,1,1900,"Nombre y el registro de entrada válida"]
[null,"",null,null,null,"",null,null,null,{"$f":"IF(I2188=\"\",\"\",IF(VLOOKUP(I2188,CAD_Q!$C$6:$D$105,2,FALSE)=0,\"\",VLOOKUP(I2188,CAD_Q!$C$6:$D$105,2,FALSE)))","v":""},{"$f":"IFERROR(VLOOKUP(I2188,CAD_Q!$C$6:$E$109,3,FALSE)*F2188,\"\")","v":""},null,null,"",1,0,1900,0,1,1900,"Nombre y el registro de entrada válida"]
[null,"",null,null,null,"",null,null,null,{"$f":"IF(I2189=\"\",\"\",IF(VLOOKUP(I2189,CAD_Q!$C$6:$D$105,2,FALSE)=0,\"\",VLOOKUP(I2189,CAD_Q!$C$6:$D$105,2,FALSE)))","v":""},{"$f":"IFERROR(VLOOKUP(I2189,CAD_Q!$C$6:$E$109,3,FALSE)*F2189,\"\")","v":""},null,null,"",1,0,1900,0,1,1900,"Nombre y el registro de entrada válida"]
[null,"",null,null,null,"",null,null,null,{"$f":"IF(I2190=\"\",\"\",IF(VLOOKUP(I2190,CAD_Q!$C$6:$D$105,2,FALSE)=0,\"\",VLOOKUP(I2190,CAD_Q!$C$6:$D$105,2,FALSE)))","v":""},{"$f":"IFERROR(VLOOKUP(I2190,CAD_Q!$C$6:$E$109,3,FALSE)*F2190,\"\")","v":""},null,null,"",1,0,1900,0,1,1900,"Nombre y el registro de entrada válida"]
[null,"",null,null,null,"",null,null,null,{"$f":"IF(I2191=\"\",\"\",IF(VLOOKUP(I2191,CAD_Q!$C$6:$D$105,2,FALSE)=0,\"\",VLOOKUP(I2191,CAD_Q!$C$6:$D$105,2,FALSE)))","v":""},{"$f":"IFERROR(VLOOKUP(I2191,CAD_Q!$C$6:$E$109,3,FALSE)*F2191,\"\")","v":""},null,null,"",1,0,1900,0,1,1900,"Nombre y el registro de entrada válida"]
[null,"",null,null,null,"",null,null,null,{"$f":"IF(I2192=\"\",\"\",IF(VLOOKUP(I2192,CAD_Q!$C$6:$D$105,2,FALSE)=0,\"\",VLOOKUP(I2192,CAD_Q!$C$6:$D$105,2,FALSE)))","v":""},{"$f":"IFERROR(VLOOKUP(I2192,CAD_Q!$C$6:$E$109,3,FALSE)*F2192,\"\")","v":""},null,null,"",1,0,1900,0,1,1900,"Nombre y el registro de entrada válida"]
[null,"",null,null,null,"",null,null,null,{"$f":"IF(I2193=\"\",\"\",IF(VLOOKUP(I2193,CAD_Q!$C$6:$D$105,2,FALSE)=0,\"\",VLOOKUP(I2193,CAD_Q!$C$6:$D$105,2,FALSE)))","v":""},{"$f":"IFERROR(VLOOKUP(I2193,CAD_Q!$C$6:$E$109,3,FALSE)*F2193,\"\")","v":""},null,null,"",1,0,1900,0,1,1900,"Nombre y el registro de entrada válida"]
[null,"",null,null,null,"",null,null,null,{"$f":"IF(I2194=\"\",\"\",IF(VLOOKUP(I2194,CAD_Q!$C$6:$D$105,2,FALSE)=0,\"\",VLOOKUP(I2194,CAD_Q!$C$6:$D$105,2,FALSE)))","v":""},{"$f":"IFERROR(VLOOKUP(I2194,CAD_Q!$C$6:$E$109,3,FALSE)*F2194,\"\")","v":""},null,null,"",1,0,1900,0,1,1900,"Nombre y el registro de entrada válida"]
[null,"",null,null,null,"",null,null,null,{"$f":"IF(I2195=\"\",\"\",IF(VLOOKUP(I2195,CAD_Q!$C$6:$D$105,2,FALSE)=0,\"\",VLOOKUP(I2195,CAD_Q!$C$6:$D$105,2,FALSE)))","v":""},{"$f":"IFERROR(VLOOKUP(I2195,CAD_Q!$C$6:$E$109,3,FALSE)*F2195,\"\")","v":""},null,null,"",1,0,1900,0,1,1900,"Nombre y el registro de entrada válida"]
[null,"",null,null,null,"",null,null,null,{"$f":"IF(I2196=\"\",\"\",IF(VLOOKUP(I2196,CAD_Q!$C$6:$D$105,2,FALSE)=0,\"\",VLOOKUP(I2196,CAD_Q!$C$6:$D$105,2,FALSE)))","v":""},{"$f":"IFERROR(VLOOKUP(I2196,CAD_Q!$C$6:$E$109,3,FALSE)*F2196,\"\")","v":""},null,null,"",1,0,1900,0,1,1900,"Nombre y el registro de entrada válida"]
[null,"",null,null,null,"",null,null,null,{"$f":"IF(I2197=\"\",\"\",IF(VLOOKUP(I2197,CAD_Q!$C$6:$D$105,2,FALSE)=0,\"\",VLOOKUP(I2197,CAD_Q!$C$6:$D$105,2,FALSE)))","v":""},{"$f":"IFERROR(VLOOKUP(I2197,CAD_Q!$C$6:$E$109,3,FALSE)*F2197,\"\")","v":""},null,null,"",1,0,1900,0,1,1900,"Nombre y el registro de entrada válida"]
[null,"",null,null,null,"",null,null,null,{"$f":"IF(I2198=\"\",\"\",IF(VLOOKUP(I2198,CAD_Q!$C$6:$D$105,2,FALSE)=0,\"\",VLOOKUP(I2198,CAD_Q!$C$6:$D$105,2,FALSE)))","v":""},{"$f":"IFERROR(VLOOKUP(I2198,CAD_Q!$C$6:$E$109,3,FALSE)*F2198,\"\")","v":""},null,null,"",1,0,1900,0,1,1900,"Nombre y el registro de entrada válida"]
[null,"",null,null,null,"",null,null,null,{"$f":"IF(I2199=\"\",\"\",IF(VLOOKUP(I2199,CAD_Q!$C$6:$D$105,2,FALSE)=0,\"\",VLOOKUP(I2199,CAD_Q!$C$6:$D$105,2,FALSE)))","v":""},{"$f":"IFERROR(VLOOKUP(I2199,CAD_Q!$C$6:$E$109,3,FALSE)*F2199,\"\")","v":""},null,null,"",1,0,1900,0,1,1900,"Nombre y el registro de entrada válida"]
[null,"",null,null,null,"",null,null,null,{"$f":"IF(I2200=\"\",\"\",IF(VLOOKUP(I2200,CAD_Q!$C$6:$D$105,2,FALSE)=0,\"\",VLOOKUP(I2200,CAD_Q!$C$6:$D$105,2,FALSE)))","v":""},{"$f":"IFERROR(VLOOKUP(I2200,CAD_Q!$C$6:$E$109,3,FALSE)*F2200,\"\")","v":""},null,null,"",1,0,1900,0,1,1900,"Nombre y el registro de entrada válida"]
[null,"",null,null,null,"",null,null,null,{"$f":"IF(I2201=\"\",\"\",IF(VLOOKUP(I2201,CAD_Q!$C$6:$D$105,2,FALSE)=0,\"\",VLOOKUP(I2201,CAD_Q!$C$6:$D$105,2,FALSE)))","v":""},{"$f":"IFERROR(VLOOKUP(I2201,CAD_Q!$C$6:$E$109,3,FALSE)*F2201,\"\")","v":""},null,null,"",1,0,1900,0,1,1900,"Nombre y el registro de entrada válida"]
[null,"",null,null,null,"",null,null,null,{"$f":"IF(I2202=\"\",\"\",IF(VLOOKUP(I2202,CAD_Q!$C$6:$D$105,2,FALSE)=0,\"\",VLOOKUP(I2202,CAD_Q!$C$6:$D$105,2,FALSE)))","v":""},{"$f":"IFERROR(VLOOKUP(I2202,CAD_Q!$C$6:$E$109,3,FALSE)*F2202,\"\")","v":""},null,null,"",1,0,1900,0,1,1900,"Nombre y el registro de entrada válida"]
[null,"",null,null,null,"",null,null,null,{"$f":"IF(I2203=\"\",\"\",IF(VLOOKUP(I2203,CAD_Q!$C$6:$D$105,2,FALSE)=0,\"\",VLOOKUP(I2203,CAD_Q!$C$6:$D$105,2,FALSE)))","v":""},{"$f":"IFERROR(VLOOKUP(I2203,CAD_Q!$C$6:$E$109,3,FALSE)*F2203,\"\")","v":""},null,null,"",1,0,1900,0,1,1900,"Nombre y el registro de entrada válida"]
[null,"",null,null,null,"",null,null,null,{"$f":"IF(I2204=\"\",\"\",IF(VLOOKUP(I2204,CAD_Q!$C$6:$D$105,2,FALSE)=0,\"\",VLOOKUP(I2204,CAD_Q!$C$6:$D$105,2,FALSE)))","v":""},{"$f":"IFERROR(VLOOKUP(I2204,CAD_Q!$C$6:$E$109,3,FALSE)*F2204,\"\")","v":""},null,null,"",1,0,1900,0,1,1900,"Nombre y el registro de entrada válida"]
[null,"",null,null,null,"",null,null,null,{"$f":"IF(I2205=\"\",\"\",IF(VLOOKUP(I2205,CAD_Q!$C$6:$D$105,2,FALSE)=0,\"\",VLOOKUP(I2205,CAD_Q!$C$6:$D$105,2,FALSE)))","v":""},{"$f":"IFERROR(VLOOKUP(I2205,CAD_Q!$C$6:$E$109,3,FALSE)*F2205,\"\")","v":""},null,null,"",1,0,1900,0,1,1900,"Nombre y el registro de entrada válida"]
[null,"",null,null,null,"",null,null,null,{"$f":"IF(I2206=\"\",\"\",IF(VLOOKUP(I2206,CAD_Q!$C$6:$D$105,2,FALSE)=0,\"\",VLOOKUP(I2206,CAD_Q!$C$6:$D$105,2,FALSE)))","v":""},{"$f":"IFERROR(VLOOKUP(I2206,CAD_Q!$C$6:$E$109,3,FALSE)*F2206,\"\")","v":""},null,null,"",1,0,1900,0,1,1900,"Nombre y el registro de entrada válida"]
[null,"",null,null,null,"",null,null,null,{"$f":"IF(I2207=\"\",\"\",IF(VLOOKUP(I2207,CAD_Q!$C$6:$D$105,2,FALSE)=0,\"\",VLOOKUP(I2207,CAD_Q!$C$6:$D$105,2,FALSE)))","v":""},{"$f":"IFERROR(VLOOKUP(I2207,CAD_Q!$C$6:$E$109,3,FALSE)*F2207,\"\")","v":""},null,null,"",1,0,1900,0,1,1900,"Nombre y el registro de entrada válida"]
[null,"",null,null,null,"",null,null,null,{"$f":"IF(I2208=\"\",\"\",IF(VLOOKUP(I2208,CAD_Q!$C$6:$D$105,2,FALSE)=0,\"\",VLOOKUP(I2208,CAD_Q!$C$6:$D$105,2,FALSE)))","v":""},{"$f":"IFERROR(VLOOKUP(I2208,CAD_Q!$C$6:$E$109,3,FALSE)*F2208,\"\")","v":""},null,null,"",1,0,1900,0,1,1900,"Nombre y el registro de entrada válida"]
[null,"",null,null,null,"",null,null,null,{"$f":"IF(I2209=\"\",\"\",IF(VLOOKUP(I2209,CAD_Q!$C$6:$D$105,2,FALSE)=0,\"\",VLOOKUP(I2209,CAD_Q!$C$6:$D$105,2,FALSE)))","v":""},{"$f":"IFERROR(VLOOKUP(I2209,CAD_Q!$C$6:$E$109,3,FALSE)*F2209,\"\")","v":""},null,null,"",1,0,1900,0,1,1900,"Nombre y el registro de entrada válida"]
[null,"",null,null,null,"",null,null,null,{"$f":"IF(I2210=\"\",\"\",IF(VLOOKUP(I2210,CAD_Q!$C$6:$D$105,2,FALSE)=0,\"\",VLOOKUP(I2210,CAD_Q!$C$6:$D$105,2,FALSE)))","v":""},{"$f":"IFERROR(VLOOKUP(I2210,CAD_Q!$C$6:$E$109,3,FALSE)*F2210,\"\")","v":""},null,null,"",1,0,1900,0,1,1900,"Nombre y el registro de entrada válida"]
[null,"",null,null,null,"",null,null,null,{"$f":"IF(I2211=\"\",\"\",IF(VLOOKUP(I2211,CAD_Q!$C$6:$D$105,2,FALSE)=0,\"\",VLOOKUP(I2211,CAD_Q!$C$6:$D$105,2,FALSE)))","v":""},{"$f":"IFERROR(VLOOKUP(I2211,CAD_Q!$C$6:$E$109,3,FALSE)*F2211,\"\")","v":""},null,null,"",1,0,1900,0,1,1900,"Nombre y el registro de entrada válida"]
[null,"",null,null,null,{"$f":"IF(OR(D2212=\"\",E2212=\"\"),\"\",E2212-D2212)","v":""},null,null,null,{"$f":"IF(I2212=\"\",\"\",IF(VLOOKUP(I2212,CAD_Q!$C$6:$D$105,2,FALSE)=0,\"\",VLOOKUP(I2212,CAD_Q!$C$6:$D$105,2,FALSE)))","v":""},{"$f":"IFERROR(VLOOKUP(I2212,CAD_Q!$C$6:$E$109,3,FALSE)*F2212,\"\")","v":""},null,null,"",1,0,1900,0,1,1900,"Nombre y el registro de entrada válida"]
[null,"",null,null,null,"",null,null,null,{"$f":"IF(I2213=\"\",\"\",IF(VLOOKUP(I2213,CAD_Q!$C$6:$D$105,2,FALSE)=0,\"\",VLOOKUP(I2213,CAD_Q!$C$6:$D$105,2,FALSE)))","v":""},{"$f":"IFERROR(VLOOKUP(I2213,CAD_Q!$C$6:$E$109,3,FALSE)*F2213,\"\")","v":""},null,null,"",1,0,1900,0,1,1900,"Nombre y el registro de entrada válida"]
[null,"",null,null,null,"",null,null,null,{"$f":"IF(I2214=\"\",\"\",IF(VLOOKUP(I2214,CAD_Q!$C$6:$D$105,2,FALSE)=0,\"\",VLOOKUP(I2214,CAD_Q!$C$6:$D$105,2,FALSE)))","v":""},{"$f":"IFERROR(VLOOKUP(I2214,CAD_Q!$C$6:$E$109,3,FALSE)*F2214,\"\")","v":""},null,null,"",1,0,1900,0,1,1900,"Nombre y el registro de entrada válida"]
[null,"",null,null,null,"",null,null,null,{"$f":"IF(I2215=\"\",\"\",IF(VLOOKUP(I2215,CAD_Q!$C$6:$D$105,2,FALSE)=0,\"\",VLOOKUP(I2215,CAD_Q!$C$6:$D$105,2,FALSE)))","v":""},{"$f":"IFERROR(VLOOKUP(I2215,CAD_Q!$C$6:$E$109,3,FALSE)*F2215,\"\")","v":""},null,null,"",1,0,1900,0,1,1900,"Nombre y el registro de entrada válida"]
[null,"",null,null,null,"",null,null,null,{"$f":"IF(I2216=\"\",\"\",IF(VLOOKUP(I2216,CAD_Q!$C$6:$D$105,2,FALSE)=0,\"\",VLOOKUP(I2216,CAD_Q!$C$6:$D$105,2,FALSE)))","v":""},{"$f":"IFERROR(VLOOKUP(I2216,CAD_Q!$C$6:$E$109,3,FALSE)*F2216,\"\")","v":""},null,null,"",1,0,1900,0,1,1900,"Nombre y el registro de entrada válida"]
[null,"",null,null,null,"",null,null,null,{"$f":"IF(I2217=\"\",\"\",IF(VLOOKUP(I2217,CAD_Q!$C$6:$D$105,2,FALSE)=0,\"\",VLOOKUP(I2217,CAD_Q!$C$6:$D$105,2,FALSE)))","v":""},{"$f":"IFERROR(VLOOKUP(I2217,CAD_Q!$C$6:$E$109,3,FALSE)*F2217,\"\")","v":""},null,null,"",1,0,1900,0,1,1900,"Nombre y el registro de entrada válida"]
[null,"",null,null,null,"",null,null,null,{"$f":"IF(I2218=\"\",\"\",IF(VLOOKUP(I2218,CAD_Q!$C$6:$D$105,2,FALSE)=0,\"\",VLOOKUP(I2218,CAD_Q!$C$6:$D$105,2,FALSE)))","v":""},{"$f":"IFERROR(VLOOKUP(I2218,CAD_Q!$C$6:$E$109,3,FALSE)*F2218,\"\")","v":""},null,null,"",1,0,1900,0,1,1900,"Nombre y el registro de entrada válida"]
[null,"",null,null,null,"",null,null,null,{"$f":"IF(I2219=\"\",\"\",IF(VLOOKUP(I2219,CAD_Q!$C$6:$D$105,2,FALSE)=0,\"\",VLOOKUP(I2219,CAD_Q!$C$6:$D$105,2,FALSE)))","v":""},{"$f":"IFERROR(VLOOKUP(I2219,CAD_Q!$C$6:$E$109,3,FALSE)*F2219,\"\")","v":""},null,null,"",1,0,1900,0,1,1900,"Nombre y el registro de entrada válida"]
[null,"",null,null,null,"",null,null,null,{"$f":"IF(I2220=\"\",\"\",IF(VLOOKUP(I2220,CAD_Q!$C$6:$D$105,2,FALSE)=0,\"\",VLOOKUP(I2220,CAD_Q!$C$6:$D$105,2,FALSE)))","v":""},{"$f":"IFERROR(VLOOKUP(I2220,CAD_Q!$C$6:$E$109,3,FALSE)*F2220,\"\")","v":""},null,null,"",1,0,1900,0,1,1900,"Nombre y el registro de entrada válida"]
[null,"",null,null,null,"",null,null,null,{"$f":"IF(I2221=\"\",\"\",IF(VLOOKUP(I2221,CAD_Q!$C$6:$D$105,2,FALSE)=0,\"\",VLOOKUP(I2221,CAD_Q!$C$6:$D$105,2,FALSE)))","v":""},{"$f":"IFERROR(VLOOKUP(I2221,CAD_Q!$C$6:$E$109,3,FALSE)*F2221,\"\")","v":""},null,null,"",1,0,1900,0,1,1900,"Nombre y el registro de entrada válida"]
[null,"",null,null,null,"",null,null,null,{"$f":"IF(I2222=\"\",\"\",IF(VLOOKUP(I2222,CAD_Q!$C$6:$D$105,2,FALSE)=0,\"\",VLOOKUP(I2222,CAD_Q!$C$6:$D$105,2,FALSE)))","v":""},{"$f":"IFERROR(VLOOKUP(I2222,CAD_Q!$C$6:$E$109,3,FALSE)*F2222,\"\")","v":""},null,null,"",1,0,1900,0,1,1900,"Nombre y el registro de entrada válida"]
[null,"",null,null,null,"",null,null,null,{"$f":"IF(I2223=\"\",\"\",IF(VLOOKUP(I2223,CAD_Q!$C$6:$D$105,2,FALSE)=0,\"\",VLOOKUP(I2223,CAD_Q!$C$6:$D$105,2,FALSE)))","v":""},{"$f":"IFERROR(VLOOKUP(I2223,CAD_Q!$C$6:$E$109,3,FALSE)*F2223,\"\")","v":""},null,null,"",1,0,1900,0,1,1900,"Nombre y el registro de entrada válida"]
[null,"",null,null,null,"",null,null,null,{"$f":"IF(I2224=\"\",\"\",IF(VLOOKUP(I2224,CAD_Q!$C$6:$D$105,2,FALSE)=0,\"\",VLOOKUP(I2224,CAD_Q!$C$6:$D$105,2,FALSE)))","v":""},{"$f":"IFERROR(VLOOKUP(I2224,CAD_Q!$C$6:$E$109,3,FALSE)*F2224,\"\")","v":""},null,null,"",1,0,1900,0,1,1900,"Nombre y el registro de entrada válida"]
[null,"",null,null,null,"",null,null,null,{"$f":"IF(I2225=\"\",\"\",IF(VLOOKUP(I2225,CAD_Q!$C$6:$D$105,2,FALSE)=0,\"\",VLOOKUP(I2225,CAD_Q!$C$6:$D$105,2,FALSE)))","v":""},{"$f":"IFERROR(VLOOKUP(I2225,CAD_Q!$C$6:$E$109,3,FALSE)*F2225,\"\")","v":""},null,null,"",1,0,1900,0,1,1900,"Nombre y el registro de entrada válida"]
[null,"",null,null,null,"",null,null,null,{"$f":"IF(I2226=\"\",\"\",IF(VLOOKUP(I2226,CAD_Q!$C$6:$D$105,2,FALSE)=0,\"\",VLOOKUP(I2226,CAD_Q!$C$6:$D$105,2,FALSE)))","v":""},{"$f":"IFERROR(VLOOKUP(I2226,CAD_Q!$C$6:$E$109,3,FALSE)*F2226,\"\")","v":""},null,null,"",1,0,1900,0,1,1900,"Nombre y el registro de entrada válida"]
[null,"",null,null,null,"",null,null,null,{"$f":"IF(I2227=\"\",\"\",IF(VLOOKUP(I2227,CAD_Q!$C$6:$D$105,2,FALSE)=0,\"\",VLOOKUP(I2227,CAD_Q!$C$6:$D$105,2,FALSE)))","v":""},{"$f":"IFERROR(VLOOKUP(I2227,CAD_Q!$C$6:$E$109,3,FALSE)*F2227,\"\")","v":""},null,null,"",1,0,1900,0,1,1900,"Nombre y el registro de entrada válida"]
[null,"",null,null,null,"",null,null,null,{"$f":"IF(I2228=\"\",\"\",IF(VLOOKUP(I2228,CAD_Q!$C$6:$D$105,2,FALSE)=0,\"\",VLOOKUP(I2228,CAD_Q!$C$6:$D$105,2,FALSE)))","v":""},{"$f":"IFERROR(VLOOKUP(I2228,CAD_Q!$C$6:$E$109,3,FALSE)*F2228,\"\")","v":""},null,null,"",1,0,1900,0,1,1900,"Nombre y el registro de entrada válida"]
[null,"",null,null,null,"",null,null,null,{"$f":"IF(I2229=\"\",\"\",IF(VLOOKUP(I2229,CAD_Q!$C$6:$D$105,2,FALSE)=0,\"\",VLOOKUP(I2229,CAD_Q!$C$6:$D$105,2,FALSE)))","v":""},{"$f":"IFERROR(VLOOKUP(I2229,CAD_Q!$C$6:$E$109,3,FALSE)*F2229,\"\")","v":""},null,null,"",1,0,1900,0,1,1900,"Nombre y el registro de entrada válida"]
[null,"",null,null,null,"",null,null,null,{"$f":"IF(I2230=\"\",\"\",IF(VLOOKUP(I2230,CAD_Q!$C$6:$D$105,2,FALSE)=0,\"\",VLOOKUP(I2230,CAD_Q!$C$6:$D$105,2,FALSE)))","v":""},{"$f":"IFERROR(VLOOKUP(I2230,CAD_Q!$C$6:$E$109,3,FALSE)*F2230,\"\")","v":""},null,null,"",1,0,1900,0,1,1900,"Nombre y el registro de entrada válida"]
[null,"",null,null,null,"",null,null,null,{"$f":"IF(I2231=\"\",\"\",IF(VLOOKUP(I2231,CAD_Q!$C$6:$D$105,2,FALSE)=0,\"\",VLOOKUP(I2231,CAD_Q!$C$6:$D$105,2,FALSE)))","v":""},{"$f":"IFERROR(VLOOKUP(I2231,CAD_Q!$C$6:$E$109,3,FALSE)*F2231,\"\")","v":""},null,null,"",1,0,1900,0,1,1900,"Nombre y el registro de entrada válida"]
[null,"",null,null,null,"",null,null,null,{"$f":"IF(I2232=\"\",\"\",IF(VLOOKUP(I2232,CAD_Q!$C$6:$D$105,2,FALSE)=0,\"\",VLOOKUP(I2232,CAD_Q!$C$6:$D$105,2,FALSE)))","v":""},{"$f":"IFERROR(VLOOKUP(I2232,CAD_Q!$C$6:$E$109,3,FALSE)*F2232,\"\")","v":""},null,null,"",1,0,1900,0,1,1900,"Nombre y el registro de entrada válida"]
[null,"",null,null,null,"",null,null,null,{"$f":"IF(I2233=\"\",\"\",IF(VLOOKUP(I2233,CAD_Q!$C$6:$D$105,2,FALSE)=0,\"\",VLOOKUP(I2233,CAD_Q!$C$6:$D$105,2,FALSE)))","v":""},{"$f":"IFERROR(VLOOKUP(I2233,CAD_Q!$C$6:$E$109,3,FALSE)*F2233,\"\")","v":""},null,null,"",1,0,1900,0,1,1900,"Nombre y el registro de entrada válida"]
[null,"",null,null,null,"",null,null,null,{"$f":"IF(I2234=\"\",\"\",IF(VLOOKUP(I2234,CAD_Q!$C$6:$D$105,2,FALSE)=0,\"\",VLOOKUP(I2234,CAD_Q!$C$6:$D$105,2,FALSE)))","v":""},{"$f":"IFERROR(VLOOKUP(I2234,CAD_Q!$C$6:$E$109,3,FALSE)*F2234,\"\")","v":""},null,null,"",1,0,1900,0,1,1900,"Nombre y el registro de entrada válida"]
[null,"",null,null,null,"",null,null,null,{"$f":"IF(I2235=\"\",\"\",IF(VLOOKUP(I2235,CAD_Q!$C$6:$D$105,2,FALSE)=0,\"\",VLOOKUP(I2235,CAD_Q!$C$6:$D$105,2,FALSE)))","v":""},{"$f":"IFERROR(VLOOKUP(I2235,CAD_Q!$C$6:$E$109,3,FALSE)*F2235,\"\")","v":""},null,null,"",1,0,1900,0,1,1900,"Nombre y el registro de entrada válida"]
[null,"",null,null,null,"",null,null,null,{"$f":"IF(I2236=\"\",\"\",IF(VLOOKUP(I2236,CAD_Q!$C$6:$D$105,2,FALSE)=0,\"\",VLOOKUP(I2236,CAD_Q!$C$6:$D$105,2,FALSE)))","v":""},{"$f":"IFERROR(VLOOKUP(I2236,CAD_Q!$C$6:$E$109,3,FALSE)*F2236,\"\")","v":""},null,null,"",1,0,1900,0,1,1900,"Nombre y el registro de entrada válida"]
[null,"",null,null,null,"",null,null,null,{"$f":"IF(I2237=\"\",\"\",IF(VLOOKUP(I2237,CAD_Q!$C$6:$D$105,2,FALSE)=0,\"\",VLOOKUP(I2237,CAD_Q!$C$6:$D$105,2,FALSE)))","v":""},{"$f":"IFERROR(VLOOKUP(I2237,CAD_Q!$C$6:$E$109,3,FALSE)*F2237,\"\")","v":""},null,null,"",1,0,1900,0,1,1900,"Nombre y el registro de entrada válida"]
[null,"",null,null,null,"",null,null,null,{"$f":"IF(I2238=\"\",\"\",IF(VLOOKUP(I2238,CAD_Q!$C$6:$D$105,2,FALSE)=0,\"\",VLOOKUP(I2238,CAD_Q!$C$6:$D$105,2,FALSE)))","v":""},{"$f":"IFERROR(VLOOKUP(I2238,CAD_Q!$C$6:$E$109,3,FALSE)*F2238,\"\")","v":""},null,null,"",1,0,1900,0,1,1900,"Nombre y el registro de entrada válida"]
[null,"",null,null,null,"",null,null,null,{"$f":"IF(I2239=\"\",\"\",IF(VLOOKUP(I2239,CAD_Q!$C$6:$D$105,2,FALSE)=0,\"\",VLOOKUP(I2239,CAD_Q!$C$6:$D$105,2,FALSE)))","v":""},{"$f":"IFERROR(VLOOKUP(I2239,CAD_Q!$C$6:$E$109,3,FALSE)*F2239,\"\")","v":""},null,null,"",1,0,1900,0,1,1900,"Nombre y el registro de entrada válida"]
[null,"",null,null,null,"",null,null,null,{"$f":"IF(I2240=\"\",\"\",IF(VLOOKUP(I2240,CAD_Q!$C$6:$D$105,2,FALSE)=0,\"\",VLOOKUP(I2240,CAD_Q!$C$6:$D$105,2,FALSE)))","v":""},{"$f":"IFERROR(VLOOKUP(I2240,CAD_Q!$C$6:$E$109,3,FALSE)*F2240,\"\")","v":""},null,null,"",1,0,1900,0,1,1900,"Nombre y el registro de entrada válida"]
[null,"",null,null,null,"",null,null,null,{"$f":"IF(I2241=\"\",\"\",IF(VLOOKUP(I2241,CAD_Q!$C$6:$D$105,2,FALSE)=0,\"\",VLOOKUP(I2241,CAD_Q!$C$6:$D$105,2,FALSE)))","v":""},{"$f":"IFERROR(VLOOKUP(I2241,CAD_Q!$C$6:$E$109,3,FALSE)*F2241,\"\")","v":""},null,null,"",1,0,1900,0,1,1900,"Nombre y el registro de entrada válida"]
[null,"",null,null,null,"",null,null,null,{"$f":"IF(I2242=\"\",\"\",IF(VLOOKUP(I2242,CAD_Q!$C$6:$D$105,2,FALSE)=0,\"\",VLOOKUP(I2242,CAD_Q!$C$6:$D$105,2,FALSE)))","v":""},{"$f":"IFERROR(VLOOKUP(I2242,CAD_Q!$C$6:$E$109,3,FALSE)*F2242,\"\")","v":""},null,null,"",1,0,1900,0,1,1900,"Nombre y el registro de entrada válida"]
[null,"",null,null,null,"",null,null,null,{"$f":"IF(I2243=\"\",\"\",IF(VLOOKUP(I2243,CAD_Q!$C$6:$D$105,2,FALSE)=0,\"\",VLOOKUP(I2243,CAD_Q!$C$6:$D$105,2,FALSE)))","v":""},{"$f":"IFERROR(VLOOKUP(I2243,CAD_Q!$C$6:$E$109,3,FALSE)*F2243,\"\")","v":""},null,null,"",1,0,1900,0,1,1900,"Nombre y el registro de entrada válida"]
[null,"",null,null,null,"",null,null,null,{"$f":"IF(I2244=\"\",\"\",IF(VLOOKUP(I2244,CAD_Q!$C$6:$D$105,2,FALSE)=0,\"\",VLOOKUP(I2244,CAD_Q!$C$6:$D$105,2,FALSE)))","v":""},{"$f":"IFERROR(VLOOKUP(I2244,CAD_Q!$C$6:$E$109,3,FALSE)*F2244,\"\")","v":""},null,null,"",1,0,1900,0,1,1900,"Nombre y el registro de entrada válida"]
[null,"",null,null,null,"",null,null,null,{"$f":"IF(I2245=\"\",\"\",IF(VLOOKUP(I2245,CAD_Q!$C$6:$D$105,2,FALSE)=0,\"\",VLOOKUP(I2245,CAD_Q!$C$6:$D$105,2,FALSE)))","v":""},{"$f":"IFERROR(VLOOKUP(I2245,CAD_Q!$C$6:$E$109,3,FALSE)*F2245,\"\")","v":""},null,null,"",1,0,1900,0,1,1900,"Nombre y el registro de entrada válida"]
[null,"",null,null,null,"",null,null,null,{"$f":"IF(I2246=\"\",\"\",IF(VLOOKUP(I2246,CAD_Q!$C$6:$D$105,2,FALSE)=0,\"\",VLOOKUP(I2246,CAD_Q!$C$6:$D$105,2,FALSE)))","v":""},{"$f":"IFERROR(VLOOKUP(I2246,CAD_Q!$C$6:$E$109,3,FALSE)*F2246,\"\")","v":""},null,null,"",1,0,1900,0,1,1900,"Nombre y el registro de entrada válida"]
[null,{"$f":"CONCATENATE(C2247,D2247)","v":""},null,null,null,"",null,null,null,{"$f":"IF(I2247=\"\",\"\",IF(VLOOKUP(I2247,CAD_Q!$C$6:$D$105,2,FALSE)=0,\"\",VLOOKUP(I2247,CAD_Q!$C$6:$D$105,2,FALSE)))","v":""},{"$f":"IFERROR(VLOOKUP(I2247,CAD_Q!$C$6:$E$109,3,FALSE)*F2247,\"\")","v":""},null,null,{"$f":"IFERROR(K2247-L2247+M2247,\"\")","v":""},1,0,1900,0,1,1900,"Nombre y el registro de entrada válida"]
[null,"",null,null,null,"",null,null,null,{"$f":"IF(I2248=\"\",\"\",IF(VLOOKUP(I2248,CAD_Q!$C$6:$D$105,2,FALSE)=0,\"\",VLOOKUP(I2248,CAD_Q!$C$6:$D$105,2,FALSE)))","v":""},{"$f":"IFERROR(VLOOKUP(I2248,CAD_Q!$C$6:$E$109,3,FALSE)*F2248,\"\")","v":""},null,null,"",1,0,1900,0,1,1900,"Nombre y el registro de entrada válida"]
[null,"",null,null,null,"",null,null,null,{"$f":"IF(I2249=\"\",\"\",IF(VLOOKUP(I2249,CAD_Q!$C$6:$D$105,2,FALSE)=0,\"\",VLOOKUP(I2249,CAD_Q!$C$6:$D$105,2,FALSE)))","v":""},{"$f":"IFERROR(VLOOKUP(I2249,CAD_Q!$C$6:$E$109,3,FALSE)*F2249,\"\")","v":""},null,null,"",1,0,1900,0,1,1900,"Nombre y el registro de entrada válida"]
[null,"",null,null,null,"",null,null,null,{"$f":"IF(I2250=\"\",\"\",IF(VLOOKUP(I2250,CAD_Q!$C$6:$D$105,2,FALSE)=0,\"\",VLOOKUP(I2250,CAD_Q!$C$6:$D$105,2,FALSE)))","v":""},{"$f":"IFERROR(VLOOKUP(I2250,CAD_Q!$C$6:$E$109,3,FALSE)*F2250,\"\")","v":""},null,null,"",{"$f":"MONTH(D2250)","v":1},{"$f":"DAY(D2250)","v":0},{"$f":"YEAR(D2250)","v":1900},{"$f":"DAY(E2250)","v":0},{"$f":"MONTH(E2250)","v":1},{"$f":"YEAR(E2250)","v":1900},"Nombre y el registro de entrada válida"]
[null,"",null,null,null,"",null,null,null,{"$f":"IF(I2251=\"\",\"\",IF(VLOOKUP(I2251,CAD_Q!$C$6:$D$105,2,FALSE)=0,\"\",VLOOKUP(I2251,CAD_Q!$C$6:$D$105,2,FALSE)))","v":""},{"$f":"IFERROR(VLOOKUP(I2251,CAD_Q!$C$6:$E$109,3,FALSE)*F2251,\"\")","v":""},null,null,"",1,0,1900,0,1,1900,"Nombre y el registro de entrada válida"]
[null,"",null,null,null,"",null,null,null,{"$f":"IF(I2252=\"\",\"\",IF(VLOOKUP(I2252,CAD_Q!$C$6:$D$105,2,FALSE)=0,\"\",VLOOKUP(I2252,CAD_Q!$C$6:$D$105,2,FALSE)))","v":""},{"$f":"IFERROR(VLOOKUP(I2252,CAD_Q!$C$6:$E$109,3,FALSE)*F2252,\"\")","v":""},null,null,"",1,0,1900,0,1,1900,"Nombre y el registro de entrada válida"]
[null,"",null,null,null,"",null,null,null,{"$f":"IF(I2253=\"\",\"\",IF(VLOOKUP(I2253,CAD_Q!$C$6:$D$105,2,FALSE)=0,\"\",VLOOKUP(I2253,CAD_Q!$C$6:$D$105,2,FALSE)))","v":""},{"$f":"IFERROR(VLOOKUP(I2253,CAD_Q!$C$6:$E$109,3,FALSE)*F2253,\"\")","v":""},null,null,"",1,0,1900,0,1,1900,"Nombre y el registro de entrada válida"]
[null,"",null,null,null,"",null,null,null,{"$f":"IF(I2254=\"\",\"\",IF(VLOOKUP(I2254,CAD_Q!$C$6:$D$105,2,FALSE)=0,\"\",VLOOKUP(I2254,CAD_Q!$C$6:$D$105,2,FALSE)))","v":""},{"$f":"IFERROR(VLOOKUP(I2254,CAD_Q!$C$6:$E$109,3,FALSE)*F2254,\"\")","v":""},null,null,"",1,0,1900,0,1,1900,"Nombre y el registro de entrada válida"]
[null,"",null,null,null,"",null,null,null,{"$f":"IF(I2255=\"\",\"\",IF(VLOOKUP(I2255,CAD_Q!$C$6:$D$105,2,FALSE)=0,\"\",VLOOKUP(I2255,CAD_Q!$C$6:$D$105,2,FALSE)))","v":""},{"$f":"IFERROR(VLOOKUP(I2255,CAD_Q!$C$6:$E$109,3,FALSE)*F2255,\"\")","v":""},null,null,"",1,0,1900,0,1,1900,"Nombre y el registro de entrada válida"]
[null,"",null,null,null,"",null,null,null,{"$f":"IF(I2256=\"\",\"\",IF(VLOOKUP(I2256,CAD_Q!$C$6:$D$105,2,FALSE)=0,\"\",VLOOKUP(I2256,CAD_Q!$C$6:$D$105,2,FALSE)))","v":""},{"$f":"IFERROR(VLOOKUP(I2256,CAD_Q!$C$6:$E$109,3,FALSE)*F2256,\"\")","v":""},null,null,"",1,0,1900,0,1,1900,"Nombre y el registro de entrada válida"]
[null,"",null,null,null,"",null,null,null,{"$f":"IF(I2257=\"\",\"\",IF(VLOOKUP(I2257,CAD_Q!$C$6:$D$105,2,FALSE)=0,\"\",VLOOKUP(I2257,CAD_Q!$C$6:$D$105,2,FALSE)))","v":""},{"$f":"IFERROR(VLOOKUP(I2257,CAD_Q!$C$6:$E$109,3,FALSE)*F2257,\"\")","v":""},null,null,"",1,0,1900,0,1,1900,"Nombre y el registro de entrada válida"]
[null,"",null,null,null,"",null,null,null,{"$f":"IF(I2258=\"\",\"\",IF(VLOOKUP(I2258,CAD_Q!$C$6:$D$105,2,FALSE)=0,\"\",VLOOKUP(I2258,CAD_Q!$C$6:$D$105,2,FALSE)))","v":""},{"$f":"IFERROR(VLOOKUP(I2258,CAD_Q!$C$6:$E$109,3,FALSE)*F2258,\"\")","v":""},null,null,"",1,0,1900,0,1,1900,"Nombre y el registro de entrada válida"]
[null,"",null,null,null,"",null,null,null,{"$f":"IF(I2259=\"\",\"\",IF(VLOOKUP(I2259,CAD_Q!$C$6:$D$105,2,FALSE)=0,\"\",VLOOKUP(I2259,CAD_Q!$C$6:$D$105,2,FALSE)))","v":""},{"$f":"IFERROR(VLOOKUP(I2259,CAD_Q!$C$6:$E$109,3,FALSE)*F2259,\"\")","v":""},null,null,"",1,0,1900,0,1,1900,"Nombre y el registro de entrada válida"]
[null,"",null,null,null,"",null,null,null,{"$f":"IF(I2260=\"\",\"\",IF(VLOOKUP(I2260,CAD_Q!$C$6:$D$105,2,FALSE)=0,\"\",VLOOKUP(I2260,CAD_Q!$C$6:$D$105,2,FALSE)))","v":""},{"$f":"IFERROR(VLOOKUP(I2260,CAD_Q!$C$6:$E$109,3,FALSE)*F2260,\"\")","v":""},null,null,"",1,0,1900,0,1,1900,"Nombre y el registro de entrada válida"]
[null,"",null,null,null,"",null,null,null,{"$f":"IF(I2261=\"\",\"\",IF(VLOOKUP(I2261,CAD_Q!$C$6:$D$105,2,FALSE)=0,\"\",VLOOKUP(I2261,CAD_Q!$C$6:$D$105,2,FALSE)))","v":""},{"$f":"IFERROR(VLOOKUP(I2261,CAD_Q!$C$6:$E$109,3,FALSE)*F2261,\"\")","v":""},null,null,"",1,0,1900,0,1,1900,"Nombre y el registro de entrada válida"]
[null,"",null,null,null,"",null,null,null,{"$f":"IF(I2262=\"\",\"\",IF(VLOOKUP(I2262,CAD_Q!$C$6:$D$105,2,FALSE)=0,\"\",VLOOKUP(I2262,CAD_Q!$C$6:$D$105,2,FALSE)))","v":""},{"$f":"IFERROR(VLOOKUP(I2262,CAD_Q!$C$6:$E$109,3,FALSE)*F2262,\"\")","v":""},null,null,"",1,0,1900,0,1,1900,"Nombre y el registro de entrada válida"]
[null,"",null,null,null,"",null,null,null,{"$f":"IF(I2263=\"\",\"\",IF(VLOOKUP(I2263,CAD_Q!$C$6:$D$105,2,FALSE)=0,\"\",VLOOKUP(I2263,CAD_Q!$C$6:$D$105,2,FALSE)))","v":""},{"$f":"IFERROR(VLOOKUP(I2263,CAD_Q!$C$6:$E$109,3,FALSE)*F2263,\"\")","v":""},null,null,"",1,0,1900,0,1,1900,"Nombre y el registro de entrada válida"]
[null,"",null,null,null,"",null,null,null,{"$f":"IF(I2264=\"\",\"\",IF(VLOOKUP(I2264,CAD_Q!$C$6:$D$105,2,FALSE)=0,\"\",VLOOKUP(I2264,CAD_Q!$C$6:$D$105,2,FALSE)))","v":""},{"$f":"IFERROR(VLOOKUP(I2264,CAD_Q!$C$6:$E$109,3,FALSE)*F2264,\"\")","v":""},null,null,"",1,0,1900,0,1,1900,"Nombre y el registro de entrada válida"]
[null,"",null,null,null,"",null,null,null,{"$f":"IF(I2265=\"\",\"\",IF(VLOOKUP(I2265,CAD_Q!$C$6:$D$105,2,FALSE)=0,\"\",VLOOKUP(I2265,CAD_Q!$C$6:$D$105,2,FALSE)))","v":""},{"$f":"IFERROR(VLOOKUP(I2265,CAD_Q!$C$6:$E$109,3,FALSE)*F2265,\"\")","v":""},null,null,"",1,0,1900,0,1,1900,"Nombre y el registro de entrada válida"]
[null,"",null,null,null,"",null,null,null,{"$f":"IF(I2266=\"\",\"\",IF(VLOOKUP(I2266,CAD_Q!$C$6:$D$105,2,FALSE)=0,\"\",VLOOKUP(I2266,CAD_Q!$C$6:$D$105,2,FALSE)))","v":""},{"$f":"IFERROR(VLOOKUP(I2266,CAD_Q!$C$6:$E$109,3,FALSE)*F2266,\"\")","v":""},null,null,"",1,0,1900,0,1,1900,"Nombre y el registro de entrada válida"]
[null,"",null,null,null,"",null,null,null,{"$f":"IF(I2267=\"\",\"\",IF(VLOOKUP(I2267,CAD_Q!$C$6:$D$105,2,FALSE)=0,\"\",VLOOKUP(I2267,CAD_Q!$C$6:$D$105,2,FALSE)))","v":""},{"$f":"IFERROR(VLOOKUP(I2267,CAD_Q!$C$6:$E$109,3,FALSE)*F2267,\"\")","v":""},null,null,"",1,0,1900,0,1,1900,"Nombre y el registro de entrada válida"]
[null,"",null,null,null,"",null,null,null,{"$f":"IF(I2268=\"\",\"\",IF(VLOOKUP(I2268,CAD_Q!$C$6:$D$105,2,FALSE)=0,\"\",VLOOKUP(I2268,CAD_Q!$C$6:$D$105,2,FALSE)))","v":""},{"$f":"IFERROR(VLOOKUP(I2268,CAD_Q!$C$6:$E$109,3,FALSE)*F2268,\"\")","v":""},null,null,"",1,0,1900,0,1,1900,"Nombre y el registro de entrada válida"]
[null,"",null,null,null,"",null,null,null,{"$f":"IF(I2269=\"\",\"\",IF(VLOOKUP(I2269,CAD_Q!$C$6:$D$105,2,FALSE)=0,\"\",VLOOKUP(I2269,CAD_Q!$C$6:$D$105,2,FALSE)))","v":""},{"$f":"IFERROR(VLOOKUP(I2269,CAD_Q!$C$6:$E$109,3,FALSE)*F2269,\"\")","v":""},null,null,"",1,0,1900,0,1,1900,"Nombre y el registro de entrada válida"]
[null,"",null,null,null,"",null,null,null,{"$f":"IF(I2270=\"\",\"\",IF(VLOOKUP(I2270,CAD_Q!$C$6:$D$105,2,FALSE)=0,\"\",VLOOKUP(I2270,CAD_Q!$C$6:$D$105,2,FALSE)))","v":""},{"$f":"IFERROR(VLOOKUP(I2270,CAD_Q!$C$6:$E$109,3,FALSE)*F2270,\"\")","v":""},null,null,"",1,0,1900,0,1,1900,"Nombre y el registro de entrada válida"]
[null,"",null,null,null,"",null,null,null,{"$f":"IF(I2271=\"\",\"\",IF(VLOOKUP(I2271,CAD_Q!$C$6:$D$105,2,FALSE)=0,\"\",VLOOKUP(I2271,CAD_Q!$C$6:$D$105,2,FALSE)))","v":""},{"$f":"IFERROR(VLOOKUP(I2271,CAD_Q!$C$6:$E$109,3,FALSE)*F2271,\"\")","v":""},null,null,"",1,0,1900,0,1,1900,"Nombre y el registro de entrada válida"]
[null,"",null,null,null,"",null,null,null,{"$f":"IF(I2272=\"\",\"\",IF(VLOOKUP(I2272,CAD_Q!$C$6:$D$105,2,FALSE)=0,\"\",VLOOKUP(I2272,CAD_Q!$C$6:$D$105,2,FALSE)))","v":""},{"$f":"IFERROR(VLOOKUP(I2272,CAD_Q!$C$6:$E$109,3,FALSE)*F2272,\"\")","v":""},null,null,"",1,0,1900,0,1,1900,"Nombre y el registro de entrada válida"]
[null,"",null,null,null,"",null,null,null,{"$f":"IF(I2273=\"\",\"\",IF(VLOOKUP(I2273,CAD_Q!$C$6:$D$105,2,FALSE)=0,\"\",VLOOKUP(I2273,CAD_Q!$C$6:$D$105,2,FALSE)))","v":""},{"$f":"IFERROR(VLOOKUP(I2273,CAD_Q!$C$6:$E$109,3,FALSE)*F2273,\"\")","v":""},null,null,"",1,0,1900,0,1,1900,"Nombre y el registro de entrada válida"]
[null,"",null,null,null,"",null,null,null,{"$f":"IF(I2274=\"\",\"\",IF(VLOOKUP(I2274,CAD_Q!$C$6:$D$105,2,FALSE)=0,\"\",VLOOKUP(I2274,CAD_Q!$C$6:$D$105,2,FALSE)))","v":""},{"$f":"IFERROR(VLOOKUP(I2274,CAD_Q!$C$6:$E$109,3,FALSE)*F2274,\"\")","v":""},null,null,"",1,0,1900,0,1,1900,"Nombre y el registro de entrada válida"]
[null,"",null,null,null,"",null,null,null,{"$f":"IF(I2275=\"\",\"\",IF(VLOOKUP(I2275,CAD_Q!$C$6:$D$105,2,FALSE)=0,\"\",VLOOKUP(I2275,CAD_Q!$C$6:$D$105,2,FALSE)))","v":""},{"$f":"IFERROR(VLOOKUP(I2275,CAD_Q!$C$6:$E$109,3,FALSE)*F2275,\"\")","v":""},null,null,"",1,0,1900,0,1,1900,"Nombre y el registro de entrada válida"]
[null,"",null,null,null,{"$f":"IF(OR(D2276=\"\",E2276=\"\"),\"\",E2276-D2276)","v":""},null,null,null,{"$f":"IF(I2276=\"\",\"\",IF(VLOOKUP(I2276,CAD_Q!$C$6:$D$105,2,FALSE)=0,\"\",VLOOKUP(I2276,CAD_Q!$C$6:$D$105,2,FALSE)))","v":""},{"$f":"IFERROR(VLOOKUP(I2276,CAD_Q!$C$6:$E$109,3,FALSE)*F2276,\"\")","v":""},null,null,"",1,0,1900,0,1,1900,"Nombre y el registro de entrada válida"]
[null,"",null,null,null,"",null,null,null,{"$f":"IF(I2277=\"\",\"\",IF(VLOOKUP(I2277,CAD_Q!$C$6:$D$105,2,FALSE)=0,\"\",VLOOKUP(I2277,CAD_Q!$C$6:$D$105,2,FALSE)))","v":""},{"$f":"IFERROR(VLOOKUP(I2277,CAD_Q!$C$6:$E$109,3,FALSE)*F2277,\"\")","v":""},null,null,"",1,0,1900,0,1,1900,"Nombre y el registro de entrada válida"]
[null,"",null,null,null,"",null,null,null,{"$f":"IF(I2278=\"\",\"\",IF(VLOOKUP(I2278,CAD_Q!$C$6:$D$105,2,FALSE)=0,\"\",VLOOKUP(I2278,CAD_Q!$C$6:$D$105,2,FALSE)))","v":""},{"$f":"IFERROR(VLOOKUP(I2278,CAD_Q!$C$6:$E$109,3,FALSE)*F2278,\"\")","v":""},null,null,"",1,0,1900,0,1,1900,"Nombre y el registro de entrada válida"]
[null,"",null,null,null,"",null,null,null,{"$f":"IF(I2279=\"\",\"\",IF(VLOOKUP(I2279,CAD_Q!$C$6:$D$105,2,FALSE)=0,\"\",VLOOKUP(I2279,CAD_Q!$C$6:$D$105,2,FALSE)))","v":""},{"$f":"IFERROR(VLOOKUP(I2279,CAD_Q!$C$6:$E$109,3,FALSE)*F2279,\"\")","v":""},null,null,"",1,0,1900,0,1,1900,"Nombre y el registro de entrada válida"]
[null,"",null,null,null,"",null,null,null,{"$f":"IF(I2280=\"\",\"\",IF(VLOOKUP(I2280,CAD_Q!$C$6:$D$105,2,FALSE)=0,\"\",VLOOKUP(I2280,CAD_Q!$C$6:$D$105,2,FALSE)))","v":""},{"$f":"IFERROR(VLOOKUP(I2280,CAD_Q!$C$6:$E$109,3,FALSE)*F2280,\"\")","v":""},null,null,"",1,0,1900,0,1,1900,"Nombre y el registro de entrada válida"]
[null,"",null,null,null,"",null,null,null,{"$f":"IF(I2281=\"\",\"\",IF(VLOOKUP(I2281,CAD_Q!$C$6:$D$105,2,FALSE)=0,\"\",VLOOKUP(I2281,CAD_Q!$C$6:$D$105,2,FALSE)))","v":""},{"$f":"IFERROR(VLOOKUP(I2281,CAD_Q!$C$6:$E$109,3,FALSE)*F2281,\"\")","v":""},null,null,"",1,0,1900,0,1,1900,"Nombre y el registro de entrada válida"]
[null,"",null,null,null,"",null,null,null,{"$f":"IF(I2282=\"\",\"\",IF(VLOOKUP(I2282,CAD_Q!$C$6:$D$105,2,FALSE)=0,\"\",VLOOKUP(I2282,CAD_Q!$C$6:$D$105,2,FALSE)))","v":""},{"$f":"IFERROR(VLOOKUP(I2282,CAD_Q!$C$6:$E$109,3,FALSE)*F2282,\"\")","v":""},null,null,"",1,0,1900,0,1,1900,"Nombre y el registro de entrada válida"]
[null,"",null,null,null,"",null,null,null,{"$f":"IF(I2283=\"\",\"\",IF(VLOOKUP(I2283,CAD_Q!$C$6:$D$105,2,FALSE)=0,\"\",VLOOKUP(I2283,CAD_Q!$C$6:$D$105,2,FALSE)))","v":""},{"$f":"IFERROR(VLOOKUP(I2283,CAD_Q!$C$6:$E$109,3,FALSE)*F2283,\"\")","v":""},null,null,"",1,0,1900,0,1,1900,"Nombre y el registro de entrada válida"]
[null,"",null,null,null,"",null,null,null,{"$f":"IF(I2284=\"\",\"\",IF(VLOOKUP(I2284,CAD_Q!$C$6:$D$105,2,FALSE)=0,\"\",VLOOKUP(I2284,CAD_Q!$C$6:$D$105,2,FALSE)))","v":""},{"$f":"IFERROR(VLOOKUP(I2284,CAD_Q!$C$6:$E$109,3,FALSE)*F2284,\"\")","v":""},null,null,"",1,0,1900,0,1,1900,"Nombre y el registro de entrada válida"]
[null,"",null,null,null,"",null,null,null,{"$f":"IF(I2285=\"\",\"\",IF(VLOOKUP(I2285,CAD_Q!$C$6:$D$105,2,FALSE)=0,\"\",VLOOKUP(I2285,CAD_Q!$C$6:$D$105,2,FALSE)))","v":""},{"$f":"IFERROR(VLOOKUP(I2285,CAD_Q!$C$6:$E$109,3,FALSE)*F2285,\"\")","v":""},null,null,"",1,0,1900,0,1,1900,"Nombre y el registro de entrada válida"]
[null,"",null,null,null,"",null,null,null,{"$f":"IF(I2286=\"\",\"\",IF(VLOOKUP(I2286,CAD_Q!$C$6:$D$105,2,FALSE)=0,\"\",VLOOKUP(I2286,CAD_Q!$C$6:$D$105,2,FALSE)))","v":""},{"$f":"IFERROR(VLOOKUP(I2286,CAD_Q!$C$6:$E$109,3,FALSE)*F2286,\"\")","v":""},null,null,"",1,0,1900,0,1,1900,"Nombre y el registro de entrada válida"]
[null,"",null,null,null,"",null,null,null,{"$f":"IF(I2287=\"\",\"\",IF(VLOOKUP(I2287,CAD_Q!$C$6:$D$105,2,FALSE)=0,\"\",VLOOKUP(I2287,CAD_Q!$C$6:$D$105,2,FALSE)))","v":""},{"$f":"IFERROR(VLOOKUP(I2287,CAD_Q!$C$6:$E$109,3,FALSE)*F2287,\"\")","v":""},null,null,"",1,0,1900,0,1,1900,"Nombre y el registro de entrada válida"]
[null,"",null,null,null,"",null,null,null,{"$f":"IF(I2288=\"\",\"\",IF(VLOOKUP(I2288,CAD_Q!$C$6:$D$105,2,FALSE)=0,\"\",VLOOKUP(I2288,CAD_Q!$C$6:$D$105,2,FALSE)))","v":""},{"$f":"IFERROR(VLOOKUP(I2288,CAD_Q!$C$6:$E$109,3,FALSE)*F2288,\"\")","v":""},null,null,"",1,0,1900,0,1,1900,"Nombre y el registro de entrada válida"]
[null,"",null,null,null,"",null,null,null,{"$f":"IF(I2289=\"\",\"\",IF(VLOOKUP(I2289,CAD_Q!$C$6:$D$105,2,FALSE)=0,\"\",VLOOKUP(I2289,CAD_Q!$C$6:$D$105,2,FALSE)))","v":""},{"$f":"IFERROR(VLOOKUP(I2289,CAD_Q!$C$6:$E$109,3,FALSE)*F2289,\"\")","v":""},null,null,"",1,0,1900,0,1,1900,"Nombre y el registro de entrada válida"]
[null,"",null,null,null,"",null,null,null,{"$f":"IF(I2290=\"\",\"\",IF(VLOOKUP(I2290,CAD_Q!$C$6:$D$105,2,FALSE)=0,\"\",VLOOKUP(I2290,CAD_Q!$C$6:$D$105,2,FALSE)))","v":""},{"$f":"IFERROR(VLOOKUP(I2290,CAD_Q!$C$6:$E$109,3,FALSE)*F2290,\"\")","v":""},null,null,"",1,0,1900,0,1,1900,"Nombre y el registro de entrada válida"]
[null,"",null,null,null,"",null,null,null,{"$f":"IF(I2291=\"\",\"\",IF(VLOOKUP(I2291,CAD_Q!$C$6:$D$105,2,FALSE)=0,\"\",VLOOKUP(I2291,CAD_Q!$C$6:$D$105,2,FALSE)))","v":""},{"$f":"IFERROR(VLOOKUP(I2291,CAD_Q!$C$6:$E$109,3,FALSE)*F2291,\"\")","v":""},null,null,"",1,0,1900,0,1,1900,"Nombre y el registro de entrada válida"]
[null,"",null,null,null,"",null,null,null,{"$f":"IF(I2292=\"\",\"\",IF(VLOOKUP(I2292,CAD_Q!$C$6:$D$105,2,FALSE)=0,\"\",VLOOKUP(I2292,CAD_Q!$C$6:$D$105,2,FALSE)))","v":""},{"$f":"IFERROR(VLOOKUP(I2292,CAD_Q!$C$6:$E$109,3,FALSE)*F2292,\"\")","v":""},null,null,"",1,0,1900,0,1,1900,"Nombre y el registro de entrada válida"]
[null,"",null,null,null,"",null,null,null,{"$f":"IF(I2293=\"\",\"\",IF(VLOOKUP(I2293,CAD_Q!$C$6:$D$105,2,FALSE)=0,\"\",VLOOKUP(I2293,CAD_Q!$C$6:$D$105,2,FALSE)))","v":""},{"$f":"IFERROR(VLOOKUP(I2293,CAD_Q!$C$6:$E$109,3,FALSE)*F2293,\"\")","v":""},null,null,"",1,0,1900,0,1,1900,"Nombre y el registro de entrada válida"]
[null,"",null,null,null,"",null,null,null,{"$f":"IF(I2294=\"\",\"\",IF(VLOOKUP(I2294,CAD_Q!$C$6:$D$105,2,FALSE)=0,\"\",VLOOKUP(I2294,CAD_Q!$C$6:$D$105,2,FALSE)))","v":""},{"$f":"IFERROR(VLOOKUP(I2294,CAD_Q!$C$6:$E$109,3,FALSE)*F2294,\"\")","v":""},null,null,"",1,0,1900,0,1,1900,"Nombre y el registro de entrada válida"]
[null,"",null,null,null,"",null,null,null,{"$f":"IF(I2295=\"\",\"\",IF(VLOOKUP(I2295,CAD_Q!$C$6:$D$105,2,FALSE)=0,\"\",VLOOKUP(I2295,CAD_Q!$C$6:$D$105,2,FALSE)))","v":""},{"$f":"IFERROR(VLOOKUP(I2295,CAD_Q!$C$6:$E$109,3,FALSE)*F2295,\"\")","v":""},null,null,"",1,0,1900,0,1,1900,"Nombre y el registro de entrada válida"]
[null,"",null,null,null,"",null,null,null,{"$f":"IF(I2296=\"\",\"\",IF(VLOOKUP(I2296,CAD_Q!$C$6:$D$105,2,FALSE)=0,\"\",VLOOKUP(I2296,CAD_Q!$C$6:$D$105,2,FALSE)))","v":""},{"$f":"IFERROR(VLOOKUP(I2296,CAD_Q!$C$6:$E$109,3,FALSE)*F2296,\"\")","v":""},null,null,"",1,0,1900,0,1,1900,"Nombre y el registro de entrada válida"]
[null,"",null,null,null,"",null,null,null,{"$f":"IF(I2297=\"\",\"\",IF(VLOOKUP(I2297,CAD_Q!$C$6:$D$105,2,FALSE)=0,\"\",VLOOKUP(I2297,CAD_Q!$C$6:$D$105,2,FALSE)))","v":""},{"$f":"IFERROR(VLOOKUP(I2297,CAD_Q!$C$6:$E$109,3,FALSE)*F2297,\"\")","v":""},null,null,"",1,0,1900,0,1,1900,"Nombre y el registro de entrada válida"]
[null,"",null,null,null,"",null,null,null,{"$f":"IF(I2298=\"\",\"\",IF(VLOOKUP(I2298,CAD_Q!$C$6:$D$105,2,FALSE)=0,\"\",VLOOKUP(I2298,CAD_Q!$C$6:$D$105,2,FALSE)))","v":""},{"$f":"IFERROR(VLOOKUP(I2298,CAD_Q!$C$6:$E$109,3,FALSE)*F2298,\"\")","v":""},null,null,"",1,0,1900,0,1,1900,"Nombre y el registro de entrada válida"]
[null,"",null,null,null,"",null,null,null,{"$f":"IF(I2299=\"\",\"\",IF(VLOOKUP(I2299,CAD_Q!$C$6:$D$105,2,FALSE)=0,\"\",VLOOKUP(I2299,CAD_Q!$C$6:$D$105,2,FALSE)))","v":""},{"$f":"IFERROR(VLOOKUP(I2299,CAD_Q!$C$6:$E$109,3,FALSE)*F2299,\"\")","v":""},null,null,"",1,0,1900,0,1,1900,"Nombre y el registro de entrada válida"]
[null,"",null,null,null,"",null,null,null,{"$f":"IF(I2300=\"\",\"\",IF(VLOOKUP(I2300,CAD_Q!$C$6:$D$105,2,FALSE)=0,\"\",VLOOKUP(I2300,CAD_Q!$C$6:$D$105,2,FALSE)))","v":""},{"$f":"IFERROR(VLOOKUP(I2300,CAD_Q!$C$6:$E$109,3,FALSE)*F2300,\"\")","v":""},null,null,"",1,0,1900,0,1,1900,"Nombre y el registro de entrada válida"]
[null,"",null,null,null,"",null,null,null,{"$f":"IF(I2301=\"\",\"\",IF(VLOOKUP(I2301,CAD_Q!$C$6:$D$105,2,FALSE)=0,\"\",VLOOKUP(I2301,CAD_Q!$C$6:$D$105,2,FALSE)))","v":""},{"$f":"IFERROR(VLOOKUP(I2301,CAD_Q!$C$6:$E$109,3,FALSE)*F2301,\"\")","v":""},null,null,"",1,0,1900,0,1,1900,"Nombre y el registro de entrada válida"]
[null,"",null,null,null,"",null,null,null,{"$f":"IF(I2302=\"\",\"\",IF(VLOOKUP(I2302,CAD_Q!$C$6:$D$105,2,FALSE)=0,\"\",VLOOKUP(I2302,CAD_Q!$C$6:$D$105,2,FALSE)))","v":""},{"$f":"IFERROR(VLOOKUP(I2302,CAD_Q!$C$6:$E$109,3,FALSE)*F2302,\"\")","v":""},null,null,"",1,0,1900,0,1,1900,"Nombre y el registro de entrada válida"]
[null,"",null,null,null,"",null,null,null,{"$f":"IF(I2303=\"\",\"\",IF(VLOOKUP(I2303,CAD_Q!$C$6:$D$105,2,FALSE)=0,\"\",VLOOKUP(I2303,CAD_Q!$C$6:$D$105,2,FALSE)))","v":""},{"$f":"IFERROR(VLOOKUP(I2303,CAD_Q!$C$6:$E$109,3,FALSE)*F2303,\"\")","v":""},null,null,"",1,0,1900,0,1,1900,"Nombre y el registro de entrada válida"]
[null,"",null,null,null,"",null,null,null,{"$f":"IF(I2304=\"\",\"\",IF(VLOOKUP(I2304,CAD_Q!$C$6:$D$105,2,FALSE)=0,\"\",VLOOKUP(I2304,CAD_Q!$C$6:$D$105,2,FALSE)))","v":""},{"$f":"IFERROR(VLOOKUP(I2304,CAD_Q!$C$6:$E$109,3,FALSE)*F2304,\"\")","v":""},null,null,"",1,0,1900,0,1,1900,"Nombre y el registro de entrada válida"]
[null,"",null,null,null,"",null,null,null,{"$f":"IF(I2305=\"\",\"\",IF(VLOOKUP(I2305,CAD_Q!$C$6:$D$105,2,FALSE)=0,\"\",VLOOKUP(I2305,CAD_Q!$C$6:$D$105,2,FALSE)))","v":""},{"$f":"IFERROR(VLOOKUP(I2305,CAD_Q!$C$6:$E$109,3,FALSE)*F2305,\"\")","v":""},null,null,"",1,0,1900,0,1,1900,"Nombre y el registro de entrada válida"]
[null,"",null,null,null,"",null,null,null,{"$f":"IF(I2306=\"\",\"\",IF(VLOOKUP(I2306,CAD_Q!$C$6:$D$105,2,FALSE)=0,\"\",VLOOKUP(I2306,CAD_Q!$C$6:$D$105,2,FALSE)))","v":""},{"$f":"IFERROR(VLOOKUP(I2306,CAD_Q!$C$6:$E$109,3,FALSE)*F2306,\"\")","v":""},null,null,"",1,0,1900,0,1,1900,"Nombre y el registro de entrada válida"]
[null,"",null,null,null,"",null,null,null,{"$f":"IF(I2307=\"\",\"\",IF(VLOOKUP(I2307,CAD_Q!$C$6:$D$105,2,FALSE)=0,\"\",VLOOKUP(I2307,CAD_Q!$C$6:$D$105,2,FALSE)))","v":""},{"$f":"IFERROR(VLOOKUP(I2307,CAD_Q!$C$6:$E$109,3,FALSE)*F2307,\"\")","v":""},null,null,"",1,0,1900,0,1,1900,"Nombre y el registro de entrada válida"]
[null,"",null,null,null,"",null,null,null,{"$f":"IF(I2308=\"\",\"\",IF(VLOOKUP(I2308,CAD_Q!$C$6:$D$105,2,FALSE)=0,\"\",VLOOKUP(I2308,CAD_Q!$C$6:$D$105,2,FALSE)))","v":""},{"$f":"IFERROR(VLOOKUP(I2308,CAD_Q!$C$6:$E$109,3,FALSE)*F2308,\"\")","v":""},null,null,"",1,0,1900,0,1,1900,"Nombre y el registro de entrada válida"]
[null,"",null,null,null,"",null,null,null,{"$f":"IF(I2309=\"\",\"\",IF(VLOOKUP(I2309,CAD_Q!$C$6:$D$105,2,FALSE)=0,\"\",VLOOKUP(I2309,CAD_Q!$C$6:$D$105,2,FALSE)))","v":""},{"$f":"IFERROR(VLOOKUP(I2309,CAD_Q!$C$6:$E$109,3,FALSE)*F2309,\"\")","v":""},null,null,"",1,0,1900,0,1,1900,"Nombre y el registro de entrada válida"]
[null,"",null,null,null,"",null,null,null,{"$f":"IF(I2310=\"\",\"\",IF(VLOOKUP(I2310,CAD_Q!$C$6:$D$105,2,FALSE)=0,\"\",VLOOKUP(I2310,CAD_Q!$C$6:$D$105,2,FALSE)))","v":""},{"$f":"IFERROR(VLOOKUP(I2310,CAD_Q!$C$6:$E$109,3,FALSE)*F2310,\"\")","v":""},null,null,"",1,0,1900,0,1,1900,"Nombre y el registro de entrada válida"]
[null,{"$f":"CONCATENATE(C2311,D2311)","v":""},null,null,null,"",null,null,null,{"$f":"IF(I2311=\"\",\"\",IF(VLOOKUP(I2311,CAD_Q!$C$6:$D$105,2,FALSE)=0,\"\",VLOOKUP(I2311,CAD_Q!$C$6:$D$105,2,FALSE)))","v":""},{"$f":"IFERROR(VLOOKUP(I2311,CAD_Q!$C$6:$E$109,3,FALSE)*F2311,\"\")","v":""},null,null,{"$f":"IFERROR(K2311-L2311+M2311,\"\")","v":""},1,0,1900,0,1,1900,"Nombre y el registro de entrada válida"]
[null,"",null,null,null,"",null,null,null,{"$f":"IF(I2312=\"\",\"\",IF(VLOOKUP(I2312,CAD_Q!$C$6:$D$105,2,FALSE)=0,\"\",VLOOKUP(I2312,CAD_Q!$C$6:$D$105,2,FALSE)))","v":""},{"$f":"IFERROR(VLOOKUP(I2312,CAD_Q!$C$6:$E$109,3,FALSE)*F2312,\"\")","v":""},null,null,"",1,0,1900,0,1,1900,"Nombre y el registro de entrada válida"]
[null,"",null,null,null,"",null,null,null,{"$f":"IF(I2313=\"\",\"\",IF(VLOOKUP(I2313,CAD_Q!$C$6:$D$105,2,FALSE)=0,\"\",VLOOKUP(I2313,CAD_Q!$C$6:$D$105,2,FALSE)))","v":""},{"$f":"IFERROR(VLOOKUP(I2313,CAD_Q!$C$6:$E$109,3,FALSE)*F2313,\"\")","v":""},null,null,"",1,0,1900,0,1,1900,"Nombre y el registro de entrada válida"]
[null,"",null,null,null,"",null,null,null,{"$f":"IF(I2314=\"\",\"\",IF(VLOOKUP(I2314,CAD_Q!$C$6:$D$105,2,FALSE)=0,\"\",VLOOKUP(I2314,CAD_Q!$C$6:$D$105,2,FALSE)))","v":""},{"$f":"IFERROR(VLOOKUP(I2314,CAD_Q!$C$6:$E$109,3,FALSE)*F2314,\"\")","v":""},null,null,"",{"$f":"MONTH(D2314)","v":1},{"$f":"DAY(D2314)","v":0},{"$f":"YEAR(D2314)","v":1900},{"$f":"DAY(E2314)","v":0},{"$f":"MONTH(E2314)","v":1},{"$f":"YEAR(E2314)","v":1900},"Nombre y el registro de entrada válida"]
[null,"",null,null,null,"",null,null,null,{"$f":"IF(I2315=\"\",\"\",IF(VLOOKUP(I2315,CAD_Q!$C$6:$D$105,2,FALSE)=0,\"\",VLOOKUP(I2315,CAD_Q!$C$6:$D$105,2,FALSE)))","v":""},{"$f":"IFERROR(VLOOKUP(I2315,CAD_Q!$C$6:$E$109,3,FALSE)*F2315,\"\")","v":""},null,null,"",1,0,1900,0,1,1900,"Nombre y el registro de entrada válida"]
[null,"",null,null,null,"",null,null,null,{"$f":"IF(I2316=\"\",\"\",IF(VLOOKUP(I2316,CAD_Q!$C$6:$D$105,2,FALSE)=0,\"\",VLOOKUP(I2316,CAD_Q!$C$6:$D$105,2,FALSE)))","v":""},{"$f":"IFERROR(VLOOKUP(I2316,CAD_Q!$C$6:$E$109,3,FALSE)*F2316,\"\")","v":""},null,null,"",1,0,1900,0,1,1900,"Nombre y el registro de entrada válida"]
[null,"",null,null,null,"",null,null,null,{"$f":"IF(I2317=\"\",\"\",IF(VLOOKUP(I2317,CAD_Q!$C$6:$D$105,2,FALSE)=0,\"\",VLOOKUP(I2317,CAD_Q!$C$6:$D$105,2,FALSE)))","v":""},{"$f":"IFERROR(VLOOKUP(I2317,CAD_Q!$C$6:$E$109,3,FALSE)*F2317,\"\")","v":""},null,null,"",1,0,1900,0,1,1900,"Nombre y el registro de entrada válida"]
[null,"",null,null,null,"",null,null,null,{"$f":"IF(I2318=\"\",\"\",IF(VLOOKUP(I2318,CAD_Q!$C$6:$D$105,2,FALSE)=0,\"\",VLOOKUP(I2318,CAD_Q!$C$6:$D$105,2,FALSE)))","v":""},{"$f":"IFERROR(VLOOKUP(I2318,CAD_Q!$C$6:$E$109,3,FALSE)*F2318,\"\")","v":""},null,null,"",1,0,1900,0,1,1900,"Nombre y el registro de entrada válida"]
[null,"",null,null,null,"",null,null,null,{"$f":"IF(I2319=\"\",\"\",IF(VLOOKUP(I2319,CAD_Q!$C$6:$D$105,2,FALSE)=0,\"\",VLOOKUP(I2319,CAD_Q!$C$6:$D$105,2,FALSE)))","v":""},{"$f":"IFERROR(VLOOKUP(I2319,CAD_Q!$C$6:$E$109,3,FALSE)*F2319,\"\")","v":""},null,null,"",1,0,1900,0,1,1900,"Nombre y el registro de entrada válida"]
[null,"",null,null,null,"",null,null,null,{"$f":"IF(I2320=\"\",\"\",IF(VLOOKUP(I2320,CAD_Q!$C$6:$D$105,2,FALSE)=0,\"\",VLOOKUP(I2320,CAD_Q!$C$6:$D$105,2,FALSE)))","v":""},{"$f":"IFERROR(VLOOKUP(I2320,CAD_Q!$C$6:$E$109,3,FALSE)*F2320,\"\")","v":""},null,null,"",1,0,1900,0,1,1900,"Nombre y el registro de entrada válida"]
[null,"",null,null,null,"",null,null,null,{"$f":"IF(I2321=\"\",\"\",IF(VLOOKUP(I2321,CAD_Q!$C$6:$D$105,2,FALSE)=0,\"\",VLOOKUP(I2321,CAD_Q!$C$6:$D$105,2,FALSE)))","v":""},{"$f":"IFERROR(VLOOKUP(I2321,CAD_Q!$C$6:$E$109,3,FALSE)*F2321,\"\")","v":""},null,null,"",1,0,1900,0,1,1900,"Nombre y el registro de entrada válida"]
[null,"",null,null,null,"",null,null,null,{"$f":"IF(I2322=\"\",\"\",IF(VLOOKUP(I2322,CAD_Q!$C$6:$D$105,2,FALSE)=0,\"\",VLOOKUP(I2322,CAD_Q!$C$6:$D$105,2,FALSE)))","v":""},{"$f":"IFERROR(VLOOKUP(I2322,CAD_Q!$C$6:$E$109,3,FALSE)*F2322,\"\")","v":""},null,null,"",1,0,1900,0,1,1900,"Nombre y el registro de entrada válida"]
[null,"",null,null,null,"",null,null,null,{"$f":"IF(I2323=\"\",\"\",IF(VLOOKUP(I2323,CAD_Q!$C$6:$D$105,2,FALSE)=0,\"\",VLOOKUP(I2323,CAD_Q!$C$6:$D$105,2,FALSE)))","v":""},{"$f":"IFERROR(VLOOKUP(I2323,CAD_Q!$C$6:$E$109,3,FALSE)*F2323,\"\")","v":""},null,null,"",1,0,1900,0,1,1900,"Nombre y el registro de entrada válida"]
[null,"",null,null,null,"",null,null,null,{"$f":"IF(I2324=\"\",\"\",IF(VLOOKUP(I2324,CAD_Q!$C$6:$D$105,2,FALSE)=0,\"\",VLOOKUP(I2324,CAD_Q!$C$6:$D$105,2,FALSE)))","v":""},{"$f":"IFERROR(VLOOKUP(I2324,CAD_Q!$C$6:$E$109,3,FALSE)*F2324,\"\")","v":""},null,null,"",1,0,1900,0,1,1900,"Nombre y el registro de entrada válida"]
[null,"",null,null,null,"",null,null,null,{"$f":"IF(I2325=\"\",\"\",IF(VLOOKUP(I2325,CAD_Q!$C$6:$D$105,2,FALSE)=0,\"\",VLOOKUP(I2325,CAD_Q!$C$6:$D$105,2,FALSE)))","v":""},{"$f":"IFERROR(VLOOKUP(I2325,CAD_Q!$C$6:$E$109,3,FALSE)*F2325,\"\")","v":""},null,null,"",1,0,1900,0,1,1900,"Nombre y el registro de entrada válida"]
[null,"",null,null,null,"",null,null,null,{"$f":"IF(I2326=\"\",\"\",IF(VLOOKUP(I2326,CAD_Q!$C$6:$D$105,2,FALSE)=0,\"\",VLOOKUP(I2326,CAD_Q!$C$6:$D$105,2,FALSE)))","v":""},{"$f":"IFERROR(VLOOKUP(I2326,CAD_Q!$C$6:$E$109,3,FALSE)*F2326,\"\")","v":""},null,null,"",1,0,1900,0,1,1900,"Nombre y el registro de entrada válida"]
[null,"",null,null,null,"",null,null,null,{"$f":"IF(I2327=\"\",\"\",IF(VLOOKUP(I2327,CAD_Q!$C$6:$D$105,2,FALSE)=0,\"\",VLOOKUP(I2327,CAD_Q!$C$6:$D$105,2,FALSE)))","v":""},{"$f":"IFERROR(VLOOKUP(I2327,CAD_Q!$C$6:$E$109,3,FALSE)*F2327,\"\")","v":""},null,null,"",1,0,1900,0,1,1900,"Nombre y el registro de entrada válida"]
[null,"",null,null,null,"",null,null,null,{"$f":"IF(I2328=\"\",\"\",IF(VLOOKUP(I2328,CAD_Q!$C$6:$D$105,2,FALSE)=0,\"\",VLOOKUP(I2328,CAD_Q!$C$6:$D$105,2,FALSE)))","v":""},{"$f":"IFERROR(VLOOKUP(I2328,CAD_Q!$C$6:$E$109,3,FALSE)*F2328,\"\")","v":""},null,null,"",1,0,1900,0,1,1900,"Nombre y el registro de entrada válida"]
[null,"",null,null,null,"",null,null,null,{"$f":"IF(I2329=\"\",\"\",IF(VLOOKUP(I2329,CAD_Q!$C$6:$D$105,2,FALSE)=0,\"\",VLOOKUP(I2329,CAD_Q!$C$6:$D$105,2,FALSE)))","v":""},{"$f":"IFERROR(VLOOKUP(I2329,CAD_Q!$C$6:$E$109,3,FALSE)*F2329,\"\")","v":""},null,null,"",1,0,1900,0,1,1900,"Nombre y el registro de entrada válida"]
[null,"",null,null,null,"",null,null,null,{"$f":"IF(I2330=\"\",\"\",IF(VLOOKUP(I2330,CAD_Q!$C$6:$D$105,2,FALSE)=0,\"\",VLOOKUP(I2330,CAD_Q!$C$6:$D$105,2,FALSE)))","v":""},{"$f":"IFERROR(VLOOKUP(I2330,CAD_Q!$C$6:$E$109,3,FALSE)*F2330,\"\")","v":""},null,null,"",1,0,1900,0,1,1900,"Nombre y el registro de entrada válida"]
[null,"",null,null,null,"",null,null,null,{"$f":"IF(I2331=\"\",\"\",IF(VLOOKUP(I2331,CAD_Q!$C$6:$D$105,2,FALSE)=0,\"\",VLOOKUP(I2331,CAD_Q!$C$6:$D$105,2,FALSE)))","v":""},{"$f":"IFERROR(VLOOKUP(I2331,CAD_Q!$C$6:$E$109,3,FALSE)*F2331,\"\")","v":""},null,null,"",1,0,1900,0,1,1900,"Nombre y el registro de entrada válida"]
[null,"",null,null,null,"",null,null,null,{"$f":"IF(I2332=\"\",\"\",IF(VLOOKUP(I2332,CAD_Q!$C$6:$D$105,2,FALSE)=0,\"\",VLOOKUP(I2332,CAD_Q!$C$6:$D$105,2,FALSE)))","v":""},{"$f":"IFERROR(VLOOKUP(I2332,CAD_Q!$C$6:$E$109,3,FALSE)*F2332,\"\")","v":""},null,null,"",1,0,1900,0,1,1900,"Nombre y el registro de entrada válida"]
[null,"",null,null,null,"",null,null,null,{"$f":"IF(I2333=\"\",\"\",IF(VLOOKUP(I2333,CAD_Q!$C$6:$D$105,2,FALSE)=0,\"\",VLOOKUP(I2333,CAD_Q!$C$6:$D$105,2,FALSE)))","v":""},{"$f":"IFERROR(VLOOKUP(I2333,CAD_Q!$C$6:$E$109,3,FALSE)*F2333,\"\")","v":""},null,null,"",1,0,1900,0,1,1900,"Nombre y el registro de entrada válida"]
[null,"",null,null,null,"",null,null,null,{"$f":"IF(I2334=\"\",\"\",IF(VLOOKUP(I2334,CAD_Q!$C$6:$D$105,2,FALSE)=0,\"\",VLOOKUP(I2334,CAD_Q!$C$6:$D$105,2,FALSE)))","v":""},{"$f":"IFERROR(VLOOKUP(I2334,CAD_Q!$C$6:$E$109,3,FALSE)*F2334,\"\")","v":""},null,null,"",1,0,1900,0,1,1900,"Nombre y el registro de entrada válida"]
[null,"",null,null,null,"",null,null,null,{"$f":"IF(I2335=\"\",\"\",IF(VLOOKUP(I2335,CAD_Q!$C$6:$D$105,2,FALSE)=0,\"\",VLOOKUP(I2335,CAD_Q!$C$6:$D$105,2,FALSE)))","v":""},{"$f":"IFERROR(VLOOKUP(I2335,CAD_Q!$C$6:$E$109,3,FALSE)*F2335,\"\")","v":""},null,null,"",1,0,1900,0,1,1900,"Nombre y el registro de entrada válida"]
[null,"",null,null,null,"",null,null,null,{"$f":"IF(I2336=\"\",\"\",IF(VLOOKUP(I2336,CAD_Q!$C$6:$D$105,2,FALSE)=0,\"\",VLOOKUP(I2336,CAD_Q!$C$6:$D$105,2,FALSE)))","v":""},{"$f":"IFERROR(VLOOKUP(I2336,CAD_Q!$C$6:$E$109,3,FALSE)*F2336,\"\")","v":""},null,null,"",1,0,1900,0,1,1900,"Nombre y el registro de entrada válida"]
[null,"",null,null,null,"",null,null,null,{"$f":"IF(I2337=\"\",\"\",IF(VLOOKUP(I2337,CAD_Q!$C$6:$D$105,2,FALSE)=0,\"\",VLOOKUP(I2337,CAD_Q!$C$6:$D$105,2,FALSE)))","v":""},{"$f":"IFERROR(VLOOKUP(I2337,CAD_Q!$C$6:$E$109,3,FALSE)*F2337,\"\")","v":""},null,null,"",1,0,1900,0,1,1900,"Nombre y el registro de entrada válida"]
[null,"",null,null,null,"",null,null,null,{"$f":"IF(I2338=\"\",\"\",IF(VLOOKUP(I2338,CAD_Q!$C$6:$D$105,2,FALSE)=0,\"\",VLOOKUP(I2338,CAD_Q!$C$6:$D$105,2,FALSE)))","v":""},{"$f":"IFERROR(VLOOKUP(I2338,CAD_Q!$C$6:$E$109,3,FALSE)*F2338,\"\")","v":""},null,null,"",1,0,1900,0,1,1900,"Nombre y el registro de entrada válida"]
[null,"",null,null,null,"",null,null,null,{"$f":"IF(I2339=\"\",\"\",IF(VLOOKUP(I2339,CAD_Q!$C$6:$D$105,2,FALSE)=0,\"\",VLOOKUP(I2339,CAD_Q!$C$6:$D$105,2,FALSE)))","v":""},{"$f":"IFERROR(VLOOKUP(I2339,CAD_Q!$C$6:$E$109,3,FALSE)*F2339,\"\")","v":""},null,null,"",1,0,1900,0,1,1900,"Nombre y el registro de entrada válida"]
[null,"",null,null,null,{"$f":"IF(OR(D2340=\"\",E2340=\"\"),\"\",E2340-D2340)","v":""},null,null,null,{"$f":"IF(I2340=\"\",\"\",IF(VLOOKUP(I2340,CAD_Q!$C$6:$D$105,2,FALSE)=0,\"\",VLOOKUP(I2340,CAD_Q!$C$6:$D$105,2,FALSE)))","v":""},{"$f":"IFERROR(VLOOKUP(I2340,CAD_Q!$C$6:$E$109,3,FALSE)*F2340,\"\")","v":""},null,null,"",1,0,1900,0,1,1900,"Nombre y el registro de entrada válida"]
[null,"",null,null,null,"",null,null,null,{"$f":"IF(I2341=\"\",\"\",IF(VLOOKUP(I2341,CAD_Q!$C$6:$D$105,2,FALSE)=0,\"\",VLOOKUP(I2341,CAD_Q!$C$6:$D$105,2,FALSE)))","v":""},{"$f":"IFERROR(VLOOKUP(I2341,CAD_Q!$C$6:$E$109,3,FALSE)*F2341,\"\")","v":""},null,null,"",1,0,1900,0,1,1900,"Nombre y el registro de entrada válida"]
[null,"",null,null,null,"",null,null,null,{"$f":"IF(I2342=\"\",\"\",IF(VLOOKUP(I2342,CAD_Q!$C$6:$D$105,2,FALSE)=0,\"\",VLOOKUP(I2342,CAD_Q!$C$6:$D$105,2,FALSE)))","v":""},{"$f":"IFERROR(VLOOKUP(I2342,CAD_Q!$C$6:$E$109,3,FALSE)*F2342,\"\")","v":""},null,null,"",1,0,1900,0,1,1900,"Nombre y el registro de entrada válida"]
[null,"",null,null,null,"",null,null,null,{"$f":"IF(I2343=\"\",\"\",IF(VLOOKUP(I2343,CAD_Q!$C$6:$D$105,2,FALSE)=0,\"\",VLOOKUP(I2343,CAD_Q!$C$6:$D$105,2,FALSE)))","v":""},{"$f":"IFERROR(VLOOKUP(I2343,CAD_Q!$C$6:$E$109,3,FALSE)*F2343,\"\")","v":""},null,null,"",1,0,1900,0,1,1900,"Nombre y el registro de entrada válida"]
[null,"",null,null,null,"",null,null,null,{"$f":"IF(I2344=\"\",\"\",IF(VLOOKUP(I2344,CAD_Q!$C$6:$D$105,2,FALSE)=0,\"\",VLOOKUP(I2344,CAD_Q!$C$6:$D$105,2,FALSE)))","v":""},{"$f":"IFERROR(VLOOKUP(I2344,CAD_Q!$C$6:$E$109,3,FALSE)*F2344,\"\")","v":""},null,null,"",1,0,1900,0,1,1900,"Nombre y el registro de entrada válida"]
[null,"",null,null,null,"",null,null,null,{"$f":"IF(I2345=\"\",\"\",IF(VLOOKUP(I2345,CAD_Q!$C$6:$D$105,2,FALSE)=0,\"\",VLOOKUP(I2345,CAD_Q!$C$6:$D$105,2,FALSE)))","v":""},{"$f":"IFERROR(VLOOKUP(I2345,CAD_Q!$C$6:$E$109,3,FALSE)*F2345,\"\")","v":""},null,null,"",1,0,1900,0,1,1900,"Nombre y el registro de entrada válida"]
[null,"",null,null,null,"",null,null,null,{"$f":"IF(I2346=\"\",\"\",IF(VLOOKUP(I2346,CAD_Q!$C$6:$D$105,2,FALSE)=0,\"\",VLOOKUP(I2346,CAD_Q!$C$6:$D$105,2,FALSE)))","v":""},{"$f":"IFERROR(VLOOKUP(I2346,CAD_Q!$C$6:$E$109,3,FALSE)*F2346,\"\")","v":""},null,null,"",1,0,1900,0,1,1900,"Nombre y el registro de entrada válida"]
[null,"",null,null,null,"",null,null,null,{"$f":"IF(I2347=\"\",\"\",IF(VLOOKUP(I2347,CAD_Q!$C$6:$D$105,2,FALSE)=0,\"\",VLOOKUP(I2347,CAD_Q!$C$6:$D$105,2,FALSE)))","v":""},{"$f":"IFERROR(VLOOKUP(I2347,CAD_Q!$C$6:$E$109,3,FALSE)*F2347,\"\")","v":""},null,null,"",1,0,1900,0,1,1900,"Nombre y el registro de entrada válida"]
[null,"",null,null,null,"",null,null,null,{"$f":"IF(I2348=\"\",\"\",IF(VLOOKUP(I2348,CAD_Q!$C$6:$D$105,2,FALSE)=0,\"\",VLOOKUP(I2348,CAD_Q!$C$6:$D$105,2,FALSE)))","v":""},{"$f":"IFERROR(VLOOKUP(I2348,CAD_Q!$C$6:$E$109,3,FALSE)*F2348,\"\")","v":""},null,null,"",1,0,1900,0,1,1900,"Nombre y el registro de entrada válida"]
[null,"",null,null,null,"",null,null,null,{"$f":"IF(I2349=\"\",\"\",IF(VLOOKUP(I2349,CAD_Q!$C$6:$D$105,2,FALSE)=0,\"\",VLOOKUP(I2349,CAD_Q!$C$6:$D$105,2,FALSE)))","v":""},{"$f":"IFERROR(VLOOKUP(I2349,CAD_Q!$C$6:$E$109,3,FALSE)*F2349,\"\")","v":""},null,null,"",1,0,1900,0,1,1900,"Nombre y el registro de entrada válida"]
[null,"",null,null,null,"",null,null,null,{"$f":"IF(I2350=\"\",\"\",IF(VLOOKUP(I2350,CAD_Q!$C$6:$D$105,2,FALSE)=0,\"\",VLOOKUP(I2350,CAD_Q!$C$6:$D$105,2,FALSE)))","v":""},{"$f":"IFERROR(VLOOKUP(I2350,CAD_Q!$C$6:$E$109,3,FALSE)*F2350,\"\")","v":""},null,null,"",1,0,1900,0,1,1900,"Nombre y el registro de entrada válida"]
[null,"",null,null,null,"",null,null,null,{"$f":"IF(I2351=\"\",\"\",IF(VLOOKUP(I2351,CAD_Q!$C$6:$D$105,2,FALSE)=0,\"\",VLOOKUP(I2351,CAD_Q!$C$6:$D$105,2,FALSE)))","v":""},{"$f":"IFERROR(VLOOKUP(I2351,CAD_Q!$C$6:$E$109,3,FALSE)*F2351,\"\")","v":""},null,null,"",1,0,1900,0,1,1900,"Nombre y el registro de entrada válida"]
[null,"",null,null,null,"",null,null,null,{"$f":"IF(I2352=\"\",\"\",IF(VLOOKUP(I2352,CAD_Q!$C$6:$D$105,2,FALSE)=0,\"\",VLOOKUP(I2352,CAD_Q!$C$6:$D$105,2,FALSE)))","v":""},{"$f":"IFERROR(VLOOKUP(I2352,CAD_Q!$C$6:$E$109,3,FALSE)*F2352,\"\")","v":""},null,null,"",1,0,1900,0,1,1900,"Nombre y el registro de entrada válida"]
[null,"",null,null,null,"",null,null,null,{"$f":"IF(I2353=\"\",\"\",IF(VLOOKUP(I2353,CAD_Q!$C$6:$D$105,2,FALSE)=0,\"\",VLOOKUP(I2353,CAD_Q!$C$6:$D$105,2,FALSE)))","v":""},{"$f":"IFERROR(VLOOKUP(I2353,CAD_Q!$C$6:$E$109,3,FALSE)*F2353,\"\")","v":""},null,null,"",1,0,1900,0,1,1900,"Nombre y el registro de entrada válida"]
[null,"",null,null,null,"",null,null,null,{"$f":"IF(I2354=\"\",\"\",IF(VLOOKUP(I2354,CAD_Q!$C$6:$D$105,2,FALSE)=0,\"\",VLOOKUP(I2354,CAD_Q!$C$6:$D$105,2,FALSE)))","v":""},{"$f":"IFERROR(VLOOKUP(I2354,CAD_Q!$C$6:$E$109,3,FALSE)*F2354,\"\")","v":""},null,null,"",1,0,1900,0,1,1900,"Nombre y el registro de entrada válida"]
[null,"",null,null,null,"",null,null,null,{"$f":"IF(I2355=\"\",\"\",IF(VLOOKUP(I2355,CAD_Q!$C$6:$D$105,2,FALSE)=0,\"\",VLOOKUP(I2355,CAD_Q!$C$6:$D$105,2,FALSE)))","v":""},{"$f":"IFERROR(VLOOKUP(I2355,CAD_Q!$C$6:$E$109,3,FALSE)*F2355,\"\")","v":""},null,null,"",1,0,1900,0,1,1900,"Nombre y el registro de entrada válida"]
[null,"",null,null,null,"",null,null,null,{"$f":"IF(I2356=\"\",\"\",IF(VLOOKUP(I2356,CAD_Q!$C$6:$D$105,2,FALSE)=0,\"\",VLOOKUP(I2356,CAD_Q!$C$6:$D$105,2,FALSE)))","v":""},{"$f":"IFERROR(VLOOKUP(I2356,CAD_Q!$C$6:$E$109,3,FALSE)*F2356,\"\")","v":""},null,null,"",1,0,1900,0,1,1900,"Nombre y el registro de entrada válida"]
[null,"",null,null,null,"",null,null,null,{"$f":"IF(I2357=\"\",\"\",IF(VLOOKUP(I2357,CAD_Q!$C$6:$D$105,2,FALSE)=0,\"\",VLOOKUP(I2357,CAD_Q!$C$6:$D$105,2,FALSE)))","v":""},{"$f":"IFERROR(VLOOKUP(I2357,CAD_Q!$C$6:$E$109,3,FALSE)*F2357,\"\")","v":""},null,null,"",1,0,1900,0,1,1900,"Nombre y el registro de entrada válida"]
[null,"",null,null,null,"",null,null,null,{"$f":"IF(I2358=\"\",\"\",IF(VLOOKUP(I2358,CAD_Q!$C$6:$D$105,2,FALSE)=0,\"\",VLOOKUP(I2358,CAD_Q!$C$6:$D$105,2,FALSE)))","v":""},{"$f":"IFERROR(VLOOKUP(I2358,CAD_Q!$C$6:$E$109,3,FALSE)*F2358,\"\")","v":""},null,null,"",1,0,1900,0,1,1900,"Nombre y el registro de entrada válida"]
[null,"",null,null,null,"",null,null,null,{"$f":"IF(I2359=\"\",\"\",IF(VLOOKUP(I2359,CAD_Q!$C$6:$D$105,2,FALSE)=0,\"\",VLOOKUP(I2359,CAD_Q!$C$6:$D$105,2,FALSE)))","v":""},{"$f":"IFERROR(VLOOKUP(I2359,CAD_Q!$C$6:$E$109,3,FALSE)*F2359,\"\")","v":""},null,null,"",1,0,1900,0,1,1900,"Nombre y el registro de entrada válida"]
[null,"",null,null,null,"",null,null,null,{"$f":"IF(I2360=\"\",\"\",IF(VLOOKUP(I2360,CAD_Q!$C$6:$D$105,2,FALSE)=0,\"\",VLOOKUP(I2360,CAD_Q!$C$6:$D$105,2,FALSE)))","v":""},{"$f":"IFERROR(VLOOKUP(I2360,CAD_Q!$C$6:$E$109,3,FALSE)*F2360,\"\")","v":""},null,null,"",1,0,1900,0,1,1900,"Nombre y el registro de entrada válida"]
[null,"",null,null,null,"",null,null,null,{"$f":"IF(I2361=\"\",\"\",IF(VLOOKUP(I2361,CAD_Q!$C$6:$D$105,2,FALSE)=0,\"\",VLOOKUP(I2361,CAD_Q!$C$6:$D$105,2,FALSE)))","v":""},{"$f":"IFERROR(VLOOKUP(I2361,CAD_Q!$C$6:$E$109,3,FALSE)*F2361,\"\")","v":""},null,null,"",1,0,1900,0,1,1900,"Nombre y el registro de entrada válida"]
[null,"",null,null,null,"",null,null,null,{"$f":"IF(I2362=\"\",\"\",IF(VLOOKUP(I2362,CAD_Q!$C$6:$D$105,2,FALSE)=0,\"\",VLOOKUP(I2362,CAD_Q!$C$6:$D$105,2,FALSE)))","v":""},{"$f":"IFERROR(VLOOKUP(I2362,CAD_Q!$C$6:$E$109,3,FALSE)*F2362,\"\")","v":""},null,null,"",1,0,1900,0,1,1900,"Nombre y el registro de entrada válida"]
[null,"",null,null,null,"",null,null,null,{"$f":"IF(I2363=\"\",\"\",IF(VLOOKUP(I2363,CAD_Q!$C$6:$D$105,2,FALSE)=0,\"\",VLOOKUP(I2363,CAD_Q!$C$6:$D$105,2,FALSE)))","v":""},{"$f":"IFERROR(VLOOKUP(I2363,CAD_Q!$C$6:$E$109,3,FALSE)*F2363,\"\")","v":""},null,null,"",1,0,1900,0,1,1900,"Nombre y el registro de entrada válida"]
[null,"",null,null,null,"",null,null,null,{"$f":"IF(I2364=\"\",\"\",IF(VLOOKUP(I2364,CAD_Q!$C$6:$D$105,2,FALSE)=0,\"\",VLOOKUP(I2364,CAD_Q!$C$6:$D$105,2,FALSE)))","v":""},{"$f":"IFERROR(VLOOKUP(I2364,CAD_Q!$C$6:$E$109,3,FALSE)*F2364,\"\")","v":""},null,null,"",1,0,1900,0,1,1900,"Nombre y el registro de entrada válida"]
[null,"",null,null,null,"",null,null,null,{"$f":"IF(I2365=\"\",\"\",IF(VLOOKUP(I2365,CAD_Q!$C$6:$D$105,2,FALSE)=0,\"\",VLOOKUP(I2365,CAD_Q!$C$6:$D$105,2,FALSE)))","v":""},{"$f":"IFERROR(VLOOKUP(I2365,CAD_Q!$C$6:$E$109,3,FALSE)*F2365,\"\")","v":""},null,null,"",1,0,1900,0,1,1900,"Nombre y el registro de entrada válida"]
[null,"",null,null,null,"",null,null,null,{"$f":"IF(I2366=\"\",\"\",IF(VLOOKUP(I2366,CAD_Q!$C$6:$D$105,2,FALSE)=0,\"\",VLOOKUP(I2366,CAD_Q!$C$6:$D$105,2,FALSE)))","v":""},{"$f":"IFERROR(VLOOKUP(I2366,CAD_Q!$C$6:$E$109,3,FALSE)*F2366,\"\")","v":""},null,null,"",1,0,1900,0,1,1900,"Nombre y el registro de entrada válida"]
[null,"",null,null,null,"",null,null,null,{"$f":"IF(I2367=\"\",\"\",IF(VLOOKUP(I2367,CAD_Q!$C$6:$D$105,2,FALSE)=0,\"\",VLOOKUP(I2367,CAD_Q!$C$6:$D$105,2,FALSE)))","v":""},{"$f":"IFERROR(VLOOKUP(I2367,CAD_Q!$C$6:$E$109,3,FALSE)*F2367,\"\")","v":""},null,null,"",1,0,1900,0,1,1900,"Nombre y el registro de entrada válida"]
[null,"",null,null,null,"",null,null,null,{"$f":"IF(I2368=\"\",\"\",IF(VLOOKUP(I2368,CAD_Q!$C$6:$D$105,2,FALSE)=0,\"\",VLOOKUP(I2368,CAD_Q!$C$6:$D$105,2,FALSE)))","v":""},{"$f":"IFERROR(VLOOKUP(I2368,CAD_Q!$C$6:$E$109,3,FALSE)*F2368,\"\")","v":""},null,null,"",1,0,1900,0,1,1900,"Nombre y el registro de entrada válida"]
[null,"",null,null,null,"",null,null,null,{"$f":"IF(I2369=\"\",\"\",IF(VLOOKUP(I2369,CAD_Q!$C$6:$D$105,2,FALSE)=0,\"\",VLOOKUP(I2369,CAD_Q!$C$6:$D$105,2,FALSE)))","v":""},{"$f":"IFERROR(VLOOKUP(I2369,CAD_Q!$C$6:$E$109,3,FALSE)*F2369,\"\")","v":""},null,null,"",1,0,1900,0,1,1900,"Nombre y el registro de entrada válida"]
[null,"",null,null,null,"",null,null,null,{"$f":"IF(I2370=\"\",\"\",IF(VLOOKUP(I2370,CAD_Q!$C$6:$D$105,2,FALSE)=0,\"\",VLOOKUP(I2370,CAD_Q!$C$6:$D$105,2,FALSE)))","v":""},{"$f":"IFERROR(VLOOKUP(I2370,CAD_Q!$C$6:$E$109,3,FALSE)*F2370,\"\")","v":""},null,null,"",1,0,1900,0,1,1900,"Nombre y el registro de entrada válida"]
[null,"",null,null,null,"",null,null,null,{"$f":"IF(I2371=\"\",\"\",IF(VLOOKUP(I2371,CAD_Q!$C$6:$D$105,2,FALSE)=0,\"\",VLOOKUP(I2371,CAD_Q!$C$6:$D$105,2,FALSE)))","v":""},{"$f":"IFERROR(VLOOKUP(I2371,CAD_Q!$C$6:$E$109,3,FALSE)*F2371,\"\")","v":""},null,null,"",1,0,1900,0,1,1900,"Nombre y el registro de entrada válida"]
[null,"",null,null,null,"",null,null,null,{"$f":"IF(I2372=\"\",\"\",IF(VLOOKUP(I2372,CAD_Q!$C$6:$D$105,2,FALSE)=0,\"\",VLOOKUP(I2372,CAD_Q!$C$6:$D$105,2,FALSE)))","v":""},{"$f":"IFERROR(VLOOKUP(I2372,CAD_Q!$C$6:$E$109,3,FALSE)*F2372,\"\")","v":""},null,null,"",1,0,1900,0,1,1900,"Nombre y el registro de entrada válida"]
[null,"",null,null,null,"",null,null,null,{"$f":"IF(I2373=\"\",\"\",IF(VLOOKUP(I2373,CAD_Q!$C$6:$D$105,2,FALSE)=0,\"\",VLOOKUP(I2373,CAD_Q!$C$6:$D$105,2,FALSE)))","v":""},{"$f":"IFERROR(VLOOKUP(I2373,CAD_Q!$C$6:$E$109,3,FALSE)*F2373,\"\")","v":""},null,null,"",1,0,1900,0,1,1900,"Nombre y el registro de entrada válida"]
[null,"",null,null,null,"",null,null,null,{"$f":"IF(I2374=\"\",\"\",IF(VLOOKUP(I2374,CAD_Q!$C$6:$D$105,2,FALSE)=0,\"\",VLOOKUP(I2374,CAD_Q!$C$6:$D$105,2,FALSE)))","v":""},{"$f":"IFERROR(VLOOKUP(I2374,CAD_Q!$C$6:$E$109,3,FALSE)*F2374,\"\")","v":""},null,null,"",1,0,1900,0,1,1900,"Nombre y el registro de entrada válida"]
[null,{"$f":"CONCATENATE(C2375,D2375)","v":""},null,null,null,"",null,null,null,{"$f":"IF(I2375=\"\",\"\",IF(VLOOKUP(I2375,CAD_Q!$C$6:$D$105,2,FALSE)=0,\"\",VLOOKUP(I2375,CAD_Q!$C$6:$D$105,2,FALSE)))","v":""},{"$f":"IFERROR(VLOOKUP(I2375,CAD_Q!$C$6:$E$109,3,FALSE)*F2375,\"\")","v":""},null,null,{"$f":"IFERROR(K2375-L2375+M2375,\"\")","v":""},1,0,1900,0,1,1900,"Nombre y el registro de entrada válida"]
[null,"",null,null,null,"",null,null,null,{"$f":"IF(I2376=\"\",\"\",IF(VLOOKUP(I2376,CAD_Q!$C$6:$D$105,2,FALSE)=0,\"\",VLOOKUP(I2376,CAD_Q!$C$6:$D$105,2,FALSE)))","v":""},{"$f":"IFERROR(VLOOKUP(I2376,CAD_Q!$C$6:$E$109,3,FALSE)*F2376,\"\")","v":""},null,null,"",1,0,1900,0,1,1900,"Nombre y el registro de entrada válida"]
[null,"",null,null,null,"",null,null,null,{"$f":"IF(I2377=\"\",\"\",IF(VLOOKUP(I2377,CAD_Q!$C$6:$D$105,2,FALSE)=0,\"\",VLOOKUP(I2377,CAD_Q!$C$6:$D$105,2,FALSE)))","v":""},{"$f":"IFERROR(VLOOKUP(I2377,CAD_Q!$C$6:$E$109,3,FALSE)*F2377,\"\")","v":""},null,null,"",1,0,1900,0,1,1900,"Nombre y el registro de entrada válida"]
[null,"",null,null,null,"",null,null,null,{"$f":"IF(I2378=\"\",\"\",IF(VLOOKUP(I2378,CAD_Q!$C$6:$D$105,2,FALSE)=0,\"\",VLOOKUP(I2378,CAD_Q!$C$6:$D$105,2,FALSE)))","v":""},{"$f":"IFERROR(VLOOKUP(I2378,CAD_Q!$C$6:$E$109,3,FALSE)*F2378,\"\")","v":""},null,null,"",{"$f":"MONTH(D2378)","v":1},{"$f":"DAY(D2378)","v":0},{"$f":"YEAR(D2378)","v":1900},{"$f":"DAY(E2378)","v":0},{"$f":"MONTH(E2378)","v":1},{"$f":"YEAR(E2378)","v":1900},"Nombre y el registro de entrada válida"]
[null,"",null,null,null,"",null,null,null,{"$f":"IF(I2379=\"\",\"\",IF(VLOOKUP(I2379,CAD_Q!$C$6:$D$105,2,FALSE)=0,\"\",VLOOKUP(I2379,CAD_Q!$C$6:$D$105,2,FALSE)))","v":""},{"$f":"IFERROR(VLOOKUP(I2379,CAD_Q!$C$6:$E$109,3,FALSE)*F2379,\"\")","v":""},null,null,"",1,0,1900,0,1,1900,"Nombre y el registro de entrada válida"]
[null,"",null,null,null,"",null,null,null,{"$f":"IF(I2380=\"\",\"\",IF(VLOOKUP(I2380,CAD_Q!$C$6:$D$105,2,FALSE)=0,\"\",VLOOKUP(I2380,CAD_Q!$C$6:$D$105,2,FALSE)))","v":""},{"$f":"IFERROR(VLOOKUP(I2380,CAD_Q!$C$6:$E$109,3,FALSE)*F2380,\"\")","v":""},null,null,"",1,0,1900,0,1,1900,"Nombre y el registro de entrada válida"]
[null,"",null,null,null,"",null,null,null,{"$f":"IF(I2381=\"\",\"\",IF(VLOOKUP(I2381,CAD_Q!$C$6:$D$105,2,FALSE)=0,\"\",VLOOKUP(I2381,CAD_Q!$C$6:$D$105,2,FALSE)))","v":""},{"$f":"IFERROR(VLOOKUP(I2381,CAD_Q!$C$6:$E$109,3,FALSE)*F2381,\"\")","v":""},null,null,"",1,0,1900,0,1,1900,"Nombre y el registro de entrada válida"]
[null,"",null,null,null,"",null,null,null,{"$f":"IF(I2382=\"\",\"\",IF(VLOOKUP(I2382,CAD_Q!$C$6:$D$105,2,FALSE)=0,\"\",VLOOKUP(I2382,CAD_Q!$C$6:$D$105,2,FALSE)))","v":""},{"$f":"IFERROR(VLOOKUP(I2382,CAD_Q!$C$6:$E$109,3,FALSE)*F2382,\"\")","v":""},null,null,"",1,0,1900,0,1,1900,"Nombre y el registro de entrada válida"]
[null,"",null,null,null,"",null,null,null,{"$f":"IF(I2383=\"\",\"\",IF(VLOOKUP(I2383,CAD_Q!$C$6:$D$105,2,FALSE)=0,\"\",VLOOKUP(I2383,CAD_Q!$C$6:$D$105,2,FALSE)))","v":""},{"$f":"IFERROR(VLOOKUP(I2383,CAD_Q!$C$6:$E$109,3,FALSE)*F2383,\"\")","v":""},null,null,"",1,0,1900,0,1,1900,"Nombre y el registro de entrada válida"]
[null,"",null,null,null,"",null,null,null,{"$f":"IF(I2384=\"\",\"\",IF(VLOOKUP(I2384,CAD_Q!$C$6:$D$105,2,FALSE)=0,\"\",VLOOKUP(I2384,CAD_Q!$C$6:$D$105,2,FALSE)))","v":""},{"$f":"IFERROR(VLOOKUP(I2384,CAD_Q!$C$6:$E$109,3,FALSE)*F2384,\"\")","v":""},null,null,"",1,0,1900,0,1,1900,"Nombre y el registro de entrada válida"]
[null,"",null,null,null,"",null,null,null,{"$f":"IF(I2385=\"\",\"\",IF(VLOOKUP(I2385,CAD_Q!$C$6:$D$105,2,FALSE)=0,\"\",VLOOKUP(I2385,CAD_Q!$C$6:$D$105,2,FALSE)))","v":""},{"$f":"IFERROR(VLOOKUP(I2385,CAD_Q!$C$6:$E$109,3,FALSE)*F2385,\"\")","v":""},null,null,"",1,0,1900,0,1,1900,"Nombre y el registro de entrada válida"]
[null,"",null,null,null,"",null,null,null,{"$f":"IF(I2386=\"\",\"\",IF(VLOOKUP(I2386,CAD_Q!$C$6:$D$105,2,FALSE)=0,\"\",VLOOKUP(I2386,CAD_Q!$C$6:$D$105,2,FALSE)))","v":""},{"$f":"IFERROR(VLOOKUP(I2386,CAD_Q!$C$6:$E$109,3,FALSE)*F2386,\"\")","v":""},null,null,"",1,0,1900,0,1,1900,"Nombre y el registro de entrada válida"]
[null,"",null,null,null,"",null,null,null,{"$f":"IF(I2387=\"\",\"\",IF(VLOOKUP(I2387,CAD_Q!$C$6:$D$105,2,FALSE)=0,\"\",VLOOKUP(I2387,CAD_Q!$C$6:$D$105,2,FALSE)))","v":""},{"$f":"IFERROR(VLOOKUP(I2387,CAD_Q!$C$6:$E$109,3,FALSE)*F2387,\"\")","v":""},null,null,"",1,0,1900,0,1,1900,"Nombre y el registro de entrada válida"]
[null,"",null,null,null,"",null,null,null,{"$f":"IF(I2388=\"\",\"\",IF(VLOOKUP(I2388,CAD_Q!$C$6:$D$105,2,FALSE)=0,\"\",VLOOKUP(I2388,CAD_Q!$C$6:$D$105,2,FALSE)))","v":""},{"$f":"IFERROR(VLOOKUP(I2388,CAD_Q!$C$6:$E$109,3,FALSE)*F2388,\"\")","v":""},null,null,"",1,0,1900,0,1,1900,"Nombre y el registro de entrada válida"]
[null,"",null,null,null,"",null,null,null,{"$f":"IF(I2389=\"\",\"\",IF(VLOOKUP(I2389,CAD_Q!$C$6:$D$105,2,FALSE)=0,\"\",VLOOKUP(I2389,CAD_Q!$C$6:$D$105,2,FALSE)))","v":""},{"$f":"IFERROR(VLOOKUP(I2389,CAD_Q!$C$6:$E$109,3,FALSE)*F2389,\"\")","v":""},null,null,"",1,0,1900,0,1,1900,"Nombre y el registro de entrada válida"]
[null,"",null,null,null,"",null,null,null,{"$f":"IF(I2390=\"\",\"\",IF(VLOOKUP(I2390,CAD_Q!$C$6:$D$105,2,FALSE)=0,\"\",VLOOKUP(I2390,CAD_Q!$C$6:$D$105,2,FALSE)))","v":""},{"$f":"IFERROR(VLOOKUP(I2390,CAD_Q!$C$6:$E$109,3,FALSE)*F2390,\"\")","v":""},null,null,"",1,0,1900,0,1,1900,"Nombre y el registro de entrada válida"]
[null,"",null,null,null,"",null,null,null,{"$f":"IF(I2391=\"\",\"\",IF(VLOOKUP(I2391,CAD_Q!$C$6:$D$105,2,FALSE)=0,\"\",VLOOKUP(I2391,CAD_Q!$C$6:$D$105,2,FALSE)))","v":""},{"$f":"IFERROR(VLOOKUP(I2391,CAD_Q!$C$6:$E$109,3,FALSE)*F2391,\"\")","v":""},null,null,"",1,0,1900,0,1,1900,"Nombre y el registro de entrada válida"]
[null,"",null,null,null,"",null,null,null,{"$f":"IF(I2392=\"\",\"\",IF(VLOOKUP(I2392,CAD_Q!$C$6:$D$105,2,FALSE)=0,\"\",VLOOKUP(I2392,CAD_Q!$C$6:$D$105,2,FALSE)))","v":""},{"$f":"IFERROR(VLOOKUP(I2392,CAD_Q!$C$6:$E$109,3,FALSE)*F2392,\"\")","v":""},null,null,"",1,0,1900,0,1,1900,"Nombre y el registro de entrada válida"]
[null,"",null,null,null,"",null,null,null,{"$f":"IF(I2393=\"\",\"\",IF(VLOOKUP(I2393,CAD_Q!$C$6:$D$105,2,FALSE)=0,\"\",VLOOKUP(I2393,CAD_Q!$C$6:$D$105,2,FALSE)))","v":""},{"$f":"IFERROR(VLOOKUP(I2393,CAD_Q!$C$6:$E$109,3,FALSE)*F2393,\"\")","v":""},null,null,"",1,0,1900,0,1,1900,"Nombre y el registro de entrada válida"]
[null,"",null,null,null,"",null,null,null,{"$f":"IF(I2394=\"\",\"\",IF(VLOOKUP(I2394,CAD_Q!$C$6:$D$105,2,FALSE)=0,\"\",VLOOKUP(I2394,CAD_Q!$C$6:$D$105,2,FALSE)))","v":""},{"$f":"IFERROR(VLOOKUP(I2394,CAD_Q!$C$6:$E$109,3,FALSE)*F2394,\"\")","v":""},null,null,"",1,0,1900,0,1,1900,"Nombre y el registro de entrada válida"]
[null,"",null,null,null,"",null,null,null,{"$f":"IF(I2395=\"\",\"\",IF(VLOOKUP(I2395,CAD_Q!$C$6:$D$105,2,FALSE)=0,\"\",VLOOKUP(I2395,CAD_Q!$C$6:$D$105,2,FALSE)))","v":""},{"$f":"IFERROR(VLOOKUP(I2395,CAD_Q!$C$6:$E$109,3,FALSE)*F2395,\"\")","v":""},null,null,"",1,0,1900,0,1,1900,"Nombre y el registro de entrada válida"]
[null,"",null,null,null,"",null,null,null,{"$f":"IF(I2396=\"\",\"\",IF(VLOOKUP(I2396,CAD_Q!$C$6:$D$105,2,FALSE)=0,\"\",VLOOKUP(I2396,CAD_Q!$C$6:$D$105,2,FALSE)))","v":""},{"$f":"IFERROR(VLOOKUP(I2396,CAD_Q!$C$6:$E$109,3,FALSE)*F2396,\"\")","v":""},null,null,"",1,0,1900,0,1,1900,"Nombre y el registro de entrada válida"]
[null,"",null,null,null,"",null,null,null,{"$f":"IF(I2397=\"\",\"\",IF(VLOOKUP(I2397,CAD_Q!$C$6:$D$105,2,FALSE)=0,\"\",VLOOKUP(I2397,CAD_Q!$C$6:$D$105,2,FALSE)))","v":""},{"$f":"IFERROR(VLOOKUP(I2397,CAD_Q!$C$6:$E$109,3,FALSE)*F2397,\"\")","v":""},null,null,"",1,0,1900,0,1,1900,"Nombre y el registro de entrada válida"]
[null,"",null,null,null,"",null,null,null,{"$f":"IF(I2398=\"\",\"\",IF(VLOOKUP(I2398,CAD_Q!$C$6:$D$105,2,FALSE)=0,\"\",VLOOKUP(I2398,CAD_Q!$C$6:$D$105,2,FALSE)))","v":""},{"$f":"IFERROR(VLOOKUP(I2398,CAD_Q!$C$6:$E$109,3,FALSE)*F2398,\"\")","v":""},null,null,"",1,0,1900,0,1,1900,"Nombre y el registro de entrada válida"]
[null,"",null,null,null,"",null,null,null,{"$f":"IF(I2399=\"\",\"\",IF(VLOOKUP(I2399,CAD_Q!$C$6:$D$105,2,FALSE)=0,\"\",VLOOKUP(I2399,CAD_Q!$C$6:$D$105,2,FALSE)))","v":""},{"$f":"IFERROR(VLOOKUP(I2399,CAD_Q!$C$6:$E$109,3,FALSE)*F2399,\"\")","v":""},null,null,"",1,0,1900,0,1,1900,"Nombre y el registro de entrada válida"]
[null,"",null,null,null,"",null,null,null,{"$f":"IF(I2400=\"\",\"\",IF(VLOOKUP(I2400,CAD_Q!$C$6:$D$105,2,FALSE)=0,\"\",VLOOKUP(I2400,CAD_Q!$C$6:$D$105,2,FALSE)))","v":""},{"$f":"IFERROR(VLOOKUP(I2400,CAD_Q!$C$6:$E$109,3,FALSE)*F2400,\"\")","v":""},null,null,"",1,0,1900,0,1,1900,"Nombre y el registro de entrada válida"]
[null,"",null,null,null,"",null,null,null,{"$f":"IF(I2401=\"\",\"\",IF(VLOOKUP(I2401,CAD_Q!$C$6:$D$105,2,FALSE)=0,\"\",VLOOKUP(I2401,CAD_Q!$C$6:$D$105,2,FALSE)))","v":""},{"$f":"IFERROR(VLOOKUP(I2401,CAD_Q!$C$6:$E$109,3,FALSE)*F2401,\"\")","v":""},null,null,"",1,0,1900,0,1,1900,"Nombre y el registro de entrada válida"]
[null,"",null,null,null,"",null,null,null,{"$f":"IF(I2402=\"\",\"\",IF(VLOOKUP(I2402,CAD_Q!$C$6:$D$105,2,FALSE)=0,\"\",VLOOKUP(I2402,CAD_Q!$C$6:$D$105,2,FALSE)))","v":""},{"$f":"IFERROR(VLOOKUP(I2402,CAD_Q!$C$6:$E$109,3,FALSE)*F2402,\"\")","v":""},null,null,"",1,0,1900,0,1,1900,"Nombre y el registro de entrada válida"]
[null,"",null,null,null,"",null,null,null,{"$f":"IF(I2403=\"\",\"\",IF(VLOOKUP(I2403,CAD_Q!$C$6:$D$105,2,FALSE)=0,\"\",VLOOKUP(I2403,CAD_Q!$C$6:$D$105,2,FALSE)))","v":""},{"$f":"IFERROR(VLOOKUP(I2403,CAD_Q!$C$6:$E$109,3,FALSE)*F2403,\"\")","v":""},null,null,"",1,0,1900,0,1,1900,"Nombre y el registro de entrada válida"]
[null,"",null,null,null,{"$f":"IF(OR(D2404=\"\",E2404=\"\"),\"\",E2404-D2404)","v":""},null,null,null,{"$f":"IF(I2404=\"\",\"\",IF(VLOOKUP(I2404,CAD_Q!$C$6:$D$105,2,FALSE)=0,\"\",VLOOKUP(I2404,CAD_Q!$C$6:$D$105,2,FALSE)))","v":""},{"$f":"IFERROR(VLOOKUP(I2404,CAD_Q!$C$6:$E$109,3,FALSE)*F2404,\"\")","v":""},null,null,"",1,0,1900,0,1,1900,"Nombre y el registro de entrada válida"]
[null,"",null,null,null,"",null,null,null,{"$f":"IF(I2405=\"\",\"\",IF(VLOOKUP(I2405,CAD_Q!$C$6:$D$105,2,FALSE)=0,\"\",VLOOKUP(I2405,CAD_Q!$C$6:$D$105,2,FALSE)))","v":""},{"$f":"IFERROR(VLOOKUP(I2405,CAD_Q!$C$6:$E$109,3,FALSE)*F2405,\"\")","v":""},null,null,"",1,0,1900,0,1,1900,"Nombre y el registro de entrada válida"]
[null,"",null,null,null,"",null,null,null,{"$f":"IF(I2406=\"\",\"\",IF(VLOOKUP(I2406,CAD_Q!$C$6:$D$105,2,FALSE)=0,\"\",VLOOKUP(I2406,CAD_Q!$C$6:$D$105,2,FALSE)))","v":""},{"$f":"IFERROR(VLOOKUP(I2406,CAD_Q!$C$6:$E$109,3,FALSE)*F2406,\"\")","v":""},null,null,"",1,0,1900,0,1,1900,"Nombre y el registro de entrada válida"]
[null,"",null,null,null,"",null,null,null,{"$f":"IF(I2407=\"\",\"\",IF(VLOOKUP(I2407,CAD_Q!$C$6:$D$105,2,FALSE)=0,\"\",VLOOKUP(I2407,CAD_Q!$C$6:$D$105,2,FALSE)))","v":""},{"$f":"IFERROR(VLOOKUP(I2407,CAD_Q!$C$6:$E$109,3,FALSE)*F2407,\"\")","v":""},null,null,"",1,0,1900,0,1,1900,"Nombre y el registro de entrada válida"]
[null,"",null,null,null,"",null,null,null,{"$f":"IF(I2408=\"\",\"\",IF(VLOOKUP(I2408,CAD_Q!$C$6:$D$105,2,FALSE)=0,\"\",VLOOKUP(I2408,CAD_Q!$C$6:$D$105,2,FALSE)))","v":""},{"$f":"IFERROR(VLOOKUP(I2408,CAD_Q!$C$6:$E$109,3,FALSE)*F2408,\"\")","v":""},null,null,"",1,0,1900,0,1,1900,"Nombre y el registro de entrada válida"]
[null,"",null,null,null,"",null,null,null,{"$f":"IF(I2409=\"\",\"\",IF(VLOOKUP(I2409,CAD_Q!$C$6:$D$105,2,FALSE)=0,\"\",VLOOKUP(I2409,CAD_Q!$C$6:$D$105,2,FALSE)))","v":""},{"$f":"IFERROR(VLOOKUP(I2409,CAD_Q!$C$6:$E$109,3,FALSE)*F2409,\"\")","v":""},null,null,"",1,0,1900,0,1,1900,"Nombre y el registro de entrada válida"]
[null,"",null,null,null,"",null,null,null,{"$f":"IF(I2410=\"\",\"\",IF(VLOOKUP(I2410,CAD_Q!$C$6:$D$105,2,FALSE)=0,\"\",VLOOKUP(I2410,CAD_Q!$C$6:$D$105,2,FALSE)))","v":""},{"$f":"IFERROR(VLOOKUP(I2410,CAD_Q!$C$6:$E$109,3,FALSE)*F2410,\"\")","v":""},null,null,"",1,0,1900,0,1,1900,"Nombre y el registro de entrada válida"]
[null,"",null,null,null,"",null,null,null,{"$f":"IF(I2411=\"\",\"\",IF(VLOOKUP(I2411,CAD_Q!$C$6:$D$105,2,FALSE)=0,\"\",VLOOKUP(I2411,CAD_Q!$C$6:$D$105,2,FALSE)))","v":""},{"$f":"IFERROR(VLOOKUP(I2411,CAD_Q!$C$6:$E$109,3,FALSE)*F2411,\"\")","v":""},null,null,"",1,0,1900,0,1,1900,"Nombre y el registro de entrada válida"]
[null,"",null,null,null,"",null,null,null,{"$f":"IF(I2412=\"\",\"\",IF(VLOOKUP(I2412,CAD_Q!$C$6:$D$105,2,FALSE)=0,\"\",VLOOKUP(I2412,CAD_Q!$C$6:$D$105,2,FALSE)))","v":""},{"$f":"IFERROR(VLOOKUP(I2412,CAD_Q!$C$6:$E$109,3,FALSE)*F2412,\"\")","v":""},null,null,"",1,0,1900,0,1,1900,"Nombre y el registro de entrada válida"]
[null,"",null,null,null,"",null,null,null,{"$f":"IF(I2413=\"\",\"\",IF(VLOOKUP(I2413,CAD_Q!$C$6:$D$105,2,FALSE)=0,\"\",VLOOKUP(I2413,CAD_Q!$C$6:$D$105,2,FALSE)))","v":""},{"$f":"IFERROR(VLOOKUP(I2413,CAD_Q!$C$6:$E$109,3,FALSE)*F2413,\"\")","v":""},null,null,"",1,0,1900,0,1,1900,"Nombre y el registro de entrada válida"]
[null,"",null,null,null,"",null,null,null,{"$f":"IF(I2414=\"\",\"\",IF(VLOOKUP(I2414,CAD_Q!$C$6:$D$105,2,FALSE)=0,\"\",VLOOKUP(I2414,CAD_Q!$C$6:$D$105,2,FALSE)))","v":""},{"$f":"IFERROR(VLOOKUP(I2414,CAD_Q!$C$6:$E$109,3,FALSE)*F2414,\"\")","v":""},null,null,"",1,0,1900,0,1,1900,"Nombre y el registro de entrada válida"]
[null,"",null,null,null,"",null,null,null,{"$f":"IF(I2415=\"\",\"\",IF(VLOOKUP(I2415,CAD_Q!$C$6:$D$105,2,FALSE)=0,\"\",VLOOKUP(I2415,CAD_Q!$C$6:$D$105,2,FALSE)))","v":""},{"$f":"IFERROR(VLOOKUP(I2415,CAD_Q!$C$6:$E$109,3,FALSE)*F2415,\"\")","v":""},null,null,"",1,0,1900,0,1,1900,"Nombre y el registro de entrada válida"]
[null,"",null,null,null,"",null,null,null,{"$f":"IF(I2416=\"\",\"\",IF(VLOOKUP(I2416,CAD_Q!$C$6:$D$105,2,FALSE)=0,\"\",VLOOKUP(I2416,CAD_Q!$C$6:$D$105,2,FALSE)))","v":""},{"$f":"IFERROR(VLOOKUP(I2416,CAD_Q!$C$6:$E$109,3,FALSE)*F2416,\"\")","v":""},null,null,"",1,0,1900,0,1,1900,"Nombre y el registro de entrada válida"]
[null,"",null,null,null,"",null,null,null,{"$f":"IF(I2417=\"\",\"\",IF(VLOOKUP(I2417,CAD_Q!$C$6:$D$105,2,FALSE)=0,\"\",VLOOKUP(I2417,CAD_Q!$C$6:$D$105,2,FALSE)))","v":""},{"$f":"IFERROR(VLOOKUP(I2417,CAD_Q!$C$6:$E$109,3,FALSE)*F2417,\"\")","v":""},null,null,"",1,0,1900,0,1,1900,"Nombre y el registro de entrada válida"]
[null,"",null,null,null,"",null,null,null,{"$f":"IF(I2418=\"\",\"\",IF(VLOOKUP(I2418,CAD_Q!$C$6:$D$105,2,FALSE)=0,\"\",VLOOKUP(I2418,CAD_Q!$C$6:$D$105,2,FALSE)))","v":""},{"$f":"IFERROR(VLOOKUP(I2418,CAD_Q!$C$6:$E$109,3,FALSE)*F2418,\"\")","v":""},null,null,"",1,0,1900,0,1,1900,"Nombre y el registro de entrada válida"]
[null,"",null,null,null,"",null,null,null,{"$f":"IF(I2419=\"\",\"\",IF(VLOOKUP(I2419,CAD_Q!$C$6:$D$105,2,FALSE)=0,\"\",VLOOKUP(I2419,CAD_Q!$C$6:$D$105,2,FALSE)))","v":""},{"$f":"IFERROR(VLOOKUP(I2419,CAD_Q!$C$6:$E$109,3,FALSE)*F2419,\"\")","v":""},null,null,"",1,0,1900,0,1,1900,"Nombre y el registro de entrada válida"]
[null,"",null,null,null,"",null,null,null,{"$f":"IF(I2420=\"\",\"\",IF(VLOOKUP(I2420,CAD_Q!$C$6:$D$105,2,FALSE)=0,\"\",VLOOKUP(I2420,CAD_Q!$C$6:$D$105,2,FALSE)))","v":""},{"$f":"IFERROR(VLOOKUP(I2420,CAD_Q!$C$6:$E$109,3,FALSE)*F2420,\"\")","v":""},null,null,"",1,0,1900,0,1,1900,"Nombre y el registro de entrada válida"]
[null,"",null,null,null,"",null,null,null,{"$f":"IF(I2421=\"\",\"\",IF(VLOOKUP(I2421,CAD_Q!$C$6:$D$105,2,FALSE)=0,\"\",VLOOKUP(I2421,CAD_Q!$C$6:$D$105,2,FALSE)))","v":""},{"$f":"IFERROR(VLOOKUP(I2421,CAD_Q!$C$6:$E$109,3,FALSE)*F2421,\"\")","v":""},null,null,"",1,0,1900,0,1,1900,"Nombre y el registro de entrada válida"]
[null,"",null,null,null,"",null,null,null,{"$f":"IF(I2422=\"\",\"\",IF(VLOOKUP(I2422,CAD_Q!$C$6:$D$105,2,FALSE)=0,\"\",VLOOKUP(I2422,CAD_Q!$C$6:$D$105,2,FALSE)))","v":""},{"$f":"IFERROR(VLOOKUP(I2422,CAD_Q!$C$6:$E$109,3,FALSE)*F2422,\"\")","v":""},null,null,"",1,0,1900,0,1,1900,"Nombre y el registro de entrada válida"]
[null,"",null,null,null,"",null,null,null,{"$f":"IF(I2423=\"\",\"\",IF(VLOOKUP(I2423,CAD_Q!$C$6:$D$105,2,FALSE)=0,\"\",VLOOKUP(I2423,CAD_Q!$C$6:$D$105,2,FALSE)))","v":""},{"$f":"IFERROR(VLOOKUP(I2423,CAD_Q!$C$6:$E$109,3,FALSE)*F2423,\"\")","v":""},null,null,"",1,0,1900,0,1,1900,"Nombre y el registro de entrada válida"]
[null,"",null,null,null,"",null,null,null,{"$f":"IF(I2424=\"\",\"\",IF(VLOOKUP(I2424,CAD_Q!$C$6:$D$105,2,FALSE)=0,\"\",VLOOKUP(I2424,CAD_Q!$C$6:$D$105,2,FALSE)))","v":""},{"$f":"IFERROR(VLOOKUP(I2424,CAD_Q!$C$6:$E$109,3,FALSE)*F2424,\"\")","v":""},null,null,"",1,0,1900,0,1,1900,"Nombre y el registro de entrada válida"]
[null,"",null,null,null,"",null,null,null,{"$f":"IF(I2425=\"\",\"\",IF(VLOOKUP(I2425,CAD_Q!$C$6:$D$105,2,FALSE)=0,\"\",VLOOKUP(I2425,CAD_Q!$C$6:$D$105,2,FALSE)))","v":""},{"$f":"IFERROR(VLOOKUP(I2425,CAD_Q!$C$6:$E$109,3,FALSE)*F2425,\"\")","v":""},null,null,"",1,0,1900,0,1,1900,"Nombre y el registro de entrada válida"]
[null,"",null,null,null,"",null,null,null,{"$f":"IF(I2426=\"\",\"\",IF(VLOOKUP(I2426,CAD_Q!$C$6:$D$105,2,FALSE)=0,\"\",VLOOKUP(I2426,CAD_Q!$C$6:$D$105,2,FALSE)))","v":""},{"$f":"IFERROR(VLOOKUP(I2426,CAD_Q!$C$6:$E$109,3,FALSE)*F2426,\"\")","v":""},null,null,"",1,0,1900,0,1,1900,"Nombre y el registro de entrada válida"]
[null,"",null,null,null,"",null,null,null,{"$f":"IF(I2427=\"\",\"\",IF(VLOOKUP(I2427,CAD_Q!$C$6:$D$105,2,FALSE)=0,\"\",VLOOKUP(I2427,CAD_Q!$C$6:$D$105,2,FALSE)))","v":""},{"$f":"IFERROR(VLOOKUP(I2427,CAD_Q!$C$6:$E$109,3,FALSE)*F2427,\"\")","v":""},null,null,"",1,0,1900,0,1,1900,"Nombre y el registro de entrada válida"]
[null,"",null,null,null,"",null,null,null,{"$f":"IF(I2428=\"\",\"\",IF(VLOOKUP(I2428,CAD_Q!$C$6:$D$105,2,FALSE)=0,\"\",VLOOKUP(I2428,CAD_Q!$C$6:$D$105,2,FALSE)))","v":""},{"$f":"IFERROR(VLOOKUP(I2428,CAD_Q!$C$6:$E$109,3,FALSE)*F2428,\"\")","v":""},null,null,"",1,0,1900,0,1,1900,"Nombre y el registro de entrada válida"]
[null,"",null,null,null,"",null,null,null,{"$f":"IF(I2429=\"\",\"\",IF(VLOOKUP(I2429,CAD_Q!$C$6:$D$105,2,FALSE)=0,\"\",VLOOKUP(I2429,CAD_Q!$C$6:$D$105,2,FALSE)))","v":""},{"$f":"IFERROR(VLOOKUP(I2429,CAD_Q!$C$6:$E$109,3,FALSE)*F2429,\"\")","v":""},null,null,"",1,0,1900,0,1,1900,"Nombre y el registro de entrada válida"]
[null,"",null,null,null,"",null,null,null,{"$f":"IF(I2430=\"\",\"\",IF(VLOOKUP(I2430,CAD_Q!$C$6:$D$105,2,FALSE)=0,\"\",VLOOKUP(I2430,CAD_Q!$C$6:$D$105,2,FALSE)))","v":""},{"$f":"IFERROR(VLOOKUP(I2430,CAD_Q!$C$6:$E$109,3,FALSE)*F2430,\"\")","v":""},null,null,"",1,0,1900,0,1,1900,"Nombre y el registro de entrada válida"]
[null,"",null,null,null,"",null,null,null,{"$f":"IF(I2431=\"\",\"\",IF(VLOOKUP(I2431,CAD_Q!$C$6:$D$105,2,FALSE)=0,\"\",VLOOKUP(I2431,CAD_Q!$C$6:$D$105,2,FALSE)))","v":""},{"$f":"IFERROR(VLOOKUP(I2431,CAD_Q!$C$6:$E$109,3,FALSE)*F2431,\"\")","v":""},null,null,"",1,0,1900,0,1,1900,"Nombre y el registro de entrada válida"]
[null,"",null,null,null,"",null,null,null,{"$f":"IF(I2432=\"\",\"\",IF(VLOOKUP(I2432,CAD_Q!$C$6:$D$105,2,FALSE)=0,\"\",VLOOKUP(I2432,CAD_Q!$C$6:$D$105,2,FALSE)))","v":""},{"$f":"IFERROR(VLOOKUP(I2432,CAD_Q!$C$6:$E$109,3,FALSE)*F2432,\"\")","v":""},null,null,"",1,0,1900,0,1,1900,"Nombre y el registro de entrada válida"]
[null,"",null,null,null,"",null,null,null,{"$f":"IF(I2433=\"\",\"\",IF(VLOOKUP(I2433,CAD_Q!$C$6:$D$105,2,FALSE)=0,\"\",VLOOKUP(I2433,CAD_Q!$C$6:$D$105,2,FALSE)))","v":""},{"$f":"IFERROR(VLOOKUP(I2433,CAD_Q!$C$6:$E$109,3,FALSE)*F2433,\"\")","v":""},null,null,"",1,0,1900,0,1,1900,"Nombre y el registro de entrada válida"]
[null,"",null,null,null,"",null,null,null,{"$f":"IF(I2434=\"\",\"\",IF(VLOOKUP(I2434,CAD_Q!$C$6:$D$105,2,FALSE)=0,\"\",VLOOKUP(I2434,CAD_Q!$C$6:$D$105,2,FALSE)))","v":""},{"$f":"IFERROR(VLOOKUP(I2434,CAD_Q!$C$6:$E$109,3,FALSE)*F2434,\"\")","v":""},null,null,"",1,0,1900,0,1,1900,"Nombre y el registro de entrada válida"]
[null,"",null,null,null,"",null,null,null,{"$f":"IF(I2435=\"\",\"\",IF(VLOOKUP(I2435,CAD_Q!$C$6:$D$105,2,FALSE)=0,\"\",VLOOKUP(I2435,CAD_Q!$C$6:$D$105,2,FALSE)))","v":""},{"$f":"IFERROR(VLOOKUP(I2435,CAD_Q!$C$6:$E$109,3,FALSE)*F2435,\"\")","v":""},null,null,"",1,0,1900,0,1,1900,"Nombre y el registro de entrada válida"]
[null,"",null,null,null,"",null,null,null,{"$f":"IF(I2436=\"\",\"\",IF(VLOOKUP(I2436,CAD_Q!$C$6:$D$105,2,FALSE)=0,\"\",VLOOKUP(I2436,CAD_Q!$C$6:$D$105,2,FALSE)))","v":""},{"$f":"IFERROR(VLOOKUP(I2436,CAD_Q!$C$6:$E$109,3,FALSE)*F2436,\"\")","v":""},null,null,"",1,0,1900,0,1,1900,"Nombre y el registro de entrada válida"]
[null,"",null,null,null,"",null,null,null,{"$f":"IF(I2437=\"\",\"\",IF(VLOOKUP(I2437,CAD_Q!$C$6:$D$105,2,FALSE)=0,\"\",VLOOKUP(I2437,CAD_Q!$C$6:$D$105,2,FALSE)))","v":""},{"$f":"IFERROR(VLOOKUP(I2437,CAD_Q!$C$6:$E$109,3,FALSE)*F2437,\"\")","v":""},null,null,"",1,0,1900,0,1,1900,"Nombre y el registro de entrada válida"]
[null,"",null,null,null,"",null,null,null,{"$f":"IF(I2438=\"\",\"\",IF(VLOOKUP(I2438,CAD_Q!$C$6:$D$105,2,FALSE)=0,\"\",VLOOKUP(I2438,CAD_Q!$C$6:$D$105,2,FALSE)))","v":""},{"$f":"IFERROR(VLOOKUP(I2438,CAD_Q!$C$6:$E$109,3,FALSE)*F2438,\"\")","v":""},null,null,"",1,0,1900,0,1,1900,"Nombre y el registro de entrada válida"]
[null,{"$f":"CONCATENATE(C2439,D2439)","v":""},null,null,null,"",null,null,null,{"$f":"IF(I2439=\"\",\"\",IF(VLOOKUP(I2439,CAD_Q!$C$6:$D$105,2,FALSE)=0,\"\",VLOOKUP(I2439,CAD_Q!$C$6:$D$105,2,FALSE)))","v":""},{"$f":"IFERROR(VLOOKUP(I2439,CAD_Q!$C$6:$E$109,3,FALSE)*F2439,\"\")","v":""},null,null,{"$f":"IFERROR(K2439-L2439+M2439,\"\")","v":""},1,0,1900,0,1,1900,"Nombre y el registro de entrada válida"]
[null,"",null,null,null,"",null,null,null,{"$f":"IF(I2440=\"\",\"\",IF(VLOOKUP(I2440,CAD_Q!$C$6:$D$105,2,FALSE)=0,\"\",VLOOKUP(I2440,CAD_Q!$C$6:$D$105,2,FALSE)))","v":""},{"$f":"IFERROR(VLOOKUP(I2440,CAD_Q!$C$6:$E$109,3,FALSE)*F2440,\"\")","v":""},null,null,"",1,0,1900,0,1,1900,"Nombre y el registro de entrada válida"]
[null,"",null,null,null,"",null,null,null,{"$f":"IF(I2441=\"\",\"\",IF(VLOOKUP(I2441,CAD_Q!$C$6:$D$105,2,FALSE)=0,\"\",VLOOKUP(I2441,CAD_Q!$C$6:$D$105,2,FALSE)))","v":""},{"$f":"IFERROR(VLOOKUP(I2441,CAD_Q!$C$6:$E$109,3,FALSE)*F2441,\"\")","v":""},null,null,"",1,0,1900,0,1,1900,"Nombre y el registro de entrada válida"]
[null,"",null,null,null,"",null,null,null,{"$f":"IF(I2442=\"\",\"\",IF(VLOOKUP(I2442,CAD_Q!$C$6:$D$105,2,FALSE)=0,\"\",VLOOKUP(I2442,CAD_Q!$C$6:$D$105,2,FALSE)))","v":""},{"$f":"IFERROR(VLOOKUP(I2442,CAD_Q!$C$6:$E$109,3,FALSE)*F2442,\"\")","v":""},null,null,"",{"$f":"MONTH(D2442)","v":1},{"$f":"DAY(D2442)","v":0},{"$f":"YEAR(D2442)","v":1900},{"$f":"DAY(E2442)","v":0},{"$f":"MONTH(E2442)","v":1},{"$f":"YEAR(E2442)","v":1900},"Nombre y el registro de entrada válida"]
[null,"",null,null,null,"",null,null,null,{"$f":"IF(I2443=\"\",\"\",IF(VLOOKUP(I2443,CAD_Q!$C$6:$D$105,2,FALSE)=0,\"\",VLOOKUP(I2443,CAD_Q!$C$6:$D$105,2,FALSE)))","v":""},{"$f":"IFERROR(VLOOKUP(I2443,CAD_Q!$C$6:$E$109,3,FALSE)*F2443,\"\")","v":""},null,null,"",1,0,1900,0,1,1900,"Nombre y el registro de entrada válida"]
[null,"",null,null,null,"",null,null,null,{"$f":"IF(I2444=\"\",\"\",IF(VLOOKUP(I2444,CAD_Q!$C$6:$D$105,2,FALSE)=0,\"\",VLOOKUP(I2444,CAD_Q!$C$6:$D$105,2,FALSE)))","v":""},{"$f":"IFERROR(VLOOKUP(I2444,CAD_Q!$C$6:$E$109,3,FALSE)*F2444,\"\")","v":""},null,null,"",1,0,1900,0,1,1900,"Nombre y el registro de entrada válida"]
[null,"",null,null,null,"",null,null,null,{"$f":"IF(I2445=\"\",\"\",IF(VLOOKUP(I2445,CAD_Q!$C$6:$D$105,2,FALSE)=0,\"\",VLOOKUP(I2445,CAD_Q!$C$6:$D$105,2,FALSE)))","v":""},{"$f":"IFERROR(VLOOKUP(I2445,CAD_Q!$C$6:$E$109,3,FALSE)*F2445,\"\")","v":""},null,null,"",1,0,1900,0,1,1900,"Nombre y el registro de entrada válida"]
[null,"",null,null,null,"",null,null,null,{"$f":"IF(I2446=\"\",\"\",IF(VLOOKUP(I2446,CAD_Q!$C$6:$D$105,2,FALSE)=0,\"\",VLOOKUP(I2446,CAD_Q!$C$6:$D$105,2,FALSE)))","v":""},{"$f":"IFERROR(VLOOKUP(I2446,CAD_Q!$C$6:$E$109,3,FALSE)*F2446,\"\")","v":""},null,null,"",1,0,1900,0,1,1900,"Nombre y el registro de entrada válida"]
[null,"",null,null,null,"",null,null,null,{"$f":"IF(I2447=\"\",\"\",IF(VLOOKUP(I2447,CAD_Q!$C$6:$D$105,2,FALSE)=0,\"\",VLOOKUP(I2447,CAD_Q!$C$6:$D$105,2,FALSE)))","v":""},{"$f":"IFERROR(VLOOKUP(I2447,CAD_Q!$C$6:$E$109,3,FALSE)*F2447,\"\")","v":""},null,null,"",1,0,1900,0,1,1900,"Nombre y el registro de entrada válida"]
[null,"",null,null,null,"",null,null,null,{"$f":"IF(I2448=\"\",\"\",IF(VLOOKUP(I2448,CAD_Q!$C$6:$D$105,2,FALSE)=0,\"\",VLOOKUP(I2448,CAD_Q!$C$6:$D$105,2,FALSE)))","v":""},{"$f":"IFERROR(VLOOKUP(I2448,CAD_Q!$C$6:$E$109,3,FALSE)*F2448,\"\")","v":""},null,null,"",1,0,1900,0,1,1900,"Nombre y el registro de entrada válida"]
[null,"",null,null,null,"",null,null,null,{"$f":"IF(I2449=\"\",\"\",IF(VLOOKUP(I2449,CAD_Q!$C$6:$D$105,2,FALSE)=0,\"\",VLOOKUP(I2449,CAD_Q!$C$6:$D$105,2,FALSE)))","v":""},{"$f":"IFERROR(VLOOKUP(I2449,CAD_Q!$C$6:$E$109,3,FALSE)*F2449,\"\")","v":""},null,null,"",1,0,1900,0,1,1900,"Nombre y el registro de entrada válida"]
[null,"",null,null,null,"",null,null,null,{"$f":"IF(I2450=\"\",\"\",IF(VLOOKUP(I2450,CAD_Q!$C$6:$D$105,2,FALSE)=0,\"\",VLOOKUP(I2450,CAD_Q!$C$6:$D$105,2,FALSE)))","v":""},{"$f":"IFERROR(VLOOKUP(I2450,CAD_Q!$C$6:$E$109,3,FALSE)*F2450,\"\")","v":""},null,null,"",1,0,1900,0,1,1900,"Nombre y el registro de entrada válida"]
[null,"",null,null,null,"",null,null,null,{"$f":"IF(I2451=\"\",\"\",IF(VLOOKUP(I2451,CAD_Q!$C$6:$D$105,2,FALSE)=0,\"\",VLOOKUP(I2451,CAD_Q!$C$6:$D$105,2,FALSE)))","v":""},{"$f":"IFERROR(VLOOKUP(I2451,CAD_Q!$C$6:$E$109,3,FALSE)*F2451,\"\")","v":""},null,null,"",1,0,1900,0,1,1900,"Nombre y el registro de entrada válida"]
[null,"",null,null,null,"",null,null,null,{"$f":"IF(I2452=\"\",\"\",IF(VLOOKUP(I2452,CAD_Q!$C$6:$D$105,2,FALSE)=0,\"\",VLOOKUP(I2452,CAD_Q!$C$6:$D$105,2,FALSE)))","v":""},{"$f":"IFERROR(VLOOKUP(I2452,CAD_Q!$C$6:$E$109,3,FALSE)*F2452,\"\")","v":""},null,null,"",1,0,1900,0,1,1900,"Nombre y el registro de entrada válida"]
[null,"",null,null,null,"",null,null,null,{"$f":"IF(I2453=\"\",\"\",IF(VLOOKUP(I2453,CAD_Q!$C$6:$D$105,2,FALSE)=0,\"\",VLOOKUP(I2453,CAD_Q!$C$6:$D$105,2,FALSE)))","v":""},{"$f":"IFERROR(VLOOKUP(I2453,CAD_Q!$C$6:$E$109,3,FALSE)*F2453,\"\")","v":""},null,null,"",1,0,1900,0,1,1900,"Nombre y el registro de entrada válida"]
[null,"",null,null,null,"",null,null,null,{"$f":"IF(I2454=\"\",\"\",IF(VLOOKUP(I2454,CAD_Q!$C$6:$D$105,2,FALSE)=0,\"\",VLOOKUP(I2454,CAD_Q!$C$6:$D$105,2,FALSE)))","v":""},{"$f":"IFERROR(VLOOKUP(I2454,CAD_Q!$C$6:$E$109,3,FALSE)*F2454,\"\")","v":""},null,null,"",1,0,1900,0,1,1900,"Nombre y el registro de entrada válida"]
[null,"",null,null,null,"",null,null,null,{"$f":"IF(I2455=\"\",\"\",IF(VLOOKUP(I2455,CAD_Q!$C$6:$D$105,2,FALSE)=0,\"\",VLOOKUP(I2455,CAD_Q!$C$6:$D$105,2,FALSE)))","v":""},{"$f":"IFERROR(VLOOKUP(I2455,CAD_Q!$C$6:$E$109,3,FALSE)*F2455,\"\")","v":""},null,null,"",1,0,1900,0,1,1900,"Nombre y el registro de entrada válida"]
[null,"",null,null,null,"",null,null,null,{"$f":"IF(I2456=\"\",\"\",IF(VLOOKUP(I2456,CAD_Q!$C$6:$D$105,2,FALSE)=0,\"\",VLOOKUP(I2456,CAD_Q!$C$6:$D$105,2,FALSE)))","v":""},{"$f":"IFERROR(VLOOKUP(I2456,CAD_Q!$C$6:$E$109,3,FALSE)*F2456,\"\")","v":""},null,null,"",1,0,1900,0,1,1900,"Nombre y el registro de entrada válida"]
[null,"",null,null,null,"",null,null,null,{"$f":"IF(I2457=\"\",\"\",IF(VLOOKUP(I2457,CAD_Q!$C$6:$D$105,2,FALSE)=0,\"\",VLOOKUP(I2457,CAD_Q!$C$6:$D$105,2,FALSE)))","v":""},{"$f":"IFERROR(VLOOKUP(I2457,CAD_Q!$C$6:$E$109,3,FALSE)*F2457,\"\")","v":""},null,null,"",1,0,1900,0,1,1900,"Nombre y el registro de entrada válida"]
[null,"",null,null,null,"",null,null,null,{"$f":"IF(I2458=\"\",\"\",IF(VLOOKUP(I2458,CAD_Q!$C$6:$D$105,2,FALSE)=0,\"\",VLOOKUP(I2458,CAD_Q!$C$6:$D$105,2,FALSE)))","v":""},{"$f":"IFERROR(VLOOKUP(I2458,CAD_Q!$C$6:$E$109,3,FALSE)*F2458,\"\")","v":""},null,null,"",1,0,1900,0,1,1900,"Nombre y el registro de entrada válida"]
[null,"",null,null,null,"",null,null,null,{"$f":"IF(I2459=\"\",\"\",IF(VLOOKUP(I2459,CAD_Q!$C$6:$D$105,2,FALSE)=0,\"\",VLOOKUP(I2459,CAD_Q!$C$6:$D$105,2,FALSE)))","v":""},{"$f":"IFERROR(VLOOKUP(I2459,CAD_Q!$C$6:$E$109,3,FALSE)*F2459,\"\")","v":""},null,null,"",1,0,1900,0,1,1900,"Nombre y el registro de entrada válida"]
[null,"",null,null,null,"",null,null,null,{"$f":"IF(I2460=\"\",\"\",IF(VLOOKUP(I2460,CAD_Q!$C$6:$D$105,2,FALSE)=0,\"\",VLOOKUP(I2460,CAD_Q!$C$6:$D$105,2,FALSE)))","v":""},{"$f":"IFERROR(VLOOKUP(I2460,CAD_Q!$C$6:$E$109,3,FALSE)*F2460,\"\")","v":""},null,null,"",1,0,1900,0,1,1900,"Nombre y el registro de entrada válida"]
[null,"",null,null,null,"",null,null,null,{"$f":"IF(I2461=\"\",\"\",IF(VLOOKUP(I2461,CAD_Q!$C$6:$D$105,2,FALSE)=0,\"\",VLOOKUP(I2461,CAD_Q!$C$6:$D$105,2,FALSE)))","v":""},{"$f":"IFERROR(VLOOKUP(I2461,CAD_Q!$C$6:$E$109,3,FALSE)*F2461,\"\")","v":""},null,null,"",1,0,1900,0,1,1900,"Nombre y el registro de entrada válida"]
[null,"",null,null,null,"",null,null,null,{"$f":"IF(I2462=\"\",\"\",IF(VLOOKUP(I2462,CAD_Q!$C$6:$D$105,2,FALSE)=0,\"\",VLOOKUP(I2462,CAD_Q!$C$6:$D$105,2,FALSE)))","v":""},{"$f":"IFERROR(VLOOKUP(I2462,CAD_Q!$C$6:$E$109,3,FALSE)*F2462,\"\")","v":""},null,null,"",1,0,1900,0,1,1900,"Nombre y el registro de entrada válida"]
[null,"",null,null,null,"",null,null,null,{"$f":"IF(I2463=\"\",\"\",IF(VLOOKUP(I2463,CAD_Q!$C$6:$D$105,2,FALSE)=0,\"\",VLOOKUP(I2463,CAD_Q!$C$6:$D$105,2,FALSE)))","v":""},{"$f":"IFERROR(VLOOKUP(I2463,CAD_Q!$C$6:$E$109,3,FALSE)*F2463,\"\")","v":""},null,null,"",1,0,1900,0,1,1900,"Nombre y el registro de entrada válida"]
[null,"",null,null,null,"",null,null,null,{"$f":"IF(I2464=\"\",\"\",IF(VLOOKUP(I2464,CAD_Q!$C$6:$D$105,2,FALSE)=0,\"\",VLOOKUP(I2464,CAD_Q!$C$6:$D$105,2,FALSE)))","v":""},{"$f":"IFERROR(VLOOKUP(I2464,CAD_Q!$C$6:$E$109,3,FALSE)*F2464,\"\")","v":""},null,null,"",1,0,1900,0,1,1900,"Nombre y el registro de entrada válida"]
[null,"",null,null,null,"",null,null,null,{"$f":"IF(I2465=\"\",\"\",IF(VLOOKUP(I2465,CAD_Q!$C$6:$D$105,2,FALSE)=0,\"\",VLOOKUP(I2465,CAD_Q!$C$6:$D$105,2,FALSE)))","v":""},{"$f":"IFERROR(VLOOKUP(I2465,CAD_Q!$C$6:$E$109,3,FALSE)*F2465,\"\")","v":""},null,null,"",1,0,1900,0,1,1900,"Nombre y el registro de entrada válida"]
[null,"",null,null,null,"",null,null,null,{"$f":"IF(I2466=\"\",\"\",IF(VLOOKUP(I2466,CAD_Q!$C$6:$D$105,2,FALSE)=0,\"\",VLOOKUP(I2466,CAD_Q!$C$6:$D$105,2,FALSE)))","v":""},{"$f":"IFERROR(VLOOKUP(I2466,CAD_Q!$C$6:$E$109,3,FALSE)*F2466,\"\")","v":""},null,null,"",1,0,1900,0,1,1900,"Nombre y el registro de entrada válida"]
[null,"",null,null,null,"",null,null,null,{"$f":"IF(I2467=\"\",\"\",IF(VLOOKUP(I2467,CAD_Q!$C$6:$D$105,2,FALSE)=0,\"\",VLOOKUP(I2467,CAD_Q!$C$6:$D$105,2,FALSE)))","v":""},{"$f":"IFERROR(VLOOKUP(I2467,CAD_Q!$C$6:$E$109,3,FALSE)*F2467,\"\")","v":""},null,null,"",1,0,1900,0,1,1900,"Nombre y el registro de entrada válida"]
[null,"",null,null,null,{"$f":"IF(OR(D2468=\"\",E2468=\"\"),\"\",E2468-D2468)","v":""},null,null,null,{"$f":"IF(I2468=\"\",\"\",IF(VLOOKUP(I2468,CAD_Q!$C$6:$D$105,2,FALSE)=0,\"\",VLOOKUP(I2468,CAD_Q!$C$6:$D$105,2,FALSE)))","v":""},{"$f":"IFERROR(VLOOKUP(I2468,CAD_Q!$C$6:$E$109,3,FALSE)*F2468,\"\")","v":""},null,null,"",1,0,1900,0,1,1900,"Nombre y el registro de entrada válida"]
[null,"",null,null,null,"",null,null,null,{"$f":"IF(I2469=\"\",\"\",IF(VLOOKUP(I2469,CAD_Q!$C$6:$D$105,2,FALSE)=0,\"\",VLOOKUP(I2469,CAD_Q!$C$6:$D$105,2,FALSE)))","v":""},{"$f":"IFERROR(VLOOKUP(I2469,CAD_Q!$C$6:$E$109,3,FALSE)*F2469,\"\")","v":""},null,null,"",1,0,1900,0,1,1900,"Nombre y el registro de entrada válida"]
[null,"",null,null,null,"",null,null,null,{"$f":"IF(I2470=\"\",\"\",IF(VLOOKUP(I2470,CAD_Q!$C$6:$D$105,2,FALSE)=0,\"\",VLOOKUP(I2470,CAD_Q!$C$6:$D$105,2,FALSE)))","v":""},{"$f":"IFERROR(VLOOKUP(I2470,CAD_Q!$C$6:$E$109,3,FALSE)*F2470,\"\")","v":""},null,null,"",1,0,1900,0,1,1900,"Nombre y el registro de entrada válida"]
[null,"",null,null,null,"",null,null,null,{"$f":"IF(I2471=\"\",\"\",IF(VLOOKUP(I2471,CAD_Q!$C$6:$D$105,2,FALSE)=0,\"\",VLOOKUP(I2471,CAD_Q!$C$6:$D$105,2,FALSE)))","v":""},{"$f":"IFERROR(VLOOKUP(I2471,CAD_Q!$C$6:$E$109,3,FALSE)*F2471,\"\")","v":""},null,null,"",1,0,1900,0,1,1900,"Nombre y el registro de entrada válida"]
[null,"",null,null,null,"",null,null,null,{"$f":"IF(I2472=\"\",\"\",IF(VLOOKUP(I2472,CAD_Q!$C$6:$D$105,2,FALSE)=0,\"\",VLOOKUP(I2472,CAD_Q!$C$6:$D$105,2,FALSE)))","v":""},{"$f":"IFERROR(VLOOKUP(I2472,CAD_Q!$C$6:$E$109,3,FALSE)*F2472,\"\")","v":""},null,null,"",1,0,1900,0,1,1900,"Nombre y el registro de entrada válida"]
[null,"",null,null,null,"",null,null,null,{"$f":"IF(I2473=\"\",\"\",IF(VLOOKUP(I2473,CAD_Q!$C$6:$D$105,2,FALSE)=0,\"\",VLOOKUP(I2473,CAD_Q!$C$6:$D$105,2,FALSE)))","v":""},{"$f":"IFERROR(VLOOKUP(I2473,CAD_Q!$C$6:$E$109,3,FALSE)*F2473,\"\")","v":""},null,null,"",1,0,1900,0,1,1900,"Nombre y el registro de entrada válida"]
[null,"",null,null,null,"",null,null,null,{"$f":"IF(I2474=\"\",\"\",IF(VLOOKUP(I2474,CAD_Q!$C$6:$D$105,2,FALSE)=0,\"\",VLOOKUP(I2474,CAD_Q!$C$6:$D$105,2,FALSE)))","v":""},{"$f":"IFERROR(VLOOKUP(I2474,CAD_Q!$C$6:$E$109,3,FALSE)*F2474,\"\")","v":""},null,null,"",1,0,1900,0,1,1900,"Nombre y el registro de entrada válida"]
[null,"",null,null,null,"",null,null,null,{"$f":"IF(I2475=\"\",\"\",IF(VLOOKUP(I2475,CAD_Q!$C$6:$D$105,2,FALSE)=0,\"\",VLOOKUP(I2475,CAD_Q!$C$6:$D$105,2,FALSE)))","v":""},{"$f":"IFERROR(VLOOKUP(I2475,CAD_Q!$C$6:$E$109,3,FALSE)*F2475,\"\")","v":""},null,null,"",1,0,1900,0,1,1900,"Nombre y el registro de entrada válida"]
[null,"",null,null,null,"",null,null,null,{"$f":"IF(I2476=\"\",\"\",IF(VLOOKUP(I2476,CAD_Q!$C$6:$D$105,2,FALSE)=0,\"\",VLOOKUP(I2476,CAD_Q!$C$6:$D$105,2,FALSE)))","v":""},{"$f":"IFERROR(VLOOKUP(I2476,CAD_Q!$C$6:$E$109,3,FALSE)*F2476,\"\")","v":""},null,null,"",1,0,1900,0,1,1900,"Nombre y el registro de entrada válida"]
[null,"",null,null,null,"",null,null,null,{"$f":"IF(I2477=\"\",\"\",IF(VLOOKUP(I2477,CAD_Q!$C$6:$D$105,2,FALSE)=0,\"\",VLOOKUP(I2477,CAD_Q!$C$6:$D$105,2,FALSE)))","v":""},{"$f":"IFERROR(VLOOKUP(I2477,CAD_Q!$C$6:$E$109,3,FALSE)*F2477,\"\")","v":""},null,null,"",1,0,1900,0,1,1900,"Nombre y el registro de entrada válida"]
[null,"",null,null,null,"",null,null,null,{"$f":"IF(I2478=\"\",\"\",IF(VLOOKUP(I2478,CAD_Q!$C$6:$D$105,2,FALSE)=0,\"\",VLOOKUP(I2478,CAD_Q!$C$6:$D$105,2,FALSE)))","v":""},{"$f":"IFERROR(VLOOKUP(I2478,CAD_Q!$C$6:$E$109,3,FALSE)*F2478,\"\")","v":""},null,null,"",1,0,1900,0,1,1900,"Nombre y el registro de entrada válida"]
[null,"",null,null,null,"",null,null,null,{"$f":"IF(I2479=\"\",\"\",IF(VLOOKUP(I2479,CAD_Q!$C$6:$D$105,2,FALSE)=0,\"\",VLOOKUP(I2479,CAD_Q!$C$6:$D$105,2,FALSE)))","v":""},{"$f":"IFERROR(VLOOKUP(I2479,CAD_Q!$C$6:$E$109,3,FALSE)*F2479,\"\")","v":""},null,null,"",1,0,1900,0,1,1900,"Nombre y el registro de entrada válida"]
[null,"",null,null,null,"",null,null,null,{"$f":"IF(I2480=\"\",\"\",IF(VLOOKUP(I2480,CAD_Q!$C$6:$D$105,2,FALSE)=0,\"\",VLOOKUP(I2480,CAD_Q!$C$6:$D$105,2,FALSE)))","v":""},{"$f":"IFERROR(VLOOKUP(I2480,CAD_Q!$C$6:$E$109,3,FALSE)*F2480,\"\")","v":""},null,null,"",1,0,1900,0,1,1900,"Nombre y el registro de entrada válida"]
[null,"",null,null,null,"",null,null,null,{"$f":"IF(I2481=\"\",\"\",IF(VLOOKUP(I2481,CAD_Q!$C$6:$D$105,2,FALSE)=0,\"\",VLOOKUP(I2481,CAD_Q!$C$6:$D$105,2,FALSE)))","v":""},{"$f":"IFERROR(VLOOKUP(I2481,CAD_Q!$C$6:$E$109,3,FALSE)*F2481,\"\")","v":""},null,null,"",1,0,1900,0,1,1900,"Nombre y el registro de entrada válida"]
[null,"",null,null,null,"",null,null,null,{"$f":"IF(I2482=\"\",\"\",IF(VLOOKUP(I2482,CAD_Q!$C$6:$D$105,2,FALSE)=0,\"\",VLOOKUP(I2482,CAD_Q!$C$6:$D$105,2,FALSE)))","v":""},{"$f":"IFERROR(VLOOKUP(I2482,CAD_Q!$C$6:$E$109,3,FALSE)*F2482,\"\")","v":""},null,null,"",1,0,1900,0,1,1900,"Nombre y el registro de entrada válida"]
[null,"",null,null,null,"",null,null,null,{"$f":"IF(I2483=\"\",\"\",IF(VLOOKUP(I2483,CAD_Q!$C$6:$D$105,2,FALSE)=0,\"\",VLOOKUP(I2483,CAD_Q!$C$6:$D$105,2,FALSE)))","v":""},{"$f":"IFERROR(VLOOKUP(I2483,CAD_Q!$C$6:$E$109,3,FALSE)*F2483,\"\")","v":""},null,null,"",1,0,1900,0,1,1900,"Nombre y el registro de entrada válida"]
[null,"",null,null,null,"",null,null,null,{"$f":"IF(I2484=\"\",\"\",IF(VLOOKUP(I2484,CAD_Q!$C$6:$D$105,2,FALSE)=0,\"\",VLOOKUP(I2484,CAD_Q!$C$6:$D$105,2,FALSE)))","v":""},{"$f":"IFERROR(VLOOKUP(I2484,CAD_Q!$C$6:$E$109,3,FALSE)*F2484,\"\")","v":""},null,null,"",1,0,1900,0,1,1900,"Nombre y el registro de entrada válida"]
[null,"",null,null,null,"",null,null,null,{"$f":"IF(I2485=\"\",\"\",IF(VLOOKUP(I2485,CAD_Q!$C$6:$D$105,2,FALSE)=0,\"\",VLOOKUP(I2485,CAD_Q!$C$6:$D$105,2,FALSE)))","v":""},{"$f":"IFERROR(VLOOKUP(I2485,CAD_Q!$C$6:$E$109,3,FALSE)*F2485,\"\")","v":""},null,null,"",1,0,1900,0,1,1900,"Nombre y el registro de entrada válida"]
[null,"",null,null,null,"",null,null,null,{"$f":"IF(I2486=\"\",\"\",IF(VLOOKUP(I2486,CAD_Q!$C$6:$D$105,2,FALSE)=0,\"\",VLOOKUP(I2486,CAD_Q!$C$6:$D$105,2,FALSE)))","v":""},{"$f":"IFERROR(VLOOKUP(I2486,CAD_Q!$C$6:$E$109,3,FALSE)*F2486,\"\")","v":""},null,null,"",1,0,1900,0,1,1900,"Nombre y el registro de entrada válida"]
[null,"",null,null,null,"",null,null,null,{"$f":"IF(I2487=\"\",\"\",IF(VLOOKUP(I2487,CAD_Q!$C$6:$D$105,2,FALSE)=0,\"\",VLOOKUP(I2487,CAD_Q!$C$6:$D$105,2,FALSE)))","v":""},{"$f":"IFERROR(VLOOKUP(I2487,CAD_Q!$C$6:$E$109,3,FALSE)*F2487,\"\")","v":""},null,null,"",1,0,1900,0,1,1900,"Nombre y el registro de entrada válida"]
[null,"",null,null,null,"",null,null,null,{"$f":"IF(I2488=\"\",\"\",IF(VLOOKUP(I2488,CAD_Q!$C$6:$D$105,2,FALSE)=0,\"\",VLOOKUP(I2488,CAD_Q!$C$6:$D$105,2,FALSE)))","v":""},{"$f":"IFERROR(VLOOKUP(I2488,CAD_Q!$C$6:$E$109,3,FALSE)*F2488,\"\")","v":""},null,null,"",1,0,1900,0,1,1900,"Nombre y el registro de entrada válida"]
[null,"",null,null,null,"",null,null,null,{"$f":"IF(I2489=\"\",\"\",IF(VLOOKUP(I2489,CAD_Q!$C$6:$D$105,2,FALSE)=0,\"\",VLOOKUP(I2489,CAD_Q!$C$6:$D$105,2,FALSE)))","v":""},{"$f":"IFERROR(VLOOKUP(I2489,CAD_Q!$C$6:$E$109,3,FALSE)*F2489,\"\")","v":""},null,null,"",1,0,1900,0,1,1900,"Nombre y el registro de entrada válida"]
[null,"",null,null,null,"",null,null,null,{"$f":"IF(I2490=\"\",\"\",IF(VLOOKUP(I2490,CAD_Q!$C$6:$D$105,2,FALSE)=0,\"\",VLOOKUP(I2490,CAD_Q!$C$6:$D$105,2,FALSE)))","v":""},{"$f":"IFERROR(VLOOKUP(I2490,CAD_Q!$C$6:$E$109,3,FALSE)*F2490,\"\")","v":""},null,null,"",1,0,1900,0,1,1900,"Nombre y el registro de entrada válida"]
[null,"",null,null,null,"",null,null,null,{"$f":"IF(I2491=\"\",\"\",IF(VLOOKUP(I2491,CAD_Q!$C$6:$D$105,2,FALSE)=0,\"\",VLOOKUP(I2491,CAD_Q!$C$6:$D$105,2,FALSE)))","v":""},{"$f":"IFERROR(VLOOKUP(I2491,CAD_Q!$C$6:$E$109,3,FALSE)*F2491,\"\")","v":""},null,null,"",1,0,1900,0,1,1900,"Nombre y el registro de entrada válida"]
[null,"",null,null,null,"",null,null,null,{"$f":"IF(I2492=\"\",\"\",IF(VLOOKUP(I2492,CAD_Q!$C$6:$D$105,2,FALSE)=0,\"\",VLOOKUP(I2492,CAD_Q!$C$6:$D$105,2,FALSE)))","v":""},{"$f":"IFERROR(VLOOKUP(I2492,CAD_Q!$C$6:$E$109,3,FALSE)*F2492,\"\")","v":""},null,null,"",1,0,1900,0,1,1900,"Nombre y el registro de entrada válida"]
[null,"",null,null,null,"",null,null,null,{"$f":"IF(I2493=\"\",\"\",IF(VLOOKUP(I2493,CAD_Q!$C$6:$D$105,2,FALSE)=0,\"\",VLOOKUP(I2493,CAD_Q!$C$6:$D$105,2,FALSE)))","v":""},{"$f":"IFERROR(VLOOKUP(I2493,CAD_Q!$C$6:$E$109,3,FALSE)*F2493,\"\")","v":""},null,null,"",1,0,1900,0,1,1900,"Nombre y el registro de entrada válida"]
[null,"",null,null,null,"",null,null,null,{"$f":"IF(I2494=\"\",\"\",IF(VLOOKUP(I2494,CAD_Q!$C$6:$D$105,2,FALSE)=0,\"\",VLOOKUP(I2494,CAD_Q!$C$6:$D$105,2,FALSE)))","v":""},{"$f":"IFERROR(VLOOKUP(I2494,CAD_Q!$C$6:$E$109,3,FALSE)*F2494,\"\")","v":""},null,null,"",1,0,1900,0,1,1900,"Nombre y el registro de entrada válida"]
[null,"",null,null,null,"",null,null,null,{"$f":"IF(I2495=\"\",\"\",IF(VLOOKUP(I2495,CAD_Q!$C$6:$D$105,2,FALSE)=0,\"\",VLOOKUP(I2495,CAD_Q!$C$6:$D$105,2,FALSE)))","v":""},{"$f":"IFERROR(VLOOKUP(I2495,CAD_Q!$C$6:$E$109,3,FALSE)*F2495,\"\")","v":""},null,null,"",1,0,1900,0,1,1900,"Nombre y el registro de entrada válida"]
[null,"",null,null,null,"",null,null,null,{"$f":"IF(I2496=\"\",\"\",IF(VLOOKUP(I2496,CAD_Q!$C$6:$D$105,2,FALSE)=0,\"\",VLOOKUP(I2496,CAD_Q!$C$6:$D$105,2,FALSE)))","v":""},{"$f":"IFERROR(VLOOKUP(I2496,CAD_Q!$C$6:$E$109,3,FALSE)*F2496,\"\")","v":""},null,null,"",1,0,1900,0,1,1900,"Nombre y el registro de entrada válida"]
[null,"",null,null,null,"",null,null,null,{"$f":"IF(I2497=\"\",\"\",IF(VLOOKUP(I2497,CAD_Q!$C$6:$D$105,2,FALSE)=0,\"\",VLOOKUP(I2497,CAD_Q!$C$6:$D$105,2,FALSE)))","v":""},{"$f":"IFERROR(VLOOKUP(I2497,CAD_Q!$C$6:$E$109,3,FALSE)*F2497,\"\")","v":""},null,null,"",1,0,1900,0,1,1900,"Nombre y el registro de entrada válida"]
[null,"",null,null,null,"",null,null,null,{"$f":"IF(I2498=\"\",\"\",IF(VLOOKUP(I2498,CAD_Q!$C$6:$D$105,2,FALSE)=0,\"\",VLOOKUP(I2498,CAD_Q!$C$6:$D$105,2,FALSE)))","v":""},{"$f":"IFERROR(VLOOKUP(I2498,CAD_Q!$C$6:$E$109,3,FALSE)*F2498,\"\")","v":""},null,null,"",1,0,1900,0,1,1900,"Nombre y el registro de entrada válida"]
[null,"",null,null,null,"",null,null,null,{"$f":"IF(I2499=\"\",\"\",IF(VLOOKUP(I2499,CAD_Q!$C$6:$D$105,2,FALSE)=0,\"\",VLOOKUP(I2499,CAD_Q!$C$6:$D$105,2,FALSE)))","v":""},{"$f":"IFERROR(VLOOKUP(I2499,CAD_Q!$C$6:$E$109,3,FALSE)*F2499,\"\")","v":""},null,null,"",1,0,1900,0,1,1900,"Nombre y el registro de entrada válida"]
[null,"",null,null,null,"",null,null,null,{"$f":"IF(I2500=\"\",\"\",IF(VLOOKUP(I2500,CAD_Q!$C$6:$D$105,2,FALSE)=0,\"\",VLOOKUP(I2500,CAD_Q!$C$6:$D$105,2,FALSE)))","v":""},{"$f":"IFERROR(VLOOKUP(I2500,CAD_Q!$C$6:$E$109,3,FALSE)*F2500,\"\")","v":""},null,null,"",1,0,1900,0,1,1900,"Nombre y el registro de entrada válida"]
[null,"",null,null,null,"",null,null,null,{"$f":"IF(I2501=\"\",\"\",IF(VLOOKUP(I2501,CAD_Q!$C$6:$D$105,2,FALSE)=0,\"\",VLOOKUP(I2501,CAD_Q!$C$6:$D$105,2,FALSE)))","v":""},{"$f":"IFERROR(VLOOKUP(I2501,CAD_Q!$C$6:$E$109,3,FALSE)*F2501,\"\")","v":""},null,null,"",1,0,1900,0,1,1900,"Nombre y el registro de entrada válida"]
[null,"",null,null,null,"",null,null,null,{"$f":"IF(I2502=\"\",\"\",IF(VLOOKUP(I2502,CAD_Q!$C$6:$D$105,2,FALSE)=0,\"\",VLOOKUP(I2502,CAD_Q!$C$6:$D$105,2,FALSE)))","v":""},{"$f":"IFERROR(VLOOKUP(I2502,CAD_Q!$C$6:$E$109,3,FALSE)*F2502,\"\")","v":""},null,null,"",1,0,1900,0,1,1900,"Nombre y el registro de entrada válida"]
[null,{"$f":"CONCATENATE(C2503,D2503)","v":""},null,null,null,"",null,null,null,{"$f":"IF(I2503=\"\",\"\",IF(VLOOKUP(I2503,CAD_Q!$C$6:$D$105,2,FALSE)=0,\"\",VLOOKUP(I2503,CAD_Q!$C$6:$D$105,2,FALSE)))","v":""},{"$f":"IFERROR(VLOOKUP(I2503,CAD_Q!$C$6:$E$109,3,FALSE)*F2503,\"\")","v":""},null,null,{"$f":"IFERROR(K2503-L2503+M2503,\"\")","v":""},1,0,1900,0,1,1900,"Nombre y el registro de entrada válida"]
[null,"",null,null,null,"",null,null,null,{"$f":"IF(I2504=\"\",\"\",IF(VLOOKUP(I2504,CAD_Q!$C$6:$D$105,2,FALSE)=0,\"\",VLOOKUP(I2504,CAD_Q!$C$6:$D$105,2,FALSE)))","v":""},{"$f":"IFERROR(VLOOKUP(I2504,CAD_Q!$C$6:$E$109,3,FALSE)*F2504,\"\")","v":""},null,null,"",1,0,1900,0,1,1900,"Nombre y el registro de entrada válida"]
[null,"",null,null,null,"",null,null,null,{"$f":"IF(I2505=\"\",\"\",IF(VLOOKUP(I2505,CAD_Q!$C$6:$D$105,2,FALSE)=0,\"\",VLOOKUP(I2505,CAD_Q!$C$6:$D$105,2,FALSE)))","v":""},{"$f":"IFERROR(VLOOKUP(I2505,CAD_Q!$C$6:$E$109,3,FALSE)*F2505,\"\")","v":""},null,null,"",1,0,1900,0,1,1900,"Nombre y el registro de entrada válida"]
[null,"",null,null,null,"",null,null,null,{"$f":"IF(I2506=\"\",\"\",IF(VLOOKUP(I2506,CAD_Q!$C$6:$D$105,2,FALSE)=0,\"\",VLOOKUP(I2506,CAD_Q!$C$6:$D$105,2,FALSE)))","v":""},{"$f":"IFERROR(VLOOKUP(I2506,CAD_Q!$C$6:$E$109,3,FALSE)*F2506,\"\")","v":""},null,null,"",{"$f":"MONTH(D2506)","v":1},{"$f":"DAY(D2506)","v":0},{"$f":"YEAR(D2506)","v":1900},{"$f":"DAY(E2506)","v":0},{"$f":"MONTH(E2506)","v":1},{"$f":"YEAR(E2506)","v":1900},"Nombre y el registro de entrada válida"]
[null,"",null,null,null,"",null,null,null,{"$f":"IF(I2507=\"\",\"\",IF(VLOOKUP(I2507,CAD_Q!$C$6:$D$105,2,FALSE)=0,\"\",VLOOKUP(I2507,CAD_Q!$C$6:$D$105,2,FALSE)))","v":""},{"$f":"IFERROR(VLOOKUP(I2507,CAD_Q!$C$6:$E$109,3,FALSE)*F2507,\"\")","v":""},null,null,"",1,0,1900,0,1,1900,"Nombre y el registro de entrada válida"]
[null,"",null,null,null,"",null,null,null,{"$f":"IF(I2508=\"\",\"\",IF(VLOOKUP(I2508,CAD_Q!$C$6:$D$105,2,FALSE)=0,\"\",VLOOKUP(I2508,CAD_Q!$C$6:$D$105,2,FALSE)))","v":""},{"$f":"IFERROR(VLOOKUP(I2508,CAD_Q!$C$6:$E$109,3,FALSE)*F2508,\"\")","v":""},null,null,"",1,0,1900,0,1,1900,"Nombre y el registro de entrada válida"]
[null,"",null,null,null,"",null,null,null,{"$f":"IF(I2509=\"\",\"\",IF(VLOOKUP(I2509,CAD_Q!$C$6:$D$105,2,FALSE)=0,\"\",VLOOKUP(I2509,CAD_Q!$C$6:$D$105,2,FALSE)))","v":""},{"$f":"IFERROR(VLOOKUP(I2509,CAD_Q!$C$6:$E$109,3,FALSE)*F2509,\"\")","v":""},null,null,"",1,0,1900,0,1,1900,"Nombre y el registro de entrada válida"]
[null,"",null,null,null,"",null,null,null,{"$f":"IF(I2510=\"\",\"\",IF(VLOOKUP(I2510,CAD_Q!$C$6:$D$105,2,FALSE)=0,\"\",VLOOKUP(I2510,CAD_Q!$C$6:$D$105,2,FALSE)))","v":""},{"$f":"IFERROR(VLOOKUP(I2510,CAD_Q!$C$6:$E$109,3,FALSE)*F2510,\"\")","v":""},null,null,"",1,0,1900,0,1,1900,"Nombre y el registro de entrada válida"]
[null,"",null,null,null,"",null,null,null,{"$f":"IF(I2511=\"\",\"\",IF(VLOOKUP(I2511,CAD_Q!$C$6:$D$105,2,FALSE)=0,\"\",VLOOKUP(I2511,CAD_Q!$C$6:$D$105,2,FALSE)))","v":""},{"$f":"IFERROR(VLOOKUP(I2511,CAD_Q!$C$6:$E$109,3,FALSE)*F2511,\"\")","v":""},null,null,"",1,0,1900,0,1,1900,"Nombre y el registro de entrada válida"]
[null,"",null,null,null,"",null,null,null,{"$f":"IF(I2512=\"\",\"\",IF(VLOOKUP(I2512,CAD_Q!$C$6:$D$105,2,FALSE)=0,\"\",VLOOKUP(I2512,CAD_Q!$C$6:$D$105,2,FALSE)))","v":""},{"$f":"IFERROR(VLOOKUP(I2512,CAD_Q!$C$6:$E$109,3,FALSE)*F2512,\"\")","v":""},null,null,"",1,0,1900,0,1,1900,"Nombre y el registro de entrada válida"]
[null,"",null,null,null,"",null,null,null,{"$f":"IF(I2513=\"\",\"\",IF(VLOOKUP(I2513,CAD_Q!$C$6:$D$105,2,FALSE)=0,\"\",VLOOKUP(I2513,CAD_Q!$C$6:$D$105,2,FALSE)))","v":""},{"$f":"IFERROR(VLOOKUP(I2513,CAD_Q!$C$6:$E$109,3,FALSE)*F2513,\"\")","v":""},null,null,"",1,0,1900,0,1,1900,"Nombre y el registro de entrada válida"]
[null,"",null,null,null,"",null,null,null,{"$f":"IF(I2514=\"\",\"\",IF(VLOOKUP(I2514,CAD_Q!$C$6:$D$105,2,FALSE)=0,\"\",VLOOKUP(I2514,CAD_Q!$C$6:$D$105,2,FALSE)))","v":""},{"$f":"IFERROR(VLOOKUP(I2514,CAD_Q!$C$6:$E$109,3,FALSE)*F2514,\"\")","v":""},null,null,"",1,0,1900,0,1,1900,"Nombre y el registro de entrada válida"]
[null,"",null,null,null,"",null,null,null,{"$f":"IF(I2515=\"\",\"\",IF(VLOOKUP(I2515,CAD_Q!$C$6:$D$105,2,FALSE)=0,\"\",VLOOKUP(I2515,CAD_Q!$C$6:$D$105,2,FALSE)))","v":""},{"$f":"IFERROR(VLOOKUP(I2515,CAD_Q!$C$6:$E$109,3,FALSE)*F2515,\"\")","v":""},null,null,"",1,0,1900,0,1,1900,"Nombre y el registro de entrada válida"]
[null,"",null,null,null,"",null,null,null,{"$f":"IF(I2516=\"\",\"\",IF(VLOOKUP(I2516,CAD_Q!$C$6:$D$105,2,FALSE)=0,\"\",VLOOKUP(I2516,CAD_Q!$C$6:$D$105,2,FALSE)))","v":""},{"$f":"IFERROR(VLOOKUP(I2516,CAD_Q!$C$6:$E$109,3,FALSE)*F2516,\"\")","v":""},null,null,"",1,0,1900,0,1,1900,"Nombre y el registro de entrada válida"]
[null,"",null,null,null,"",null,null,null,{"$f":"IF(I2517=\"\",\"\",IF(VLOOKUP(I2517,CAD_Q!$C$6:$D$105,2,FALSE)=0,\"\",VLOOKUP(I2517,CAD_Q!$C$6:$D$105,2,FALSE)))","v":""},{"$f":"IFERROR(VLOOKUP(I2517,CAD_Q!$C$6:$E$109,3,FALSE)*F2517,\"\")","v":""},null,null,"",1,0,1900,0,1,1900,"Nombre y el registro de entrada válida"]
[null,"",null,null,null,"",null,null,null,{"$f":"IF(I2518=\"\",\"\",IF(VLOOKUP(I2518,CAD_Q!$C$6:$D$105,2,FALSE)=0,\"\",VLOOKUP(I2518,CAD_Q!$C$6:$D$105,2,FALSE)))","v":""},{"$f":"IFERROR(VLOOKUP(I2518,CAD_Q!$C$6:$E$109,3,FALSE)*F2518,\"\")","v":""},null,null,"",1,0,1900,0,1,1900,"Nombre y el registro de entrada válida"]
[null,"",null,null,null,"",null,null,null,{"$f":"IF(I2519=\"\",\"\",IF(VLOOKUP(I2519,CAD_Q!$C$6:$D$105,2,FALSE)=0,\"\",VLOOKUP(I2519,CAD_Q!$C$6:$D$105,2,FALSE)))","v":""},{"$f":"IFERROR(VLOOKUP(I2519,CAD_Q!$C$6:$E$109,3,FALSE)*F2519,\"\")","v":""},null,null,"",1,0,1900,0,1,1900,"Nombre y el registro de entrada válida"]
[null,"",null,null,null,"",null,null,null,{"$f":"IF(I2520=\"\",\"\",IF(VLOOKUP(I2520,CAD_Q!$C$6:$D$105,2,FALSE)=0,\"\",VLOOKUP(I2520,CAD_Q!$C$6:$D$105,2,FALSE)))","v":""},{"$f":"IFERROR(VLOOKUP(I2520,CAD_Q!$C$6:$E$109,3,FALSE)*F2520,\"\")","v":""},null,null,"",1,0,1900,0,1,1900,"Nombre y el registro de entrada válida"]
[null,"",null,null,null,"",null,null,null,{"$f":"IF(I2521=\"\",\"\",IF(VLOOKUP(I2521,CAD_Q!$C$6:$D$105,2,FALSE)=0,\"\",VLOOKUP(I2521,CAD_Q!$C$6:$D$105,2,FALSE)))","v":""},{"$f":"IFERROR(VLOOKUP(I2521,CAD_Q!$C$6:$E$109,3,FALSE)*F2521,\"\")","v":""},null,null,"",1,0,1900,0,1,1900,"Nombre y el registro de entrada válida"]
[null,"",null,null,null,"",null,null,null,{"$f":"IF(I2522=\"\",\"\",IF(VLOOKUP(I2522,CAD_Q!$C$6:$D$105,2,FALSE)=0,\"\",VLOOKUP(I2522,CAD_Q!$C$6:$D$105,2,FALSE)))","v":""},{"$f":"IFERROR(VLOOKUP(I2522,CAD_Q!$C$6:$E$109,3,FALSE)*F2522,\"\")","v":""},null,null,"",1,0,1900,0,1,1900,"Nombre y el registro de entrada válida"]
[null,"",null,null,null,"",null,null,null,{"$f":"IF(I2523=\"\",\"\",IF(VLOOKUP(I2523,CAD_Q!$C$6:$D$105,2,FALSE)=0,\"\",VLOOKUP(I2523,CAD_Q!$C$6:$D$105,2,FALSE)))","v":""},{"$f":"IFERROR(VLOOKUP(I2523,CAD_Q!$C$6:$E$109,3,FALSE)*F2523,\"\")","v":""},null,null,"",1,0,1900,0,1,1900,"Nombre y el registro de entrada válida"]
[null,"",null,null,null,"",null,null,null,{"$f":"IF(I2524=\"\",\"\",IF(VLOOKUP(I2524,CAD_Q!$C$6:$D$105,2,FALSE)=0,\"\",VLOOKUP(I2524,CAD_Q!$C$6:$D$105,2,FALSE)))","v":""},{"$f":"IFERROR(VLOOKUP(I2524,CAD_Q!$C$6:$E$109,3,FALSE)*F2524,\"\")","v":""},null,null,"",1,0,1900,0,1,1900,"Nombre y el registro de entrada válida"]
[null,"",null,null,null,"",null,null,null,{"$f":"IF(I2525=\"\",\"\",IF(VLOOKUP(I2525,CAD_Q!$C$6:$D$105,2,FALSE)=0,\"\",VLOOKUP(I2525,CAD_Q!$C$6:$D$105,2,FALSE)))","v":""},{"$f":"IFERROR(VLOOKUP(I2525,CAD_Q!$C$6:$E$109,3,FALSE)*F2525,\"\")","v":""},null,null,"",1,0,1900,0,1,1900,"Nombre y el registro de entrada válida"]
[null,"",null,null,null,"",null,null,null,{"$f":"IF(I2526=\"\",\"\",IF(VLOOKUP(I2526,CAD_Q!$C$6:$D$105,2,FALSE)=0,\"\",VLOOKUP(I2526,CAD_Q!$C$6:$D$105,2,FALSE)))","v":""},{"$f":"IFERROR(VLOOKUP(I2526,CAD_Q!$C$6:$E$109,3,FALSE)*F2526,\"\")","v":""},null,null,"",1,0,1900,0,1,1900,"Nombre y el registro de entrada válida"]
[null,"",null,null,null,"",null,null,null,{"$f":"IF(I2527=\"\",\"\",IF(VLOOKUP(I2527,CAD_Q!$C$6:$D$105,2,FALSE)=0,\"\",VLOOKUP(I2527,CAD_Q!$C$6:$D$105,2,FALSE)))","v":""},{"$f":"IFERROR(VLOOKUP(I2527,CAD_Q!$C$6:$E$109,3,FALSE)*F2527,\"\")","v":""},null,null,"",1,0,1900,0,1,1900,"Nombre y el registro de entrada válida"]
[null,"",null,null,null,"",null,null,null,{"$f":"IF(I2528=\"\",\"\",IF(VLOOKUP(I2528,CAD_Q!$C$6:$D$105,2,FALSE)=0,\"\",VLOOKUP(I2528,CAD_Q!$C$6:$D$105,2,FALSE)))","v":""},{"$f":"IFERROR(VLOOKUP(I2528,CAD_Q!$C$6:$E$109,3,FALSE)*F2528,\"\")","v":""},null,null,"",1,0,1900,0,1,1900,"Nombre y el registro de entrada válida"]
[null,"",null,null,null,"",null,null,null,{"$f":"IF(I2529=\"\",\"\",IF(VLOOKUP(I2529,CAD_Q!$C$6:$D$105,2,FALSE)=0,\"\",VLOOKUP(I2529,CAD_Q!$C$6:$D$105,2,FALSE)))","v":""},{"$f":"IFERROR(VLOOKUP(I2529,CAD_Q!$C$6:$E$109,3,FALSE)*F2529,\"\")","v":""},null,null,"",1,0,1900,0,1,1900,"Nombre y el registro de entrada válida"]
[null,"",null,null,null,"",null,null,null,{"$f":"IF(I2530=\"\",\"\",IF(VLOOKUP(I2530,CAD_Q!$C$6:$D$105,2,FALSE)=0,\"\",VLOOKUP(I2530,CAD_Q!$C$6:$D$105,2,FALSE)))","v":""},{"$f":"IFERROR(VLOOKUP(I2530,CAD_Q!$C$6:$E$109,3,FALSE)*F2530,\"\")","v":""},null,null,"",1,0,1900,0,1,1900,"Nombre y el registro de entrada válida"]
[null,"",null,null,null,"",null,null,null,{"$f":"IF(I2531=\"\",\"\",IF(VLOOKUP(I2531,CAD_Q!$C$6:$D$105,2,FALSE)=0,\"\",VLOOKUP(I2531,CAD_Q!$C$6:$D$105,2,FALSE)))","v":""},{"$f":"IFERROR(VLOOKUP(I2531,CAD_Q!$C$6:$E$109,3,FALSE)*F2531,\"\")","v":""},null,null,"",1,0,1900,0,1,1900,"Nombre y el registro de entrada válida"]
[null,"",null,null,null,{"$f":"IF(OR(D2532=\"\",E2532=\"\"),\"\",E2532-D2532)","v":""},null,null,null,{"$f":"IF(I2532=\"\",\"\",IF(VLOOKUP(I2532,CAD_Q!$C$6:$D$105,2,FALSE)=0,\"\",VLOOKUP(I2532,CAD_Q!$C$6:$D$105,2,FALSE)))","v":""},{"$f":"IFERROR(VLOOKUP(I2532,CAD_Q!$C$6:$E$109,3,FALSE)*F2532,\"\")","v":""},null,null,"",1,0,1900,0,1,1900,"Nombre y el registro de entrada válida"]
[null,"",null,null,null,"",null,null,null,{"$f":"IF(I2533=\"\",\"\",IF(VLOOKUP(I2533,CAD_Q!$C$6:$D$105,2,FALSE)=0,\"\",VLOOKUP(I2533,CAD_Q!$C$6:$D$105,2,FALSE)))","v":""},{"$f":"IFERROR(VLOOKUP(I2533,CAD_Q!$C$6:$E$109,3,FALSE)*F2533,\"\")","v":""},null,null,"",1,0,1900,0,1,1900,"Nombre y el registro de entrada válida"]
[null,"",null,null,null,"",null,null,null,{"$f":"IF(I2534=\"\",\"\",IF(VLOOKUP(I2534,CAD_Q!$C$6:$D$105,2,FALSE)=0,\"\",VLOOKUP(I2534,CAD_Q!$C$6:$D$105,2,FALSE)))","v":""},{"$f":"IFERROR(VLOOKUP(I2534,CAD_Q!$C$6:$E$109,3,FALSE)*F2534,\"\")","v":""},null,null,"",1,0,1900,0,1,1900,"Nombre y el registro de entrada válida"]
[null,"",null,null,null,"",null,null,null,{"$f":"IF(I2535=\"\",\"\",IF(VLOOKUP(I2535,CAD_Q!$C$6:$D$105,2,FALSE)=0,\"\",VLOOKUP(I2535,CAD_Q!$C$6:$D$105,2,FALSE)))","v":""},{"$f":"IFERROR(VLOOKUP(I2535,CAD_Q!$C$6:$E$109,3,FALSE)*F2535,\"\")","v":""},null,null,"",1,0,1900,0,1,1900,"Nombre y el registro de entrada válida"]
[null,"",null,null,null,"",null,null,null,{"$f":"IF(I2536=\"\",\"\",IF(VLOOKUP(I2536,CAD_Q!$C$6:$D$105,2,FALSE)=0,\"\",VLOOKUP(I2536,CAD_Q!$C$6:$D$105,2,FALSE)))","v":""},{"$f":"IFERROR(VLOOKUP(I2536,CAD_Q!$C$6:$E$109,3,FALSE)*F2536,\"\")","v":""},null,null,"",1,0,1900,0,1,1900,"Nombre y el registro de entrada válida"]
[null,"",null,null,null,"",null,null,null,{"$f":"IF(I2537=\"\",\"\",IF(VLOOKUP(I2537,CAD_Q!$C$6:$D$105,2,FALSE)=0,\"\",VLOOKUP(I2537,CAD_Q!$C$6:$D$105,2,FALSE)))","v":""},{"$f":"IFERROR(VLOOKUP(I2537,CAD_Q!$C$6:$E$109,3,FALSE)*F2537,\"\")","v":""},null,null,"",1,0,1900,0,1,1900,"Nombre y el registro de entrada válida"]
[null,"",null,null,null,"",null,null,null,{"$f":"IF(I2538=\"\",\"\",IF(VLOOKUP(I2538,CAD_Q!$C$6:$D$105,2,FALSE)=0,\"\",VLOOKUP(I2538,CAD_Q!$C$6:$D$105,2,FALSE)))","v":""},{"$f":"IFERROR(VLOOKUP(I2538,CAD_Q!$C$6:$E$109,3,FALSE)*F2538,\"\")","v":""},null,null,"",1,0,1900,0,1,1900,"Nombre y el registro de entrada válida"]
[null,"",null,null,null,"",null,null,null,{"$f":"IF(I2539=\"\",\"\",IF(VLOOKUP(I2539,CAD_Q!$C$6:$D$105,2,FALSE)=0,\"\",VLOOKUP(I2539,CAD_Q!$C$6:$D$105,2,FALSE)))","v":""},{"$f":"IFERROR(VLOOKUP(I2539,CAD_Q!$C$6:$E$109,3,FALSE)*F2539,\"\")","v":""},null,null,"",1,0,1900,0,1,1900,"Nombre y el registro de entrada válida"]
[null,"",null,null,null,"",null,null,null,{"$f":"IF(I2540=\"\",\"\",IF(VLOOKUP(I2540,CAD_Q!$C$6:$D$105,2,FALSE)=0,\"\",VLOOKUP(I2540,CAD_Q!$C$6:$D$105,2,FALSE)))","v":""},{"$f":"IFERROR(VLOOKUP(I2540,CAD_Q!$C$6:$E$109,3,FALSE)*F2540,\"\")","v":""},null,null,"",1,0,1900,0,1,1900,"Nombre y el registro de entrada válida"]
[null,"",null,null,null,"",null,null,null,{"$f":"IF(I2541=\"\",\"\",IF(VLOOKUP(I2541,CAD_Q!$C$6:$D$105,2,FALSE)=0,\"\",VLOOKUP(I2541,CAD_Q!$C$6:$D$105,2,FALSE)))","v":""},{"$f":"IFERROR(VLOOKUP(I2541,CAD_Q!$C$6:$E$109,3,FALSE)*F2541,\"\")","v":""},null,null,"",1,0,1900,0,1,1900,"Nombre y el registro de entrada válida"]
[null,"",null,null,null,"",null,null,null,{"$f":"IF(I2542=\"\",\"\",IF(VLOOKUP(I2542,CAD_Q!$C$6:$D$105,2,FALSE)=0,\"\",VLOOKUP(I2542,CAD_Q!$C$6:$D$105,2,FALSE)))","v":""},{"$f":"IFERROR(VLOOKUP(I2542,CAD_Q!$C$6:$E$109,3,FALSE)*F2542,\"\")","v":""},null,null,"",1,0,1900,0,1,1900,"Nombre y el registro de entrada válida"]
[null,"",null,null,null,"",null,null,null,{"$f":"IF(I2543=\"\",\"\",IF(VLOOKUP(I2543,CAD_Q!$C$6:$D$105,2,FALSE)=0,\"\",VLOOKUP(I2543,CAD_Q!$C$6:$D$105,2,FALSE)))","v":""},{"$f":"IFERROR(VLOOKUP(I2543,CAD_Q!$C$6:$E$109,3,FALSE)*F2543,\"\")","v":""},null,null,"",1,0,1900,0,1,1900,"Nombre y el registro de entrada válida"]
[null,"",null,null,null,"",null,null,null,{"$f":"IF(I2544=\"\",\"\",IF(VLOOKUP(I2544,CAD_Q!$C$6:$D$105,2,FALSE)=0,\"\",VLOOKUP(I2544,CAD_Q!$C$6:$D$105,2,FALSE)))","v":""},{"$f":"IFERROR(VLOOKUP(I2544,CAD_Q!$C$6:$E$109,3,FALSE)*F2544,\"\")","v":""},null,null,"",1,0,1900,0,1,1900,"Nombre y el registro de entrada válida"]
[null,"",null,null,null,"",null,null,null,{"$f":"IF(I2545=\"\",\"\",IF(VLOOKUP(I2545,CAD_Q!$C$6:$D$105,2,FALSE)=0,\"\",VLOOKUP(I2545,CAD_Q!$C$6:$D$105,2,FALSE)))","v":""},{"$f":"IFERROR(VLOOKUP(I2545,CAD_Q!$C$6:$E$109,3,FALSE)*F2545,\"\")","v":""},null,null,"",1,0,1900,0,1,1900,"Nombre y el registro de entrada válida"]
[null,"",null,null,null,"",null,null,null,{"$f":"IF(I2546=\"\",\"\",IF(VLOOKUP(I2546,CAD_Q!$C$6:$D$105,2,FALSE)=0,\"\",VLOOKUP(I2546,CAD_Q!$C$6:$D$105,2,FALSE)))","v":""},{"$f":"IFERROR(VLOOKUP(I2546,CAD_Q!$C$6:$E$109,3,FALSE)*F2546,\"\")","v":""},null,null,"",1,0,1900,0,1,1900,"Nombre y el registro de entrada válida"]
[null,"",null,null,null,"",null,null,null,{"$f":"IF(I2547=\"\",\"\",IF(VLOOKUP(I2547,CAD_Q!$C$6:$D$105,2,FALSE)=0,\"\",VLOOKUP(I2547,CAD_Q!$C$6:$D$105,2,FALSE)))","v":""},{"$f":"IFERROR(VLOOKUP(I2547,CAD_Q!$C$6:$E$109,3,FALSE)*F2547,\"\")","v":""},null,null,"",1,0,1900,0,1,1900,"Nombre y el registro de entrada válida"]
[null,"",null,null,null,"",null,null,null,{"$f":"IF(I2548=\"\",\"\",IF(VLOOKUP(I2548,CAD_Q!$C$6:$D$105,2,FALSE)=0,\"\",VLOOKUP(I2548,CAD_Q!$C$6:$D$105,2,FALSE)))","v":""},{"$f":"IFERROR(VLOOKUP(I2548,CAD_Q!$C$6:$E$109,3,FALSE)*F2548,\"\")","v":""},null,null,"",1,0,1900,0,1,1900,"Nombre y el registro de entrada válida"]
[null,"",null,null,null,"",null,null,null,{"$f":"IF(I2549=\"\",\"\",IF(VLOOKUP(I2549,CAD_Q!$C$6:$D$105,2,FALSE)=0,\"\",VLOOKUP(I2549,CAD_Q!$C$6:$D$105,2,FALSE)))","v":""},{"$f":"IFERROR(VLOOKUP(I2549,CAD_Q!$C$6:$E$109,3,FALSE)*F2549,\"\")","v":""},null,null,"",1,0,1900,0,1,1900,"Nombre y el registro de entrada válida"]
[null,"",null,null,null,"",null,null,null,{"$f":"IF(I2550=\"\",\"\",IF(VLOOKUP(I2550,CAD_Q!$C$6:$D$105,2,FALSE)=0,\"\",VLOOKUP(I2550,CAD_Q!$C$6:$D$105,2,FALSE)))","v":""},{"$f":"IFERROR(VLOOKUP(I2550,CAD_Q!$C$6:$E$109,3,FALSE)*F2550,\"\")","v":""},null,null,"",1,0,1900,0,1,1900,"Nombre y el registro de entrada válida"]
[null,"",null,null,null,"",null,null,null,{"$f":"IF(I2551=\"\",\"\",IF(VLOOKUP(I2551,CAD_Q!$C$6:$D$105,2,FALSE)=0,\"\",VLOOKUP(I2551,CAD_Q!$C$6:$D$105,2,FALSE)))","v":""},{"$f":"IFERROR(VLOOKUP(I2551,CAD_Q!$C$6:$E$109,3,FALSE)*F2551,\"\")","v":""},null,null,"",1,0,1900,0,1,1900,"Nombre y el registro de entrada válida"]
[null,"",null,null,null,"",null,null,null,{"$f":"IF(I2552=\"\",\"\",IF(VLOOKUP(I2552,CAD_Q!$C$6:$D$105,2,FALSE)=0,\"\",VLOOKUP(I2552,CAD_Q!$C$6:$D$105,2,FALSE)))","v":""},{"$f":"IFERROR(VLOOKUP(I2552,CAD_Q!$C$6:$E$109,3,FALSE)*F2552,\"\")","v":""},null,null,"",1,0,1900,0,1,1900,"Nombre y el registro de entrada válida"]
[null,"",null,null,null,"",null,null,null,{"$f":"IF(I2553=\"\",\"\",IF(VLOOKUP(I2553,CAD_Q!$C$6:$D$105,2,FALSE)=0,\"\",VLOOKUP(I2553,CAD_Q!$C$6:$D$105,2,FALSE)))","v":""},{"$f":"IFERROR(VLOOKUP(I2553,CAD_Q!$C$6:$E$109,3,FALSE)*F2553,\"\")","v":""},null,null,"",1,0,1900,0,1,1900,"Nombre y el registro de entrada válida"]
[null,"",null,null,null,"",null,null,null,{"$f":"IF(I2554=\"\",\"\",IF(VLOOKUP(I2554,CAD_Q!$C$6:$D$105,2,FALSE)=0,\"\",VLOOKUP(I2554,CAD_Q!$C$6:$D$105,2,FALSE)))","v":""},{"$f":"IFERROR(VLOOKUP(I2554,CAD_Q!$C$6:$E$109,3,FALSE)*F2554,\"\")","v":""},null,null,"",1,0,1900,0,1,1900,"Nombre y el registro de entrada válida"]
[null,"",null,null,null,"",null,null,null,{"$f":"IF(I2555=\"\",\"\",IF(VLOOKUP(I2555,CAD_Q!$C$6:$D$105,2,FALSE)=0,\"\",VLOOKUP(I2555,CAD_Q!$C$6:$D$105,2,FALSE)))","v":""},{"$f":"IFERROR(VLOOKUP(I2555,CAD_Q!$C$6:$E$109,3,FALSE)*F2555,\"\")","v":""},null,null,"",1,0,1900,0,1,1900,"Nombre y el registro de entrada válida"]
[null,"",null,null,null,"",null,null,null,{"$f":"IF(I2556=\"\",\"\",IF(VLOOKUP(I2556,CAD_Q!$C$6:$D$105,2,FALSE)=0,\"\",VLOOKUP(I2556,CAD_Q!$C$6:$D$105,2,FALSE)))","v":""},{"$f":"IFERROR(VLOOKUP(I2556,CAD_Q!$C$6:$E$109,3,FALSE)*F2556,\"\")","v":""},null,null,"",1,0,1900,0,1,1900,"Nombre y el registro de entrada válida"]
[null,"",null,null,null,"",null,null,null,{"$f":"IF(I2557=\"\",\"\",IF(VLOOKUP(I2557,CAD_Q!$C$6:$D$105,2,FALSE)=0,\"\",VLOOKUP(I2557,CAD_Q!$C$6:$D$105,2,FALSE)))","v":""},{"$f":"IFERROR(VLOOKUP(I2557,CAD_Q!$C$6:$E$109,3,FALSE)*F2557,\"\")","v":""},null,null,"",1,0,1900,0,1,1900,"Nombre y el registro de entrada válida"]
[null,"",null,null,null,"",null,null,null,{"$f":"IF(I2558=\"\",\"\",IF(VLOOKUP(I2558,CAD_Q!$C$6:$D$105,2,FALSE)=0,\"\",VLOOKUP(I2558,CAD_Q!$C$6:$D$105,2,FALSE)))","v":""},{"$f":"IFERROR(VLOOKUP(I2558,CAD_Q!$C$6:$E$109,3,FALSE)*F2558,\"\")","v":""},null,null,"",1,0,1900,0,1,1900,"Nombre y el registro de entrada válida"]
[null,"",null,null,null,"",null,null,null,{"$f":"IF(I2559=\"\",\"\",IF(VLOOKUP(I2559,CAD_Q!$C$6:$D$105,2,FALSE)=0,\"\",VLOOKUP(I2559,CAD_Q!$C$6:$D$105,2,FALSE)))","v":""},{"$f":"IFERROR(VLOOKUP(I2559,CAD_Q!$C$6:$E$109,3,FALSE)*F2559,\"\")","v":""},null,null,"",1,0,1900,0,1,1900,"Nombre y el registro de entrada válida"]
[null,"",null,null,null,"",null,null,null,{"$f":"IF(I2560=\"\",\"\",IF(VLOOKUP(I2560,CAD_Q!$C$6:$D$105,2,FALSE)=0,\"\",VLOOKUP(I2560,CAD_Q!$C$6:$D$105,2,FALSE)))","v":""},{"$f":"IFERROR(VLOOKUP(I2560,CAD_Q!$C$6:$E$109,3,FALSE)*F2560,\"\")","v":""},null,null,"",1,0,1900,0,1,1900,"Nombre y el registro de entrada válida"]
[null,"",null,null,null,"",null,null,null,{"$f":"IF(I2561=\"\",\"\",IF(VLOOKUP(I2561,CAD_Q!$C$6:$D$105,2,FALSE)=0,\"\",VLOOKUP(I2561,CAD_Q!$C$6:$D$105,2,FALSE)))","v":""},{"$f":"IFERROR(VLOOKUP(I2561,CAD_Q!$C$6:$E$109,3,FALSE)*F2561,\"\")","v":""},null,null,"",1,0,1900,0,1,1900,"Nombre y el registro de entrada válida"]
[null,"",null,null,null,"",null,null,null,{"$f":"IF(I2562=\"\",\"\",IF(VLOOKUP(I2562,CAD_Q!$C$6:$D$105,2,FALSE)=0,\"\",VLOOKUP(I2562,CAD_Q!$C$6:$D$105,2,FALSE)))","v":""},{"$f":"IFERROR(VLOOKUP(I2562,CAD_Q!$C$6:$E$109,3,FALSE)*F2562,\"\")","v":""},null,null,"",1,0,1900,0,1,1900,"Nombre y el registro de entrada válida"]
[null,"",null,null,null,"",null,null,null,{"$f":"IF(I2563=\"\",\"\",IF(VLOOKUP(I2563,CAD_Q!$C$6:$D$105,2,FALSE)=0,\"\",VLOOKUP(I2563,CAD_Q!$C$6:$D$105,2,FALSE)))","v":""},{"$f":"IFERROR(VLOOKUP(I2563,CAD_Q!$C$6:$E$109,3,FALSE)*F2563,\"\")","v":""},null,null,"",1,0,1900,0,1,1900,"Nombre y el registro de entrada válida"]
[null,"",null,null,null,"",null,null,null,{"$f":"IF(I2564=\"\",\"\",IF(VLOOKUP(I2564,CAD_Q!$C$6:$D$105,2,FALSE)=0,\"\",VLOOKUP(I2564,CAD_Q!$C$6:$D$105,2,FALSE)))","v":""},{"$f":"IFERROR(VLOOKUP(I2564,CAD_Q!$C$6:$E$109,3,FALSE)*F2564,\"\")","v":""},null,null,"",1,0,1900,0,1,1900,"Nombre y el registro de entrada válida"]
[null,"",null,null,null,"",null,null,null,{"$f":"IF(I2565=\"\",\"\",IF(VLOOKUP(I2565,CAD_Q!$C$6:$D$105,2,FALSE)=0,\"\",VLOOKUP(I2565,CAD_Q!$C$6:$D$105,2,FALSE)))","v":""},{"$f":"IFERROR(VLOOKUP(I2565,CAD_Q!$C$6:$E$109,3,FALSE)*F2565,\"\")","v":""},null,null,"",1,0,1900,0,1,1900,"Nombre y el registro de entrada válida"]
[null,"",null,null,null,"",null,null,null,{"$f":"IF(I2566=\"\",\"\",IF(VLOOKUP(I2566,CAD_Q!$C$6:$D$105,2,FALSE)=0,\"\",VLOOKUP(I2566,CAD_Q!$C$6:$D$105,2,FALSE)))","v":""},{"$f":"IFERROR(VLOOKUP(I2566,CAD_Q!$C$6:$E$109,3,FALSE)*F2566,\"\")","v":""},null,null,"",1,0,1900,0,1,1900,"Nombre y el registro de entrada válida"]
[null,{"$f":"CONCATENATE(C2567,D2567)","v":""},null,null,null,"",null,null,null,{"$f":"IF(I2567=\"\",\"\",IF(VLOOKUP(I2567,CAD_Q!$C$6:$D$105,2,FALSE)=0,\"\",VLOOKUP(I2567,CAD_Q!$C$6:$D$105,2,FALSE)))","v":""},{"$f":"IFERROR(VLOOKUP(I2567,CAD_Q!$C$6:$E$109,3,FALSE)*F2567,\"\")","v":""},null,null,{"$f":"IFERROR(K2567-L2567+M2567,\"\")","v":""},1,0,1900,0,1,1900,"Nombre y el registro de entrada válida"]
[null,"",null,null,null,"",null,null,null,{"$f":"IF(I2568=\"\",\"\",IF(VLOOKUP(I2568,CAD_Q!$C$6:$D$105,2,FALSE)=0,\"\",VLOOKUP(I2568,CAD_Q!$C$6:$D$105,2,FALSE)))","v":""},{"$f":"IFERROR(VLOOKUP(I2568,CAD_Q!$C$6:$E$109,3,FALSE)*F2568,\"\")","v":""},null,null,"",1,0,1900,0,1,1900,"Nombre y el registro de entrada válida"]
[null,"",null,null,null,"",null,null,null,{"$f":"IF(I2569=\"\",\"\",IF(VLOOKUP(I2569,CAD_Q!$C$6:$D$105,2,FALSE)=0,\"\",VLOOKUP(I2569,CAD_Q!$C$6:$D$105,2,FALSE)))","v":""},{"$f":"IFERROR(VLOOKUP(I2569,CAD_Q!$C$6:$E$109,3,FALSE)*F2569,\"\")","v":""},null,null,"",1,0,1900,0,1,1900,"Nombre y el registro de entrada válida"]
[null,"",null,null,null,"",null,null,null,{"$f":"IF(I2570=\"\",\"\",IF(VLOOKUP(I2570,CAD_Q!$C$6:$D$105,2,FALSE)=0,\"\",VLOOKUP(I2570,CAD_Q!$C$6:$D$105,2,FALSE)))","v":""},{"$f":"IFERROR(VLOOKUP(I2570,CAD_Q!$C$6:$E$109,3,FALSE)*F2570,\"\")","v":""},null,null,"",{"$f":"MONTH(D2570)","v":1},{"$f":"DAY(D2570)","v":0},{"$f":"YEAR(D2570)","v":1900},{"$f":"DAY(E2570)","v":0},{"$f":"MONTH(E2570)","v":1},{"$f":"YEAR(E2570)","v":1900},"Nombre y el registro de entrada válida"]
[null,"",null,null,null,"",null,null,null,{"$f":"IF(I2571=\"\",\"\",IF(VLOOKUP(I2571,CAD_Q!$C$6:$D$105,2,FALSE)=0,\"\",VLOOKUP(I2571,CAD_Q!$C$6:$D$105,2,FALSE)))","v":""},{"$f":"IFERROR(VLOOKUP(I2571,CAD_Q!$C$6:$E$109,3,FALSE)*F2571,\"\")","v":""},null,null,"",1,0,1900,0,1,1900,"Nombre y el registro de entrada válida"]
[null,"",null,null,null,"",null,null,null,{"$f":"IF(I2572=\"\",\"\",IF(VLOOKUP(I2572,CAD_Q!$C$6:$D$105,2,FALSE)=0,\"\",VLOOKUP(I2572,CAD_Q!$C$6:$D$105,2,FALSE)))","v":""},{"$f":"IFERROR(VLOOKUP(I2572,CAD_Q!$C$6:$E$109,3,FALSE)*F2572,\"\")","v":""},null,null,"",1,0,1900,0,1,1900,"Nombre y el registro de entrada válida"]
[null,"",null,null,null,"",null,null,null,{"$f":"IF(I2573=\"\",\"\",IF(VLOOKUP(I2573,CAD_Q!$C$6:$D$105,2,FALSE)=0,\"\",VLOOKUP(I2573,CAD_Q!$C$6:$D$105,2,FALSE)))","v":""},{"$f":"IFERROR(VLOOKUP(I2573,CAD_Q!$C$6:$E$109,3,FALSE)*F2573,\"\")","v":""},null,null,"",1,0,1900,0,1,1900,"Nombre y el registro de entrada válida"]
[null,"",null,null,null,"",null,null,null,{"$f":"IF(I2574=\"\",\"\",IF(VLOOKUP(I2574,CAD_Q!$C$6:$D$105,2,FALSE)=0,\"\",VLOOKUP(I2574,CAD_Q!$C$6:$D$105,2,FALSE)))","v":""},{"$f":"IFERROR(VLOOKUP(I2574,CAD_Q!$C$6:$E$109,3,FALSE)*F2574,\"\")","v":""},null,null,"",1,0,1900,0,1,1900,"Nombre y el registro de entrada válida"]
[null,"",null,null,null,"",null,null,null,{"$f":"IF(I2575=\"\",\"\",IF(VLOOKUP(I2575,CAD_Q!$C$6:$D$105,2,FALSE)=0,\"\",VLOOKUP(I2575,CAD_Q!$C$6:$D$105,2,FALSE)))","v":""},{"$f":"IFERROR(VLOOKUP(I2575,CAD_Q!$C$6:$E$109,3,FALSE)*F2575,\"\")","v":""},null,null,"",1,0,1900,0,1,1900,"Nombre y el registro de entrada válida"]
[null,"",null,null,null,"",null,null,null,{"$f":"IF(I2576=\"\",\"\",IF(VLOOKUP(I2576,CAD_Q!$C$6:$D$105,2,FALSE)=0,\"\",VLOOKUP(I2576,CAD_Q!$C$6:$D$105,2,FALSE)))","v":""},{"$f":"IFERROR(VLOOKUP(I2576,CAD_Q!$C$6:$E$109,3,FALSE)*F2576,\"\")","v":""},null,null,"",1,0,1900,0,1,1900,"Nombre y el registro de entrada válida"]
[null,"",null,null,null,"",null,null,null,{"$f":"IF(I2577=\"\",\"\",IF(VLOOKUP(I2577,CAD_Q!$C$6:$D$105,2,FALSE)=0,\"\",VLOOKUP(I2577,CAD_Q!$C$6:$D$105,2,FALSE)))","v":""},{"$f":"IFERROR(VLOOKUP(I2577,CAD_Q!$C$6:$E$109,3,FALSE)*F2577,\"\")","v":""},null,null,"",1,0,1900,0,1,1900,"Nombre y el registro de entrada válida"]
[null,"",null,null,null,"",null,null,null,{"$f":"IF(I2578=\"\",\"\",IF(VLOOKUP(I2578,CAD_Q!$C$6:$D$105,2,FALSE)=0,\"\",VLOOKUP(I2578,CAD_Q!$C$6:$D$105,2,FALSE)))","v":""},{"$f":"IFERROR(VLOOKUP(I2578,CAD_Q!$C$6:$E$109,3,FALSE)*F2578,\"\")","v":""},null,null,"",1,0,1900,0,1,1900,"Nombre y el registro de entrada válida"]
[null,"",null,null,null,"",null,null,null,{"$f":"IF(I2579=\"\",\"\",IF(VLOOKUP(I2579,CAD_Q!$C$6:$D$105,2,FALSE)=0,\"\",VLOOKUP(I2579,CAD_Q!$C$6:$D$105,2,FALSE)))","v":""},{"$f":"IFERROR(VLOOKUP(I2579,CAD_Q!$C$6:$E$109,3,FALSE)*F2579,\"\")","v":""},null,null,"",1,0,1900,0,1,1900,"Nombre y el registro de entrada válida"]
[null,"",null,null,null,"",null,null,null,{"$f":"IF(I2580=\"\",\"\",IF(VLOOKUP(I2580,CAD_Q!$C$6:$D$105,2,FALSE)=0,\"\",VLOOKUP(I2580,CAD_Q!$C$6:$D$105,2,FALSE)))","v":""},{"$f":"IFERROR(VLOOKUP(I2580,CAD_Q!$C$6:$E$109,3,FALSE)*F2580,\"\")","v":""},null,null,"",1,0,1900,0,1,1900,"Nombre y el registro de entrada válida"]
[null,"",null,null,null,"",null,null,null,{"$f":"IF(I2581=\"\",\"\",IF(VLOOKUP(I2581,CAD_Q!$C$6:$D$105,2,FALSE)=0,\"\",VLOOKUP(I2581,CAD_Q!$C$6:$D$105,2,FALSE)))","v":""},{"$f":"IFERROR(VLOOKUP(I2581,CAD_Q!$C$6:$E$109,3,FALSE)*F2581,\"\")","v":""},null,null,"",1,0,1900,0,1,1900,"Nombre y el registro de entrada válida"]
[null,"",null,null,null,"",null,null,null,{"$f":"IF(I2582=\"\",\"\",IF(VLOOKUP(I2582,CAD_Q!$C$6:$D$105,2,FALSE)=0,\"\",VLOOKUP(I2582,CAD_Q!$C$6:$D$105,2,FALSE)))","v":""},{"$f":"IFERROR(VLOOKUP(I2582,CAD_Q!$C$6:$E$109,3,FALSE)*F2582,\"\")","v":""},null,null,"",1,0,1900,0,1,1900,"Nombre y el registro de entrada válida"]
[null,"",null,null,null,"",null,null,null,{"$f":"IF(I2583=\"\",\"\",IF(VLOOKUP(I2583,CAD_Q!$C$6:$D$105,2,FALSE)=0,\"\",VLOOKUP(I2583,CAD_Q!$C$6:$D$105,2,FALSE)))","v":""},{"$f":"IFERROR(VLOOKUP(I2583,CAD_Q!$C$6:$E$109,3,FALSE)*F2583,\"\")","v":""},null,null,"",1,0,1900,0,1,1900,"Nombre y el registro de entrada válida"]
[null,"",null,null,null,"",null,null,null,{"$f":"IF(I2584=\"\",\"\",IF(VLOOKUP(I2584,CAD_Q!$C$6:$D$105,2,FALSE)=0,\"\",VLOOKUP(I2584,CAD_Q!$C$6:$D$105,2,FALSE)))","v":""},{"$f":"IFERROR(VLOOKUP(I2584,CAD_Q!$C$6:$E$109,3,FALSE)*F2584,\"\")","v":""},null,null,"",1,0,1900,0,1,1900,"Nombre y el registro de entrada válida"]
[null,"",null,null,null,"",null,null,null,{"$f":"IF(I2585=\"\",\"\",IF(VLOOKUP(I2585,CAD_Q!$C$6:$D$105,2,FALSE)=0,\"\",VLOOKUP(I2585,CAD_Q!$C$6:$D$105,2,FALSE)))","v":""},{"$f":"IFERROR(VLOOKUP(I2585,CAD_Q!$C$6:$E$109,3,FALSE)*F2585,\"\")","v":""},null,null,"",1,0,1900,0,1,1900,"Nombre y el registro de entrada válida"]
[null,"",null,null,null,"",null,null,null,{"$f":"IF(I2586=\"\",\"\",IF(VLOOKUP(I2586,CAD_Q!$C$6:$D$105,2,FALSE)=0,\"\",VLOOKUP(I2586,CAD_Q!$C$6:$D$105,2,FALSE)))","v":""},{"$f":"IFERROR(VLOOKUP(I2586,CAD_Q!$C$6:$E$109,3,FALSE)*F2586,\"\")","v":""},null,null,"",1,0,1900,0,1,1900,"Nombre y el registro de entrada válida"]
[null,"",null,null,null,"",null,null,null,{"$f":"IF(I2587=\"\",\"\",IF(VLOOKUP(I2587,CAD_Q!$C$6:$D$105,2,FALSE)=0,\"\",VLOOKUP(I2587,CAD_Q!$C$6:$D$105,2,FALSE)))","v":""},{"$f":"IFERROR(VLOOKUP(I2587,CAD_Q!$C$6:$E$109,3,FALSE)*F2587,\"\")","v":""},null,null,"",1,0,1900,0,1,1900,"Nombre y el registro de entrada válida"]
[null,"",null,null,null,"",null,null,null,{"$f":"IF(I2588=\"\",\"\",IF(VLOOKUP(I2588,CAD_Q!$C$6:$D$105,2,FALSE)=0,\"\",VLOOKUP(I2588,CAD_Q!$C$6:$D$105,2,FALSE)))","v":""},{"$f":"IFERROR(VLOOKUP(I2588,CAD_Q!$C$6:$E$109,3,FALSE)*F2588,\"\")","v":""},null,null,"",1,0,1900,0,1,1900,"Nombre y el registro de entrada válida"]
[null,"",null,null,null,"",null,null,null,{"$f":"IF(I2589=\"\",\"\",IF(VLOOKUP(I2589,CAD_Q!$C$6:$D$105,2,FALSE)=0,\"\",VLOOKUP(I2589,CAD_Q!$C$6:$D$105,2,FALSE)))","v":""},{"$f":"IFERROR(VLOOKUP(I2589,CAD_Q!$C$6:$E$109,3,FALSE)*F2589,\"\")","v":""},null,null,"",1,0,1900,0,1,1900,"Nombre y el registro de entrada válida"]
[null,"",null,null,null,"",null,null,null,{"$f":"IF(I2590=\"\",\"\",IF(VLOOKUP(I2590,CAD_Q!$C$6:$D$105,2,FALSE)=0,\"\",VLOOKUP(I2590,CAD_Q!$C$6:$D$105,2,FALSE)))","v":""},{"$f":"IFERROR(VLOOKUP(I2590,CAD_Q!$C$6:$E$109,3,FALSE)*F2590,\"\")","v":""},null,null,"",1,0,1900,0,1,1900,"Nombre y el registro de entrada válida"]
[null,"",null,null,null,"",null,null,null,{"$f":"IF(I2591=\"\",\"\",IF(VLOOKUP(I2591,CAD_Q!$C$6:$D$105,2,FALSE)=0,\"\",VLOOKUP(I2591,CAD_Q!$C$6:$D$105,2,FALSE)))","v":""},{"$f":"IFERROR(VLOOKUP(I2591,CAD_Q!$C$6:$E$109,3,FALSE)*F2591,\"\")","v":""},null,null,"",1,0,1900,0,1,1900,"Nombre y el registro de entrada válida"]
[null,"",null,null,null,"",null,null,null,{"$f":"IF(I2592=\"\",\"\",IF(VLOOKUP(I2592,CAD_Q!$C$6:$D$105,2,FALSE)=0,\"\",VLOOKUP(I2592,CAD_Q!$C$6:$D$105,2,FALSE)))","v":""},{"$f":"IFERROR(VLOOKUP(I2592,CAD_Q!$C$6:$E$109,3,FALSE)*F2592,\"\")","v":""},null,null,"",1,0,1900,0,1,1900,"Nombre y el registro de entrada válida"]
[null,"",null,null,null,"",null,null,null,{"$f":"IF(I2593=\"\",\"\",IF(VLOOKUP(I2593,CAD_Q!$C$6:$D$105,2,FALSE)=0,\"\",VLOOKUP(I2593,CAD_Q!$C$6:$D$105,2,FALSE)))","v":""},{"$f":"IFERROR(VLOOKUP(I2593,CAD_Q!$C$6:$E$109,3,FALSE)*F2593,\"\")","v":""},null,null,"",1,0,1900,0,1,1900,"Nombre y el registro de entrada válida"]
[null,"",null,null,null,"",null,null,null,{"$f":"IF(I2594=\"\",\"\",IF(VLOOKUP(I2594,CAD_Q!$C$6:$D$105,2,FALSE)=0,\"\",VLOOKUP(I2594,CAD_Q!$C$6:$D$105,2,FALSE)))","v":""},{"$f":"IFERROR(VLOOKUP(I2594,CAD_Q!$C$6:$E$109,3,FALSE)*F2594,\"\")","v":""},null,null,"",1,0,1900,0,1,1900,"Nombre y el registro de entrada válida"]
[null,"",null,null,null,"",null,null,null,{"$f":"IF(I2595=\"\",\"\",IF(VLOOKUP(I2595,CAD_Q!$C$6:$D$105,2,FALSE)=0,\"\",VLOOKUP(I2595,CAD_Q!$C$6:$D$105,2,FALSE)))","v":""},{"$f":"IFERROR(VLOOKUP(I2595,CAD_Q!$C$6:$E$109,3,FALSE)*F2595,\"\")","v":""},null,null,"",1,0,1900,0,1,1900,"Nombre y el registro de entrada válida"]
[null,"",null,null,null,{"$f":"IF(OR(D2596=\"\",E2596=\"\"),\"\",E2596-D2596)","v":""},null,null,null,{"$f":"IF(I2596=\"\",\"\",IF(VLOOKUP(I2596,CAD_Q!$C$6:$D$105,2,FALSE)=0,\"\",VLOOKUP(I2596,CAD_Q!$C$6:$D$105,2,FALSE)))","v":""},{"$f":"IFERROR(VLOOKUP(I2596,CAD_Q!$C$6:$E$109,3,FALSE)*F2596,\"\")","v":""},null,null,"",1,0,1900,0,1,1900,"Nombre y el registro de entrada válida"]
[null,"",null,null,null,"",null,null,null,{"$f":"IF(I2597=\"\",\"\",IF(VLOOKUP(I2597,CAD_Q!$C$6:$D$105,2,FALSE)=0,\"\",VLOOKUP(I2597,CAD_Q!$C$6:$D$105,2,FALSE)))","v":""},{"$f":"IFERROR(VLOOKUP(I2597,CAD_Q!$C$6:$E$109,3,FALSE)*F2597,\"\")","v":""},null,null,"",1,0,1900,0,1,1900,"Nombre y el registro de entrada válida"]
[null,"",null,null,null,"",null,null,null,{"$f":"IF(I2598=\"\",\"\",IF(VLOOKUP(I2598,CAD_Q!$C$6:$D$105,2,FALSE)=0,\"\",VLOOKUP(I2598,CAD_Q!$C$6:$D$105,2,FALSE)))","v":""},{"$f":"IFERROR(VLOOKUP(I2598,CAD_Q!$C$6:$E$109,3,FALSE)*F2598,\"\")","v":""},null,null,"",1,0,1900,0,1,1900,"Nombre y el registro de entrada válida"]
[null,"",null,null,null,"",null,null,null,{"$f":"IF(I2599=\"\",\"\",IF(VLOOKUP(I2599,CAD_Q!$C$6:$D$105,2,FALSE)=0,\"\",VLOOKUP(I2599,CAD_Q!$C$6:$D$105,2,FALSE)))","v":""},{"$f":"IFERROR(VLOOKUP(I2599,CAD_Q!$C$6:$E$109,3,FALSE)*F2599,\"\")","v":""},null,null,"",1,0,1900,0,1,1900,"Nombre y el registro de entrada válida"]
[null,"",null,null,null,"",null,null,null,{"$f":"IF(I2600=\"\",\"\",IF(VLOOKUP(I2600,CAD_Q!$C$6:$D$105,2,FALSE)=0,\"\",VLOOKUP(I2600,CAD_Q!$C$6:$D$105,2,FALSE)))","v":""},{"$f":"IFERROR(VLOOKUP(I2600,CAD_Q!$C$6:$E$109,3,FALSE)*F2600,\"\")","v":""},null,null,"",1,0,1900,0,1,1900,"Nombre y el registro de entrada válida"]
[null,"",null,null,null,"",null,null,null,{"$f":"IF(I2601=\"\",\"\",IF(VLOOKUP(I2601,CAD_Q!$C$6:$D$105,2,FALSE)=0,\"\",VLOOKUP(I2601,CAD_Q!$C$6:$D$105,2,FALSE)))","v":""},{"$f":"IFERROR(VLOOKUP(I2601,CAD_Q!$C$6:$E$109,3,FALSE)*F2601,\"\")","v":""},null,null,"",1,0,1900,0,1,1900,"Nombre y el registro de entrada válida"]
[null,"",null,null,null,"",null,null,null,{"$f":"IF(I2602=\"\",\"\",IF(VLOOKUP(I2602,CAD_Q!$C$6:$D$105,2,FALSE)=0,\"\",VLOOKUP(I2602,CAD_Q!$C$6:$D$105,2,FALSE)))","v":""},{"$f":"IFERROR(VLOOKUP(I2602,CAD_Q!$C$6:$E$109,3,FALSE)*F2602,\"\")","v":""},null,null,"",1,0,1900,0,1,1900,"Nombre y el registro de entrada válida"]
[null,"",null,null,null,"",null,null,null,{"$f":"IF(I2603=\"\",\"\",IF(VLOOKUP(I2603,CAD_Q!$C$6:$D$105,2,FALSE)=0,\"\",VLOOKUP(I2603,CAD_Q!$C$6:$D$105,2,FALSE)))","v":""},{"$f":"IFERROR(VLOOKUP(I2603,CAD_Q!$C$6:$E$109,3,FALSE)*F2603,\"\")","v":""},null,null,"",1,0,1900,0,1,1900,"Nombre y el registro de entrada válida"]
[null,"",null,null,null,"",null,null,null,{"$f":"IF(I2604=\"\",\"\",IF(VLOOKUP(I2604,CAD_Q!$C$6:$D$105,2,FALSE)=0,\"\",VLOOKUP(I2604,CAD_Q!$C$6:$D$105,2,FALSE)))","v":""},{"$f":"IFERROR(VLOOKUP(I2604,CAD_Q!$C$6:$E$109,3,FALSE)*F2604,\"\")","v":""},null,null,"",1,0,1900,0,1,1900,"Nombre y el registro de entrada válida"]
[null,"",null,null,null,"",null,null,null,{"$f":"IF(I2605=\"\",\"\",IF(VLOOKUP(I2605,CAD_Q!$C$6:$D$105,2,FALSE)=0,\"\",VLOOKUP(I2605,CAD_Q!$C$6:$D$105,2,FALSE)))","v":""},{"$f":"IFERROR(VLOOKUP(I2605,CAD_Q!$C$6:$E$109,3,FALSE)*F2605,\"\")","v":""},null,null,"",1,0,1900,0,1,1900,"Nombre y el registro de entrada válida"]
[null,"",null,null,null,"",null,null,null,{"$f":"IF(I2606=\"\",\"\",IF(VLOOKUP(I2606,CAD_Q!$C$6:$D$105,2,FALSE)=0,\"\",VLOOKUP(I2606,CAD_Q!$C$6:$D$105,2,FALSE)))","v":""},{"$f":"IFERROR(VLOOKUP(I2606,CAD_Q!$C$6:$E$109,3,FALSE)*F2606,\"\")","v":""},null,null,"",1,0,1900,0,1,1900,"Nombre y el registro de entrada válida"]
[null,"",null,null,null,"",null,null,null,{"$f":"IF(I2607=\"\",\"\",IF(VLOOKUP(I2607,CAD_Q!$C$6:$D$105,2,FALSE)=0,\"\",VLOOKUP(I2607,CAD_Q!$C$6:$D$105,2,FALSE)))","v":""},{"$f":"IFERROR(VLOOKUP(I2607,CAD_Q!$C$6:$E$109,3,FALSE)*F2607,\"\")","v":""},null,null,"",1,0,1900,0,1,1900,"Nombre y el registro de entrada válida"]
[null,"",null,null,null,"",null,null,null,{"$f":"IF(I2608=\"\",\"\",IF(VLOOKUP(I2608,CAD_Q!$C$6:$D$105,2,FALSE)=0,\"\",VLOOKUP(I2608,CAD_Q!$C$6:$D$105,2,FALSE)))","v":""},{"$f":"IFERROR(VLOOKUP(I2608,CAD_Q!$C$6:$E$109,3,FALSE)*F2608,\"\")","v":""},null,null,"",1,0,1900,0,1,1900,"Nombre y el registro de entrada válida"]
[null,"",null,null,null,"",null,null,null,{"$f":"IF(I2609=\"\",\"\",IF(VLOOKUP(I2609,CAD_Q!$C$6:$D$105,2,FALSE)=0,\"\",VLOOKUP(I2609,CAD_Q!$C$6:$D$105,2,FALSE)))","v":""},{"$f":"IFERROR(VLOOKUP(I2609,CAD_Q!$C$6:$E$109,3,FALSE)*F2609,\"\")","v":""},null,null,"",1,0,1900,0,1,1900,"Nombre y el registro de entrada válida"]
[null,"",null,null,null,"",null,null,null,{"$f":"IF(I2610=\"\",\"\",IF(VLOOKUP(I2610,CAD_Q!$C$6:$D$105,2,FALSE)=0,\"\",VLOOKUP(I2610,CAD_Q!$C$6:$D$105,2,FALSE)))","v":""},{"$f":"IFERROR(VLOOKUP(I2610,CAD_Q!$C$6:$E$109,3,FALSE)*F2610,\"\")","v":""},null,null,"",1,0,1900,0,1,1900,"Nombre y el registro de entrada válida"]
[null,"",null,null,null,"",null,null,null,{"$f":"IF(I2611=\"\",\"\",IF(VLOOKUP(I2611,CAD_Q!$C$6:$D$105,2,FALSE)=0,\"\",VLOOKUP(I2611,CAD_Q!$C$6:$D$105,2,FALSE)))","v":""},{"$f":"IFERROR(VLOOKUP(I2611,CAD_Q!$C$6:$E$109,3,FALSE)*F2611,\"\")","v":""},null,null,"",1,0,1900,0,1,1900,"Nombre y el registro de entrada válida"]
[null,"",null,null,null,"",null,null,null,{"$f":"IF(I2612=\"\",\"\",IF(VLOOKUP(I2612,CAD_Q!$C$6:$D$105,2,FALSE)=0,\"\",VLOOKUP(I2612,CAD_Q!$C$6:$D$105,2,FALSE)))","v":""},{"$f":"IFERROR(VLOOKUP(I2612,CAD_Q!$C$6:$E$109,3,FALSE)*F2612,\"\")","v":""},null,null,"",1,0,1900,0,1,1900,"Nombre y el registro de entrada válida"]
[null,"",null,null,null,"",null,null,null,{"$f":"IF(I2613=\"\",\"\",IF(VLOOKUP(I2613,CAD_Q!$C$6:$D$105,2,FALSE)=0,\"\",VLOOKUP(I2613,CAD_Q!$C$6:$D$105,2,FALSE)))","v":""},{"$f":"IFERROR(VLOOKUP(I2613,CAD_Q!$C$6:$E$109,3,FALSE)*F2613,\"\")","v":""},null,null,"",1,0,1900,0,1,1900,"Nombre y el registro de entrada válida"]
[null,"",null,null,null,"",null,null,null,{"$f":"IF(I2614=\"\",\"\",IF(VLOOKUP(I2614,CAD_Q!$C$6:$D$105,2,FALSE)=0,\"\",VLOOKUP(I2614,CAD_Q!$C$6:$D$105,2,FALSE)))","v":""},{"$f":"IFERROR(VLOOKUP(I2614,CAD_Q!$C$6:$E$109,3,FALSE)*F2614,\"\")","v":""},null,null,"",1,0,1900,0,1,1900,"Nombre y el registro de entrada válida"]
[null,"",null,null,null,"",null,null,null,{"$f":"IF(I2615=\"\",\"\",IF(VLOOKUP(I2615,CAD_Q!$C$6:$D$105,2,FALSE)=0,\"\",VLOOKUP(I2615,CAD_Q!$C$6:$D$105,2,FALSE)))","v":""},{"$f":"IFERROR(VLOOKUP(I2615,CAD_Q!$C$6:$E$109,3,FALSE)*F2615,\"\")","v":""},null,null,"",1,0,1900,0,1,1900,"Nombre y el registro de entrada válida"]
[null,"",null,null,null,"",null,null,null,{"$f":"IF(I2616=\"\",\"\",IF(VLOOKUP(I2616,CAD_Q!$C$6:$D$105,2,FALSE)=0,\"\",VLOOKUP(I2616,CAD_Q!$C$6:$D$105,2,FALSE)))","v":""},{"$f":"IFERROR(VLOOKUP(I2616,CAD_Q!$C$6:$E$109,3,FALSE)*F2616,\"\")","v":""},null,null,"",1,0,1900,0,1,1900,"Nombre y el registro de entrada válida"]
[null,"",null,null,null,"",null,null,null,{"$f":"IF(I2617=\"\",\"\",IF(VLOOKUP(I2617,CAD_Q!$C$6:$D$105,2,FALSE)=0,\"\",VLOOKUP(I2617,CAD_Q!$C$6:$D$105,2,FALSE)))","v":""},{"$f":"IFERROR(VLOOKUP(I2617,CAD_Q!$C$6:$E$109,3,FALSE)*F2617,\"\")","v":""},null,null,"",1,0,1900,0,1,1900,"Nombre y el registro de entrada válida"]
[null,"",null,null,null,"",null,null,null,{"$f":"IF(I2618=\"\",\"\",IF(VLOOKUP(I2618,CAD_Q!$C$6:$D$105,2,FALSE)=0,\"\",VLOOKUP(I2618,CAD_Q!$C$6:$D$105,2,FALSE)))","v":""},{"$f":"IFERROR(VLOOKUP(I2618,CAD_Q!$C$6:$E$109,3,FALSE)*F2618,\"\")","v":""},null,null,"",1,0,1900,0,1,1900,"Nombre y el registro de entrada válida"]
[null,"",null,null,null,"",null,null,null,{"$f":"IF(I2619=\"\",\"\",IF(VLOOKUP(I2619,CAD_Q!$C$6:$D$105,2,FALSE)=0,\"\",VLOOKUP(I2619,CAD_Q!$C$6:$D$105,2,FALSE)))","v":""},{"$f":"IFERROR(VLOOKUP(I2619,CAD_Q!$C$6:$E$109,3,FALSE)*F2619,\"\")","v":""},null,null,"",1,0,1900,0,1,1900,"Nombre y el registro de entrada válida"]
[null,"",null,null,null,"",null,null,null,{"$f":"IF(I2620=\"\",\"\",IF(VLOOKUP(I2620,CAD_Q!$C$6:$D$105,2,FALSE)=0,\"\",VLOOKUP(I2620,CAD_Q!$C$6:$D$105,2,FALSE)))","v":""},{"$f":"IFERROR(VLOOKUP(I2620,CAD_Q!$C$6:$E$109,3,FALSE)*F2620,\"\")","v":""},null,null,"",1,0,1900,0,1,1900,"Nombre y el registro de entrada válida"]
[null,"",null,null,null,"",null,null,null,{"$f":"IF(I2621=\"\",\"\",IF(VLOOKUP(I2621,CAD_Q!$C$6:$D$105,2,FALSE)=0,\"\",VLOOKUP(I2621,CAD_Q!$C$6:$D$105,2,FALSE)))","v":""},{"$f":"IFERROR(VLOOKUP(I2621,CAD_Q!$C$6:$E$109,3,FALSE)*F2621,\"\")","v":""},null,null,"",1,0,1900,0,1,1900,"Nombre y el registro de entrada válida"]
[null,"",null,null,null,"",null,null,null,{"$f":"IF(I2622=\"\",\"\",IF(VLOOKUP(I2622,CAD_Q!$C$6:$D$105,2,FALSE)=0,\"\",VLOOKUP(I2622,CAD_Q!$C$6:$D$105,2,FALSE)))","v":""},{"$f":"IFERROR(VLOOKUP(I2622,CAD_Q!$C$6:$E$109,3,FALSE)*F2622,\"\")","v":""},null,null,"",1,0,1900,0,1,1900,"Nombre y el registro de entrada válida"]
[null,"",null,null,null,"",null,null,null,{"$f":"IF(I2623=\"\",\"\",IF(VLOOKUP(I2623,CAD_Q!$C$6:$D$105,2,FALSE)=0,\"\",VLOOKUP(I2623,CAD_Q!$C$6:$D$105,2,FALSE)))","v":""},{"$f":"IFERROR(VLOOKUP(I2623,CAD_Q!$C$6:$E$109,3,FALSE)*F2623,\"\")","v":""},null,null,"",1,0,1900,0,1,1900,"Nombre y el registro de entrada válida"]
[null,"",null,null,null,"",null,null,null,{"$f":"IF(I2624=\"\",\"\",IF(VLOOKUP(I2624,CAD_Q!$C$6:$D$105,2,FALSE)=0,\"\",VLOOKUP(I2624,CAD_Q!$C$6:$D$105,2,FALSE)))","v":""},{"$f":"IFERROR(VLOOKUP(I2624,CAD_Q!$C$6:$E$109,3,FALSE)*F2624,\"\")","v":""},null,null,"",1,0,1900,0,1,1900,"Nombre y el registro de entrada válida"]
[null,"",null,null,null,"",null,null,null,{"$f":"IF(I2625=\"\",\"\",IF(VLOOKUP(I2625,CAD_Q!$C$6:$D$105,2,FALSE)=0,\"\",VLOOKUP(I2625,CAD_Q!$C$6:$D$105,2,FALSE)))","v":""},{"$f":"IFERROR(VLOOKUP(I2625,CAD_Q!$C$6:$E$109,3,FALSE)*F2625,\"\")","v":""},null,null,"",1,0,1900,0,1,1900,"Nombre y el registro de entrada válida"]
[null,"",null,null,null,"",null,null,null,{"$f":"IF(I2626=\"\",\"\",IF(VLOOKUP(I2626,CAD_Q!$C$6:$D$105,2,FALSE)=0,\"\",VLOOKUP(I2626,CAD_Q!$C$6:$D$105,2,FALSE)))","v":""},{"$f":"IFERROR(VLOOKUP(I2626,CAD_Q!$C$6:$E$109,3,FALSE)*F2626,\"\")","v":""},null,null,"",1,0,1900,0,1,1900,"Nombre y el registro de entrada válida"]
[null,"",null,null,null,"",null,null,null,{"$f":"IF(I2627=\"\",\"\",IF(VLOOKUP(I2627,CAD_Q!$C$6:$D$105,2,FALSE)=0,\"\",VLOOKUP(I2627,CAD_Q!$C$6:$D$105,2,FALSE)))","v":""},{"$f":"IFERROR(VLOOKUP(I2627,CAD_Q!$C$6:$E$109,3,FALSE)*F2627,\"\")","v":""},null,null,"",1,0,1900,0,1,1900,"Nombre y el registro de entrada válida"]
[null,"",null,null,null,"",null,null,null,{"$f":"IF(I2628=\"\",\"\",IF(VLOOKUP(I2628,CAD_Q!$C$6:$D$105,2,FALSE)=0,\"\",VLOOKUP(I2628,CAD_Q!$C$6:$D$105,2,FALSE)))","v":""},{"$f":"IFERROR(VLOOKUP(I2628,CAD_Q!$C$6:$E$109,3,FALSE)*F2628,\"\")","v":""},null,null,"",1,0,1900,0,1,1900,"Nombre y el registro de entrada válida"]
[null,"",null,null,null,"",null,null,null,{"$f":"IF(I2629=\"\",\"\",IF(VLOOKUP(I2629,CAD_Q!$C$6:$D$105,2,FALSE)=0,\"\",VLOOKUP(I2629,CAD_Q!$C$6:$D$105,2,FALSE)))","v":""},{"$f":"IFERROR(VLOOKUP(I2629,CAD_Q!$C$6:$E$109,3,FALSE)*F2629,\"\")","v":""},null,null,"",1,0,1900,0,1,1900,"Nombre y el registro de entrada válida"]
[null,"",null,null,null,"",null,null,null,{"$f":"IF(I2630=\"\",\"\",IF(VLOOKUP(I2630,CAD_Q!$C$6:$D$105,2,FALSE)=0,\"\",VLOOKUP(I2630,CAD_Q!$C$6:$D$105,2,FALSE)))","v":""},{"$f":"IFERROR(VLOOKUP(I2630,CAD_Q!$C$6:$E$109,3,FALSE)*F2630,\"\")","v":""},null,null,"",1,0,1900,0,1,1900,"Nombre y el registro de entrada válida"]
[null,{"$f":"CONCATENATE(C2631,D2631)","v":""},null,null,null,"",null,null,null,{"$f":"IF(I2631=\"\",\"\",IF(VLOOKUP(I2631,CAD_Q!$C$6:$D$105,2,FALSE)=0,\"\",VLOOKUP(I2631,CAD_Q!$C$6:$D$105,2,FALSE)))","v":""},{"$f":"IFERROR(VLOOKUP(I2631,CAD_Q!$C$6:$E$109,3,FALSE)*F2631,\"\")","v":""},null,null,{"$f":"IFERROR(K2631-L2631+M2631,\"\")","v":""},1,0,1900,0,1,1900,"Nombre y el registro de entrada válida"]
[null,"",null,null,null,"",null,null,null,{"$f":"IF(I2632=\"\",\"\",IF(VLOOKUP(I2632,CAD_Q!$C$6:$D$105,2,FALSE)=0,\"\",VLOOKUP(I2632,CAD_Q!$C$6:$D$105,2,FALSE)))","v":""},{"$f":"IFERROR(VLOOKUP(I2632,CAD_Q!$C$6:$E$109,3,FALSE)*F2632,\"\")","v":""},null,null,"",1,0,1900,0,1,1900,"Nombre y el registro de entrada válida"]
[null,"",null,null,null,"",null,null,null,{"$f":"IF(I2633=\"\",\"\",IF(VLOOKUP(I2633,CAD_Q!$C$6:$D$105,2,FALSE)=0,\"\",VLOOKUP(I2633,CAD_Q!$C$6:$D$105,2,FALSE)))","v":""},{"$f":"IFERROR(VLOOKUP(I2633,CAD_Q!$C$6:$E$109,3,FALSE)*F2633,\"\")","v":""},null,null,"",1,0,1900,0,1,1900,"Nombre y el registro de entrada válida"]
[null,"",null,null,null,"",null,null,null,{"$f":"IF(I2634=\"\",\"\",IF(VLOOKUP(I2634,CAD_Q!$C$6:$D$105,2,FALSE)=0,\"\",VLOOKUP(I2634,CAD_Q!$C$6:$D$105,2,FALSE)))","v":""},{"$f":"IFERROR(VLOOKUP(I2634,CAD_Q!$C$6:$E$109,3,FALSE)*F2634,\"\")","v":""},null,null,"",{"$f":"MONTH(D2634)","v":1},{"$f":"DAY(D2634)","v":0},{"$f":"YEAR(D2634)","v":1900},{"$f":"DAY(E2634)","v":0},{"$f":"MONTH(E2634)","v":1},{"$f":"YEAR(E2634)","v":1900},"Nombre y el registro de entrada válida"]
[null,"",null,null,null,"",null,null,null,{"$f":"IF(I2635=\"\",\"\",IF(VLOOKUP(I2635,CAD_Q!$C$6:$D$105,2,FALSE)=0,\"\",VLOOKUP(I2635,CAD_Q!$C$6:$D$105,2,FALSE)))","v":""},{"$f":"IFERROR(VLOOKUP(I2635,CAD_Q!$C$6:$E$109,3,FALSE)*F2635,\"\")","v":""},null,null,"",1,0,1900,0,1,1900,"Nombre y el registro de entrada válida"]
[null,"",null,null,null,"",null,null,null,{"$f":"IF(I2636=\"\",\"\",IF(VLOOKUP(I2636,CAD_Q!$C$6:$D$105,2,FALSE)=0,\"\",VLOOKUP(I2636,CAD_Q!$C$6:$D$105,2,FALSE)))","v":""},{"$f":"IFERROR(VLOOKUP(I2636,CAD_Q!$C$6:$E$109,3,FALSE)*F2636,\"\")","v":""},null,null,"",1,0,1900,0,1,1900,"Nombre y el registro de entrada válida"]
[null,"",null,null,null,"",null,null,null,{"$f":"IF(I2637=\"\",\"\",IF(VLOOKUP(I2637,CAD_Q!$C$6:$D$105,2,FALSE)=0,\"\",VLOOKUP(I2637,CAD_Q!$C$6:$D$105,2,FALSE)))","v":""},{"$f":"IFERROR(VLOOKUP(I2637,CAD_Q!$C$6:$E$109,3,FALSE)*F2637,\"\")","v":""},null,null,"",1,0,1900,0,1,1900,"Nombre y el registro de entrada válida"]
[null,"",null,null,null,"",null,null,null,{"$f":"IF(I2638=\"\",\"\",IF(VLOOKUP(I2638,CAD_Q!$C$6:$D$105,2,FALSE)=0,\"\",VLOOKUP(I2638,CAD_Q!$C$6:$D$105,2,FALSE)))","v":""},{"$f":"IFERROR(VLOOKUP(I2638,CAD_Q!$C$6:$E$109,3,FALSE)*F2638,\"\")","v":""},null,null,"",1,0,1900,0,1,1900,"Nombre y el registro de entrada válida"]
[null,"",null,null,null,"",null,null,null,{"$f":"IF(I2639=\"\",\"\",IF(VLOOKUP(I2639,CAD_Q!$C$6:$D$105,2,FALSE)=0,\"\",VLOOKUP(I2639,CAD_Q!$C$6:$D$105,2,FALSE)))","v":""},{"$f":"IFERROR(VLOOKUP(I2639,CAD_Q!$C$6:$E$109,3,FALSE)*F2639,\"\")","v":""},null,null,"",1,0,1900,0,1,1900,"Nombre y el registro de entrada válida"]
[null,"",null,null,null,"",null,null,null,{"$f":"IF(I2640=\"\",\"\",IF(VLOOKUP(I2640,CAD_Q!$C$6:$D$105,2,FALSE)=0,\"\",VLOOKUP(I2640,CAD_Q!$C$6:$D$105,2,FALSE)))","v":""},{"$f":"IFERROR(VLOOKUP(I2640,CAD_Q!$C$6:$E$109,3,FALSE)*F2640,\"\")","v":""},null,null,"",1,0,1900,0,1,1900,"Nombre y el registro de entrada válida"]
[null,"",null,null,null,"",null,null,null,{"$f":"IF(I2641=\"\",\"\",IF(VLOOKUP(I2641,CAD_Q!$C$6:$D$105,2,FALSE)=0,\"\",VLOOKUP(I2641,CAD_Q!$C$6:$D$105,2,FALSE)))","v":""},{"$f":"IFERROR(VLOOKUP(I2641,CAD_Q!$C$6:$E$109,3,FALSE)*F2641,\"\")","v":""},null,null,"",1,0,1900,0,1,1900,"Nombre y el registro de entrada válida"]
[null,"",null,null,null,"",null,null,null,{"$f":"IF(I2642=\"\",\"\",IF(VLOOKUP(I2642,CAD_Q!$C$6:$D$105,2,FALSE)=0,\"\",VLOOKUP(I2642,CAD_Q!$C$6:$D$105,2,FALSE)))","v":""},{"$f":"IFERROR(VLOOKUP(I2642,CAD_Q!$C$6:$E$109,3,FALSE)*F2642,\"\")","v":""},null,null,"",1,0,1900,0,1,1900,"Nombre y el registro de entrada válida"]
[null,"",null,null,null,"",null,null,null,{"$f":"IF(I2643=\"\",\"\",IF(VLOOKUP(I2643,CAD_Q!$C$6:$D$105,2,FALSE)=0,\"\",VLOOKUP(I2643,CAD_Q!$C$6:$D$105,2,FALSE)))","v":""},{"$f":"IFERROR(VLOOKUP(I2643,CAD_Q!$C$6:$E$109,3,FALSE)*F2643,\"\")","v":""},null,null,"",1,0,1900,0,1,1900,"Nombre y el registro de entrada válida"]
[null,"",null,null,null,"",null,null,null,{"$f":"IF(I2644=\"\",\"\",IF(VLOOKUP(I2644,CAD_Q!$C$6:$D$105,2,FALSE)=0,\"\",VLOOKUP(I2644,CAD_Q!$C$6:$D$105,2,FALSE)))","v":""},{"$f":"IFERROR(VLOOKUP(I2644,CAD_Q!$C$6:$E$109,3,FALSE)*F2644,\"\")","v":""},null,null,"",1,0,1900,0,1,1900,"Nombre y el registro de entrada válida"]
[null,"",null,null,null,"",null,null,null,{"$f":"IF(I2645=\"\",\"\",IF(VLOOKUP(I2645,CAD_Q!$C$6:$D$105,2,FALSE)=0,\"\",VLOOKUP(I2645,CAD_Q!$C$6:$D$105,2,FALSE)))","v":""},{"$f":"IFERROR(VLOOKUP(I2645,CAD_Q!$C$6:$E$109,3,FALSE)*F2645,\"\")","v":""},null,null,"",1,0,1900,0,1,1900,"Nombre y el registro de entrada válida"]
[null,"",null,null,null,"",null,null,null,{"$f":"IF(I2646=\"\",\"\",IF(VLOOKUP(I2646,CAD_Q!$C$6:$D$105,2,FALSE)=0,\"\",VLOOKUP(I2646,CAD_Q!$C$6:$D$105,2,FALSE)))","v":""},{"$f":"IFERROR(VLOOKUP(I2646,CAD_Q!$C$6:$E$109,3,FALSE)*F2646,\"\")","v":""},null,null,"",1,0,1900,0,1,1900,"Nombre y el registro de entrada válida"]
[null,"",null,null,null,"",null,null,null,{"$f":"IF(I2647=\"\",\"\",IF(VLOOKUP(I2647,CAD_Q!$C$6:$D$105,2,FALSE)=0,\"\",VLOOKUP(I2647,CAD_Q!$C$6:$D$105,2,FALSE)))","v":""},{"$f":"IFERROR(VLOOKUP(I2647,CAD_Q!$C$6:$E$109,3,FALSE)*F2647,\"\")","v":""},null,null,"",1,0,1900,0,1,1900,"Nombre y el registro de entrada válida"]
[null,"",null,null,null,"",null,null,null,{"$f":"IF(I2648=\"\",\"\",IF(VLOOKUP(I2648,CAD_Q!$C$6:$D$105,2,FALSE)=0,\"\",VLOOKUP(I2648,CAD_Q!$C$6:$D$105,2,FALSE)))","v":""},{"$f":"IFERROR(VLOOKUP(I2648,CAD_Q!$C$6:$E$109,3,FALSE)*F2648,\"\")","v":""},null,null,"",1,0,1900,0,1,1900,"Nombre y el registro de entrada válida"]
[null,"",null,null,null,"",null,null,null,{"$f":"IF(I2649=\"\",\"\",IF(VLOOKUP(I2649,CAD_Q!$C$6:$D$105,2,FALSE)=0,\"\",VLOOKUP(I2649,CAD_Q!$C$6:$D$105,2,FALSE)))","v":""},{"$f":"IFERROR(VLOOKUP(I2649,CAD_Q!$C$6:$E$109,3,FALSE)*F2649,\"\")","v":""},null,null,"",1,0,1900,0,1,1900,"Nombre y el registro de entrada válida"]
[null,"",null,null,null,"",null,null,null,{"$f":"IF(I2650=\"\",\"\",IF(VLOOKUP(I2650,CAD_Q!$C$6:$D$105,2,FALSE)=0,\"\",VLOOKUP(I2650,CAD_Q!$C$6:$D$105,2,FALSE)))","v":""},{"$f":"IFERROR(VLOOKUP(I2650,CAD_Q!$C$6:$E$109,3,FALSE)*F2650,\"\")","v":""},null,null,"",1,0,1900,0,1,1900,"Nombre y el registro de entrada válida"]
[null,"",null,null,null,"",null,null,null,{"$f":"IF(I2651=\"\",\"\",IF(VLOOKUP(I2651,CAD_Q!$C$6:$D$105,2,FALSE)=0,\"\",VLOOKUP(I2651,CAD_Q!$C$6:$D$105,2,FALSE)))","v":""},{"$f":"IFERROR(VLOOKUP(I2651,CAD_Q!$C$6:$E$109,3,FALSE)*F2651,\"\")","v":""},null,null,"",1,0,1900,0,1,1900,"Nombre y el registro de entrada válida"]
[null,"",null,null,null,"",null,null,null,{"$f":"IF(I2652=\"\",\"\",IF(VLOOKUP(I2652,CAD_Q!$C$6:$D$105,2,FALSE)=0,\"\",VLOOKUP(I2652,CAD_Q!$C$6:$D$105,2,FALSE)))","v":""},{"$f":"IFERROR(VLOOKUP(I2652,CAD_Q!$C$6:$E$109,3,FALSE)*F2652,\"\")","v":""},null,null,"",1,0,1900,0,1,1900,"Nombre y el registro de entrada válida"]
[null,"",null,null,null,"",null,null,null,{"$f":"IF(I2653=\"\",\"\",IF(VLOOKUP(I2653,CAD_Q!$C$6:$D$105,2,FALSE)=0,\"\",VLOOKUP(I2653,CAD_Q!$C$6:$D$105,2,FALSE)))","v":""},{"$f":"IFERROR(VLOOKUP(I2653,CAD_Q!$C$6:$E$109,3,FALSE)*F2653,\"\")","v":""},null,null,"",1,0,1900,0,1,1900,"Nombre y el registro de entrada válida"]
[null,"",null,null,null,"",null,null,null,{"$f":"IF(I2654=\"\",\"\",IF(VLOOKUP(I2654,CAD_Q!$C$6:$D$105,2,FALSE)=0,\"\",VLOOKUP(I2654,CAD_Q!$C$6:$D$105,2,FALSE)))","v":""},{"$f":"IFERROR(VLOOKUP(I2654,CAD_Q!$C$6:$E$109,3,FALSE)*F2654,\"\")","v":""},null,null,"",1,0,1900,0,1,1900,"Nombre y el registro de entrada válida"]
[null,"",null,null,null,"",null,null,null,{"$f":"IF(I2655=\"\",\"\",IF(VLOOKUP(I2655,CAD_Q!$C$6:$D$105,2,FALSE)=0,\"\",VLOOKUP(I2655,CAD_Q!$C$6:$D$105,2,FALSE)))","v":""},{"$f":"IFERROR(VLOOKUP(I2655,CAD_Q!$C$6:$E$109,3,FALSE)*F2655,\"\")","v":""},null,null,"",1,0,1900,0,1,1900,"Nombre y el registro de entrada válida"]
[null,"",null,null,null,"",null,null,null,{"$f":"IF(I2656=\"\",\"\",IF(VLOOKUP(I2656,CAD_Q!$C$6:$D$105,2,FALSE)=0,\"\",VLOOKUP(I2656,CAD_Q!$C$6:$D$105,2,FALSE)))","v":""},{"$f":"IFERROR(VLOOKUP(I2656,CAD_Q!$C$6:$E$109,3,FALSE)*F2656,\"\")","v":""},null,null,"",1,0,1900,0,1,1900,"Nombre y el registro de entrada válida"]
[null,"",null,null,null,"",null,null,null,{"$f":"IF(I2657=\"\",\"\",IF(VLOOKUP(I2657,CAD_Q!$C$6:$D$105,2,FALSE)=0,\"\",VLOOKUP(I2657,CAD_Q!$C$6:$D$105,2,FALSE)))","v":""},{"$f":"IFERROR(VLOOKUP(I2657,CAD_Q!$C$6:$E$109,3,FALSE)*F2657,\"\")","v":""},null,null,"",1,0,1900,0,1,1900,"Nombre y el registro de entrada válida"]
[null,"",null,null,null,"",null,null,null,{"$f":"IF(I2658=\"\",\"\",IF(VLOOKUP(I2658,CAD_Q!$C$6:$D$105,2,FALSE)=0,\"\",VLOOKUP(I2658,CAD_Q!$C$6:$D$105,2,FALSE)))","v":""},{"$f":"IFERROR(VLOOKUP(I2658,CAD_Q!$C$6:$E$109,3,FALSE)*F2658,\"\")","v":""},null,null,"",1,0,1900,0,1,1900,"Nombre y el registro de entrada válida"]
[null,"",null,null,null,"",null,null,null,{"$f":"IF(I2659=\"\",\"\",IF(VLOOKUP(I2659,CAD_Q!$C$6:$D$105,2,FALSE)=0,\"\",VLOOKUP(I2659,CAD_Q!$C$6:$D$105,2,FALSE)))","v":""},{"$f":"IFERROR(VLOOKUP(I2659,CAD_Q!$C$6:$E$109,3,FALSE)*F2659,\"\")","v":""},null,null,"",1,0,1900,0,1,1900,"Nombre y el registro de entrada válida"]
[null,"",null,null,null,{"$f":"IF(OR(D2660=\"\",E2660=\"\"),\"\",E2660-D2660)","v":""},null,null,null,{"$f":"IF(I2660=\"\",\"\",IF(VLOOKUP(I2660,CAD_Q!$C$6:$D$105,2,FALSE)=0,\"\",VLOOKUP(I2660,CAD_Q!$C$6:$D$105,2,FALSE)))","v":""},{"$f":"IFERROR(VLOOKUP(I2660,CAD_Q!$C$6:$E$109,3,FALSE)*F2660,\"\")","v":""},null,null,"",1,0,1900,0,1,1900,"Nombre y el registro de entrada válida"]
[null,"",null,null,null,"",null,null,null,{"$f":"IF(I2661=\"\",\"\",IF(VLOOKUP(I2661,CAD_Q!$C$6:$D$105,2,FALSE)=0,\"\",VLOOKUP(I2661,CAD_Q!$C$6:$D$105,2,FALSE)))","v":""},{"$f":"IFERROR(VLOOKUP(I2661,CAD_Q!$C$6:$E$109,3,FALSE)*F2661,\"\")","v":""},null,null,"",1,0,1900,0,1,1900,"Nombre y el registro de entrada válida"]
[null,"",null,null,null,"",null,null,null,{"$f":"IF(I2662=\"\",\"\",IF(VLOOKUP(I2662,CAD_Q!$C$6:$D$105,2,FALSE)=0,\"\",VLOOKUP(I2662,CAD_Q!$C$6:$D$105,2,FALSE)))","v":""},{"$f":"IFERROR(VLOOKUP(I2662,CAD_Q!$C$6:$E$109,3,FALSE)*F2662,\"\")","v":""},null,null,"",1,0,1900,0,1,1900,"Nombre y el registro de entrada válida"]
[null,"",null,null,null,"",null,null,null,{"$f":"IF(I2663=\"\",\"\",IF(VLOOKUP(I2663,CAD_Q!$C$6:$D$105,2,FALSE)=0,\"\",VLOOKUP(I2663,CAD_Q!$C$6:$D$105,2,FALSE)))","v":""},{"$f":"IFERROR(VLOOKUP(I2663,CAD_Q!$C$6:$E$109,3,FALSE)*F2663,\"\")","v":""},null,null,"",1,0,1900,0,1,1900,"Nombre y el registro de entrada válida"]
[null,"",null,null,null,"",null,null,null,{"$f":"IF(I2664=\"\",\"\",IF(VLOOKUP(I2664,CAD_Q!$C$6:$D$105,2,FALSE)=0,\"\",VLOOKUP(I2664,CAD_Q!$C$6:$D$105,2,FALSE)))","v":""},{"$f":"IFERROR(VLOOKUP(I2664,CAD_Q!$C$6:$E$109,3,FALSE)*F2664,\"\")","v":""},null,null,"",1,0,1900,0,1,1900,"Nombre y el registro de entrada válida"]
[null,"",null,null,null,"",null,null,null,{"$f":"IF(I2665=\"\",\"\",IF(VLOOKUP(I2665,CAD_Q!$C$6:$D$105,2,FALSE)=0,\"\",VLOOKUP(I2665,CAD_Q!$C$6:$D$105,2,FALSE)))","v":""},{"$f":"IFERROR(VLOOKUP(I2665,CAD_Q!$C$6:$E$109,3,FALSE)*F2665,\"\")","v":""},null,null,"",1,0,1900,0,1,1900,"Nombre y el registro de entrada válida"]
[null,"",null,null,null,"",null,null,null,{"$f":"IF(I2666=\"\",\"\",IF(VLOOKUP(I2666,CAD_Q!$C$6:$D$105,2,FALSE)=0,\"\",VLOOKUP(I2666,CAD_Q!$C$6:$D$105,2,FALSE)))","v":""},{"$f":"IFERROR(VLOOKUP(I2666,CAD_Q!$C$6:$E$109,3,FALSE)*F2666,\"\")","v":""},null,null,"",1,0,1900,0,1,1900,"Nombre y el registro de entrada válida"]
[null,"",null,null,null,"",null,null,null,{"$f":"IF(I2667=\"\",\"\",IF(VLOOKUP(I2667,CAD_Q!$C$6:$D$105,2,FALSE)=0,\"\",VLOOKUP(I2667,CAD_Q!$C$6:$D$105,2,FALSE)))","v":""},{"$f":"IFERROR(VLOOKUP(I2667,CAD_Q!$C$6:$E$109,3,FALSE)*F2667,\"\")","v":""},null,null,"",1,0,1900,0,1,1900,"Nombre y el registro de entrada válida"]
[null,"",null,null,null,"",null,null,null,{"$f":"IF(I2668=\"\",\"\",IF(VLOOKUP(I2668,CAD_Q!$C$6:$D$105,2,FALSE)=0,\"\",VLOOKUP(I2668,CAD_Q!$C$6:$D$105,2,FALSE)))","v":""},{"$f":"IFERROR(VLOOKUP(I2668,CAD_Q!$C$6:$E$109,3,FALSE)*F2668,\"\")","v":""},null,null,"",1,0,1900,0,1,1900,"Nombre y el registro de entrada válida"]
[null,"",null,null,null,"",null,null,null,{"$f":"IF(I2669=\"\",\"\",IF(VLOOKUP(I2669,CAD_Q!$C$6:$D$105,2,FALSE)=0,\"\",VLOOKUP(I2669,CAD_Q!$C$6:$D$105,2,FALSE)))","v":""},{"$f":"IFERROR(VLOOKUP(I2669,CAD_Q!$C$6:$E$109,3,FALSE)*F2669,\"\")","v":""},null,null,"",1,0,1900,0,1,1900,"Nombre y el registro de entrada válida"]
[null,"",null,null,null,"",null,null,null,{"$f":"IF(I2670=\"\",\"\",IF(VLOOKUP(I2670,CAD_Q!$C$6:$D$105,2,FALSE)=0,\"\",VLOOKUP(I2670,CAD_Q!$C$6:$D$105,2,FALSE)))","v":""},{"$f":"IFERROR(VLOOKUP(I2670,CAD_Q!$C$6:$E$109,3,FALSE)*F2670,\"\")","v":""},null,null,"",1,0,1900,0,1,1900,"Nombre y el registro de entrada válida"]
[null,"",null,null,null,"",null,null,null,{"$f":"IF(I2671=\"\",\"\",IF(VLOOKUP(I2671,CAD_Q!$C$6:$D$105,2,FALSE)=0,\"\",VLOOKUP(I2671,CAD_Q!$C$6:$D$105,2,FALSE)))","v":""},{"$f":"IFERROR(VLOOKUP(I2671,CAD_Q!$C$6:$E$109,3,FALSE)*F2671,\"\")","v":""},null,null,"",1,0,1900,0,1,1900,"Nombre y el registro de entrada válida"]
[null,"",null,null,null,"",null,null,null,{"$f":"IF(I2672=\"\",\"\",IF(VLOOKUP(I2672,CAD_Q!$C$6:$D$105,2,FALSE)=0,\"\",VLOOKUP(I2672,CAD_Q!$C$6:$D$105,2,FALSE)))","v":""},{"$f":"IFERROR(VLOOKUP(I2672,CAD_Q!$C$6:$E$109,3,FALSE)*F2672,\"\")","v":""},null,null,"",1,0,1900,0,1,1900,"Nombre y el registro de entrada válida"]
[null,"",null,null,null,"",null,null,null,{"$f":"IF(I2673=\"\",\"\",IF(VLOOKUP(I2673,CAD_Q!$C$6:$D$105,2,FALSE)=0,\"\",VLOOKUP(I2673,CAD_Q!$C$6:$D$105,2,FALSE)))","v":""},{"$f":"IFERROR(VLOOKUP(I2673,CAD_Q!$C$6:$E$109,3,FALSE)*F2673,\"\")","v":""},null,null,"",1,0,1900,0,1,1900,"Nombre y el registro de entrada válida"]
[null,"",null,null,null,"",null,null,null,{"$f":"IF(I2674=\"\",\"\",IF(VLOOKUP(I2674,CAD_Q!$C$6:$D$105,2,FALSE)=0,\"\",VLOOKUP(I2674,CAD_Q!$C$6:$D$105,2,FALSE)))","v":""},{"$f":"IFERROR(VLOOKUP(I2674,CAD_Q!$C$6:$E$109,3,FALSE)*F2674,\"\")","v":""},null,null,"",1,0,1900,0,1,1900,"Nombre y el registro de entrada válida"]
[null,"",null,null,null,"",null,null,null,{"$f":"IF(I2675=\"\",\"\",IF(VLOOKUP(I2675,CAD_Q!$C$6:$D$105,2,FALSE)=0,\"\",VLOOKUP(I2675,CAD_Q!$C$6:$D$105,2,FALSE)))","v":""},{"$f":"IFERROR(VLOOKUP(I2675,CAD_Q!$C$6:$E$109,3,FALSE)*F2675,\"\")","v":""},null,null,"",1,0,1900,0,1,1900,"Nombre y el registro de entrada válida"]
[null,"",null,null,null,"",null,null,null,{"$f":"IF(I2676=\"\",\"\",IF(VLOOKUP(I2676,CAD_Q!$C$6:$D$105,2,FALSE)=0,\"\",VLOOKUP(I2676,CAD_Q!$C$6:$D$105,2,FALSE)))","v":""},{"$f":"IFERROR(VLOOKUP(I2676,CAD_Q!$C$6:$E$109,3,FALSE)*F2676,\"\")","v":""},null,null,"",1,0,1900,0,1,1900,"Nombre y el registro de entrada válida"]
[null,"",null,null,null,"",null,null,null,{"$f":"IF(I2677=\"\",\"\",IF(VLOOKUP(I2677,CAD_Q!$C$6:$D$105,2,FALSE)=0,\"\",VLOOKUP(I2677,CAD_Q!$C$6:$D$105,2,FALSE)))","v":""},{"$f":"IFERROR(VLOOKUP(I2677,CAD_Q!$C$6:$E$109,3,FALSE)*F2677,\"\")","v":""},null,null,"",1,0,1900,0,1,1900,"Nombre y el registro de entrada válida"]
[null,"",null,null,null,"",null,null,null,{"$f":"IF(I2678=\"\",\"\",IF(VLOOKUP(I2678,CAD_Q!$C$6:$D$105,2,FALSE)=0,\"\",VLOOKUP(I2678,CAD_Q!$C$6:$D$105,2,FALSE)))","v":""},{"$f":"IFERROR(VLOOKUP(I2678,CAD_Q!$C$6:$E$109,3,FALSE)*F2678,\"\")","v":""},null,null,"",1,0,1900,0,1,1900,"Nombre y el registro de entrada válida"]
[null,"",null,null,null,"",null,null,null,{"$f":"IF(I2679=\"\",\"\",IF(VLOOKUP(I2679,CAD_Q!$C$6:$D$105,2,FALSE)=0,\"\",VLOOKUP(I2679,CAD_Q!$C$6:$D$105,2,FALSE)))","v":""},{"$f":"IFERROR(VLOOKUP(I2679,CAD_Q!$C$6:$E$109,3,FALSE)*F2679,\"\")","v":""},null,null,"",1,0,1900,0,1,1900,"Nombre y el registro de entrada válida"]
[null,"",null,null,null,"",null,null,null,{"$f":"IF(I2680=\"\",\"\",IF(VLOOKUP(I2680,CAD_Q!$C$6:$D$105,2,FALSE)=0,\"\",VLOOKUP(I2680,CAD_Q!$C$6:$D$105,2,FALSE)))","v":""},{"$f":"IFERROR(VLOOKUP(I2680,CAD_Q!$C$6:$E$109,3,FALSE)*F2680,\"\")","v":""},null,null,"",1,0,1900,0,1,1900,"Nombre y el registro de entrada válida"]
[null,"",null,null,null,"",null,null,null,{"$f":"IF(I2681=\"\",\"\",IF(VLOOKUP(I2681,CAD_Q!$C$6:$D$105,2,FALSE)=0,\"\",VLOOKUP(I2681,CAD_Q!$C$6:$D$105,2,FALSE)))","v":""},{"$f":"IFERROR(VLOOKUP(I2681,CAD_Q!$C$6:$E$109,3,FALSE)*F2681,\"\")","v":""},null,null,"",1,0,1900,0,1,1900,"Nombre y el registro de entrada válida"]
[null,"",null,null,null,"",null,null,null,{"$f":"IF(I2682=\"\",\"\",IF(VLOOKUP(I2682,CAD_Q!$C$6:$D$105,2,FALSE)=0,\"\",VLOOKUP(I2682,CAD_Q!$C$6:$D$105,2,FALSE)))","v":""},{"$f":"IFERROR(VLOOKUP(I2682,CAD_Q!$C$6:$E$109,3,FALSE)*F2682,\"\")","v":""},null,null,"",1,0,1900,0,1,1900,"Nombre y el registro de entrada válida"]
[null,"",null,null,null,"",null,null,null,{"$f":"IF(I2683=\"\",\"\",IF(VLOOKUP(I2683,CAD_Q!$C$6:$D$105,2,FALSE)=0,\"\",VLOOKUP(I2683,CAD_Q!$C$6:$D$105,2,FALSE)))","v":""},{"$f":"IFERROR(VLOOKUP(I2683,CAD_Q!$C$6:$E$109,3,FALSE)*F2683,\"\")","v":""},null,null,"",1,0,1900,0,1,1900,"Nombre y el registro de entrada válida"]
[null,"",null,null,null,"",null,null,null,{"$f":"IF(I2684=\"\",\"\",IF(VLOOKUP(I2684,CAD_Q!$C$6:$D$105,2,FALSE)=0,\"\",VLOOKUP(I2684,CAD_Q!$C$6:$D$105,2,FALSE)))","v":""},{"$f":"IFERROR(VLOOKUP(I2684,CAD_Q!$C$6:$E$109,3,FALSE)*F2684,\"\")","v":""},null,null,"",1,0,1900,0,1,1900,"Nombre y el registro de entrada válida"]
[null,"",null,null,null,"",null,null,null,{"$f":"IF(I2685=\"\",\"\",IF(VLOOKUP(I2685,CAD_Q!$C$6:$D$105,2,FALSE)=0,\"\",VLOOKUP(I2685,CAD_Q!$C$6:$D$105,2,FALSE)))","v":""},{"$f":"IFERROR(VLOOKUP(I2685,CAD_Q!$C$6:$E$109,3,FALSE)*F2685,\"\")","v":""},null,null,"",1,0,1900,0,1,1900,"Nombre y el registro de entrada válida"]
[null,"",null,null,null,"",null,null,null,{"$f":"IF(I2686=\"\",\"\",IF(VLOOKUP(I2686,CAD_Q!$C$6:$D$105,2,FALSE)=0,\"\",VLOOKUP(I2686,CAD_Q!$C$6:$D$105,2,FALSE)))","v":""},{"$f":"IFERROR(VLOOKUP(I2686,CAD_Q!$C$6:$E$109,3,FALSE)*F2686,\"\")","v":""},null,null,"",1,0,1900,0,1,1900,"Nombre y el registro de entrada válida"]
[null,"",null,null,null,"",null,null,null,{"$f":"IF(I2687=\"\",\"\",IF(VLOOKUP(I2687,CAD_Q!$C$6:$D$105,2,FALSE)=0,\"\",VLOOKUP(I2687,CAD_Q!$C$6:$D$105,2,FALSE)))","v":""},{"$f":"IFERROR(VLOOKUP(I2687,CAD_Q!$C$6:$E$109,3,FALSE)*F2687,\"\")","v":""},null,null,"",1,0,1900,0,1,1900,"Nombre y el registro de entrada válida"]
[null,"",null,null,null,"",null,null,null,{"$f":"IF(I2688=\"\",\"\",IF(VLOOKUP(I2688,CAD_Q!$C$6:$D$105,2,FALSE)=0,\"\",VLOOKUP(I2688,CAD_Q!$C$6:$D$105,2,FALSE)))","v":""},{"$f":"IFERROR(VLOOKUP(I2688,CAD_Q!$C$6:$E$109,3,FALSE)*F2688,\"\")","v":""},null,null,"",1,0,1900,0,1,1900,"Nombre y el registro de entrada válida"]
[null,"",null,null,null,"",null,null,null,{"$f":"IF(I2689=\"\",\"\",IF(VLOOKUP(I2689,CAD_Q!$C$6:$D$105,2,FALSE)=0,\"\",VLOOKUP(I2689,CAD_Q!$C$6:$D$105,2,FALSE)))","v":""},{"$f":"IFERROR(VLOOKUP(I2689,CAD_Q!$C$6:$E$109,3,FALSE)*F2689,\"\")","v":""},null,null,"",1,0,1900,0,1,1900,"Nombre y el registro de entrada válida"]
[null,"",null,null,null,"",null,null,null,{"$f":"IF(I2690=\"\",\"\",IF(VLOOKUP(I2690,CAD_Q!$C$6:$D$105,2,FALSE)=0,\"\",VLOOKUP(I2690,CAD_Q!$C$6:$D$105,2,FALSE)))","v":""},{"$f":"IFERROR(VLOOKUP(I2690,CAD_Q!$C$6:$E$109,3,FALSE)*F2690,\"\")","v":""},null,null,"",1,0,1900,0,1,1900,"Nombre y el registro de entrada válida"]
[null,"",null,null,null,"",null,null,null,{"$f":"IF(I2691=\"\",\"\",IF(VLOOKUP(I2691,CAD_Q!$C$6:$D$105,2,FALSE)=0,\"\",VLOOKUP(I2691,CAD_Q!$C$6:$D$105,2,FALSE)))","v":""},{"$f":"IFERROR(VLOOKUP(I2691,CAD_Q!$C$6:$E$109,3,FALSE)*F2691,\"\")","v":""},null,null,"",1,0,1900,0,1,1900,"Nombre y el registro de entrada válida"]
[null,"",null,null,null,"",null,null,null,{"$f":"IF(I2692=\"\",\"\",IF(VLOOKUP(I2692,CAD_Q!$C$6:$D$105,2,FALSE)=0,\"\",VLOOKUP(I2692,CAD_Q!$C$6:$D$105,2,FALSE)))","v":""},{"$f":"IFERROR(VLOOKUP(I2692,CAD_Q!$C$6:$E$109,3,FALSE)*F2692,\"\")","v":""},null,null,"",1,0,1900,0,1,1900,"Nombre y el registro de entrada válida"]
[null,"",null,null,null,"",null,null,null,{"$f":"IF(I2693=\"\",\"\",IF(VLOOKUP(I2693,CAD_Q!$C$6:$D$105,2,FALSE)=0,\"\",VLOOKUP(I2693,CAD_Q!$C$6:$D$105,2,FALSE)))","v":""},{"$f":"IFERROR(VLOOKUP(I2693,CAD_Q!$C$6:$E$109,3,FALSE)*F2693,\"\")","v":""},null,null,"",1,0,1900,0,1,1900,"Nombre y el registro de entrada válida"]
[null,"",null,null,null,"",null,null,null,{"$f":"IF(I2694=\"\",\"\",IF(VLOOKUP(I2694,CAD_Q!$C$6:$D$105,2,FALSE)=0,\"\",VLOOKUP(I2694,CAD_Q!$C$6:$D$105,2,FALSE)))","v":""},{"$f":"IFERROR(VLOOKUP(I2694,CAD_Q!$C$6:$E$109,3,FALSE)*F2694,\"\")","v":""},null,null,"",1,0,1900,0,1,1900,"Nombre y el registro de entrada válida"]
[null,{"$f":"CONCATENATE(C2695,D2695)","v":""},null,null,null,"",null,null,null,{"$f":"IF(I2695=\"\",\"\",IF(VLOOKUP(I2695,CAD_Q!$C$6:$D$105,2,FALSE)=0,\"\",VLOOKUP(I2695,CAD_Q!$C$6:$D$105,2,FALSE)))","v":""},{"$f":"IFERROR(VLOOKUP(I2695,CAD_Q!$C$6:$E$109,3,FALSE)*F2695,\"\")","v":""},null,null,{"$f":"IFERROR(K2695-L2695+M2695,\"\")","v":""},1,0,1900,0,1,1900,"Nombre y el registro de entrada válida"]
[null,"",null,null,null,"",null,null,null,{"$f":"IF(I2696=\"\",\"\",IF(VLOOKUP(I2696,CAD_Q!$C$6:$D$105,2,FALSE)=0,\"\",VLOOKUP(I2696,CAD_Q!$C$6:$D$105,2,FALSE)))","v":""},{"$f":"IFERROR(VLOOKUP(I2696,CAD_Q!$C$6:$E$109,3,FALSE)*F2696,\"\")","v":""},null,null,"",1,0,1900,0,1,1900,"Nombre y el registro de entrada válida"]
[null,"",null,null,null,"",null,null,null,{"$f":"IF(I2697=\"\",\"\",IF(VLOOKUP(I2697,CAD_Q!$C$6:$D$105,2,FALSE)=0,\"\",VLOOKUP(I2697,CAD_Q!$C$6:$D$105,2,FALSE)))","v":""},{"$f":"IFERROR(VLOOKUP(I2697,CAD_Q!$C$6:$E$109,3,FALSE)*F2697,\"\")","v":""},null,null,"",1,0,1900,0,1,1900,"Nombre y el registro de entrada válida"]
[null,"",null,null,null,"",null,null,null,{"$f":"IF(I2698=\"\",\"\",IF(VLOOKUP(I2698,CAD_Q!$C$6:$D$105,2,FALSE)=0,\"\",VLOOKUP(I2698,CAD_Q!$C$6:$D$105,2,FALSE)))","v":""},{"$f":"IFERROR(VLOOKUP(I2698,CAD_Q!$C$6:$E$109,3,FALSE)*F2698,\"\")","v":""},null,null,"",{"$f":"MONTH(D2698)","v":1},{"$f":"DAY(D2698)","v":0},{"$f":"YEAR(D2698)","v":1900},{"$f":"DAY(E2698)","v":0},{"$f":"MONTH(E2698)","v":1},{"$f":"YEAR(E2698)","v":1900},"Nombre y el registro de entrada válida"]
[null,"",null,null,null,"",null,null,null,{"$f":"IF(I2699=\"\",\"\",IF(VLOOKUP(I2699,CAD_Q!$C$6:$D$105,2,FALSE)=0,\"\",VLOOKUP(I2699,CAD_Q!$C$6:$D$105,2,FALSE)))","v":""},{"$f":"IFERROR(VLOOKUP(I2699,CAD_Q!$C$6:$E$109,3,FALSE)*F2699,\"\")","v":""},null,null,"",1,0,1900,0,1,1900,"Nombre y el registro de entrada válida"]
[null,"",null,null,null,"",null,null,null,{"$f":"IF(I2700=\"\",\"\",IF(VLOOKUP(I2700,CAD_Q!$C$6:$D$105,2,FALSE)=0,\"\",VLOOKUP(I2700,CAD_Q!$C$6:$D$105,2,FALSE)))","v":""},{"$f":"IFERROR(VLOOKUP(I2700,CAD_Q!$C$6:$E$109,3,FALSE)*F2700,\"\")","v":""},null,null,"",1,0,1900,0,1,1900,"Nombre y el registro de entrada válida"]
[null,"",null,null,null,"",null,null,null,{"$f":"IF(I2701=\"\",\"\",IF(VLOOKUP(I2701,CAD_Q!$C$6:$D$105,2,FALSE)=0,\"\",VLOOKUP(I2701,CAD_Q!$C$6:$D$105,2,FALSE)))","v":""},{"$f":"IFERROR(VLOOKUP(I2701,CAD_Q!$C$6:$E$109,3,FALSE)*F2701,\"\")","v":""},null,null,"",1,0,1900,0,1,1900,"Nombre y el registro de entrada válida"]
[null,"",null,null,null,"",null,null,null,{"$f":"IF(I2702=\"\",\"\",IF(VLOOKUP(I2702,CAD_Q!$C$6:$D$105,2,FALSE)=0,\"\",VLOOKUP(I2702,CAD_Q!$C$6:$D$105,2,FALSE)))","v":""},{"$f":"IFERROR(VLOOKUP(I2702,CAD_Q!$C$6:$E$109,3,FALSE)*F2702,\"\")","v":""},null,null,"",1,0,1900,0,1,1900,"Nombre y el registro de entrada válida"]
[null,"",null,null,null,"",null,null,null,{"$f":"IF(I2703=\"\",\"\",IF(VLOOKUP(I2703,CAD_Q!$C$6:$D$105,2,FALSE)=0,\"\",VLOOKUP(I2703,CAD_Q!$C$6:$D$105,2,FALSE)))","v":""},{"$f":"IFERROR(VLOOKUP(I2703,CAD_Q!$C$6:$E$109,3,FALSE)*F2703,\"\")","v":""},null,null,"",1,0,1900,0,1,1900,"Nombre y el registro de entrada válida"]
[null,"",null,null,null,"",null,null,null,{"$f":"IF(I2704=\"\",\"\",IF(VLOOKUP(I2704,CAD_Q!$C$6:$D$105,2,FALSE)=0,\"\",VLOOKUP(I2704,CAD_Q!$C$6:$D$105,2,FALSE)))","v":""},{"$f":"IFERROR(VLOOKUP(I2704,CAD_Q!$C$6:$E$109,3,FALSE)*F2704,\"\")","v":""},null,null,"",1,0,1900,0,1,1900,"Nombre y el registro de entrada válida"]
[null,"",null,null,null,"",null,null,null,{"$f":"IF(I2705=\"\",\"\",IF(VLOOKUP(I2705,CAD_Q!$C$6:$D$105,2,FALSE)=0,\"\",VLOOKUP(I2705,CAD_Q!$C$6:$D$105,2,FALSE)))","v":""},{"$f":"IFERROR(VLOOKUP(I2705,CAD_Q!$C$6:$E$109,3,FALSE)*F2705,\"\")","v":""},null,null,"",1,0,1900,0,1,1900,"Nombre y el registro de entrada válida"]
[null,"",null,null,null,"",null,null,null,{"$f":"IF(I2706=\"\",\"\",IF(VLOOKUP(I2706,CAD_Q!$C$6:$D$105,2,FALSE)=0,\"\",VLOOKUP(I2706,CAD_Q!$C$6:$D$105,2,FALSE)))","v":""},{"$f":"IFERROR(VLOOKUP(I2706,CAD_Q!$C$6:$E$109,3,FALSE)*F2706,\"\")","v":""},null,null,"",1,0,1900,0,1,1900,"Nombre y el registro de entrada válida"]
[null,"",null,null,null,"",null,null,null,{"$f":"IF(I2707=\"\",\"\",IF(VLOOKUP(I2707,CAD_Q!$C$6:$D$105,2,FALSE)=0,\"\",VLOOKUP(I2707,CAD_Q!$C$6:$D$105,2,FALSE)))","v":""},{"$f":"IFERROR(VLOOKUP(I2707,CAD_Q!$C$6:$E$109,3,FALSE)*F2707,\"\")","v":""},null,null,"",1,0,1900,0,1,1900,"Nombre y el registro de entrada válida"]
[null,"",null,null,null,"",null,null,null,{"$f":"IF(I2708=\"\",\"\",IF(VLOOKUP(I2708,CAD_Q!$C$6:$D$105,2,FALSE)=0,\"\",VLOOKUP(I2708,CAD_Q!$C$6:$D$105,2,FALSE)))","v":""},{"$f":"IFERROR(VLOOKUP(I2708,CAD_Q!$C$6:$E$109,3,FALSE)*F2708,\"\")","v":""},null,null,"",1,0,1900,0,1,1900,"Nombre y el registro de entrada válida"]
[null,"",null,null,null,"",null,null,null,{"$f":"IF(I2709=\"\",\"\",IF(VLOOKUP(I2709,CAD_Q!$C$6:$D$105,2,FALSE)=0,\"\",VLOOKUP(I2709,CAD_Q!$C$6:$D$105,2,FALSE)))","v":""},{"$f":"IFERROR(VLOOKUP(I2709,CAD_Q!$C$6:$E$109,3,FALSE)*F2709,\"\")","v":""},null,null,"",1,0,1900,0,1,1900,"Nombre y el registro de entrada válida"]
[null,"",null,null,null,"",null,null,null,{"$f":"IF(I2710=\"\",\"\",IF(VLOOKUP(I2710,CAD_Q!$C$6:$D$105,2,FALSE)=0,\"\",VLOOKUP(I2710,CAD_Q!$C$6:$D$105,2,FALSE)))","v":""},{"$f":"IFERROR(VLOOKUP(I2710,CAD_Q!$C$6:$E$109,3,FALSE)*F2710,\"\")","v":""},null,null,"",1,0,1900,0,1,1900,"Nombre y el registro de entrada válida"]
[null,"",null,null,null,"",null,null,null,{"$f":"IF(I2711=\"\",\"\",IF(VLOOKUP(I2711,CAD_Q!$C$6:$D$105,2,FALSE)=0,\"\",VLOOKUP(I2711,CAD_Q!$C$6:$D$105,2,FALSE)))","v":""},{"$f":"IFERROR(VLOOKUP(I2711,CAD_Q!$C$6:$E$109,3,FALSE)*F2711,\"\")","v":""},null,null,"",1,0,1900,0,1,1900,"Nombre y el registro de entrada válida"]
[null,"",null,null,null,"",null,null,null,{"$f":"IF(I2712=\"\",\"\",IF(VLOOKUP(I2712,CAD_Q!$C$6:$D$105,2,FALSE)=0,\"\",VLOOKUP(I2712,CAD_Q!$C$6:$D$105,2,FALSE)))","v":""},{"$f":"IFERROR(VLOOKUP(I2712,CAD_Q!$C$6:$E$109,3,FALSE)*F2712,\"\")","v":""},null,null,"",1,0,1900,0,1,1900,"Nombre y el registro de entrada válida"]
[null,"",null,null,null,"",null,null,null,{"$f":"IF(I2713=\"\",\"\",IF(VLOOKUP(I2713,CAD_Q!$C$6:$D$105,2,FALSE)=0,\"\",VLOOKUP(I2713,CAD_Q!$C$6:$D$105,2,FALSE)))","v":""},{"$f":"IFERROR(VLOOKUP(I2713,CAD_Q!$C$6:$E$109,3,FALSE)*F2713,\"\")","v":""},null,null,"",1,0,1900,0,1,1900,"Nombre y el registro de entrada válida"]
[null,"",null,null,null,"",null,null,null,{"$f":"IF(I2714=\"\",\"\",IF(VLOOKUP(I2714,CAD_Q!$C$6:$D$105,2,FALSE)=0,\"\",VLOOKUP(I2714,CAD_Q!$C$6:$D$105,2,FALSE)))","v":""},{"$f":"IFERROR(VLOOKUP(I2714,CAD_Q!$C$6:$E$109,3,FALSE)*F2714,\"\")","v":""},null,null,"",1,0,1900,0,1,1900,"Nombre y el registro de entrada válida"]
[null,"",null,null,null,"",null,null,null,{"$f":"IF(I2715=\"\",\"\",IF(VLOOKUP(I2715,CAD_Q!$C$6:$D$105,2,FALSE)=0,\"\",VLOOKUP(I2715,CAD_Q!$C$6:$D$105,2,FALSE)))","v":""},{"$f":"IFERROR(VLOOKUP(I2715,CAD_Q!$C$6:$E$109,3,FALSE)*F2715,\"\")","v":""},null,null,"",1,0,1900,0,1,1900,"Nombre y el registro de entrada válida"]
[null,"",null,null,null,"",null,null,null,{"$f":"IF(I2716=\"\",\"\",IF(VLOOKUP(I2716,CAD_Q!$C$6:$D$105,2,FALSE)=0,\"\",VLOOKUP(I2716,CAD_Q!$C$6:$D$105,2,FALSE)))","v":""},{"$f":"IFERROR(VLOOKUP(I2716,CAD_Q!$C$6:$E$109,3,FALSE)*F2716,\"\")","v":""},null,null,"",1,0,1900,0,1,1900,"Nombre y el registro de entrada válida"]
[null,"",null,null,null,"",null,null,null,{"$f":"IF(I2717=\"\",\"\",IF(VLOOKUP(I2717,CAD_Q!$C$6:$D$105,2,FALSE)=0,\"\",VLOOKUP(I2717,CAD_Q!$C$6:$D$105,2,FALSE)))","v":""},{"$f":"IFERROR(VLOOKUP(I2717,CAD_Q!$C$6:$E$109,3,FALSE)*F2717,\"\")","v":""},null,null,"",1,0,1900,0,1,1900,"Nombre y el registro de entrada válida"]
[null,"",null,null,null,"",null,null,null,{"$f":"IF(I2718=\"\",\"\",IF(VLOOKUP(I2718,CAD_Q!$C$6:$D$105,2,FALSE)=0,\"\",VLOOKUP(I2718,CAD_Q!$C$6:$D$105,2,FALSE)))","v":""},{"$f":"IFERROR(VLOOKUP(I2718,CAD_Q!$C$6:$E$109,3,FALSE)*F2718,\"\")","v":""},null,null,"",1,0,1900,0,1,1900,"Nombre y el registro de entrada válida"]
[null,"",null,null,null,"",null,null,null,{"$f":"IF(I2719=\"\",\"\",IF(VLOOKUP(I2719,CAD_Q!$C$6:$D$105,2,FALSE)=0,\"\",VLOOKUP(I2719,CAD_Q!$C$6:$D$105,2,FALSE)))","v":""},{"$f":"IFERROR(VLOOKUP(I2719,CAD_Q!$C$6:$E$109,3,FALSE)*F2719,\"\")","v":""},null,null,"",1,0,1900,0,1,1900,"Nombre y el registro de entrada válida"]
[null,"",null,null,null,"",null,null,null,{"$f":"IF(I2720=\"\",\"\",IF(VLOOKUP(I2720,CAD_Q!$C$6:$D$105,2,FALSE)=0,\"\",VLOOKUP(I2720,CAD_Q!$C$6:$D$105,2,FALSE)))","v":""},{"$f":"IFERROR(VLOOKUP(I2720,CAD_Q!$C$6:$E$109,3,FALSE)*F2720,\"\")","v":""},null,null,"",1,0,1900,0,1,1900,"Nombre y el registro de entrada válida"]
[null,"",null,null,null,"",null,null,null,{"$f":"IF(I2721=\"\",\"\",IF(VLOOKUP(I2721,CAD_Q!$C$6:$D$105,2,FALSE)=0,\"\",VLOOKUP(I2721,CAD_Q!$C$6:$D$105,2,FALSE)))","v":""},{"$f":"IFERROR(VLOOKUP(I2721,CAD_Q!$C$6:$E$109,3,FALSE)*F2721,\"\")","v":""},null,null,"",1,0,1900,0,1,1900,"Nombre y el registro de entrada válida"]
[null,"",null,null,null,"",null,null,null,{"$f":"IF(I2722=\"\",\"\",IF(VLOOKUP(I2722,CAD_Q!$C$6:$D$105,2,FALSE)=0,\"\",VLOOKUP(I2722,CAD_Q!$C$6:$D$105,2,FALSE)))","v":""},{"$f":"IFERROR(VLOOKUP(I2722,CAD_Q!$C$6:$E$109,3,FALSE)*F2722,\"\")","v":""},null,null,"",1,0,1900,0,1,1900,"Nombre y el registro de entrada válida"]
[null,"",null,null,null,"",null,null,null,{"$f":"IF(I2723=\"\",\"\",IF(VLOOKUP(I2723,CAD_Q!$C$6:$D$105,2,FALSE)=0,\"\",VLOOKUP(I2723,CAD_Q!$C$6:$D$105,2,FALSE)))","v":""},{"$f":"IFERROR(VLOOKUP(I2723,CAD_Q!$C$6:$E$109,3,FALSE)*F2723,\"\")","v":""},null,null,"",1,0,1900,0,1,1900,"Nombre y el registro de entrada válida"]
[null,"",null,null,null,{"$f":"IF(OR(D2724=\"\",E2724=\"\"),\"\",E2724-D2724)","v":""},null,null,null,{"$f":"IF(I2724=\"\",\"\",IF(VLOOKUP(I2724,CAD_Q!$C$6:$D$105,2,FALSE)=0,\"\",VLOOKUP(I2724,CAD_Q!$C$6:$D$105,2,FALSE)))","v":""},{"$f":"IFERROR(VLOOKUP(I2724,CAD_Q!$C$6:$E$109,3,FALSE)*F2724,\"\")","v":""},null,null,"",1,0,1900,0,1,1900,"Nombre y el registro de entrada válida"]
[null,"",null,null,null,"",null,null,null,{"$f":"IF(I2725=\"\",\"\",IF(VLOOKUP(I2725,CAD_Q!$C$6:$D$105,2,FALSE)=0,\"\",VLOOKUP(I2725,CAD_Q!$C$6:$D$105,2,FALSE)))","v":""},{"$f":"IFERROR(VLOOKUP(I2725,CAD_Q!$C$6:$E$109,3,FALSE)*F2725,\"\")","v":""},null,null,"",1,0,1900,0,1,1900,"Nombre y el registro de entrada válida"]
[null,"",null,null,null,"",null,null,null,{"$f":"IF(I2726=\"\",\"\",IF(VLOOKUP(I2726,CAD_Q!$C$6:$D$105,2,FALSE)=0,\"\",VLOOKUP(I2726,CAD_Q!$C$6:$D$105,2,FALSE)))","v":""},{"$f":"IFERROR(VLOOKUP(I2726,CAD_Q!$C$6:$E$109,3,FALSE)*F2726,\"\")","v":""},null,null,"",1,0,1900,0,1,1900,"Nombre y el registro de entrada válida"]
[null,"",null,null,null,"",null,null,null,{"$f":"IF(I2727=\"\",\"\",IF(VLOOKUP(I2727,CAD_Q!$C$6:$D$105,2,FALSE)=0,\"\",VLOOKUP(I2727,CAD_Q!$C$6:$D$105,2,FALSE)))","v":""},{"$f":"IFERROR(VLOOKUP(I2727,CAD_Q!$C$6:$E$109,3,FALSE)*F2727,\"\")","v":""},null,null,"",1,0,1900,0,1,1900,"Nombre y el registro de entrada válida"]
[null,"",null,null,null,"",null,null,null,{"$f":"IF(I2728=\"\",\"\",IF(VLOOKUP(I2728,CAD_Q!$C$6:$D$105,2,FALSE)=0,\"\",VLOOKUP(I2728,CAD_Q!$C$6:$D$105,2,FALSE)))","v":""},{"$f":"IFERROR(VLOOKUP(I2728,CAD_Q!$C$6:$E$109,3,FALSE)*F2728,\"\")","v":""},null,null,"",1,0,1900,0,1,1900,"Nombre y el registro de entrada válida"]
[null,"",null,null,null,"",null,null,null,{"$f":"IF(I2729=\"\",\"\",IF(VLOOKUP(I2729,CAD_Q!$C$6:$D$105,2,FALSE)=0,\"\",VLOOKUP(I2729,CAD_Q!$C$6:$D$105,2,FALSE)))","v":""},{"$f":"IFERROR(VLOOKUP(I2729,CAD_Q!$C$6:$E$109,3,FALSE)*F2729,\"\")","v":""},null,null,"",1,0,1900,0,1,1900,"Nombre y el registro de entrada válida"]
[null,"",null,null,null,"",null,null,null,{"$f":"IF(I2730=\"\",\"\",IF(VLOOKUP(I2730,CAD_Q!$C$6:$D$105,2,FALSE)=0,\"\",VLOOKUP(I2730,CAD_Q!$C$6:$D$105,2,FALSE)))","v":""},{"$f":"IFERROR(VLOOKUP(I2730,CAD_Q!$C$6:$E$109,3,FALSE)*F2730,\"\")","v":""},null,null,"",1,0,1900,0,1,1900,"Nombre y el registro de entrada válida"]
[null,"",null,null,null,"",null,null,null,{"$f":"IF(I2731=\"\",\"\",IF(VLOOKUP(I2731,CAD_Q!$C$6:$D$105,2,FALSE)=0,\"\",VLOOKUP(I2731,CAD_Q!$C$6:$D$105,2,FALSE)))","v":""},{"$f":"IFERROR(VLOOKUP(I2731,CAD_Q!$C$6:$E$109,3,FALSE)*F2731,\"\")","v":""},null,null,"",1,0,1900,0,1,1900,"Nombre y el registro de entrada válida"]
[null,"",null,null,null,"",null,null,null,{"$f":"IF(I2732=\"\",\"\",IF(VLOOKUP(I2732,CAD_Q!$C$6:$D$105,2,FALSE)=0,\"\",VLOOKUP(I2732,CAD_Q!$C$6:$D$105,2,FALSE)))","v":""},{"$f":"IFERROR(VLOOKUP(I2732,CAD_Q!$C$6:$E$109,3,FALSE)*F2732,\"\")","v":""},null,null,"",1,0,1900,0,1,1900,"Nombre y el registro de entrada válida"]
[null,"",null,null,null,"",null,null,null,{"$f":"IF(I2733=\"\",\"\",IF(VLOOKUP(I2733,CAD_Q!$C$6:$D$105,2,FALSE)=0,\"\",VLOOKUP(I2733,CAD_Q!$C$6:$D$105,2,FALSE)))","v":""},{"$f":"IFERROR(VLOOKUP(I2733,CAD_Q!$C$6:$E$109,3,FALSE)*F2733,\"\")","v":""},null,null,"",1,0,1900,0,1,1900,"Nombre y el registro de entrada válida"]
[null,"",null,null,null,"",null,null,null,{"$f":"IF(I2734=\"\",\"\",IF(VLOOKUP(I2734,CAD_Q!$C$6:$D$105,2,FALSE)=0,\"\",VLOOKUP(I2734,CAD_Q!$C$6:$D$105,2,FALSE)))","v":""},{"$f":"IFERROR(VLOOKUP(I2734,CAD_Q!$C$6:$E$109,3,FALSE)*F2734,\"\")","v":""},null,null,"",1,0,1900,0,1,1900,"Nombre y el registro de entrada válida"]
[null,"",null,null,null,"",null,null,null,{"$f":"IF(I2735=\"\",\"\",IF(VLOOKUP(I2735,CAD_Q!$C$6:$D$105,2,FALSE)=0,\"\",VLOOKUP(I2735,CAD_Q!$C$6:$D$105,2,FALSE)))","v":""},{"$f":"IFERROR(VLOOKUP(I2735,CAD_Q!$C$6:$E$109,3,FALSE)*F2735,\"\")","v":""},null,null,"",1,0,1900,0,1,1900,"Nombre y el registro de entrada válida"]
[null,"",null,null,null,"",null,null,null,{"$f":"IF(I2736=\"\",\"\",IF(VLOOKUP(I2736,CAD_Q!$C$6:$D$105,2,FALSE)=0,\"\",VLOOKUP(I2736,CAD_Q!$C$6:$D$105,2,FALSE)))","v":""},{"$f":"IFERROR(VLOOKUP(I2736,CAD_Q!$C$6:$E$109,3,FALSE)*F2736,\"\")","v":""},null,null,"",1,0,1900,0,1,1900,"Nombre y el registro de entrada válida"]
[null,"",null,null,null,"",null,null,null,{"$f":"IF(I2737=\"\",\"\",IF(VLOOKUP(I2737,CAD_Q!$C$6:$D$105,2,FALSE)=0,\"\",VLOOKUP(I2737,CAD_Q!$C$6:$D$105,2,FALSE)))","v":""},{"$f":"IFERROR(VLOOKUP(I2737,CAD_Q!$C$6:$E$109,3,FALSE)*F2737,\"\")","v":""},null,null,"",1,0,1900,0,1,1900,"Nombre y el registro de entrada válida"]
[null,"",null,null,null,"",null,null,null,{"$f":"IF(I2738=\"\",\"\",IF(VLOOKUP(I2738,CAD_Q!$C$6:$D$105,2,FALSE)=0,\"\",VLOOKUP(I2738,CAD_Q!$C$6:$D$105,2,FALSE)))","v":""},{"$f":"IFERROR(VLOOKUP(I2738,CAD_Q!$C$6:$E$109,3,FALSE)*F2738,\"\")","v":""},null,null,"",1,0,1900,0,1,1900,"Nombre y el registro de entrada válida"]
[null,"",null,null,null,"",null,null,null,{"$f":"IF(I2739=\"\",\"\",IF(VLOOKUP(I2739,CAD_Q!$C$6:$D$105,2,FALSE)=0,\"\",VLOOKUP(I2739,CAD_Q!$C$6:$D$105,2,FALSE)))","v":""},{"$f":"IFERROR(VLOOKUP(I2739,CAD_Q!$C$6:$E$109,3,FALSE)*F2739,\"\")","v":""},null,null,"",1,0,1900,0,1,1900,"Nombre y el registro de entrada válida"]
[null,"",null,null,null,"",null,null,null,{"$f":"IF(I2740=\"\",\"\",IF(VLOOKUP(I2740,CAD_Q!$C$6:$D$105,2,FALSE)=0,\"\",VLOOKUP(I2740,CAD_Q!$C$6:$D$105,2,FALSE)))","v":""},{"$f":"IFERROR(VLOOKUP(I2740,CAD_Q!$C$6:$E$109,3,FALSE)*F2740,\"\")","v":""},null,null,"",1,0,1900,0,1,1900,"Nombre y el registro de entrada válida"]
[null,"",null,null,null,"",null,null,null,{"$f":"IF(I2741=\"\",\"\",IF(VLOOKUP(I2741,CAD_Q!$C$6:$D$105,2,FALSE)=0,\"\",VLOOKUP(I2741,CAD_Q!$C$6:$D$105,2,FALSE)))","v":""},{"$f":"IFERROR(VLOOKUP(I2741,CAD_Q!$C$6:$E$109,3,FALSE)*F2741,\"\")","v":""},null,null,"",1,0,1900,0,1,1900,"Nombre y el registro de entrada válida"]
[null,"",null,null,null,"",null,null,null,{"$f":"IF(I2742=\"\",\"\",IF(VLOOKUP(I2742,CAD_Q!$C$6:$D$105,2,FALSE)=0,\"\",VLOOKUP(I2742,CAD_Q!$C$6:$D$105,2,FALSE)))","v":""},{"$f":"IFERROR(VLOOKUP(I2742,CAD_Q!$C$6:$E$109,3,FALSE)*F2742,\"\")","v":""},null,null,"",1,0,1900,0,1,1900,"Nombre y el registro de entrada válida"]
[null,"",null,null,null,"",null,null,null,{"$f":"IF(I2743=\"\",\"\",IF(VLOOKUP(I2743,CAD_Q!$C$6:$D$105,2,FALSE)=0,\"\",VLOOKUP(I2743,CAD_Q!$C$6:$D$105,2,FALSE)))","v":""},{"$f":"IFERROR(VLOOKUP(I2743,CAD_Q!$C$6:$E$109,3,FALSE)*F2743,\"\")","v":""},null,null,"",1,0,1900,0,1,1900,"Nombre y el registro de entrada válida"]
[null,"",null,null,null,"",null,null,null,{"$f":"IF(I2744=\"\",\"\",IF(VLOOKUP(I2744,CAD_Q!$C$6:$D$105,2,FALSE)=0,\"\",VLOOKUP(I2744,CAD_Q!$C$6:$D$105,2,FALSE)))","v":""},{"$f":"IFERROR(VLOOKUP(I2744,CAD_Q!$C$6:$E$109,3,FALSE)*F2744,\"\")","v":""},null,null,"",1,0,1900,0,1,1900,"Nombre y el registro de entrada válida"]
[null,"",null,null,null,"",null,null,null,{"$f":"IF(I2745=\"\",\"\",IF(VLOOKUP(I2745,CAD_Q!$C$6:$D$105,2,FALSE)=0,\"\",VLOOKUP(I2745,CAD_Q!$C$6:$D$105,2,FALSE)))","v":""},{"$f":"IFERROR(VLOOKUP(I2745,CAD_Q!$C$6:$E$109,3,FALSE)*F2745,\"\")","v":""},null,null,"",1,0,1900,0,1,1900,"Nombre y el registro de entrada válida"]
[null,"",null,null,null,"",null,null,null,{"$f":"IF(I2746=\"\",\"\",IF(VLOOKUP(I2746,CAD_Q!$C$6:$D$105,2,FALSE)=0,\"\",VLOOKUP(I2746,CAD_Q!$C$6:$D$105,2,FALSE)))","v":""},{"$f":"IFERROR(VLOOKUP(I2746,CAD_Q!$C$6:$E$109,3,FALSE)*F2746,\"\")","v":""},null,null,"",1,0,1900,0,1,1900,"Nombre y el registro de entrada válida"]
[null,"",null,null,null,"",null,null,null,{"$f":"IF(I2747=\"\",\"\",IF(VLOOKUP(I2747,CAD_Q!$C$6:$D$105,2,FALSE)=0,\"\",VLOOKUP(I2747,CAD_Q!$C$6:$D$105,2,FALSE)))","v":""},{"$f":"IFERROR(VLOOKUP(I2747,CAD_Q!$C$6:$E$109,3,FALSE)*F2747,\"\")","v":""},null,null,"",1,0,1900,0,1,1900,"Nombre y el registro de entrada válida"]
[null,"",null,null,null,"",null,null,null,{"$f":"IF(I2748=\"\",\"\",IF(VLOOKUP(I2748,CAD_Q!$C$6:$D$105,2,FALSE)=0,\"\",VLOOKUP(I2748,CAD_Q!$C$6:$D$105,2,FALSE)))","v":""},{"$f":"IFERROR(VLOOKUP(I2748,CAD_Q!$C$6:$E$109,3,FALSE)*F2748,\"\")","v":""},null,null,"",1,0,1900,0,1,1900,"Nombre y el registro de entrada válida"]
[null,"",null,null,null,"",null,null,null,{"$f":"IF(I2749=\"\",\"\",IF(VLOOKUP(I2749,CAD_Q!$C$6:$D$105,2,FALSE)=0,\"\",VLOOKUP(I2749,CAD_Q!$C$6:$D$105,2,FALSE)))","v":""},{"$f":"IFERROR(VLOOKUP(I2749,CAD_Q!$C$6:$E$109,3,FALSE)*F2749,\"\")","v":""},null,null,"",1,0,1900,0,1,1900,"Nombre y el registro de entrada válida"]
[null,"",null,null,null,"",null,null,null,{"$f":"IF(I2750=\"\",\"\",IF(VLOOKUP(I2750,CAD_Q!$C$6:$D$105,2,FALSE)=0,\"\",VLOOKUP(I2750,CAD_Q!$C$6:$D$105,2,FALSE)))","v":""},{"$f":"IFERROR(VLOOKUP(I2750,CAD_Q!$C$6:$E$109,3,FALSE)*F2750,\"\")","v":""},null,null,"",1,0,1900,0,1,1900,"Nombre y el registro de entrada válida"]
[null,"",null,null,null,"",null,null,null,{"$f":"IF(I2751=\"\",\"\",IF(VLOOKUP(I2751,CAD_Q!$C$6:$D$105,2,FALSE)=0,\"\",VLOOKUP(I2751,CAD_Q!$C$6:$D$105,2,FALSE)))","v":""},{"$f":"IFERROR(VLOOKUP(I2751,CAD_Q!$C$6:$E$109,3,FALSE)*F2751,\"\")","v":""},null,null,"",1,0,1900,0,1,1900,"Nombre y el registro de entrada válida"]
[null,"",null,null,null,"",null,null,null,{"$f":"IF(I2752=\"\",\"\",IF(VLOOKUP(I2752,CAD_Q!$C$6:$D$105,2,FALSE)=0,\"\",VLOOKUP(I2752,CAD_Q!$C$6:$D$105,2,FALSE)))","v":""},{"$f":"IFERROR(VLOOKUP(I2752,CAD_Q!$C$6:$E$109,3,FALSE)*F2752,\"\")","v":""},null,null,"",1,0,1900,0,1,1900,"Nombre y el registro de entrada válida"]
[null,"",null,null,null,"",null,null,null,{"$f":"IF(I2753=\"\",\"\",IF(VLOOKUP(I2753,CAD_Q!$C$6:$D$105,2,FALSE)=0,\"\",VLOOKUP(I2753,CAD_Q!$C$6:$D$105,2,FALSE)))","v":""},{"$f":"IFERROR(VLOOKUP(I2753,CAD_Q!$C$6:$E$109,3,FALSE)*F2753,\"\")","v":""},null,null,"",1,0,1900,0,1,1900,"Nombre y el registro de entrada válida"]
[null,"",null,null,null,"",null,null,null,{"$f":"IF(I2754=\"\",\"\",IF(VLOOKUP(I2754,CAD_Q!$C$6:$D$105,2,FALSE)=0,\"\",VLOOKUP(I2754,CAD_Q!$C$6:$D$105,2,FALSE)))","v":""},{"$f":"IFERROR(VLOOKUP(I2754,CAD_Q!$C$6:$E$109,3,FALSE)*F2754,\"\")","v":""},null,null,"",1,0,1900,0,1,1900,"Nombre y el registro de entrada válida"]
[null,"",null,null,null,"",null,null,null,{"$f":"IF(I2755=\"\",\"\",IF(VLOOKUP(I2755,CAD_Q!$C$6:$D$105,2,FALSE)=0,\"\",VLOOKUP(I2755,CAD_Q!$C$6:$D$105,2,FALSE)))","v":""},{"$f":"IFERROR(VLOOKUP(I2755,CAD_Q!$C$6:$E$109,3,FALSE)*F2755,\"\")","v":""},null,null,"",1,0,1900,0,1,1900,"Nombre y el registro de entrada válida"]
[null,"",null,null,null,"",null,null,null,{"$f":"IF(I2756=\"\",\"\",IF(VLOOKUP(I2756,CAD_Q!$C$6:$D$105,2,FALSE)=0,\"\",VLOOKUP(I2756,CAD_Q!$C$6:$D$105,2,FALSE)))","v":""},{"$f":"IFERROR(VLOOKUP(I2756,CAD_Q!$C$6:$E$109,3,FALSE)*F2756,\"\")","v":""},null,null,"",1,0,1900,0,1,1900,"Nombre y el registro de entrada válida"]
[null,"",null,null,null,"",null,null,null,{"$f":"IF(I2757=\"\",\"\",IF(VLOOKUP(I2757,CAD_Q!$C$6:$D$105,2,FALSE)=0,\"\",VLOOKUP(I2757,CAD_Q!$C$6:$D$105,2,FALSE)))","v":""},{"$f":"IFERROR(VLOOKUP(I2757,CAD_Q!$C$6:$E$109,3,FALSE)*F2757,\"\")","v":""},null,null,"",1,0,1900,0,1,1900,"Nombre y el registro de entrada válida"]
[null,"",null,null,null,"",null,null,null,{"$f":"IF(I2758=\"\",\"\",IF(VLOOKUP(I2758,CAD_Q!$C$6:$D$105,2,FALSE)=0,\"\",VLOOKUP(I2758,CAD_Q!$C$6:$D$105,2,FALSE)))","v":""},{"$f":"IFERROR(VLOOKUP(I2758,CAD_Q!$C$6:$E$109,3,FALSE)*F2758,\"\")","v":""},null,null,"",1,0,1900,0,1,1900,"Nombre y el registro de entrada válida"]
[null,{"$f":"CONCATENATE(C2759,D2759)","v":""},null,null,null,"",null,null,null,{"$f":"IF(I2759=\"\",\"\",IF(VLOOKUP(I2759,CAD_Q!$C$6:$D$105,2,FALSE)=0,\"\",VLOOKUP(I2759,CAD_Q!$C$6:$D$105,2,FALSE)))","v":""},{"$f":"IFERROR(VLOOKUP(I2759,CAD_Q!$C$6:$E$109,3,FALSE)*F2759,\"\")","v":""},null,null,{"$f":"IFERROR(K2759-L2759+M2759,\"\")","v":""},1,0,1900,0,1,1900,"Nombre y el registro de entrada válida"]
[null,"",null,null,null,"",null,null,null,{"$f":"IF(I2760=\"\",\"\",IF(VLOOKUP(I2760,CAD_Q!$C$6:$D$105,2,FALSE)=0,\"\",VLOOKUP(I2760,CAD_Q!$C$6:$D$105,2,FALSE)))","v":""},{"$f":"IFERROR(VLOOKUP(I2760,CAD_Q!$C$6:$E$109,3,FALSE)*F2760,\"\")","v":""},null,null,"",1,0,1900,0,1,1900,"Nombre y el registro de entrada válida"]
[null,"",null,null,null,"",null,null,null,{"$f":"IF(I2761=\"\",\"\",IF(VLOOKUP(I2761,CAD_Q!$C$6:$D$105,2,FALSE)=0,\"\",VLOOKUP(I2761,CAD_Q!$C$6:$D$105,2,FALSE)))","v":""},{"$f":"IFERROR(VLOOKUP(I2761,CAD_Q!$C$6:$E$109,3,FALSE)*F2761,\"\")","v":""},null,null,"",1,0,1900,0,1,1900,"Nombre y el registro de entrada válida"]
[null,"",null,null,null,"",null,null,null,{"$f":"IF(I2762=\"\",\"\",IF(VLOOKUP(I2762,CAD_Q!$C$6:$D$105,2,FALSE)=0,\"\",VLOOKUP(I2762,CAD_Q!$C$6:$D$105,2,FALSE)))","v":""},{"$f":"IFERROR(VLOOKUP(I2762,CAD_Q!$C$6:$E$109,3,FALSE)*F2762,\"\")","v":""},null,null,"",{"$f":"MONTH(D2762)","v":1},{"$f":"DAY(D2762)","v":0},{"$f":"YEAR(D2762)","v":1900},{"$f":"DAY(E2762)","v":0},{"$f":"MONTH(E2762)","v":1},{"$f":"YEAR(E2762)","v":1900},"Nombre y el registro de entrada válida"]
[null,"",null,null,null,"",null,null,null,{"$f":"IF(I2763=\"\",\"\",IF(VLOOKUP(I2763,CAD_Q!$C$6:$D$105,2,FALSE)=0,\"\",VLOOKUP(I2763,CAD_Q!$C$6:$D$105,2,FALSE)))","v":""},{"$f":"IFERROR(VLOOKUP(I2763,CAD_Q!$C$6:$E$109,3,FALSE)*F2763,\"\")","v":""},null,null,"",1,0,1900,0,1,1900,"Nombre y el registro de entrada válida"]
[null,"",null,null,null,"",null,null,null,{"$f":"IF(I2764=\"\",\"\",IF(VLOOKUP(I2764,CAD_Q!$C$6:$D$105,2,FALSE)=0,\"\",VLOOKUP(I2764,CAD_Q!$C$6:$D$105,2,FALSE)))","v":""},{"$f":"IFERROR(VLOOKUP(I2764,CAD_Q!$C$6:$E$109,3,FALSE)*F2764,\"\")","v":""},null,null,"",1,0,1900,0,1,1900,"Nombre y el registro de entrada válida"]
[null,"",null,null,null,"",null,null,null,{"$f":"IF(I2765=\"\",\"\",IF(VLOOKUP(I2765,CAD_Q!$C$6:$D$105,2,FALSE)=0,\"\",VLOOKUP(I2765,CAD_Q!$C$6:$D$105,2,FALSE)))","v":""},{"$f":"IFERROR(VLOOKUP(I2765,CAD_Q!$C$6:$E$109,3,FALSE)*F2765,\"\")","v":""},null,null,"",1,0,1900,0,1,1900,"Nombre y el registro de entrada válida"]
[null,"",null,null,null,"",null,null,null,{"$f":"IF(I2766=\"\",\"\",IF(VLOOKUP(I2766,CAD_Q!$C$6:$D$105,2,FALSE)=0,\"\",VLOOKUP(I2766,CAD_Q!$C$6:$D$105,2,FALSE)))","v":""},{"$f":"IFERROR(VLOOKUP(I2766,CAD_Q!$C$6:$E$109,3,FALSE)*F2766,\"\")","v":""},null,null,"",1,0,1900,0,1,1900,"Nombre y el registro de entrada válida"]
[null,"",null,null,null,"",null,null,null,{"$f":"IF(I2767=\"\",\"\",IF(VLOOKUP(I2767,CAD_Q!$C$6:$D$105,2,FALSE)=0,\"\",VLOOKUP(I2767,CAD_Q!$C$6:$D$105,2,FALSE)))","v":""},{"$f":"IFERROR(VLOOKUP(I2767,CAD_Q!$C$6:$E$109,3,FALSE)*F2767,\"\")","v":""},null,null,"",1,0,1900,0,1,1900,"Nombre y el registro de entrada válida"]
[null,"",null,null,null,"",null,null,null,{"$f":"IF(I2768=\"\",\"\",IF(VLOOKUP(I2768,CAD_Q!$C$6:$D$105,2,FALSE)=0,\"\",VLOOKUP(I2768,CAD_Q!$C$6:$D$105,2,FALSE)))","v":""},{"$f":"IFERROR(VLOOKUP(I2768,CAD_Q!$C$6:$E$109,3,FALSE)*F2768,\"\")","v":""},null,null,"",1,0,1900,0,1,1900,"Nombre y el registro de entrada válida"]
[null,"",null,null,null,"",null,null,null,{"$f":"IF(I2769=\"\",\"\",IF(VLOOKUP(I2769,CAD_Q!$C$6:$D$105,2,FALSE)=0,\"\",VLOOKUP(I2769,CAD_Q!$C$6:$D$105,2,FALSE)))","v":""},{"$f":"IFERROR(VLOOKUP(I2769,CAD_Q!$C$6:$E$109,3,FALSE)*F2769,\"\")","v":""},null,null,"",1,0,1900,0,1,1900,"Nombre y el registro de entrada válida"]
[null,"",null,null,null,"",null,null,null,{"$f":"IF(I2770=\"\",\"\",IF(VLOOKUP(I2770,CAD_Q!$C$6:$D$105,2,FALSE)=0,\"\",VLOOKUP(I2770,CAD_Q!$C$6:$D$105,2,FALSE)))","v":""},{"$f":"IFERROR(VLOOKUP(I2770,CAD_Q!$C$6:$E$109,3,FALSE)*F2770,\"\")","v":""},null,null,"",1,0,1900,0,1,1900,"Nombre y el registro de entrada válida"]
[null,"",null,null,null,"",null,null,null,{"$f":"IF(I2771=\"\",\"\",IF(VLOOKUP(I2771,CAD_Q!$C$6:$D$105,2,FALSE)=0,\"\",VLOOKUP(I2771,CAD_Q!$C$6:$D$105,2,FALSE)))","v":""},{"$f":"IFERROR(VLOOKUP(I2771,CAD_Q!$C$6:$E$109,3,FALSE)*F2771,\"\")","v":""},null,null,"",1,0,1900,0,1,1900,"Nombre y el registro de entrada válida"]
[null,"",null,null,null,"",null,null,null,{"$f":"IF(I2772=\"\",\"\",IF(VLOOKUP(I2772,CAD_Q!$C$6:$D$105,2,FALSE)=0,\"\",VLOOKUP(I2772,CAD_Q!$C$6:$D$105,2,FALSE)))","v":""},{"$f":"IFERROR(VLOOKUP(I2772,CAD_Q!$C$6:$E$109,3,FALSE)*F2772,\"\")","v":""},null,null,"",1,0,1900,0,1,1900,"Nombre y el registro de entrada válida"]
[null,"",null,null,null,"",null,null,null,{"$f":"IF(I2773=\"\",\"\",IF(VLOOKUP(I2773,CAD_Q!$C$6:$D$105,2,FALSE)=0,\"\",VLOOKUP(I2773,CAD_Q!$C$6:$D$105,2,FALSE)))","v":""},{"$f":"IFERROR(VLOOKUP(I2773,CAD_Q!$C$6:$E$109,3,FALSE)*F2773,\"\")","v":""},null,null,"",1,0,1900,0,1,1900,"Nombre y el registro de entrada válida"]
[null,"",null,null,null,"",null,null,null,{"$f":"IF(I2774=\"\",\"\",IF(VLOOKUP(I2774,CAD_Q!$C$6:$D$105,2,FALSE)=0,\"\",VLOOKUP(I2774,CAD_Q!$C$6:$D$105,2,FALSE)))","v":""},{"$f":"IFERROR(VLOOKUP(I2774,CAD_Q!$C$6:$E$109,3,FALSE)*F2774,\"\")","v":""},null,null,"",1,0,1900,0,1,1900,"Nombre y el registro de entrada válida"]
[null,"",null,null,null,"",null,null,null,{"$f":"IF(I2775=\"\",\"\",IF(VLOOKUP(I2775,CAD_Q!$C$6:$D$105,2,FALSE)=0,\"\",VLOOKUP(I2775,CAD_Q!$C$6:$D$105,2,FALSE)))","v":""},{"$f":"IFERROR(VLOOKUP(I2775,CAD_Q!$C$6:$E$109,3,FALSE)*F2775,\"\")","v":""},null,null,"",1,0,1900,0,1,1900,"Nombre y el registro de entrada válida"]
[null,"",null,null,null,"",null,null,null,{"$f":"IF(I2776=\"\",\"\",IF(VLOOKUP(I2776,CAD_Q!$C$6:$D$105,2,FALSE)=0,\"\",VLOOKUP(I2776,CAD_Q!$C$6:$D$105,2,FALSE)))","v":""},{"$f":"IFERROR(VLOOKUP(I2776,CAD_Q!$C$6:$E$109,3,FALSE)*F2776,\"\")","v":""},null,null,"",1,0,1900,0,1,1900,"Nombre y el registro de entrada válida"]
[null,"",null,null,null,"",null,null,null,{"$f":"IF(I2777=\"\",\"\",IF(VLOOKUP(I2777,CAD_Q!$C$6:$D$105,2,FALSE)=0,\"\",VLOOKUP(I2777,CAD_Q!$C$6:$D$105,2,FALSE)))","v":""},{"$f":"IFERROR(VLOOKUP(I2777,CAD_Q!$C$6:$E$109,3,FALSE)*F2777,\"\")","v":""},null,null,"",1,0,1900,0,1,1900,"Nombre y el registro de entrada válida"]
[null,"",null,null,null,"",null,null,null,{"$f":"IF(I2778=\"\",\"\",IF(VLOOKUP(I2778,CAD_Q!$C$6:$D$105,2,FALSE)=0,\"\",VLOOKUP(I2778,CAD_Q!$C$6:$D$105,2,FALSE)))","v":""},{"$f":"IFERROR(VLOOKUP(I2778,CAD_Q!$C$6:$E$109,3,FALSE)*F2778,\"\")","v":""},null,null,"",1,0,1900,0,1,1900,"Nombre y el registro de entrada válida"]
[null,"",null,null,null,"",null,null,null,{"$f":"IF(I2779=\"\",\"\",IF(VLOOKUP(I2779,CAD_Q!$C$6:$D$105,2,FALSE)=0,\"\",VLOOKUP(I2779,CAD_Q!$C$6:$D$105,2,FALSE)))","v":""},{"$f":"IFERROR(VLOOKUP(I2779,CAD_Q!$C$6:$E$109,3,FALSE)*F2779,\"\")","v":""},null,null,"",1,0,1900,0,1,1900,"Nombre y el registro de entrada válida"]
[null,"",null,null,null,"",null,null,null,{"$f":"IF(I2780=\"\",\"\",IF(VLOOKUP(I2780,CAD_Q!$C$6:$D$105,2,FALSE)=0,\"\",VLOOKUP(I2780,CAD_Q!$C$6:$D$105,2,FALSE)))","v":""},{"$f":"IFERROR(VLOOKUP(I2780,CAD_Q!$C$6:$E$109,3,FALSE)*F2780,\"\")","v":""},null,null,"",1,0,1900,0,1,1900,"Nombre y el registro de entrada válida"]
[null,"",null,null,null,"",null,null,null,{"$f":"IF(I2781=\"\",\"\",IF(VLOOKUP(I2781,CAD_Q!$C$6:$D$105,2,FALSE)=0,\"\",VLOOKUP(I2781,CAD_Q!$C$6:$D$105,2,FALSE)))","v":""},{"$f":"IFERROR(VLOOKUP(I2781,CAD_Q!$C$6:$E$109,3,FALSE)*F2781,\"\")","v":""},null,null,"",1,0,1900,0,1,1900,"Nombre y el registro de entrada válida"]
[null,"",null,null,null,"",null,null,null,{"$f":"IF(I2782=\"\",\"\",IF(VLOOKUP(I2782,CAD_Q!$C$6:$D$105,2,FALSE)=0,\"\",VLOOKUP(I2782,CAD_Q!$C$6:$D$105,2,FALSE)))","v":""},{"$f":"IFERROR(VLOOKUP(I2782,CAD_Q!$C$6:$E$109,3,FALSE)*F2782,\"\")","v":""},null,null,"",1,0,1900,0,1,1900,"Nombre y el registro de entrada válida"]
[null,"",null,null,null,"",null,null,null,{"$f":"IF(I2783=\"\",\"\",IF(VLOOKUP(I2783,CAD_Q!$C$6:$D$105,2,FALSE)=0,\"\",VLOOKUP(I2783,CAD_Q!$C$6:$D$105,2,FALSE)))","v":""},{"$f":"IFERROR(VLOOKUP(I2783,CAD_Q!$C$6:$E$109,3,FALSE)*F2783,\"\")","v":""},null,null,"",1,0,1900,0,1,1900,"Nombre y el registro de entrada válida"]
[null,"",null,null,null,"",null,null,null,{"$f":"IF(I2784=\"\",\"\",IF(VLOOKUP(I2784,CAD_Q!$C$6:$D$105,2,FALSE)=0,\"\",VLOOKUP(I2784,CAD_Q!$C$6:$D$105,2,FALSE)))","v":""},{"$f":"IFERROR(VLOOKUP(I2784,CAD_Q!$C$6:$E$109,3,FALSE)*F2784,\"\")","v":""},null,null,"",1,0,1900,0,1,1900,"Nombre y el registro de entrada válida"]
[null,"",null,null,null,"",null,null,null,{"$f":"IF(I2785=\"\",\"\",IF(VLOOKUP(I2785,CAD_Q!$C$6:$D$105,2,FALSE)=0,\"\",VLOOKUP(I2785,CAD_Q!$C$6:$D$105,2,FALSE)))","v":""},{"$f":"IFERROR(VLOOKUP(I2785,CAD_Q!$C$6:$E$109,3,FALSE)*F2785,\"\")","v":""},null,null,"",1,0,1900,0,1,1900,"Nombre y el registro de entrada válida"]
[null,"",null,null,null,"",null,null,null,{"$f":"IF(I2786=\"\",\"\",IF(VLOOKUP(I2786,CAD_Q!$C$6:$D$105,2,FALSE)=0,\"\",VLOOKUP(I2786,CAD_Q!$C$6:$D$105,2,FALSE)))","v":""},{"$f":"IFERROR(VLOOKUP(I2786,CAD_Q!$C$6:$E$109,3,FALSE)*F2786,\"\")","v":""},null,null,"",1,0,1900,0,1,1900,"Nombre y el registro de entrada válida"]
[null,"",null,null,null,"",null,null,null,{"$f":"IF(I2787=\"\",\"\",IF(VLOOKUP(I2787,CAD_Q!$C$6:$D$105,2,FALSE)=0,\"\",VLOOKUP(I2787,CAD_Q!$C$6:$D$105,2,FALSE)))","v":""},{"$f":"IFERROR(VLOOKUP(I2787,CAD_Q!$C$6:$E$109,3,FALSE)*F2787,\"\")","v":""},null,null,"",1,0,1900,0,1,1900,"Nombre y el registro de entrada válida"]
[null,"",null,null,null,{"$f":"IF(OR(D2788=\"\",E2788=\"\"),\"\",E2788-D2788)","v":""},null,null,null,{"$f":"IF(I2788=\"\",\"\",IF(VLOOKUP(I2788,CAD_Q!$C$6:$D$105,2,FALSE)=0,\"\",VLOOKUP(I2788,CAD_Q!$C$6:$D$105,2,FALSE)))","v":""},{"$f":"IFERROR(VLOOKUP(I2788,CAD_Q!$C$6:$E$109,3,FALSE)*F2788,\"\")","v":""},null,null,"",1,0,1900,0,1,1900,"Nombre y el registro de entrada válida"]
[null,"",null,null,null,"",null,null,null,{"$f":"IF(I2789=\"\",\"\",IF(VLOOKUP(I2789,CAD_Q!$C$6:$D$105,2,FALSE)=0,\"\",VLOOKUP(I2789,CAD_Q!$C$6:$D$105,2,FALSE)))","v":""},{"$f":"IFERROR(VLOOKUP(I2789,CAD_Q!$C$6:$E$109,3,FALSE)*F2789,\"\")","v":""},null,null,"",1,0,1900,0,1,1900,"Nombre y el registro de entrada válida"]
[null,"",null,null,null,"",null,null,null,{"$f":"IF(I2790=\"\",\"\",IF(VLOOKUP(I2790,CAD_Q!$C$6:$D$105,2,FALSE)=0,\"\",VLOOKUP(I2790,CAD_Q!$C$6:$D$105,2,FALSE)))","v":""},{"$f":"IFERROR(VLOOKUP(I2790,CAD_Q!$C$6:$E$109,3,FALSE)*F2790,\"\")","v":""},null,null,"",1,0,1900,0,1,1900,"Nombre y el registro de entrada válida"]
[null,"",null,null,null,"",null,null,null,{"$f":"IF(I2791=\"\",\"\",IF(VLOOKUP(I2791,CAD_Q!$C$6:$D$105,2,FALSE)=0,\"\",VLOOKUP(I2791,CAD_Q!$C$6:$D$105,2,FALSE)))","v":""},{"$f":"IFERROR(VLOOKUP(I2791,CAD_Q!$C$6:$E$109,3,FALSE)*F2791,\"\")","v":""},null,null,"",1,0,1900,0,1,1900,"Nombre y el registro de entrada válida"]
[null,"",null,null,null,"",null,null,null,{"$f":"IF(I2792=\"\",\"\",IF(VLOOKUP(I2792,CAD_Q!$C$6:$D$105,2,FALSE)=0,\"\",VLOOKUP(I2792,CAD_Q!$C$6:$D$105,2,FALSE)))","v":""},{"$f":"IFERROR(VLOOKUP(I2792,CAD_Q!$C$6:$E$109,3,FALSE)*F2792,\"\")","v":""},null,null,"",1,0,1900,0,1,1900,"Nombre y el registro de entrada válida"]
[null,"",null,null,null,"",null,null,null,{"$f":"IF(I2793=\"\",\"\",IF(VLOOKUP(I2793,CAD_Q!$C$6:$D$105,2,FALSE)=0,\"\",VLOOKUP(I2793,CAD_Q!$C$6:$D$105,2,FALSE)))","v":""},{"$f":"IFERROR(VLOOKUP(I2793,CAD_Q!$C$6:$E$109,3,FALSE)*F2793,\"\")","v":""},null,null,"",1,0,1900,0,1,1900,"Nombre y el registro de entrada válida"]
[null,"",null,null,null,"",null,null,null,{"$f":"IF(I2794=\"\",\"\",IF(VLOOKUP(I2794,CAD_Q!$C$6:$D$105,2,FALSE)=0,\"\",VLOOKUP(I2794,CAD_Q!$C$6:$D$105,2,FALSE)))","v":""},{"$f":"IFERROR(VLOOKUP(I2794,CAD_Q!$C$6:$E$109,3,FALSE)*F2794,\"\")","v":""},null,null,"",1,0,1900,0,1,1900,"Nombre y el registro de entrada válida"]
[null,"",null,null,null,"",null,null,null,{"$f":"IF(I2795=\"\",\"\",IF(VLOOKUP(I2795,CAD_Q!$C$6:$D$105,2,FALSE)=0,\"\",VLOOKUP(I2795,CAD_Q!$C$6:$D$105,2,FALSE)))","v":""},{"$f":"IFERROR(VLOOKUP(I2795,CAD_Q!$C$6:$E$109,3,FALSE)*F2795,\"\")","v":""},null,null,"",1,0,1900,0,1,1900,"Nombre y el registro de entrada válida"]
[null,"",null,null,null,"",null,null,null,{"$f":"IF(I2796=\"\",\"\",IF(VLOOKUP(I2796,CAD_Q!$C$6:$D$105,2,FALSE)=0,\"\",VLOOKUP(I2796,CAD_Q!$C$6:$D$105,2,FALSE)))","v":""},{"$f":"IFERROR(VLOOKUP(I2796,CAD_Q!$C$6:$E$109,3,FALSE)*F2796,\"\")","v":""},null,null,"",1,0,1900,0,1,1900,"Nombre y el registro de entrada válida"]
[null,"",null,null,null,"",null,null,null,{"$f":"IF(I2797=\"\",\"\",IF(VLOOKUP(I2797,CAD_Q!$C$6:$D$105,2,FALSE)=0,\"\",VLOOKUP(I2797,CAD_Q!$C$6:$D$105,2,FALSE)))","v":""},{"$f":"IFERROR(VLOOKUP(I2797,CAD_Q!$C$6:$E$109,3,FALSE)*F2797,\"\")","v":""},null,null,"",1,0,1900,0,1,1900,"Nombre y el registro de entrada válida"]
[null,"",null,null,null,"",null,null,null,{"$f":"IF(I2798=\"\",\"\",IF(VLOOKUP(I2798,CAD_Q!$C$6:$D$105,2,FALSE)=0,\"\",VLOOKUP(I2798,CAD_Q!$C$6:$D$105,2,FALSE)))","v":""},{"$f":"IFERROR(VLOOKUP(I2798,CAD_Q!$C$6:$E$109,3,FALSE)*F2798,\"\")","v":""},null,null,"",1,0,1900,0,1,1900,"Nombre y el registro de entrada válida"]
[null,"",null,null,null,"",null,null,null,{"$f":"IF(I2799=\"\",\"\",IF(VLOOKUP(I2799,CAD_Q!$C$6:$D$105,2,FALSE)=0,\"\",VLOOKUP(I2799,CAD_Q!$C$6:$D$105,2,FALSE)))","v":""},{"$f":"IFERROR(VLOOKUP(I2799,CAD_Q!$C$6:$E$109,3,FALSE)*F2799,\"\")","v":""},null,null,"",1,0,1900,0,1,1900,"Nombre y el registro de entrada válida"]
[null,"",null,null,null,"",null,null,null,{"$f":"IF(I2800=\"\",\"\",IF(VLOOKUP(I2800,CAD_Q!$C$6:$D$105,2,FALSE)=0,\"\",VLOOKUP(I2800,CAD_Q!$C$6:$D$105,2,FALSE)))","v":""},{"$f":"IFERROR(VLOOKUP(I2800,CAD_Q!$C$6:$E$109,3,FALSE)*F2800,\"\")","v":""},null,null,"",1,0,1900,0,1,1900,"Nombre y el registro de entrada válida"]
[null,"",null,null,null,"",null,null,null,{"$f":"IF(I2801=\"\",\"\",IF(VLOOKUP(I2801,CAD_Q!$C$6:$D$105,2,FALSE)=0,\"\",VLOOKUP(I2801,CAD_Q!$C$6:$D$105,2,FALSE)))","v":""},{"$f":"IFERROR(VLOOKUP(I2801,CAD_Q!$C$6:$E$109,3,FALSE)*F2801,\"\")","v":""},null,null,"",1,0,1900,0,1,1900,"Nombre y el registro de entrada válida"]
[null,"",null,null,null,"",null,null,null,{"$f":"IF(I2802=\"\",\"\",IF(VLOOKUP(I2802,CAD_Q!$C$6:$D$105,2,FALSE)=0,\"\",VLOOKUP(I2802,CAD_Q!$C$6:$D$105,2,FALSE)))","v":""},{"$f":"IFERROR(VLOOKUP(I2802,CAD_Q!$C$6:$E$109,3,FALSE)*F2802,\"\")","v":""},null,null,"",1,0,1900,0,1,1900,"Nombre y el registro de entrada válida"]
[null,"",null,null,null,"",null,null,null,{"$f":"IF(I2803=\"\",\"\",IF(VLOOKUP(I2803,CAD_Q!$C$6:$D$105,2,FALSE)=0,\"\",VLOOKUP(I2803,CAD_Q!$C$6:$D$105,2,FALSE)))","v":""},{"$f":"IFERROR(VLOOKUP(I2803,CAD_Q!$C$6:$E$109,3,FALSE)*F2803,\"\")","v":""},null,null,"",1,0,1900,0,1,1900,"Nombre y el registro de entrada válida"]
[null,"",null,null,null,"",null,null,null,{"$f":"IF(I2804=\"\",\"\",IF(VLOOKUP(I2804,CAD_Q!$C$6:$D$105,2,FALSE)=0,\"\",VLOOKUP(I2804,CAD_Q!$C$6:$D$105,2,FALSE)))","v":""},{"$f":"IFERROR(VLOOKUP(I2804,CAD_Q!$C$6:$E$109,3,FALSE)*F2804,\"\")","v":""},null,null,"",1,0,1900,0,1,1900,"Nombre y el registro de entrada válida"]
[null,"",null,null,null,"",null,null,null,{"$f":"IF(I2805=\"\",\"\",IF(VLOOKUP(I2805,CAD_Q!$C$6:$D$105,2,FALSE)=0,\"\",VLOOKUP(I2805,CAD_Q!$C$6:$D$105,2,FALSE)))","v":""},{"$f":"IFERROR(VLOOKUP(I2805,CAD_Q!$C$6:$E$109,3,FALSE)*F2805,\"\")","v":""},null,null,"",1,0,1900,0,1,1900,"Nombre y el registro de entrada válida"]
[null,"",null,null,null,"",null,null,null,{"$f":"IF(I2806=\"\",\"\",IF(VLOOKUP(I2806,CAD_Q!$C$6:$D$105,2,FALSE)=0,\"\",VLOOKUP(I2806,CAD_Q!$C$6:$D$105,2,FALSE)))","v":""},{"$f":"IFERROR(VLOOKUP(I2806,CAD_Q!$C$6:$E$109,3,FALSE)*F2806,\"\")","v":""},null,null,"",1,0,1900,0,1,1900,"Nombre y el registro de entrada válida"]
[null,"",null,null,null,"",null,null,null,{"$f":"IF(I2807=\"\",\"\",IF(VLOOKUP(I2807,CAD_Q!$C$6:$D$105,2,FALSE)=0,\"\",VLOOKUP(I2807,CAD_Q!$C$6:$D$105,2,FALSE)))","v":""},{"$f":"IFERROR(VLOOKUP(I2807,CAD_Q!$C$6:$E$109,3,FALSE)*F2807,\"\")","v":""},null,null,"",1,0,1900,0,1,1900,"Nombre y el registro de entrada válida"]
[null,"",null,null,null,"",null,null,null,{"$f":"IF(I2808=\"\",\"\",IF(VLOOKUP(I2808,CAD_Q!$C$6:$D$105,2,FALSE)=0,\"\",VLOOKUP(I2808,CAD_Q!$C$6:$D$105,2,FALSE)))","v":""},{"$f":"IFERROR(VLOOKUP(I2808,CAD_Q!$C$6:$E$109,3,FALSE)*F2808,\"\")","v":""},null,null,"",1,0,1900,0,1,1900,"Nombre y el registro de entrada válida"]
[null,"",null,null,null,"",null,null,null,{"$f":"IF(I2809=\"\",\"\",IF(VLOOKUP(I2809,CAD_Q!$C$6:$D$105,2,FALSE)=0,\"\",VLOOKUP(I2809,CAD_Q!$C$6:$D$105,2,FALSE)))","v":""},{"$f":"IFERROR(VLOOKUP(I2809,CAD_Q!$C$6:$E$109,3,FALSE)*F2809,\"\")","v":""},null,null,"",1,0,1900,0,1,1900,"Nombre y el registro de entrada válida"]
[null,"",null,null,null,"",null,null,null,{"$f":"IF(I2810=\"\",\"\",IF(VLOOKUP(I2810,CAD_Q!$C$6:$D$105,2,FALSE)=0,\"\",VLOOKUP(I2810,CAD_Q!$C$6:$D$105,2,FALSE)))","v":""},{"$f":"IFERROR(VLOOKUP(I2810,CAD_Q!$C$6:$E$109,3,FALSE)*F2810,\"\")","v":""},null,null,"",1,0,1900,0,1,1900,"Nombre y el registro de entrada válida"]
[null,"",null,null,null,"",null,null,null,{"$f":"IF(I2811=\"\",\"\",IF(VLOOKUP(I2811,CAD_Q!$C$6:$D$105,2,FALSE)=0,\"\",VLOOKUP(I2811,CAD_Q!$C$6:$D$105,2,FALSE)))","v":""},{"$f":"IFERROR(VLOOKUP(I2811,CAD_Q!$C$6:$E$109,3,FALSE)*F2811,\"\")","v":""},null,null,"",1,0,1900,0,1,1900,"Nombre y el registro de entrada válida"]
[null,"",null,null,null,"",null,null,null,{"$f":"IF(I2812=\"\",\"\",IF(VLOOKUP(I2812,CAD_Q!$C$6:$D$105,2,FALSE)=0,\"\",VLOOKUP(I2812,CAD_Q!$C$6:$D$105,2,FALSE)))","v":""},{"$f":"IFERROR(VLOOKUP(I2812,CAD_Q!$C$6:$E$109,3,FALSE)*F2812,\"\")","v":""},null,null,"",1,0,1900,0,1,1900,"Nombre y el registro de entrada válida"]
[null,"",null,null,null,"",null,null,null,{"$f":"IF(I2813=\"\",\"\",IF(VLOOKUP(I2813,CAD_Q!$C$6:$D$105,2,FALSE)=0,\"\",VLOOKUP(I2813,CAD_Q!$C$6:$D$105,2,FALSE)))","v":""},{"$f":"IFERROR(VLOOKUP(I2813,CAD_Q!$C$6:$E$109,3,FALSE)*F2813,\"\")","v":""},null,null,"",1,0,1900,0,1,1900,"Nombre y el registro de entrada válida"]
[null,"",null,null,null,"",null,null,null,{"$f":"IF(I2814=\"\",\"\",IF(VLOOKUP(I2814,CAD_Q!$C$6:$D$105,2,FALSE)=0,\"\",VLOOKUP(I2814,CAD_Q!$C$6:$D$105,2,FALSE)))","v":""},{"$f":"IFERROR(VLOOKUP(I2814,CAD_Q!$C$6:$E$109,3,FALSE)*F2814,\"\")","v":""},null,null,"",1,0,1900,0,1,1900,"Nombre y el registro de entrada válida"]
[null,"",null,null,null,"",null,null,null,{"$f":"IF(I2815=\"\",\"\",IF(VLOOKUP(I2815,CAD_Q!$C$6:$D$105,2,FALSE)=0,\"\",VLOOKUP(I2815,CAD_Q!$C$6:$D$105,2,FALSE)))","v":""},{"$f":"IFERROR(VLOOKUP(I2815,CAD_Q!$C$6:$E$109,3,FALSE)*F2815,\"\")","v":""},null,null,"",1,0,1900,0,1,1900,"Nombre y el registro de entrada válida"]
[null,"",null,null,null,"",null,null,null,{"$f":"IF(I2816=\"\",\"\",IF(VLOOKUP(I2816,CAD_Q!$C$6:$D$105,2,FALSE)=0,\"\",VLOOKUP(I2816,CAD_Q!$C$6:$D$105,2,FALSE)))","v":""},{"$f":"IFERROR(VLOOKUP(I2816,CAD_Q!$C$6:$E$109,3,FALSE)*F2816,\"\")","v":""},null,null,"",1,0,1900,0,1,1900,"Nombre y el registro de entrada válida"]
[null,"",null,null,null,"",null,null,null,{"$f":"IF(I2817=\"\",\"\",IF(VLOOKUP(I2817,CAD_Q!$C$6:$D$105,2,FALSE)=0,\"\",VLOOKUP(I2817,CAD_Q!$C$6:$D$105,2,FALSE)))","v":""},{"$f":"IFERROR(VLOOKUP(I2817,CAD_Q!$C$6:$E$109,3,FALSE)*F2817,\"\")","v":""},null,null,"",1,0,1900,0,1,1900,"Nombre y el registro de entrada válida"]
[null,"",null,null,null,"",null,null,null,{"$f":"IF(I2818=\"\",\"\",IF(VLOOKUP(I2818,CAD_Q!$C$6:$D$105,2,FALSE)=0,\"\",VLOOKUP(I2818,CAD_Q!$C$6:$D$105,2,FALSE)))","v":""},{"$f":"IFERROR(VLOOKUP(I2818,CAD_Q!$C$6:$E$109,3,FALSE)*F2818,\"\")","v":""},null,null,"",1,0,1900,0,1,1900,"Nombre y el registro de entrada válida"]
[null,"",null,null,null,"",null,null,null,{"$f":"IF(I2819=\"\",\"\",IF(VLOOKUP(I2819,CAD_Q!$C$6:$D$105,2,FALSE)=0,\"\",VLOOKUP(I2819,CAD_Q!$C$6:$D$105,2,FALSE)))","v":""},{"$f":"IFERROR(VLOOKUP(I2819,CAD_Q!$C$6:$E$109,3,FALSE)*F2819,\"\")","v":""},null,null,"",1,0,1900,0,1,1900,"Nombre y el registro de entrada válida"]
[null,"",null,null,null,"",null,null,null,{"$f":"IF(I2820=\"\",\"\",IF(VLOOKUP(I2820,CAD_Q!$C$6:$D$105,2,FALSE)=0,\"\",VLOOKUP(I2820,CAD_Q!$C$6:$D$105,2,FALSE)))","v":""},{"$f":"IFERROR(VLOOKUP(I2820,CAD_Q!$C$6:$E$109,3,FALSE)*F2820,\"\")","v":""},null,null,"",1,0,1900,0,1,1900,"Nombre y el registro de entrada válida"]
[null,"",null,null,null,"",null,null,null,{"$f":"IF(I2821=\"\",\"\",IF(VLOOKUP(I2821,CAD_Q!$C$6:$D$105,2,FALSE)=0,\"\",VLOOKUP(I2821,CAD_Q!$C$6:$D$105,2,FALSE)))","v":""},{"$f":"IFERROR(VLOOKUP(I2821,CAD_Q!$C$6:$E$109,3,FALSE)*F2821,\"\")","v":""},null,null,"",1,0,1900,0,1,1900,"Nombre y el registro de entrada válida"]
[null,"",null,null,null,"",null,null,null,{"$f":"IF(I2822=\"\",\"\",IF(VLOOKUP(I2822,CAD_Q!$C$6:$D$105,2,FALSE)=0,\"\",VLOOKUP(I2822,CAD_Q!$C$6:$D$105,2,FALSE)))","v":""},{"$f":"IFERROR(VLOOKUP(I2822,CAD_Q!$C$6:$E$109,3,FALSE)*F2822,\"\")","v":""},null,null,"",1,0,1900,0,1,1900,"Nombre y el registro de entrada válida"]
[null,{"$f":"CONCATENATE(C2823,D2823)","v":""},null,null,null,"",null,null,null,{"$f":"IF(I2823=\"\",\"\",IF(VLOOKUP(I2823,CAD_Q!$C$6:$D$105,2,FALSE)=0,\"\",VLOOKUP(I2823,CAD_Q!$C$6:$D$105,2,FALSE)))","v":""},{"$f":"IFERROR(VLOOKUP(I2823,CAD_Q!$C$6:$E$109,3,FALSE)*F2823,\"\")","v":""},null,null,{"$f":"IFERROR(K2823-L2823+M2823,\"\")","v":""},1,0,1900,0,1,1900,"Nombre y el registro de entrada válida"]
[null,"",null,null,null,"",null,null,null,{"$f":"IF(I2824=\"\",\"\",IF(VLOOKUP(I2824,CAD_Q!$C$6:$D$105,2,FALSE)=0,\"\",VLOOKUP(I2824,CAD_Q!$C$6:$D$105,2,FALSE)))","v":""},{"$f":"IFERROR(VLOOKUP(I2824,CAD_Q!$C$6:$E$109,3,FALSE)*F2824,\"\")","v":""},null,null,"",1,0,1900,0,1,1900,"Nombre y el registro de entrada válida"]
[null,"",null,null,null,"",null,null,null,{"$f":"IF(I2825=\"\",\"\",IF(VLOOKUP(I2825,CAD_Q!$C$6:$D$105,2,FALSE)=0,\"\",VLOOKUP(I2825,CAD_Q!$C$6:$D$105,2,FALSE)))","v":""},{"$f":"IFERROR(VLOOKUP(I2825,CAD_Q!$C$6:$E$109,3,FALSE)*F2825,\"\")","v":""},null,null,"",1,0,1900,0,1,1900,"Nombre y el registro de entrada válida"]
[null,"",null,null,null,"",null,null,null,{"$f":"IF(I2826=\"\",\"\",IF(VLOOKUP(I2826,CAD_Q!$C$6:$D$105,2,FALSE)=0,\"\",VLOOKUP(I2826,CAD_Q!$C$6:$D$105,2,FALSE)))","v":""},{"$f":"IFERROR(VLOOKUP(I2826,CAD_Q!$C$6:$E$109,3,FALSE)*F2826,\"\")","v":""},null,null,"",{"$f":"MONTH(D2826)","v":1},{"$f":"DAY(D2826)","v":0},{"$f":"YEAR(D2826)","v":1900},{"$f":"DAY(E2826)","v":0},{"$f":"MONTH(E2826)","v":1},{"$f":"YEAR(E2826)","v":1900},"Nombre y el registro de entrada válida"]
[null,"",null,null,null,"",null,null,null,{"$f":"IF(I2827=\"\",\"\",IF(VLOOKUP(I2827,CAD_Q!$C$6:$D$105,2,FALSE)=0,\"\",VLOOKUP(I2827,CAD_Q!$C$6:$D$105,2,FALSE)))","v":""},{"$f":"IFERROR(VLOOKUP(I2827,CAD_Q!$C$6:$E$109,3,FALSE)*F2827,\"\")","v":""},null,null,"",1,0,1900,0,1,1900,"Nombre y el registro de entrada válida"]
[null,"",null,null,null,"",null,null,null,{"$f":"IF(I2828=\"\",\"\",IF(VLOOKUP(I2828,CAD_Q!$C$6:$D$105,2,FALSE)=0,\"\",VLOOKUP(I2828,CAD_Q!$C$6:$D$105,2,FALSE)))","v":""},{"$f":"IFERROR(VLOOKUP(I2828,CAD_Q!$C$6:$E$109,3,FALSE)*F2828,\"\")","v":""},null,null,"",1,0,1900,0,1,1900,"Nombre y el registro de entrada válida"]
[null,"",null,null,null,"",null,null,null,{"$f":"IF(I2829=\"\",\"\",IF(VLOOKUP(I2829,CAD_Q!$C$6:$D$105,2,FALSE)=0,\"\",VLOOKUP(I2829,CAD_Q!$C$6:$D$105,2,FALSE)))","v":""},{"$f":"IFERROR(VLOOKUP(I2829,CAD_Q!$C$6:$E$109,3,FALSE)*F2829,\"\")","v":""},null,null,"",1,0,1900,0,1,1900,"Nombre y el registro de entrada válida"]
[null,"",null,null,null,"",null,null,null,{"$f":"IF(I2830=\"\",\"\",IF(VLOOKUP(I2830,CAD_Q!$C$6:$D$105,2,FALSE)=0,\"\",VLOOKUP(I2830,CAD_Q!$C$6:$D$105,2,FALSE)))","v":""},{"$f":"IFERROR(VLOOKUP(I2830,CAD_Q!$C$6:$E$109,3,FALSE)*F2830,\"\")","v":""},null,null,"",1,0,1900,0,1,1900,"Nombre y el registro de entrada válida"]
[null,"",null,null,null,"",null,null,null,{"$f":"IF(I2831=\"\",\"\",IF(VLOOKUP(I2831,CAD_Q!$C$6:$D$105,2,FALSE)=0,\"\",VLOOKUP(I2831,CAD_Q!$C$6:$D$105,2,FALSE)))","v":""},{"$f":"IFERROR(VLOOKUP(I2831,CAD_Q!$C$6:$E$109,3,FALSE)*F2831,\"\")","v":""},null,null,"",1,0,1900,0,1,1900,"Nombre y el registro de entrada válida"]
[null,"",null,null,null,"",null,null,null,{"$f":"IF(I2832=\"\",\"\",IF(VLOOKUP(I2832,CAD_Q!$C$6:$D$105,2,FALSE)=0,\"\",VLOOKUP(I2832,CAD_Q!$C$6:$D$105,2,FALSE)))","v":""},{"$f":"IFERROR(VLOOKUP(I2832,CAD_Q!$C$6:$E$109,3,FALSE)*F2832,\"\")","v":""},null,null,"",1,0,1900,0,1,1900,"Nombre y el registro de entrada válida"]
[null,"",null,null,null,"",null,null,null,{"$f":"IF(I2833=\"\",\"\",IF(VLOOKUP(I2833,CAD_Q!$C$6:$D$105,2,FALSE)=0,\"\",VLOOKUP(I2833,CAD_Q!$C$6:$D$105,2,FALSE)))","v":""},{"$f":"IFERROR(VLOOKUP(I2833,CAD_Q!$C$6:$E$109,3,FALSE)*F2833,\"\")","v":""},null,null,"",1,0,1900,0,1,1900,"Nombre y el registro de entrada válida"]
[null,"",null,null,null,"",null,null,null,{"$f":"IF(I2834=\"\",\"\",IF(VLOOKUP(I2834,CAD_Q!$C$6:$D$105,2,FALSE)=0,\"\",VLOOKUP(I2834,CAD_Q!$C$6:$D$105,2,FALSE)))","v":""},{"$f":"IFERROR(VLOOKUP(I2834,CAD_Q!$C$6:$E$109,3,FALSE)*F2834,\"\")","v":""},null,null,"",1,0,1900,0,1,1900,"Nombre y el registro de entrada válida"]
[null,"",null,null,null,"",null,null,null,{"$f":"IF(I2835=\"\",\"\",IF(VLOOKUP(I2835,CAD_Q!$C$6:$D$105,2,FALSE)=0,\"\",VLOOKUP(I2835,CAD_Q!$C$6:$D$105,2,FALSE)))","v":""},{"$f":"IFERROR(VLOOKUP(I2835,CAD_Q!$C$6:$E$109,3,FALSE)*F2835,\"\")","v":""},null,null,"",1,0,1900,0,1,1900,"Nombre y el registro de entrada válida"]
[null,"",null,null,null,"",null,null,null,{"$f":"IF(I2836=\"\",\"\",IF(VLOOKUP(I2836,CAD_Q!$C$6:$D$105,2,FALSE)=0,\"\",VLOOKUP(I2836,CAD_Q!$C$6:$D$105,2,FALSE)))","v":""},{"$f":"IFERROR(VLOOKUP(I2836,CAD_Q!$C$6:$E$109,3,FALSE)*F2836,\"\")","v":""},null,null,"",1,0,1900,0,1,1900,"Nombre y el registro de entrada válida"]
[null,"",null,null,null,"",null,null,null,{"$f":"IF(I2837=\"\",\"\",IF(VLOOKUP(I2837,CAD_Q!$C$6:$D$105,2,FALSE)=0,\"\",VLOOKUP(I2837,CAD_Q!$C$6:$D$105,2,FALSE)))","v":""},{"$f":"IFERROR(VLOOKUP(I2837,CAD_Q!$C$6:$E$109,3,FALSE)*F2837,\"\")","v":""},null,null,"",1,0,1900,0,1,1900,"Nombre y el registro de entrada válida"]
[null,"",null,null,null,"",null,null,null,{"$f":"IF(I2838=\"\",\"\",IF(VLOOKUP(I2838,CAD_Q!$C$6:$D$105,2,FALSE)=0,\"\",VLOOKUP(I2838,CAD_Q!$C$6:$D$105,2,FALSE)))","v":""},{"$f":"IFERROR(VLOOKUP(I2838,CAD_Q!$C$6:$E$109,3,FALSE)*F2838,\"\")","v":""},null,null,"",1,0,1900,0,1,1900,"Nombre y el registro de entrada válida"]
[null,"",null,null,null,"",null,null,null,{"$f":"IF(I2839=\"\",\"\",IF(VLOOKUP(I2839,CAD_Q!$C$6:$D$105,2,FALSE)=0,\"\",VLOOKUP(I2839,CAD_Q!$C$6:$D$105,2,FALSE)))","v":""},{"$f":"IFERROR(VLOOKUP(I2839,CAD_Q!$C$6:$E$109,3,FALSE)*F2839,\"\")","v":""},null,null,"",1,0,1900,0,1,1900,"Nombre y el registro de entrada válida"]
[null,"",null,null,null,"",null,null,null,{"$f":"IF(I2840=\"\",\"\",IF(VLOOKUP(I2840,CAD_Q!$C$6:$D$105,2,FALSE)=0,\"\",VLOOKUP(I2840,CAD_Q!$C$6:$D$105,2,FALSE)))","v":""},{"$f":"IFERROR(VLOOKUP(I2840,CAD_Q!$C$6:$E$109,3,FALSE)*F2840,\"\")","v":""},null,null,"",1,0,1900,0,1,1900,"Nombre y el registro de entrada válida"]
[null,"",null,null,null,"",null,null,null,{"$f":"IF(I2841=\"\",\"\",IF(VLOOKUP(I2841,CAD_Q!$C$6:$D$105,2,FALSE)=0,\"\",VLOOKUP(I2841,CAD_Q!$C$6:$D$105,2,FALSE)))","v":""},{"$f":"IFERROR(VLOOKUP(I2841,CAD_Q!$C$6:$E$109,3,FALSE)*F2841,\"\")","v":""},null,null,"",1,0,1900,0,1,1900,"Nombre y el registro de entrada válida"]
[null,"",null,null,null,"",null,null,null,{"$f":"IF(I2842=\"\",\"\",IF(VLOOKUP(I2842,CAD_Q!$C$6:$D$105,2,FALSE)=0,\"\",VLOOKUP(I2842,CAD_Q!$C$6:$D$105,2,FALSE)))","v":""},{"$f":"IFERROR(VLOOKUP(I2842,CAD_Q!$C$6:$E$109,3,FALSE)*F2842,\"\")","v":""},null,null,"",1,0,1900,0,1,1900,"Nombre y el registro de entrada válida"]
[null,"",null,null,null,"",null,null,null,{"$f":"IF(I2843=\"\",\"\",IF(VLOOKUP(I2843,CAD_Q!$C$6:$D$105,2,FALSE)=0,\"\",VLOOKUP(I2843,CAD_Q!$C$6:$D$105,2,FALSE)))","v":""},{"$f":"IFERROR(VLOOKUP(I2843,CAD_Q!$C$6:$E$109,3,FALSE)*F2843,\"\")","v":""},null,null,"",1,0,1900,0,1,1900,"Nombre y el registro de entrada válida"]
[null,"",null,null,null,"",null,null,null,{"$f":"IF(I2844=\"\",\"\",IF(VLOOKUP(I2844,CAD_Q!$C$6:$D$105,2,FALSE)=0,\"\",VLOOKUP(I2844,CAD_Q!$C$6:$D$105,2,FALSE)))","v":""},{"$f":"IFERROR(VLOOKUP(I2844,CAD_Q!$C$6:$E$109,3,FALSE)*F2844,\"\")","v":""},null,null,"",1,0,1900,0,1,1900,"Nombre y el registro de entrada válida"]
[null,"",null,null,null,"",null,null,null,{"$f":"IF(I2845=\"\",\"\",IF(VLOOKUP(I2845,CAD_Q!$C$6:$D$105,2,FALSE)=0,\"\",VLOOKUP(I2845,CAD_Q!$C$6:$D$105,2,FALSE)))","v":""},{"$f":"IFERROR(VLOOKUP(I2845,CAD_Q!$C$6:$E$109,3,FALSE)*F2845,\"\")","v":""},null,null,"",1,0,1900,0,1,1900,"Nombre y el registro de entrada válida"]
[null,"",null,null,null,"",null,null,null,{"$f":"IF(I2846=\"\",\"\",IF(VLOOKUP(I2846,CAD_Q!$C$6:$D$105,2,FALSE)=0,\"\",VLOOKUP(I2846,CAD_Q!$C$6:$D$105,2,FALSE)))","v":""},{"$f":"IFERROR(VLOOKUP(I2846,CAD_Q!$C$6:$E$109,3,FALSE)*F2846,\"\")","v":""},null,null,"",1,0,1900,0,1,1900,"Nombre y el registro de entrada válida"]
[null,"",null,null,null,"",null,null,null,{"$f":"IF(I2847=\"\",\"\",IF(VLOOKUP(I2847,CAD_Q!$C$6:$D$105,2,FALSE)=0,\"\",VLOOKUP(I2847,CAD_Q!$C$6:$D$105,2,FALSE)))","v":""},{"$f":"IFERROR(VLOOKUP(I2847,CAD_Q!$C$6:$E$109,3,FALSE)*F2847,\"\")","v":""},null,null,"",1,0,1900,0,1,1900,"Nombre y el registro de entrada válida"]
[null,"",null,null,null,"",null,null,null,{"$f":"IF(I2848=\"\",\"\",IF(VLOOKUP(I2848,CAD_Q!$C$6:$D$105,2,FALSE)=0,\"\",VLOOKUP(I2848,CAD_Q!$C$6:$D$105,2,FALSE)))","v":""},{"$f":"IFERROR(VLOOKUP(I2848,CAD_Q!$C$6:$E$109,3,FALSE)*F2848,\"\")","v":""},null,null,"",1,0,1900,0,1,1900,"Nombre y el registro de entrada válida"]
[null,"",null,null,null,"",null,null,null,{"$f":"IF(I2849=\"\",\"\",IF(VLOOKUP(I2849,CAD_Q!$C$6:$D$105,2,FALSE)=0,\"\",VLOOKUP(I2849,CAD_Q!$C$6:$D$105,2,FALSE)))","v":""},{"$f":"IFERROR(VLOOKUP(I2849,CAD_Q!$C$6:$E$109,3,FALSE)*F2849,\"\")","v":""},null,null,"",1,0,1900,0,1,1900,"Nombre y el registro de entrada válida"]
[null,"",null,null,null,"",null,null,null,{"$f":"IF(I2850=\"\",\"\",IF(VLOOKUP(I2850,CAD_Q!$C$6:$D$105,2,FALSE)=0,\"\",VLOOKUP(I2850,CAD_Q!$C$6:$D$105,2,FALSE)))","v":""},{"$f":"IFERROR(VLOOKUP(I2850,CAD_Q!$C$6:$E$109,3,FALSE)*F2850,\"\")","v":""},null,null,"",1,0,1900,0,1,1900,"Nombre y el registro de entrada válida"]
[null,"",null,null,null,"",null,null,null,{"$f":"IF(I2851=\"\",\"\",IF(VLOOKUP(I2851,CAD_Q!$C$6:$D$105,2,FALSE)=0,\"\",VLOOKUP(I2851,CAD_Q!$C$6:$D$105,2,FALSE)))","v":""},{"$f":"IFERROR(VLOOKUP(I2851,CAD_Q!$C$6:$E$109,3,FALSE)*F2851,\"\")","v":""},null,null,"",1,0,1900,0,1,1900,"Nombre y el registro de entrada válida"]
[null,"",null,null,null,{"$f":"IF(OR(D2852=\"\",E2852=\"\"),\"\",E2852-D2852)","v":""},null,null,null,{"$f":"IF(I2852=\"\",\"\",IF(VLOOKUP(I2852,CAD_Q!$C$6:$D$105,2,FALSE)=0,\"\",VLOOKUP(I2852,CAD_Q!$C$6:$D$105,2,FALSE)))","v":""},{"$f":"IFERROR(VLOOKUP(I2852,CAD_Q!$C$6:$E$109,3,FALSE)*F2852,\"\")","v":""},null,null,"",1,0,1900,0,1,1900,"Nombre y el registro de entrada válida"]
[null,"",null,null,null,"",null,null,null,{"$f":"IF(I2853=\"\",\"\",IF(VLOOKUP(I2853,CAD_Q!$C$6:$D$105,2,FALSE)=0,\"\",VLOOKUP(I2853,CAD_Q!$C$6:$D$105,2,FALSE)))","v":""},{"$f":"IFERROR(VLOOKUP(I2853,CAD_Q!$C$6:$E$109,3,FALSE)*F2853,\"\")","v":""},null,null,"",1,0,1900,0,1,1900,"Nombre y el registro de entrada válida"]
[null,"",null,null,null,"",null,null,null,{"$f":"IF(I2854=\"\",\"\",IF(VLOOKUP(I2854,CAD_Q!$C$6:$D$105,2,FALSE)=0,\"\",VLOOKUP(I2854,CAD_Q!$C$6:$D$105,2,FALSE)))","v":""},{"$f":"IFERROR(VLOOKUP(I2854,CAD_Q!$C$6:$E$109,3,FALSE)*F2854,\"\")","v":""},null,null,"",1,0,1900,0,1,1900,"Nombre y el registro de entrada válida"]
[null,"",null,null,null,"",null,null,null,{"$f":"IF(I2855=\"\",\"\",IF(VLOOKUP(I2855,CAD_Q!$C$6:$D$105,2,FALSE)=0,\"\",VLOOKUP(I2855,CAD_Q!$C$6:$D$105,2,FALSE)))","v":""},{"$f":"IFERROR(VLOOKUP(I2855,CAD_Q!$C$6:$E$109,3,FALSE)*F2855,\"\")","v":""},null,null,"",1,0,1900,0,1,1900,"Nombre y el registro de entrada válida"]
[null,"",null,null,null,"",null,null,null,{"$f":"IF(I2856=\"\",\"\",IF(VLOOKUP(I2856,CAD_Q!$C$6:$D$105,2,FALSE)=0,\"\",VLOOKUP(I2856,CAD_Q!$C$6:$D$105,2,FALSE)))","v":""},{"$f":"IFERROR(VLOOKUP(I2856,CAD_Q!$C$6:$E$109,3,FALSE)*F2856,\"\")","v":""},null,null,"",1,0,1900,0,1,1900,"Nombre y el registro de entrada válida"]
[null,"",null,null,null,"",null,null,null,{"$f":"IF(I2857=\"\",\"\",IF(VLOOKUP(I2857,CAD_Q!$C$6:$D$105,2,FALSE)=0,\"\",VLOOKUP(I2857,CAD_Q!$C$6:$D$105,2,FALSE)))","v":""},{"$f":"IFERROR(VLOOKUP(I2857,CAD_Q!$C$6:$E$109,3,FALSE)*F2857,\"\")","v":""},null,null,"",1,0,1900,0,1,1900,"Nombre y el registro de entrada válida"]
[null,"",null,null,null,"",null,null,null,{"$f":"IF(I2858=\"\",\"\",IF(VLOOKUP(I2858,CAD_Q!$C$6:$D$105,2,FALSE)=0,\"\",VLOOKUP(I2858,CAD_Q!$C$6:$D$105,2,FALSE)))","v":""},{"$f":"IFERROR(VLOOKUP(I2858,CAD_Q!$C$6:$E$109,3,FALSE)*F2858,\"\")","v":""},null,null,"",1,0,1900,0,1,1900,"Nombre y el registro de entrada válida"]
[null,"",null,null,null,"",null,null,null,{"$f":"IF(I2859=\"\",\"\",IF(VLOOKUP(I2859,CAD_Q!$C$6:$D$105,2,FALSE)=0,\"\",VLOOKUP(I2859,CAD_Q!$C$6:$D$105,2,FALSE)))","v":""},{"$f":"IFERROR(VLOOKUP(I2859,CAD_Q!$C$6:$E$109,3,FALSE)*F2859,\"\")","v":""},null,null,"",1,0,1900,0,1,1900,"Nombre y el registro de entrada válida"]
[null,"",null,null,null,"",null,null,null,{"$f":"IF(I2860=\"\",\"\",IF(VLOOKUP(I2860,CAD_Q!$C$6:$D$105,2,FALSE)=0,\"\",VLOOKUP(I2860,CAD_Q!$C$6:$D$105,2,FALSE)))","v":""},{"$f":"IFERROR(VLOOKUP(I2860,CAD_Q!$C$6:$E$109,3,FALSE)*F2860,\"\")","v":""},null,null,"",1,0,1900,0,1,1900,"Nombre y el registro de entrada válida"]
[null,"",null,null,null,"",null,null,null,{"$f":"IF(I2861=\"\",\"\",IF(VLOOKUP(I2861,CAD_Q!$C$6:$D$105,2,FALSE)=0,\"\",VLOOKUP(I2861,CAD_Q!$C$6:$D$105,2,FALSE)))","v":""},{"$f":"IFERROR(VLOOKUP(I2861,CAD_Q!$C$6:$E$109,3,FALSE)*F2861,\"\")","v":""},null,null,"",1,0,1900,0,1,1900,"Nombre y el registro de entrada válida"]
[null,"",null,null,null,"",null,null,null,{"$f":"IF(I2862=\"\",\"\",IF(VLOOKUP(I2862,CAD_Q!$C$6:$D$105,2,FALSE)=0,\"\",VLOOKUP(I2862,CAD_Q!$C$6:$D$105,2,FALSE)))","v":""},{"$f":"IFERROR(VLOOKUP(I2862,CAD_Q!$C$6:$E$109,3,FALSE)*F2862,\"\")","v":""},null,null,"",1,0,1900,0,1,1900,"Nombre y el registro de entrada válida"]
[null,"",null,null,null,"",null,null,null,{"$f":"IF(I2863=\"\",\"\",IF(VLOOKUP(I2863,CAD_Q!$C$6:$D$105,2,FALSE)=0,\"\",VLOOKUP(I2863,CAD_Q!$C$6:$D$105,2,FALSE)))","v":""},{"$f":"IFERROR(VLOOKUP(I2863,CAD_Q!$C$6:$E$109,3,FALSE)*F2863,\"\")","v":""},null,null,"",1,0,1900,0,1,1900,"Nombre y el registro de entrada válida"]
[null,"",null,null,null,"",null,null,null,{"$f":"IF(I2864=\"\",\"\",IF(VLOOKUP(I2864,CAD_Q!$C$6:$D$105,2,FALSE)=0,\"\",VLOOKUP(I2864,CAD_Q!$C$6:$D$105,2,FALSE)))","v":""},{"$f":"IFERROR(VLOOKUP(I2864,CAD_Q!$C$6:$E$109,3,FALSE)*F2864,\"\")","v":""},null,null,"",1,0,1900,0,1,1900,"Nombre y el registro de entrada válida"]
[null,"",null,null,null,"",null,null,null,{"$f":"IF(I2865=\"\",\"\",IF(VLOOKUP(I2865,CAD_Q!$C$6:$D$105,2,FALSE)=0,\"\",VLOOKUP(I2865,CAD_Q!$C$6:$D$105,2,FALSE)))","v":""},{"$f":"IFERROR(VLOOKUP(I2865,CAD_Q!$C$6:$E$109,3,FALSE)*F2865,\"\")","v":""},null,null,"",1,0,1900,0,1,1900,"Nombre y el registro de entrada válida"]
[null,"",null,null,null,"",null,null,null,{"$f":"IF(I2866=\"\",\"\",IF(VLOOKUP(I2866,CAD_Q!$C$6:$D$105,2,FALSE)=0,\"\",VLOOKUP(I2866,CAD_Q!$C$6:$D$105,2,FALSE)))","v":""},{"$f":"IFERROR(VLOOKUP(I2866,CAD_Q!$C$6:$E$109,3,FALSE)*F2866,\"\")","v":""},null,null,"",1,0,1900,0,1,1900,"Nombre y el registro de entrada válida"]
[null,"",null,null,null,"",null,null,null,{"$f":"IF(I2867=\"\",\"\",IF(VLOOKUP(I2867,CAD_Q!$C$6:$D$105,2,FALSE)=0,\"\",VLOOKUP(I2867,CAD_Q!$C$6:$D$105,2,FALSE)))","v":""},{"$f":"IFERROR(VLOOKUP(I2867,CAD_Q!$C$6:$E$109,3,FALSE)*F2867,\"\")","v":""},null,null,"",1,0,1900,0,1,1900,"Nombre y el registro de entrada válida"]
[null,"",null,null,null,"",null,null,null,{"$f":"IF(I2868=\"\",\"\",IF(VLOOKUP(I2868,CAD_Q!$C$6:$D$105,2,FALSE)=0,\"\",VLOOKUP(I2868,CAD_Q!$C$6:$D$105,2,FALSE)))","v":""},{"$f":"IFERROR(VLOOKUP(I2868,CAD_Q!$C$6:$E$109,3,FALSE)*F2868,\"\")","v":""},null,null,"",1,0,1900,0,1,1900,"Nombre y el registro de entrada válida"]
[null,"",null,null,null,"",null,null,null,{"$f":"IF(I2869=\"\",\"\",IF(VLOOKUP(I2869,CAD_Q!$C$6:$D$105,2,FALSE)=0,\"\",VLOOKUP(I2869,CAD_Q!$C$6:$D$105,2,FALSE)))","v":""},{"$f":"IFERROR(VLOOKUP(I2869,CAD_Q!$C$6:$E$109,3,FALSE)*F2869,\"\")","v":""},null,null,"",1,0,1900,0,1,1900,"Nombre y el registro de entrada válida"]
[null,"",null,null,null,"",null,null,null,{"$f":"IF(I2870=\"\",\"\",IF(VLOOKUP(I2870,CAD_Q!$C$6:$D$105,2,FALSE)=0,\"\",VLOOKUP(I2870,CAD_Q!$C$6:$D$105,2,FALSE)))","v":""},{"$f":"IFERROR(VLOOKUP(I2870,CAD_Q!$C$6:$E$109,3,FALSE)*F2870,\"\")","v":""},null,null,"",1,0,1900,0,1,1900,"Nombre y el registro de entrada válida"]
[null,"",null,null,null,"",null,null,null,{"$f":"IF(I2871=\"\",\"\",IF(VLOOKUP(I2871,CAD_Q!$C$6:$D$105,2,FALSE)=0,\"\",VLOOKUP(I2871,CAD_Q!$C$6:$D$105,2,FALSE)))","v":""},{"$f":"IFERROR(VLOOKUP(I2871,CAD_Q!$C$6:$E$109,3,FALSE)*F2871,\"\")","v":""},null,null,"",1,0,1900,0,1,1900,"Nombre y el registro de entrada válida"]
[null,"",null,null,null,"",null,null,null,{"$f":"IF(I2872=\"\",\"\",IF(VLOOKUP(I2872,CAD_Q!$C$6:$D$105,2,FALSE)=0,\"\",VLOOKUP(I2872,CAD_Q!$C$6:$D$105,2,FALSE)))","v":""},{"$f":"IFERROR(VLOOKUP(I2872,CAD_Q!$C$6:$E$109,3,FALSE)*F2872,\"\")","v":""},null,null,"",1,0,1900,0,1,1900,"Nombre y el registro de entrada válida"]
[null,"",null,null,null,"",null,null,null,{"$f":"IF(I2873=\"\",\"\",IF(VLOOKUP(I2873,CAD_Q!$C$6:$D$105,2,FALSE)=0,\"\",VLOOKUP(I2873,CAD_Q!$C$6:$D$105,2,FALSE)))","v":""},{"$f":"IFERROR(VLOOKUP(I2873,CAD_Q!$C$6:$E$109,3,FALSE)*F2873,\"\")","v":""},null,null,"",1,0,1900,0,1,1900,"Nombre y el registro de entrada válida"]
[null,"",null,null,null,"",null,null,null,{"$f":"IF(I2874=\"\",\"\",IF(VLOOKUP(I2874,CAD_Q!$C$6:$D$105,2,FALSE)=0,\"\",VLOOKUP(I2874,CAD_Q!$C$6:$D$105,2,FALSE)))","v":""},{"$f":"IFERROR(VLOOKUP(I2874,CAD_Q!$C$6:$E$109,3,FALSE)*F2874,\"\")","v":""},null,null,"",1,0,1900,0,1,1900,"Nombre y el registro de entrada válida"]
[null,"",null,null,null,"",null,null,null,{"$f":"IF(I2875=\"\",\"\",IF(VLOOKUP(I2875,CAD_Q!$C$6:$D$105,2,FALSE)=0,\"\",VLOOKUP(I2875,CAD_Q!$C$6:$D$105,2,FALSE)))","v":""},{"$f":"IFERROR(VLOOKUP(I2875,CAD_Q!$C$6:$E$109,3,FALSE)*F2875,\"\")","v":""},null,null,"",1,0,1900,0,1,1900,"Nombre y el registro de entrada válida"]
[null,"",null,null,null,"",null,null,null,{"$f":"IF(I2876=\"\",\"\",IF(VLOOKUP(I2876,CAD_Q!$C$6:$D$105,2,FALSE)=0,\"\",VLOOKUP(I2876,CAD_Q!$C$6:$D$105,2,FALSE)))","v":""},{"$f":"IFERROR(VLOOKUP(I2876,CAD_Q!$C$6:$E$109,3,FALSE)*F2876,\"\")","v":""},null,null,"",1,0,1900,0,1,1900,"Nombre y el registro de entrada válida"]
[null,"",null,null,null,"",null,null,null,{"$f":"IF(I2877=\"\",\"\",IF(VLOOKUP(I2877,CAD_Q!$C$6:$D$105,2,FALSE)=0,\"\",VLOOKUP(I2877,CAD_Q!$C$6:$D$105,2,FALSE)))","v":""},{"$f":"IFERROR(VLOOKUP(I2877,CAD_Q!$C$6:$E$109,3,FALSE)*F2877,\"\")","v":""},null,null,"",1,0,1900,0,1,1900,"Nombre y el registro de entrada válida"]
[null,"",null,null,null,"",null,null,null,{"$f":"IF(I2878=\"\",\"\",IF(VLOOKUP(I2878,CAD_Q!$C$6:$D$105,2,FALSE)=0,\"\",VLOOKUP(I2878,CAD_Q!$C$6:$D$105,2,FALSE)))","v":""},{"$f":"IFERROR(VLOOKUP(I2878,CAD_Q!$C$6:$E$109,3,FALSE)*F2878,\"\")","v":""},null,null,"",1,0,1900,0,1,1900,"Nombre y el registro de entrada válida"]
[null,"",null,null,null,"",null,null,null,{"$f":"IF(I2879=\"\",\"\",IF(VLOOKUP(I2879,CAD_Q!$C$6:$D$105,2,FALSE)=0,\"\",VLOOKUP(I2879,CAD_Q!$C$6:$D$105,2,FALSE)))","v":""},{"$f":"IFERROR(VLOOKUP(I2879,CAD_Q!$C$6:$E$109,3,FALSE)*F2879,\"\")","v":""},null,null,"",1,0,1900,0,1,1900,"Nombre y el registro de entrada válida"]
[null,"",null,null,null,"",null,null,null,{"$f":"IF(I2880=\"\",\"\",IF(VLOOKUP(I2880,CAD_Q!$C$6:$D$105,2,FALSE)=0,\"\",VLOOKUP(I2880,CAD_Q!$C$6:$D$105,2,FALSE)))","v":""},{"$f":"IFERROR(VLOOKUP(I2880,CAD_Q!$C$6:$E$109,3,FALSE)*F2880,\"\")","v":""},null,null,"",1,0,1900,0,1,1900,"Nombre y el registro de entrada válida"]
[null,"",null,null,null,"",null,null,null,{"$f":"IF(I2881=\"\",\"\",IF(VLOOKUP(I2881,CAD_Q!$C$6:$D$105,2,FALSE)=0,\"\",VLOOKUP(I2881,CAD_Q!$C$6:$D$105,2,FALSE)))","v":""},{"$f":"IFERROR(VLOOKUP(I2881,CAD_Q!$C$6:$E$109,3,FALSE)*F2881,\"\")","v":""},null,null,"",1,0,1900,0,1,1900,"Nombre y el registro de entrada válida"]
[null,"",null,null,null,"",null,null,null,{"$f":"IF(I2882=\"\",\"\",IF(VLOOKUP(I2882,CAD_Q!$C$6:$D$105,2,FALSE)=0,\"\",VLOOKUP(I2882,CAD_Q!$C$6:$D$105,2,FALSE)))","v":""},{"$f":"IFERROR(VLOOKUP(I2882,CAD_Q!$C$6:$E$109,3,FALSE)*F2882,\"\")","v":""},null,null,"",1,0,1900,0,1,1900,"Nombre y el registro de entrada válida"]
[null,"",null,null,null,"",null,null,null,{"$f":"IF(I2883=\"\",\"\",IF(VLOOKUP(I2883,CAD_Q!$C$6:$D$105,2,FALSE)=0,\"\",VLOOKUP(I2883,CAD_Q!$C$6:$D$105,2,FALSE)))","v":""},{"$f":"IFERROR(VLOOKUP(I2883,CAD_Q!$C$6:$E$109,3,FALSE)*F2883,\"\")","v":""},null,null,"",1,0,1900,0,1,1900,"Nombre y el registro de entrada válida"]
[null,"",null,null,null,"",null,null,null,{"$f":"IF(I2884=\"\",\"\",IF(VLOOKUP(I2884,CAD_Q!$C$6:$D$105,2,FALSE)=0,\"\",VLOOKUP(I2884,CAD_Q!$C$6:$D$105,2,FALSE)))","v":""},{"$f":"IFERROR(VLOOKUP(I2884,CAD_Q!$C$6:$E$109,3,FALSE)*F2884,\"\")","v":""},null,null,"",1,0,1900,0,1,1900,"Nombre y el registro de entrada válida"]
[null,"",null,null,null,"",null,null,null,{"$f":"IF(I2885=\"\",\"\",IF(VLOOKUP(I2885,CAD_Q!$C$6:$D$105,2,FALSE)=0,\"\",VLOOKUP(I2885,CAD_Q!$C$6:$D$105,2,FALSE)))","v":""},{"$f":"IFERROR(VLOOKUP(I2885,CAD_Q!$C$6:$E$109,3,FALSE)*F2885,\"\")","v":""},null,null,"",1,0,1900,0,1,1900,"Nombre y el registro de entrada válida"]
[null,"",null,null,null,"",null,null,null,{"$f":"IF(I2886=\"\",\"\",IF(VLOOKUP(I2886,CAD_Q!$C$6:$D$105,2,FALSE)=0,\"\",VLOOKUP(I2886,CAD_Q!$C$6:$D$105,2,FALSE)))","v":""},{"$f":"IFERROR(VLOOKUP(I2886,CAD_Q!$C$6:$E$109,3,FALSE)*F2886,\"\")","v":""},null,null,"",1,0,1900,0,1,1900,"Nombre y el registro de entrada válida"]
[null,{"$f":"CONCATENATE(C2887,D2887)","v":""},null,null,null,"",null,null,null,{"$f":"IF(I2887=\"\",\"\",IF(VLOOKUP(I2887,CAD_Q!$C$6:$D$105,2,FALSE)=0,\"\",VLOOKUP(I2887,CAD_Q!$C$6:$D$105,2,FALSE)))","v":""},{"$f":"IFERROR(VLOOKUP(I2887,CAD_Q!$C$6:$E$109,3,FALSE)*F2887,\"\")","v":""},null,null,{"$f":"IFERROR(K2887-L2887+M2887,\"\")","v":""},1,0,1900,0,1,1900,"Nombre y el registro de entrada válida"]
[null,"",null,null,null,"",null,null,null,{"$f":"IF(I2888=\"\",\"\",IF(VLOOKUP(I2888,CAD_Q!$C$6:$D$105,2,FALSE)=0,\"\",VLOOKUP(I2888,CAD_Q!$C$6:$D$105,2,FALSE)))","v":""},{"$f":"IFERROR(VLOOKUP(I2888,CAD_Q!$C$6:$E$109,3,FALSE)*F2888,\"\")","v":""},null,null,"",1,0,1900,0,1,1900,"Nombre y el registro de entrada válida"]
[null,"",null,null,null,"",null,null,null,{"$f":"IF(I2889=\"\",\"\",IF(VLOOKUP(I2889,CAD_Q!$C$6:$D$105,2,FALSE)=0,\"\",VLOOKUP(I2889,CAD_Q!$C$6:$D$105,2,FALSE)))","v":""},{"$f":"IFERROR(VLOOKUP(I2889,CAD_Q!$C$6:$E$109,3,FALSE)*F2889,\"\")","v":""},null,null,"",1,0,1900,0,1,1900,"Nombre y el registro de entrada válida"]
[null,"",null,null,null,"",null,null,null,{"$f":"IF(I2890=\"\",\"\",IF(VLOOKUP(I2890,CAD_Q!$C$6:$D$105,2,FALSE)=0,\"\",VLOOKUP(I2890,CAD_Q!$C$6:$D$105,2,FALSE)))","v":""},{"$f":"IFERROR(VLOOKUP(I2890,CAD_Q!$C$6:$E$109,3,FALSE)*F2890,\"\")","v":""},null,null,"",{"$f":"MONTH(D2890)","v":1},{"$f":"DAY(D2890)","v":0},{"$f":"YEAR(D2890)","v":1900},{"$f":"DAY(E2890)","v":0},{"$f":"MONTH(E2890)","v":1},{"$f":"YEAR(E2890)","v":1900},"Nombre y el registro de entrada válida"]
[null,"",null,null,null,"",null,null,null,{"$f":"IF(I2891=\"\",\"\",IF(VLOOKUP(I2891,CAD_Q!$C$6:$D$105,2,FALSE)=0,\"\",VLOOKUP(I2891,CAD_Q!$C$6:$D$105,2,FALSE)))","v":""},{"$f":"IFERROR(VLOOKUP(I2891,CAD_Q!$C$6:$E$109,3,FALSE)*F2891,\"\")","v":""},null,null,"",1,0,1900,0,1,1900,"Nombre y el registro de entrada válida"]
[null,"",null,null,null,"",null,null,null,{"$f":"IF(I2892=\"\",\"\",IF(VLOOKUP(I2892,CAD_Q!$C$6:$D$105,2,FALSE)=0,\"\",VLOOKUP(I2892,CAD_Q!$C$6:$D$105,2,FALSE)))","v":""},{"$f":"IFERROR(VLOOKUP(I2892,CAD_Q!$C$6:$E$109,3,FALSE)*F2892,\"\")","v":""},null,null,"",1,0,1900,0,1,1900,"Nombre y el registro de entrada válida"]
[null,"",null,null,null,"",null,null,null,{"$f":"IF(I2893=\"\",\"\",IF(VLOOKUP(I2893,CAD_Q!$C$6:$D$105,2,FALSE)=0,\"\",VLOOKUP(I2893,CAD_Q!$C$6:$D$105,2,FALSE)))","v":""},{"$f":"IFERROR(VLOOKUP(I2893,CAD_Q!$C$6:$E$109,3,FALSE)*F2893,\"\")","v":""},null,null,"",1,0,1900,0,1,1900,"Nombre y el registro de entrada válida"]
[null,"",null,null,null,"",null,null,null,{"$f":"IF(I2894=\"\",\"\",IF(VLOOKUP(I2894,CAD_Q!$C$6:$D$105,2,FALSE)=0,\"\",VLOOKUP(I2894,CAD_Q!$C$6:$D$105,2,FALSE)))","v":""},{"$f":"IFERROR(VLOOKUP(I2894,CAD_Q!$C$6:$E$109,3,FALSE)*F2894,\"\")","v":""},null,null,"",1,0,1900,0,1,1900,"Nombre y el registro de entrada válida"]
[null,"",null,null,null,"",null,null,null,{"$f":"IF(I2895=\"\",\"\",IF(VLOOKUP(I2895,CAD_Q!$C$6:$D$105,2,FALSE)=0,\"\",VLOOKUP(I2895,CAD_Q!$C$6:$D$105,2,FALSE)))","v":""},{"$f":"IFERROR(VLOOKUP(I2895,CAD_Q!$C$6:$E$109,3,FALSE)*F2895,\"\")","v":""},null,null,"",1,0,1900,0,1,1900,"Nombre y el registro de entrada válida"]
[null,"",null,null,null,"",null,null,null,{"$f":"IF(I2896=\"\",\"\",IF(VLOOKUP(I2896,CAD_Q!$C$6:$D$105,2,FALSE)=0,\"\",VLOOKUP(I2896,CAD_Q!$C$6:$D$105,2,FALSE)))","v":""},{"$f":"IFERROR(VLOOKUP(I2896,CAD_Q!$C$6:$E$109,3,FALSE)*F2896,\"\")","v":""},null,null,"",1,0,1900,0,1,1900,"Nombre y el registro de entrada válida"]
[null,"",null,null,null,"",null,null,null,{"$f":"IF(I2897=\"\",\"\",IF(VLOOKUP(I2897,CAD_Q!$C$6:$D$105,2,FALSE)=0,\"\",VLOOKUP(I2897,CAD_Q!$C$6:$D$105,2,FALSE)))","v":""},{"$f":"IFERROR(VLOOKUP(I2897,CAD_Q!$C$6:$E$109,3,FALSE)*F2897,\"\")","v":""},null,null,"",1,0,1900,0,1,1900,"Nombre y el registro de entrada válida"]
[null,"",null,null,null,"",null,null,null,{"$f":"IF(I2898=\"\",\"\",IF(VLOOKUP(I2898,CAD_Q!$C$6:$D$105,2,FALSE)=0,\"\",VLOOKUP(I2898,CAD_Q!$C$6:$D$105,2,FALSE)))","v":""},{"$f":"IFERROR(VLOOKUP(I2898,CAD_Q!$C$6:$E$109,3,FALSE)*F2898,\"\")","v":""},null,null,"",1,0,1900,0,1,1900,"Nombre y el registro de entrada válida"]
[null,"",null,null,null,"",null,null,null,{"$f":"IF(I2899=\"\",\"\",IF(VLOOKUP(I2899,CAD_Q!$C$6:$D$105,2,FALSE)=0,\"\",VLOOKUP(I2899,CAD_Q!$C$6:$D$105,2,FALSE)))","v":""},{"$f":"IFERROR(VLOOKUP(I2899,CAD_Q!$C$6:$E$109,3,FALSE)*F2899,\"\")","v":""},null,null,"",1,0,1900,0,1,1900,"Nombre y el registro de entrada válida"]
[null,"",null,null,null,"",null,null,null,{"$f":"IF(I2900=\"\",\"\",IF(VLOOKUP(I2900,CAD_Q!$C$6:$D$105,2,FALSE)=0,\"\",VLOOKUP(I2900,CAD_Q!$C$6:$D$105,2,FALSE)))","v":""},{"$f":"IFERROR(VLOOKUP(I2900,CAD_Q!$C$6:$E$109,3,FALSE)*F2900,\"\")","v":""},null,null,"",1,0,1900,0,1,1900,"Nombre y el registro de entrada válida"]
[null,"",null,null,null,"",null,null,null,{"$f":"IF(I2901=\"\",\"\",IF(VLOOKUP(I2901,CAD_Q!$C$6:$D$105,2,FALSE)=0,\"\",VLOOKUP(I2901,CAD_Q!$C$6:$D$105,2,FALSE)))","v":""},{"$f":"IFERROR(VLOOKUP(I2901,CAD_Q!$C$6:$E$109,3,FALSE)*F2901,\"\")","v":""},null,null,"",1,0,1900,0,1,1900,"Nombre y el registro de entrada válida"]
[null,"",null,null,null,"",null,null,null,{"$f":"IF(I2902=\"\",\"\",IF(VLOOKUP(I2902,CAD_Q!$C$6:$D$105,2,FALSE)=0,\"\",VLOOKUP(I2902,CAD_Q!$C$6:$D$105,2,FALSE)))","v":""},{"$f":"IFERROR(VLOOKUP(I2902,CAD_Q!$C$6:$E$109,3,FALSE)*F2902,\"\")","v":""},null,null,"",1,0,1900,0,1,1900,"Nombre y el registro de entrada válida"]
[null,"",null,null,null,"",null,null,null,{"$f":"IF(I2903=\"\",\"\",IF(VLOOKUP(I2903,CAD_Q!$C$6:$D$105,2,FALSE)=0,\"\",VLOOKUP(I2903,CAD_Q!$C$6:$D$105,2,FALSE)))","v":""},{"$f":"IFERROR(VLOOKUP(I2903,CAD_Q!$C$6:$E$109,3,FALSE)*F2903,\"\")","v":""},null,null,"",1,0,1900,0,1,1900,"Nombre y el registro de entrada válida"]
[null,"",null,null,null,"",null,null,null,{"$f":"IF(I2904=\"\",\"\",IF(VLOOKUP(I2904,CAD_Q!$C$6:$D$105,2,FALSE)=0,\"\",VLOOKUP(I2904,CAD_Q!$C$6:$D$105,2,FALSE)))","v":""},{"$f":"IFERROR(VLOOKUP(I2904,CAD_Q!$C$6:$E$109,3,FALSE)*F2904,\"\")","v":""},null,null,"",1,0,1900,0,1,1900,"Nombre y el registro de entrada válida"]
[null,"",null,null,null,"",null,null,null,{"$f":"IF(I2905=\"\",\"\",IF(VLOOKUP(I2905,CAD_Q!$C$6:$D$105,2,FALSE)=0,\"\",VLOOKUP(I2905,CAD_Q!$C$6:$D$105,2,FALSE)))","v":""},{"$f":"IFERROR(VLOOKUP(I2905,CAD_Q!$C$6:$E$109,3,FALSE)*F2905,\"\")","v":""},null,null,"",1,0,1900,0,1,1900,"Nombre y el registro de entrada válida"]
[null,"",null,null,null,"",null,null,null,{"$f":"IF(I2906=\"\",\"\",IF(VLOOKUP(I2906,CAD_Q!$C$6:$D$105,2,FALSE)=0,\"\",VLOOKUP(I2906,CAD_Q!$C$6:$D$105,2,FALSE)))","v":""},{"$f":"IFERROR(VLOOKUP(I2906,CAD_Q!$C$6:$E$109,3,FALSE)*F2906,\"\")","v":""},null,null,"",1,0,1900,0,1,1900,"Nombre y el registro de entrada válida"]
[null,"",null,null,null,"",null,null,null,{"$f":"IF(I2907=\"\",\"\",IF(VLOOKUP(I2907,CAD_Q!$C$6:$D$105,2,FALSE)=0,\"\",VLOOKUP(I2907,CAD_Q!$C$6:$D$105,2,FALSE)))","v":""},{"$f":"IFERROR(VLOOKUP(I2907,CAD_Q!$C$6:$E$109,3,FALSE)*F2907,\"\")","v":""},null,null,"",1,0,1900,0,1,1900,"Nombre y el registro de entrada válida"]
[null,"",null,null,null,"",null,null,null,{"$f":"IF(I2908=\"\",\"\",IF(VLOOKUP(I2908,CAD_Q!$C$6:$D$105,2,FALSE)=0,\"\",VLOOKUP(I2908,CAD_Q!$C$6:$D$105,2,FALSE)))","v":""},{"$f":"IFERROR(VLOOKUP(I2908,CAD_Q!$C$6:$E$109,3,FALSE)*F2908,\"\")","v":""},null,null,"",1,0,1900,0,1,1900,"Nombre y el registro de entrada válida"]
[null,"",null,null,null,"",null,null,null,{"$f":"IF(I2909=\"\",\"\",IF(VLOOKUP(I2909,CAD_Q!$C$6:$D$105,2,FALSE)=0,\"\",VLOOKUP(I2909,CAD_Q!$C$6:$D$105,2,FALSE)))","v":""},{"$f":"IFERROR(VLOOKUP(I2909,CAD_Q!$C$6:$E$109,3,FALSE)*F2909,\"\")","v":""},null,null,"",1,0,1900,0,1,1900,"Nombre y el registro de entrada válida"]
[null,"",null,null,null,"",null,null,null,{"$f":"IF(I2910=\"\",\"\",IF(VLOOKUP(I2910,CAD_Q!$C$6:$D$105,2,FALSE)=0,\"\",VLOOKUP(I2910,CAD_Q!$C$6:$D$105,2,FALSE)))","v":""},{"$f":"IFERROR(VLOOKUP(I2910,CAD_Q!$C$6:$E$109,3,FALSE)*F2910,\"\")","v":""},null,null,"",1,0,1900,0,1,1900,"Nombre y el registro de entrada válida"]
[null,"",null,null,null,"",null,null,null,{"$f":"IF(I2911=\"\",\"\",IF(VLOOKUP(I2911,CAD_Q!$C$6:$D$105,2,FALSE)=0,\"\",VLOOKUP(I2911,CAD_Q!$C$6:$D$105,2,FALSE)))","v":""},{"$f":"IFERROR(VLOOKUP(I2911,CAD_Q!$C$6:$E$109,3,FALSE)*F2911,\"\")","v":""},null,null,"",1,0,1900,0,1,1900,"Nombre y el registro de entrada válida"]
[null,"",null,null,null,"",null,null,null,{"$f":"IF(I2912=\"\",\"\",IF(VLOOKUP(I2912,CAD_Q!$C$6:$D$105,2,FALSE)=0,\"\",VLOOKUP(I2912,CAD_Q!$C$6:$D$105,2,FALSE)))","v":""},{"$f":"IFERROR(VLOOKUP(I2912,CAD_Q!$C$6:$E$109,3,FALSE)*F2912,\"\")","v":""},null,null,"",1,0,1900,0,1,1900,"Nombre y el registro de entrada válida"]
[null,"",null,null,null,"",null,null,null,{"$f":"IF(I2913=\"\",\"\",IF(VLOOKUP(I2913,CAD_Q!$C$6:$D$105,2,FALSE)=0,\"\",VLOOKUP(I2913,CAD_Q!$C$6:$D$105,2,FALSE)))","v":""},{"$f":"IFERROR(VLOOKUP(I2913,CAD_Q!$C$6:$E$109,3,FALSE)*F2913,\"\")","v":""},null,null,"",1,0,1900,0,1,1900,"Nombre y el registro de entrada válida"]
[null,"",null,null,null,"",null,null,null,{"$f":"IF(I2914=\"\",\"\",IF(VLOOKUP(I2914,CAD_Q!$C$6:$D$105,2,FALSE)=0,\"\",VLOOKUP(I2914,CAD_Q!$C$6:$D$105,2,FALSE)))","v":""},{"$f":"IFERROR(VLOOKUP(I2914,CAD_Q!$C$6:$E$109,3,FALSE)*F2914,\"\")","v":""},null,null,"",1,0,1900,0,1,1900,"Nombre y el registro de entrada válida"]
[null,"",null,null,null,"",null,null,null,{"$f":"IF(I2915=\"\",\"\",IF(VLOOKUP(I2915,CAD_Q!$C$6:$D$105,2,FALSE)=0,\"\",VLOOKUP(I2915,CAD_Q!$C$6:$D$105,2,FALSE)))","v":""},{"$f":"IFERROR(VLOOKUP(I2915,CAD_Q!$C$6:$E$109,3,FALSE)*F2915,\"\")","v":""},null,null,"",1,0,1900,0,1,1900,"Nombre y el registro de entrada válida"]
[null,"",null,null,null,{"$f":"IF(OR(D2916=\"\",E2916=\"\"),\"\",E2916-D2916)","v":""},null,null,null,{"$f":"IF(I2916=\"\",\"\",IF(VLOOKUP(I2916,CAD_Q!$C$6:$D$105,2,FALSE)=0,\"\",VLOOKUP(I2916,CAD_Q!$C$6:$D$105,2,FALSE)))","v":""},{"$f":"IFERROR(VLOOKUP(I2916,CAD_Q!$C$6:$E$109,3,FALSE)*F2916,\"\")","v":""},null,null,"",1,0,1900,0,1,1900,"Nombre y el registro de entrada válida"]
[null,"",null,null,null,"",null,null,null,{"$f":"IF(I2917=\"\",\"\",IF(VLOOKUP(I2917,CAD_Q!$C$6:$D$105,2,FALSE)=0,\"\",VLOOKUP(I2917,CAD_Q!$C$6:$D$105,2,FALSE)))","v":""},{"$f":"IFERROR(VLOOKUP(I2917,CAD_Q!$C$6:$E$109,3,FALSE)*F2917,\"\")","v":""},null,null,"",1,0,1900,0,1,1900,"Nombre y el registro de entrada válida"]
[null,"",null,null,null,"",null,null,null,{"$f":"IF(I2918=\"\",\"\",IF(VLOOKUP(I2918,CAD_Q!$C$6:$D$105,2,FALSE)=0,\"\",VLOOKUP(I2918,CAD_Q!$C$6:$D$105,2,FALSE)))","v":""},{"$f":"IFERROR(VLOOKUP(I2918,CAD_Q!$C$6:$E$109,3,FALSE)*F2918,\"\")","v":""},null,null,"",1,0,1900,0,1,1900,"Nombre y el registro de entrada válida"]
[null,"",null,null,null,"",null,null,null,{"$f":"IF(I2919=\"\",\"\",IF(VLOOKUP(I2919,CAD_Q!$C$6:$D$105,2,FALSE)=0,\"\",VLOOKUP(I2919,CAD_Q!$C$6:$D$105,2,FALSE)))","v":""},{"$f":"IFERROR(VLOOKUP(I2919,CAD_Q!$C$6:$E$109,3,FALSE)*F2919,\"\")","v":""},null,null,"",1,0,1900,0,1,1900,"Nombre y el registro de entrada válida"]
[null,"",null,null,null,"",null,null,null,{"$f":"IF(I2920=\"\",\"\",IF(VLOOKUP(I2920,CAD_Q!$C$6:$D$105,2,FALSE)=0,\"\",VLOOKUP(I2920,CAD_Q!$C$6:$D$105,2,FALSE)))","v":""},{"$f":"IFERROR(VLOOKUP(I2920,CAD_Q!$C$6:$E$109,3,FALSE)*F2920,\"\")","v":""},null,null,"",1,0,1900,0,1,1900,"Nombre y el registro de entrada válida"]
[null,"",null,null,null,"",null,null,null,{"$f":"IF(I2921=\"\",\"\",IF(VLOOKUP(I2921,CAD_Q!$C$6:$D$105,2,FALSE)=0,\"\",VLOOKUP(I2921,CAD_Q!$C$6:$D$105,2,FALSE)))","v":""},{"$f":"IFERROR(VLOOKUP(I2921,CAD_Q!$C$6:$E$109,3,FALSE)*F2921,\"\")","v":""},null,null,"",1,0,1900,0,1,1900,"Nombre y el registro de entrada válida"]
[null,"",null,null,null,"",null,null,null,{"$f":"IF(I2922=\"\",\"\",IF(VLOOKUP(I2922,CAD_Q!$C$6:$D$105,2,FALSE)=0,\"\",VLOOKUP(I2922,CAD_Q!$C$6:$D$105,2,FALSE)))","v":""},{"$f":"IFERROR(VLOOKUP(I2922,CAD_Q!$C$6:$E$109,3,FALSE)*F2922,\"\")","v":""},null,null,"",1,0,1900,0,1,1900,"Nombre y el registro de entrada válida"]
[null,"",null,null,null,"",null,null,null,{"$f":"IF(I2923=\"\",\"\",IF(VLOOKUP(I2923,CAD_Q!$C$6:$D$105,2,FALSE)=0,\"\",VLOOKUP(I2923,CAD_Q!$C$6:$D$105,2,FALSE)))","v":""},{"$f":"IFERROR(VLOOKUP(I2923,CAD_Q!$C$6:$E$109,3,FALSE)*F2923,\"\")","v":""},null,null,"",1,0,1900,0,1,1900,"Nombre y el registro de entrada válida"]
[null,"",null,null,null,"",null,null,null,{"$f":"IF(I2924=\"\",\"\",IF(VLOOKUP(I2924,CAD_Q!$C$6:$D$105,2,FALSE)=0,\"\",VLOOKUP(I2924,CAD_Q!$C$6:$D$105,2,FALSE)))","v":""},{"$f":"IFERROR(VLOOKUP(I2924,CAD_Q!$C$6:$E$109,3,FALSE)*F2924,\"\")","v":""},null,null,"",1,0,1900,0,1,1900,"Nombre y el registro de entrada válida"]
[null,"",null,null,null,"",null,null,null,{"$f":"IF(I2925=\"\",\"\",IF(VLOOKUP(I2925,CAD_Q!$C$6:$D$105,2,FALSE)=0,\"\",VLOOKUP(I2925,CAD_Q!$C$6:$D$105,2,FALSE)))","v":""},{"$f":"IFERROR(VLOOKUP(I2925,CAD_Q!$C$6:$E$109,3,FALSE)*F2925,\"\")","v":""},null,null,"",1,0,1900,0,1,1900,"Nombre y el registro de entrada válida"]
[null,"",null,null,null,"",null,null,null,{"$f":"IF(I2926=\"\",\"\",IF(VLOOKUP(I2926,CAD_Q!$C$6:$D$105,2,FALSE)=0,\"\",VLOOKUP(I2926,CAD_Q!$C$6:$D$105,2,FALSE)))","v":""},{"$f":"IFERROR(VLOOKUP(I2926,CAD_Q!$C$6:$E$109,3,FALSE)*F2926,\"\")","v":""},null,null,"",1,0,1900,0,1,1900,"Nombre y el registro de entrada válida"]
[null,"",null,null,null,"",null,null,null,{"$f":"IF(I2927=\"\",\"\",IF(VLOOKUP(I2927,CAD_Q!$C$6:$D$105,2,FALSE)=0,\"\",VLOOKUP(I2927,CAD_Q!$C$6:$D$105,2,FALSE)))","v":""},{"$f":"IFERROR(VLOOKUP(I2927,CAD_Q!$C$6:$E$109,3,FALSE)*F2927,\"\")","v":""},null,null,"",1,0,1900,0,1,1900,"Nombre y el registro de entrada válida"]
[null,"",null,null,null,"",null,null,null,{"$f":"IF(I2928=\"\",\"\",IF(VLOOKUP(I2928,CAD_Q!$C$6:$D$105,2,FALSE)=0,\"\",VLOOKUP(I2928,CAD_Q!$C$6:$D$105,2,FALSE)))","v":""},{"$f":"IFERROR(VLOOKUP(I2928,CAD_Q!$C$6:$E$109,3,FALSE)*F2928,\"\")","v":""},null,null,"",1,0,1900,0,1,1900,"Nombre y el registro de entrada válida"]
[null,"",null,null,null,"",null,null,null,{"$f":"IF(I2929=\"\",\"\",IF(VLOOKUP(I2929,CAD_Q!$C$6:$D$105,2,FALSE)=0,\"\",VLOOKUP(I2929,CAD_Q!$C$6:$D$105,2,FALSE)))","v":""},{"$f":"IFERROR(VLOOKUP(I2929,CAD_Q!$C$6:$E$109,3,FALSE)*F2929,\"\")","v":""},null,null,"",1,0,1900,0,1,1900,"Nombre y el registro de entrada válida"]
[null,"",null,null,null,"",null,null,null,{"$f":"IF(I2930=\"\",\"\",IF(VLOOKUP(I2930,CAD_Q!$C$6:$D$105,2,FALSE)=0,\"\",VLOOKUP(I2930,CAD_Q!$C$6:$D$105,2,FALSE)))","v":""},{"$f":"IFERROR(VLOOKUP(I2930,CAD_Q!$C$6:$E$109,3,FALSE)*F2930,\"\")","v":""},null,null,"",1,0,1900,0,1,1900,"Nombre y el registro de entrada válida"]
[null,"",null,null,null,"",null,null,null,{"$f":"IF(I2931=\"\",\"\",IF(VLOOKUP(I2931,CAD_Q!$C$6:$D$105,2,FALSE)=0,\"\",VLOOKUP(I2931,CAD_Q!$C$6:$D$105,2,FALSE)))","v":""},{"$f":"IFERROR(VLOOKUP(I2931,CAD_Q!$C$6:$E$109,3,FALSE)*F2931,\"\")","v":""},null,null,"",1,0,1900,0,1,1900,"Nombre y el registro de entrada válida"]
[null,"",null,null,null,"",null,null,null,{"$f":"IF(I2932=\"\",\"\",IF(VLOOKUP(I2932,CAD_Q!$C$6:$D$105,2,FALSE)=0,\"\",VLOOKUP(I2932,CAD_Q!$C$6:$D$105,2,FALSE)))","v":""},{"$f":"IFERROR(VLOOKUP(I2932,CAD_Q!$C$6:$E$109,3,FALSE)*F2932,\"\")","v":""},null,null,"",1,0,1900,0,1,1900,"Nombre y el registro de entrada válida"]
[null,"",null,null,null,"",null,null,null,{"$f":"IF(I2933=\"\",\"\",IF(VLOOKUP(I2933,CAD_Q!$C$6:$D$105,2,FALSE)=0,\"\",VLOOKUP(I2933,CAD_Q!$C$6:$D$105,2,FALSE)))","v":""},{"$f":"IFERROR(VLOOKUP(I2933,CAD_Q!$C$6:$E$109,3,FALSE)*F2933,\"\")","v":""},null,null,"",1,0,1900,0,1,1900,"Nombre y el registro de entrada válida"]
[null,"",null,null,null,"",null,null,null,{"$f":"IF(I2934=\"\",\"\",IF(VLOOKUP(I2934,CAD_Q!$C$6:$D$105,2,FALSE)=0,\"\",VLOOKUP(I2934,CAD_Q!$C$6:$D$105,2,FALSE)))","v":""},{"$f":"IFERROR(VLOOKUP(I2934,CAD_Q!$C$6:$E$109,3,FALSE)*F2934,\"\")","v":""},null,null,"",1,0,1900,0,1,1900,"Nombre y el registro de entrada válida"]
[null,"",null,null,null,"",null,null,null,{"$f":"IF(I2935=\"\",\"\",IF(VLOOKUP(I2935,CAD_Q!$C$6:$D$105,2,FALSE)=0,\"\",VLOOKUP(I2935,CAD_Q!$C$6:$D$105,2,FALSE)))","v":""},{"$f":"IFERROR(VLOOKUP(I2935,CAD_Q!$C$6:$E$109,3,FALSE)*F2935,\"\")","v":""},null,null,"",1,0,1900,0,1,1900,"Nombre y el registro de entrada válida"]
[null,"",null,null,null,"",null,null,null,{"$f":"IF(I2936=\"\",\"\",IF(VLOOKUP(I2936,CAD_Q!$C$6:$D$105,2,FALSE)=0,\"\",VLOOKUP(I2936,CAD_Q!$C$6:$D$105,2,FALSE)))","v":""},{"$f":"IFERROR(VLOOKUP(I2936,CAD_Q!$C$6:$E$109,3,FALSE)*F2936,\"\")","v":""},null,null,"",1,0,1900,0,1,1900,"Nombre y el registro de entrada válida"]
[null,"",null,null,null,"",null,null,null,{"$f":"IF(I2937=\"\",\"\",IF(VLOOKUP(I2937,CAD_Q!$C$6:$D$105,2,FALSE)=0,\"\",VLOOKUP(I2937,CAD_Q!$C$6:$D$105,2,FALSE)))","v":""},{"$f":"IFERROR(VLOOKUP(I2937,CAD_Q!$C$6:$E$109,3,FALSE)*F2937,\"\")","v":""},null,null,"",1,0,1900,0,1,1900,"Nombre y el registro de entrada válida"]
[null,"",null,null,null,"",null,null,null,{"$f":"IF(I2938=\"\",\"\",IF(VLOOKUP(I2938,CAD_Q!$C$6:$D$105,2,FALSE)=0,\"\",VLOOKUP(I2938,CAD_Q!$C$6:$D$105,2,FALSE)))","v":""},{"$f":"IFERROR(VLOOKUP(I2938,CAD_Q!$C$6:$E$109,3,FALSE)*F2938,\"\")","v":""},null,null,"",1,0,1900,0,1,1900,"Nombre y el registro de entrada válida"]
[null,"",null,null,null,"",null,null,null,{"$f":"IF(I2939=\"\",\"\",IF(VLOOKUP(I2939,CAD_Q!$C$6:$D$105,2,FALSE)=0,\"\",VLOOKUP(I2939,CAD_Q!$C$6:$D$105,2,FALSE)))","v":""},{"$f":"IFERROR(VLOOKUP(I2939,CAD_Q!$C$6:$E$109,3,FALSE)*F2939,\"\")","v":""},null,null,"",1,0,1900,0,1,1900,"Nombre y el registro de entrada válida"]
[null,"",null,null,null,"",null,null,null,{"$f":"IF(I2940=\"\",\"\",IF(VLOOKUP(I2940,CAD_Q!$C$6:$D$105,2,FALSE)=0,\"\",VLOOKUP(I2940,CAD_Q!$C$6:$D$105,2,FALSE)))","v":""},{"$f":"IFERROR(VLOOKUP(I2940,CAD_Q!$C$6:$E$109,3,FALSE)*F2940,\"\")","v":""},null,null,"",1,0,1900,0,1,1900,"Nombre y el registro de entrada válida"]
[null,"",null,null,null,"",null,null,null,{"$f":"IF(I2941=\"\",\"\",IF(VLOOKUP(I2941,CAD_Q!$C$6:$D$105,2,FALSE)=0,\"\",VLOOKUP(I2941,CAD_Q!$C$6:$D$105,2,FALSE)))","v":""},{"$f":"IFERROR(VLOOKUP(I2941,CAD_Q!$C$6:$E$109,3,FALSE)*F2941,\"\")","v":""},null,null,"",1,0,1900,0,1,1900,"Nombre y el registro de entrada válida"]
[null,"",null,null,null,"",null,null,null,{"$f":"IF(I2942=\"\",\"\",IF(VLOOKUP(I2942,CAD_Q!$C$6:$D$105,2,FALSE)=0,\"\",VLOOKUP(I2942,CAD_Q!$C$6:$D$105,2,FALSE)))","v":""},{"$f":"IFERROR(VLOOKUP(I2942,CAD_Q!$C$6:$E$109,3,FALSE)*F2942,\"\")","v":""},null,null,"",1,0,1900,0,1,1900,"Nombre y el registro de entrada válida"]
[null,"",null,null,null,"",null,null,null,{"$f":"IF(I2943=\"\",\"\",IF(VLOOKUP(I2943,CAD_Q!$C$6:$D$105,2,FALSE)=0,\"\",VLOOKUP(I2943,CAD_Q!$C$6:$D$105,2,FALSE)))","v":""},{"$f":"IFERROR(VLOOKUP(I2943,CAD_Q!$C$6:$E$109,3,FALSE)*F2943,\"\")","v":""},null,null,"",1,0,1900,0,1,1900,"Nombre y el registro de entrada válida"]
[null,"",null,null,null,"",null,null,null,{"$f":"IF(I2944=\"\",\"\",IF(VLOOKUP(I2944,CAD_Q!$C$6:$D$105,2,FALSE)=0,\"\",VLOOKUP(I2944,CAD_Q!$C$6:$D$105,2,FALSE)))","v":""},{"$f":"IFERROR(VLOOKUP(I2944,CAD_Q!$C$6:$E$109,3,FALSE)*F2944,\"\")","v":""},null,null,"",1,0,1900,0,1,1900,"Nombre y el registro de entrada válida"]
[null,"",null,null,null,"",null,null,null,{"$f":"IF(I2945=\"\",\"\",IF(VLOOKUP(I2945,CAD_Q!$C$6:$D$105,2,FALSE)=0,\"\",VLOOKUP(I2945,CAD_Q!$C$6:$D$105,2,FALSE)))","v":""},{"$f":"IFERROR(VLOOKUP(I2945,CAD_Q!$C$6:$E$109,3,FALSE)*F2945,\"\")","v":""},null,null,"",1,0,1900,0,1,1900,"Nombre y el registro de entrada válida"]
[null,"",null,null,null,"",null,null,null,{"$f":"IF(I2946=\"\",\"\",IF(VLOOKUP(I2946,CAD_Q!$C$6:$D$105,2,FALSE)=0,\"\",VLOOKUP(I2946,CAD_Q!$C$6:$D$105,2,FALSE)))","v":""},{"$f":"IFERROR(VLOOKUP(I2946,CAD_Q!$C$6:$E$109,3,FALSE)*F2946,\"\")","v":""},null,null,"",1,0,1900,0,1,1900,"Nombre y el registro de entrada válida"]
[null,"",null,null,null,"",null,null,null,{"$f":"IF(I2947=\"\",\"\",IF(VLOOKUP(I2947,CAD_Q!$C$6:$D$105,2,FALSE)=0,\"\",VLOOKUP(I2947,CAD_Q!$C$6:$D$105,2,FALSE)))","v":""},{"$f":"IFERROR(VLOOKUP(I2947,CAD_Q!$C$6:$E$109,3,FALSE)*F2947,\"\")","v":""},null,null,"",1,0,1900,0,1,1900,"Nombre y el registro de entrada válida"]
[null,"",null,null,null,"",null,null,null,{"$f":"IF(I2948=\"\",\"\",IF(VLOOKUP(I2948,CAD_Q!$C$6:$D$105,2,FALSE)=0,\"\",VLOOKUP(I2948,CAD_Q!$C$6:$D$105,2,FALSE)))","v":""},{"$f":"IFERROR(VLOOKUP(I2948,CAD_Q!$C$6:$E$109,3,FALSE)*F2948,\"\")","v":""},null,null,"",1,0,1900,0,1,1900,"Nombre y el registro de entrada válida"]
[null,"",null,null,null,"",null,null,null,{"$f":"IF(I2949=\"\",\"\",IF(VLOOKUP(I2949,CAD_Q!$C$6:$D$105,2,FALSE)=0,\"\",VLOOKUP(I2949,CAD_Q!$C$6:$D$105,2,FALSE)))","v":""},{"$f":"IFERROR(VLOOKUP(I2949,CAD_Q!$C$6:$E$109,3,FALSE)*F2949,\"\")","v":""},null,null,"",1,0,1900,0,1,1900,"Nombre y el registro de entrada válida"]
[null,"",null,null,null,"",null,null,null,{"$f":"IF(I2950=\"\",\"\",IF(VLOOKUP(I2950,CAD_Q!$C$6:$D$105,2,FALSE)=0,\"\",VLOOKUP(I2950,CAD_Q!$C$6:$D$105,2,FALSE)))","v":""},{"$f":"IFERROR(VLOOKUP(I2950,CAD_Q!$C$6:$E$109,3,FALSE)*F2950,\"\")","v":""},null,null,"",1,0,1900,0,1,1900,"Nombre y el registro de entrada válida"]
[null,{"$f":"CONCATENATE(C2951,D2951)","v":""},null,null,null,"",null,null,null,{"$f":"IF(I2951=\"\",\"\",IF(VLOOKUP(I2951,CAD_Q!$C$6:$D$105,2,FALSE)=0,\"\",VLOOKUP(I2951,CAD_Q!$C$6:$D$105,2,FALSE)))","v":""},{"$f":"IFERROR(VLOOKUP(I2951,CAD_Q!$C$6:$E$109,3,FALSE)*F2951,\"\")","v":""},null,null,{"$f":"IFERROR(K2951-L2951+M2951,\"\")","v":""},1,0,1900,0,1,1900,"Nombre y el registro de entrada válida"]
[null,"",null,null,null,"",null,null,null,{"$f":"IF(I2952=\"\",\"\",IF(VLOOKUP(I2952,CAD_Q!$C$6:$D$105,2,FALSE)=0,\"\",VLOOKUP(I2952,CAD_Q!$C$6:$D$105,2,FALSE)))","v":""},{"$f":"IFERROR(VLOOKUP(I2952,CAD_Q!$C$6:$E$109,3,FALSE)*F2952,\"\")","v":""},null,null,"",1,0,1900,0,1,1900,"Nombre y el registro de entrada válida"]
[null,"",null,null,null,"",null,null,null,{"$f":"IF(I2953=\"\",\"\",IF(VLOOKUP(I2953,CAD_Q!$C$6:$D$105,2,FALSE)=0,\"\",VLOOKUP(I2953,CAD_Q!$C$6:$D$105,2,FALSE)))","v":""},{"$f":"IFERROR(VLOOKUP(I2953,CAD_Q!$C$6:$E$109,3,FALSE)*F2953,\"\")","v":""},null,null,"",1,0,1900,0,1,1900,"Nombre y el registro de entrada válida"]
[null,"",null,null,null,"",null,null,null,{"$f":"IF(I2954=\"\",\"\",IF(VLOOKUP(I2954,CAD_Q!$C$6:$D$105,2,FALSE)=0,\"\",VLOOKUP(I2954,CAD_Q!$C$6:$D$105,2,FALSE)))","v":""},{"$f":"IFERROR(VLOOKUP(I2954,CAD_Q!$C$6:$E$109,3,FALSE)*F2954,\"\")","v":""},null,null,"",{"$f":"MONTH(D2954)","v":1},{"$f":"DAY(D2954)","v":0},{"$f":"YEAR(D2954)","v":1900},{"$f":"DAY(E2954)","v":0},{"$f":"MONTH(E2954)","v":1},{"$f":"YEAR(E2954)","v":1900},"Nombre y el registro de entrada válida"]
[null,"",null,null,null,"",null,null,null,{"$f":"IF(I2955=\"\",\"\",IF(VLOOKUP(I2955,CAD_Q!$C$6:$D$105,2,FALSE)=0,\"\",VLOOKUP(I2955,CAD_Q!$C$6:$D$105,2,FALSE)))","v":""},{"$f":"IFERROR(VLOOKUP(I2955,CAD_Q!$C$6:$E$109,3,FALSE)*F2955,\"\")","v":""},null,null,"",1,0,1900,0,1,1900,"Nombre y el registro de entrada válida"]
[null,"",null,null,null,"",null,null,null,{"$f":"IF(I2956=\"\",\"\",IF(VLOOKUP(I2956,CAD_Q!$C$6:$D$105,2,FALSE)=0,\"\",VLOOKUP(I2956,CAD_Q!$C$6:$D$105,2,FALSE)))","v":""},{"$f":"IFERROR(VLOOKUP(I2956,CAD_Q!$C$6:$E$109,3,FALSE)*F2956,\"\")","v":""},null,null,"",1,0,1900,0,1,1900,"Nombre y el registro de entrada válida"]
[null,"",null,null,null,"",null,null,null,{"$f":"IF(I2957=\"\",\"\",IF(VLOOKUP(I2957,CAD_Q!$C$6:$D$105,2,FALSE)=0,\"\",VLOOKUP(I2957,CAD_Q!$C$6:$D$105,2,FALSE)))","v":""},{"$f":"IFERROR(VLOOKUP(I2957,CAD_Q!$C$6:$E$109,3,FALSE)*F2957,\"\")","v":""},null,null,"",1,0,1900,0,1,1900,"Nombre y el registro de entrada válida"]
[null,"",null,null,null,"",null,null,null,{"$f":"IF(I2958=\"\",\"\",IF(VLOOKUP(I2958,CAD_Q!$C$6:$D$105,2,FALSE)=0,\"\",VLOOKUP(I2958,CAD_Q!$C$6:$D$105,2,FALSE)))","v":""},{"$f":"IFERROR(VLOOKUP(I2958,CAD_Q!$C$6:$E$109,3,FALSE)*F2958,\"\")","v":""},null,null,"",1,0,1900,0,1,1900,"Nombre y el registro de entrada válida"]
[null,"",null,null,null,"",null,null,null,{"$f":"IF(I2959=\"\",\"\",IF(VLOOKUP(I2959,CAD_Q!$C$6:$D$105,2,FALSE)=0,\"\",VLOOKUP(I2959,CAD_Q!$C$6:$D$105,2,FALSE)))","v":""},{"$f":"IFERROR(VLOOKUP(I2959,CAD_Q!$C$6:$E$109,3,FALSE)*F2959,\"\")","v":""},null,null,"",1,0,1900,0,1,1900,"Nombre y el registro de entrada válida"]
[null,"",null,null,null,"",null,null,null,{"$f":"IF(I2960=\"\",\"\",IF(VLOOKUP(I2960,CAD_Q!$C$6:$D$105,2,FALSE)=0,\"\",VLOOKUP(I2960,CAD_Q!$C$6:$D$105,2,FALSE)))","v":""},{"$f":"IFERROR(VLOOKUP(I2960,CAD_Q!$C$6:$E$109,3,FALSE)*F2960,\"\")","v":""},null,null,"",1,0,1900,0,1,1900,"Nombre y el registro de entrada válida"]
[null,"",null,null,null,"",null,null,null,{"$f":"IF(I2961=\"\",\"\",IF(VLOOKUP(I2961,CAD_Q!$C$6:$D$105,2,FALSE)=0,\"\",VLOOKUP(I2961,CAD_Q!$C$6:$D$105,2,FALSE)))","v":""},{"$f":"IFERROR(VLOOKUP(I2961,CAD_Q!$C$6:$E$109,3,FALSE)*F2961,\"\")","v":""},null,null,"",1,0,1900,0,1,1900,"Nombre y el registro de entrada válida"]
[null,"",null,null,null,"",null,null,null,{"$f":"IF(I2962=\"\",\"\",IF(VLOOKUP(I2962,CAD_Q!$C$6:$D$105,2,FALSE)=0,\"\",VLOOKUP(I2962,CAD_Q!$C$6:$D$105,2,FALSE)))","v":""},{"$f":"IFERROR(VLOOKUP(I2962,CAD_Q!$C$6:$E$109,3,FALSE)*F2962,\"\")","v":""},null,null,"",1,0,1900,0,1,1900,"Nombre y el registro de entrada válida"]
[null,"",null,null,null,"",null,null,null,{"$f":"IF(I2963=\"\",\"\",IF(VLOOKUP(I2963,CAD_Q!$C$6:$D$105,2,FALSE)=0,\"\",VLOOKUP(I2963,CAD_Q!$C$6:$D$105,2,FALSE)))","v":""},{"$f":"IFERROR(VLOOKUP(I2963,CAD_Q!$C$6:$E$109,3,FALSE)*F2963,\"\")","v":""},null,null,"",1,0,1900,0,1,1900,"Nombre y el registro de entrada válida"]
[null,"",null,null,null,"",null,null,null,{"$f":"IF(I2964=\"\",\"\",IF(VLOOKUP(I2964,CAD_Q!$C$6:$D$105,2,FALSE)=0,\"\",VLOOKUP(I2964,CAD_Q!$C$6:$D$105,2,FALSE)))","v":""},{"$f":"IFERROR(VLOOKUP(I2964,CAD_Q!$C$6:$E$109,3,FALSE)*F2964,\"\")","v":""},null,null,"",1,0,1900,0,1,1900,"Nombre y el registro de entrada válida"]
[null,"",null,null,null,"",null,null,null,{"$f":"IF(I2965=\"\",\"\",IF(VLOOKUP(I2965,CAD_Q!$C$6:$D$105,2,FALSE)=0,\"\",VLOOKUP(I2965,CAD_Q!$C$6:$D$105,2,FALSE)))","v":""},{"$f":"IFERROR(VLOOKUP(I2965,CAD_Q!$C$6:$E$109,3,FALSE)*F2965,\"\")","v":""},null,null,"",1,0,1900,0,1,1900,"Nombre y el registro de entrada válida"]
[null,"",null,null,null,"",null,null,null,{"$f":"IF(I2966=\"\",\"\",IF(VLOOKUP(I2966,CAD_Q!$C$6:$D$105,2,FALSE)=0,\"\",VLOOKUP(I2966,CAD_Q!$C$6:$D$105,2,FALSE)))","v":""},{"$f":"IFERROR(VLOOKUP(I2966,CAD_Q!$C$6:$E$109,3,FALSE)*F2966,\"\")","v":""},null,null,"",1,0,1900,0,1,1900,"Nombre y el registro de entrada válida"]
[null,"",null,null,null,"",null,null,null,{"$f":"IF(I2967=\"\",\"\",IF(VLOOKUP(I2967,CAD_Q!$C$6:$D$105,2,FALSE)=0,\"\",VLOOKUP(I2967,CAD_Q!$C$6:$D$105,2,FALSE)))","v":""},{"$f":"IFERROR(VLOOKUP(I2967,CAD_Q!$C$6:$E$109,3,FALSE)*F2967,\"\")","v":""},null,null,"",1,0,1900,0,1,1900,"Nombre y el registro de entrada válida"]
[null,"",null,null,null,"",null,null,null,{"$f":"IF(I2968=\"\",\"\",IF(VLOOKUP(I2968,CAD_Q!$C$6:$D$105,2,FALSE)=0,\"\",VLOOKUP(I2968,CAD_Q!$C$6:$D$105,2,FALSE)))","v":""},{"$f":"IFERROR(VLOOKUP(I2968,CAD_Q!$C$6:$E$109,3,FALSE)*F2968,\"\")","v":""},null,null,"",1,0,1900,0,1,1900,"Nombre y el registro de entrada válida"]
[null,"",null,null,null,"",null,null,null,{"$f":"IF(I2969=\"\",\"\",IF(VLOOKUP(I2969,CAD_Q!$C$6:$D$105,2,FALSE)=0,\"\",VLOOKUP(I2969,CAD_Q!$C$6:$D$105,2,FALSE)))","v":""},{"$f":"IFERROR(VLOOKUP(I2969,CAD_Q!$C$6:$E$109,3,FALSE)*F2969,\"\")","v":""},null,null,"",1,0,1900,0,1,1900,"Nombre y el registro de entrada válida"]
[null,"",null,null,null,"",null,null,null,{"$f":"IF(I2970=\"\",\"\",IF(VLOOKUP(I2970,CAD_Q!$C$6:$D$105,2,FALSE)=0,\"\",VLOOKUP(I2970,CAD_Q!$C$6:$D$105,2,FALSE)))","v":""},{"$f":"IFERROR(VLOOKUP(I2970,CAD_Q!$C$6:$E$109,3,FALSE)*F2970,\"\")","v":""},null,null,"",1,0,1900,0,1,1900,"Nombre y el registro de entrada válida"]
[null,"",null,null,null,"",null,null,null,{"$f":"IF(I2971=\"\",\"\",IF(VLOOKUP(I2971,CAD_Q!$C$6:$D$105,2,FALSE)=0,\"\",VLOOKUP(I2971,CAD_Q!$C$6:$D$105,2,FALSE)))","v":""},{"$f":"IFERROR(VLOOKUP(I2971,CAD_Q!$C$6:$E$109,3,FALSE)*F2971,\"\")","v":""},null,null,"",1,0,1900,0,1,1900,"Nombre y el registro de entrada válida"]
[null,"",null,null,null,"",null,null,null,{"$f":"IF(I2972=\"\",\"\",IF(VLOOKUP(I2972,CAD_Q!$C$6:$D$105,2,FALSE)=0,\"\",VLOOKUP(I2972,CAD_Q!$C$6:$D$105,2,FALSE)))","v":""},{"$f":"IFERROR(VLOOKUP(I2972,CAD_Q!$C$6:$E$109,3,FALSE)*F2972,\"\")","v":""},null,null,"",1,0,1900,0,1,1900,"Nombre y el registro de entrada válida"]
[null,"",null,null,null,"",null,null,null,{"$f":"IF(I2973=\"\",\"\",IF(VLOOKUP(I2973,CAD_Q!$C$6:$D$105,2,FALSE)=0,\"\",VLOOKUP(I2973,CAD_Q!$C$6:$D$105,2,FALSE)))","v":""},{"$f":"IFERROR(VLOOKUP(I2973,CAD_Q!$C$6:$E$109,3,FALSE)*F2973,\"\")","v":""},null,null,"",1,0,1900,0,1,1900,"Nombre y el registro de entrada válida"]
[null,"",null,null,null,"",null,null,null,{"$f":"IF(I2974=\"\",\"\",IF(VLOOKUP(I2974,CAD_Q!$C$6:$D$105,2,FALSE)=0,\"\",VLOOKUP(I2974,CAD_Q!$C$6:$D$105,2,FALSE)))","v":""},{"$f":"IFERROR(VLOOKUP(I2974,CAD_Q!$C$6:$E$109,3,FALSE)*F2974,\"\")","v":""},null,null,"",1,0,1900,0,1,1900,"Nombre y el registro de entrada válida"]
[null,"",null,null,null,"",null,null,null,{"$f":"IF(I2975=\"\",\"\",IF(VLOOKUP(I2975,CAD_Q!$C$6:$D$105,2,FALSE)=0,\"\",VLOOKUP(I2975,CAD_Q!$C$6:$D$105,2,FALSE)))","v":""},{"$f":"IFERROR(VLOOKUP(I2975,CAD_Q!$C$6:$E$109,3,FALSE)*F2975,\"\")","v":""},null,null,"",1,0,1900,0,1,1900,"Nombre y el registro de entrada válida"]
[null,"",null,null,null,"",null,null,null,{"$f":"IF(I2976=\"\",\"\",IF(VLOOKUP(I2976,CAD_Q!$C$6:$D$105,2,FALSE)=0,\"\",VLOOKUP(I2976,CAD_Q!$C$6:$D$105,2,FALSE)))","v":""},{"$f":"IFERROR(VLOOKUP(I2976,CAD_Q!$C$6:$E$109,3,FALSE)*F2976,\"\")","v":""},null,null,"",1,0,1900,0,1,1900,"Nombre y el registro de entrada válida"]
[null,"",null,null,null,"",null,null,null,{"$f":"IF(I2977=\"\",\"\",IF(VLOOKUP(I2977,CAD_Q!$C$6:$D$105,2,FALSE)=0,\"\",VLOOKUP(I2977,CAD_Q!$C$6:$D$105,2,FALSE)))","v":""},{"$f":"IFERROR(VLOOKUP(I2977,CAD_Q!$C$6:$E$109,3,FALSE)*F2977,\"\")","v":""},null,null,"",1,0,1900,0,1,1900,"Nombre y el registro de entrada válida"]
[null,"",null,null,null,"",null,null,null,{"$f":"IF(I2978=\"\",\"\",IF(VLOOKUP(I2978,CAD_Q!$C$6:$D$105,2,FALSE)=0,\"\",VLOOKUP(I2978,CAD_Q!$C$6:$D$105,2,FALSE)))","v":""},{"$f":"IFERROR(VLOOKUP(I2978,CAD_Q!$C$6:$E$109,3,FALSE)*F2978,\"\")","v":""},null,null,"",1,0,1900,0,1,1900,"Nombre y el registro de entrada válida"]
[null,"",null,null,null,"",null,null,null,{"$f":"IF(I2979=\"\",\"\",IF(VLOOKUP(I2979,CAD_Q!$C$6:$D$105,2,FALSE)=0,\"\",VLOOKUP(I2979,CAD_Q!$C$6:$D$105,2,FALSE)))","v":""},{"$f":"IFERROR(VLOOKUP(I2979,CAD_Q!$C$6:$E$109,3,FALSE)*F2979,\"\")","v":""},null,null,"",1,0,1900,0,1,1900,"Nombre y el registro de entrada válida"]
[null,"",null,null,null,{"$f":"IF(OR(D2980=\"\",E2980=\"\"),\"\",E2980-D2980)","v":""},null,null,null,{"$f":"IF(I2980=\"\",\"\",IF(VLOOKUP(I2980,CAD_Q!$C$6:$D$105,2,FALSE)=0,\"\",VLOOKUP(I2980,CAD_Q!$C$6:$D$105,2,FALSE)))","v":""},{"$f":"IFERROR(VLOOKUP(I2980,CAD_Q!$C$6:$E$109,3,FALSE)*F2980,\"\")","v":""},null,null,"",1,0,1900,0,1,1900,"Nombre y el registro de entrada válida"]
[null,"",null,null,null,"",null,null,null,{"$f":"IF(I2981=\"\",\"\",IF(VLOOKUP(I2981,CAD_Q!$C$6:$D$105,2,FALSE)=0,\"\",VLOOKUP(I2981,CAD_Q!$C$6:$D$105,2,FALSE)))","v":""},{"$f":"IFERROR(VLOOKUP(I2981,CAD_Q!$C$6:$E$109,3,FALSE)*F2981,\"\")","v":""},null,null,"",1,0,1900,0,1,1900,"Nombre y el registro de entrada válida"]
[null,"",null,null,null,"",null,null,null,{"$f":"IF(I2982=\"\",\"\",IF(VLOOKUP(I2982,CAD_Q!$C$6:$D$105,2,FALSE)=0,\"\",VLOOKUP(I2982,CAD_Q!$C$6:$D$105,2,FALSE)))","v":""},{"$f":"IFERROR(VLOOKUP(I2982,CAD_Q!$C$6:$E$109,3,FALSE)*F2982,\"\")","v":""},null,null,"",1,0,1900,0,1,1900,"Nombre y el registro de entrada válida"]
[null,"",null,null,null,"",null,null,null,{"$f":"IF(I2983=\"\",\"\",IF(VLOOKUP(I2983,CAD_Q!$C$6:$D$105,2,FALSE)=0,\"\",VLOOKUP(I2983,CAD_Q!$C$6:$D$105,2,FALSE)))","v":""},{"$f":"IFERROR(VLOOKUP(I2983,CAD_Q!$C$6:$E$109,3,FALSE)*F2983,\"\")","v":""},null,null,"",1,0,1900,0,1,1900,"Nombre y el registro de entrada válida"]
[null,"",null,null,null,"",null,null,null,{"$f":"IF(I2984=\"\",\"\",IF(VLOOKUP(I2984,CAD_Q!$C$6:$D$105,2,FALSE)=0,\"\",VLOOKUP(I2984,CAD_Q!$C$6:$D$105,2,FALSE)))","v":""},{"$f":"IFERROR(VLOOKUP(I2984,CAD_Q!$C$6:$E$109,3,FALSE)*F2984,\"\")","v":""},null,null,"",1,0,1900,0,1,1900,"Nombre y el registro de entrada válida"]
[null,"",null,null,null,"",null,null,null,{"$f":"IF(I2985=\"\",\"\",IF(VLOOKUP(I2985,CAD_Q!$C$6:$D$105,2,FALSE)=0,\"\",VLOOKUP(I2985,CAD_Q!$C$6:$D$105,2,FALSE)))","v":""},{"$f":"IFERROR(VLOOKUP(I2985,CAD_Q!$C$6:$E$109,3,FALSE)*F2985,\"\")","v":""},null,null,"",1,0,1900,0,1,1900,"Nombre y el registro de entrada válida"]
[null,"",null,null,null,"",null,null,null,{"$f":"IF(I2986=\"\",\"\",IF(VLOOKUP(I2986,CAD_Q!$C$6:$D$105,2,FALSE)=0,\"\",VLOOKUP(I2986,CAD_Q!$C$6:$D$105,2,FALSE)))","v":""},{"$f":"IFERROR(VLOOKUP(I2986,CAD_Q!$C$6:$E$109,3,FALSE)*F2986,\"\")","v":""},null,null,"",1,0,1900,0,1,1900,"Nombre y el registro de entrada válida"]
[null,"",null,null,null,"",null,null,null,{"$f":"IF(I2987=\"\",\"\",IF(VLOOKUP(I2987,CAD_Q!$C$6:$D$105,2,FALSE)=0,\"\",VLOOKUP(I2987,CAD_Q!$C$6:$D$105,2,FALSE)))","v":""},{"$f":"IFERROR(VLOOKUP(I2987,CAD_Q!$C$6:$E$109,3,FALSE)*F2987,\"\")","v":""},null,null,"",1,0,1900,0,1,1900,"Nombre y el registro de entrada válida"]
[null,"",null,null,null,"",null,null,null,{"$f":"IF(I2988=\"\",\"\",IF(VLOOKUP(I2988,CAD_Q!$C$6:$D$105,2,FALSE)=0,\"\",VLOOKUP(I2988,CAD_Q!$C$6:$D$105,2,FALSE)))","v":""},{"$f":"IFERROR(VLOOKUP(I2988,CAD_Q!$C$6:$E$109,3,FALSE)*F2988,\"\")","v":""},null,null,"",1,0,1900,0,1,1900,"Nombre y el registro de entrada válida"]
[null,"",null,null,null,"",null,null,null,{"$f":"IF(I2989=\"\",\"\",IF(VLOOKUP(I2989,CAD_Q!$C$6:$D$105,2,FALSE)=0,\"\",VLOOKUP(I2989,CAD_Q!$C$6:$D$105,2,FALSE)))","v":""},{"$f":"IFERROR(VLOOKUP(I2989,CAD_Q!$C$6:$E$109,3,FALSE)*F2989,\"\")","v":""},null,null,"",1,0,1900,0,1,1900,"Nombre y el registro de entrada válida"]
[null,"",null,null,null,"",null,null,null,{"$f":"IF(I2990=\"\",\"\",IF(VLOOKUP(I2990,CAD_Q!$C$6:$D$105,2,FALSE)=0,\"\",VLOOKUP(I2990,CAD_Q!$C$6:$D$105,2,FALSE)))","v":""},{"$f":"IFERROR(VLOOKUP(I2990,CAD_Q!$C$6:$E$109,3,FALSE)*F2990,\"\")","v":""},null,null,"",1,0,1900,0,1,1900,"Nombre y el registro de entrada válida"]
[null,"",null,null,null,"",null,null,null,{"$f":"IF(I2991=\"\",\"\",IF(VLOOKUP(I2991,CAD_Q!$C$6:$D$105,2,FALSE)=0,\"\",VLOOKUP(I2991,CAD_Q!$C$6:$D$105,2,FALSE)))","v":""},{"$f":"IFERROR(VLOOKUP(I2991,CAD_Q!$C$6:$E$109,3,FALSE)*F2991,\"\")","v":""},null,null,"",1,0,1900,0,1,1900,"Nombre y el registro de entrada válida"]
[null,"",null,null,null,"",null,null,null,{"$f":"IF(I2992=\"\",\"\",IF(VLOOKUP(I2992,CAD_Q!$C$6:$D$105,2,FALSE)=0,\"\",VLOOKUP(I2992,CAD_Q!$C$6:$D$105,2,FALSE)))","v":""},{"$f":"IFERROR(VLOOKUP(I2992,CAD_Q!$C$6:$E$109,3,FALSE)*F2992,\"\")","v":""},null,null,"",1,0,1900,0,1,1900,"Nombre y el registro de entrada válida"]
[null,"",null,null,null,"",null,null,null,{"$f":"IF(I2993=\"\",\"\",IF(VLOOKUP(I2993,CAD_Q!$C$6:$D$105,2,FALSE)=0,\"\",VLOOKUP(I2993,CAD_Q!$C$6:$D$105,2,FALSE)))","v":""},{"$f":"IFERROR(VLOOKUP(I2993,CAD_Q!$C$6:$E$109,3,FALSE)*F2993,\"\")","v":""},null,null,"",1,0,1900,0,1,1900,"Nombre y el registro de entrada válida"]
[null,"",null,null,null,"",null,null,null,{"$f":"IF(I2994=\"\",\"\",IF(VLOOKUP(I2994,CAD_Q!$C$6:$D$105,2,FALSE)=0,\"\",VLOOKUP(I2994,CAD_Q!$C$6:$D$105,2,FALSE)))","v":""},{"$f":"IFERROR(VLOOKUP(I2994,CAD_Q!$C$6:$E$109,3,FALSE)*F2994,\"\")","v":""},null,null,"",1,0,1900,0,1,1900,"Nombre y el registro de entrada válida"]
[null,"",null,null,null,"",null,null,null,{"$f":"IF(I2995=\"\",\"\",IF(VLOOKUP(I2995,CAD_Q!$C$6:$D$105,2,FALSE)=0,\"\",VLOOKUP(I2995,CAD_Q!$C$6:$D$105,2,FALSE)))","v":""},{"$f":"IFERROR(VLOOKUP(I2995,CAD_Q!$C$6:$E$109,3,FALSE)*F2995,\"\")","v":""},null,null,"",1,0,1900,0,1,1900,"Nombre y el registro de entrada válida"]
[null,"",null,null,null,"",null,null,null,{"$f":"IF(I2996=\"\",\"\",IF(VLOOKUP(I2996,CAD_Q!$C$6:$D$105,2,FALSE)=0,\"\",VLOOKUP(I2996,CAD_Q!$C$6:$D$105,2,FALSE)))","v":""},{"$f":"IFERROR(VLOOKUP(I2996,CAD_Q!$C$6:$E$109,3,FALSE)*F2996,\"\")","v":""},null,null,"",1,0,1900,0,1,1900,"Nombre y el registro de entrada válida"]
[null,"",null,null,null,"",null,null,null,{"$f":"IF(I2997=\"\",\"\",IF(VLOOKUP(I2997,CAD_Q!$C$6:$D$105,2,FALSE)=0,\"\",VLOOKUP(I2997,CAD_Q!$C$6:$D$105,2,FALSE)))","v":""},{"$f":"IFERROR(VLOOKUP(I2997,CAD_Q!$C$6:$E$109,3,FALSE)*F2997,\"\")","v":""},null,null,"",1,0,1900,0,1,1900,"Nombre y el registro de entrada válida"]
[null,"",null,null,null,"",null,null,null,{"$f":"IF(I2998=\"\",\"\",IF(VLOOKUP(I2998,CAD_Q!$C$6:$D$105,2,FALSE)=0,\"\",VLOOKUP(I2998,CAD_Q!$C$6:$D$105,2,FALSE)))","v":""},{"$f":"IFERROR(VLOOKUP(I2998,CAD_Q!$C$6:$E$109,3,FALSE)*F2998,\"\")","v":""},null,null,"",1,0,1900,0,1,1900,"Nombre y el registro de entrada válida"]
[null,"",null,null,null,"",null,null,null,{"$f":"IF(I2999=\"\",\"\",IF(VLOOKUP(I2999,CAD_Q!$C$6:$D$105,2,FALSE)=0,\"\",VLOOKUP(I2999,CAD_Q!$C$6:$D$105,2,FALSE)))","v":""},{"$f":"IFERROR(VLOOKUP(I2999,CAD_Q!$C$6:$E$109,3,FALSE)*F2999,\"\")","v":""},null,null,"",1,0,1900,0,1,1900,"Nombre y el registro de entrada válida"]
[null,"",null,null,null,"",null,null,null,{"$f":"IF(I3000=\"\",\"\",IF(VLOOKUP(I3000,CAD_Q!$C$6:$D$105,2,FALSE)=0,\"\",VLOOKUP(I3000,CAD_Q!$C$6:$D$105,2,FALSE)))","v":""},{"$f":"IFERROR(VLOOKUP(I3000,CAD_Q!$C$6:$E$109,3,FALSE)*F3000,\"\")","v":""},null,null,"",1,0,1900,0,1,1900,"Nombre y el registro de entrada válida"]
[null,"",null,null,null,"",null,null,null,{"$f":"IF(I3001=\"\",\"\",IF(VLOOKUP(I3001,CAD_Q!$C$6:$D$105,2,FALSE)=0,\"\",VLOOKUP(I3001,CAD_Q!$C$6:$D$105,2,FALSE)))","v":""},{"$f":"IFERROR(VLOOKUP(I3001,CAD_Q!$C$6:$E$109,3,FALSE)*F3001,\"\")","v":""},null,null,"",1,0,1900,0,1,1900,"Nombre y el registro de entrada válida"]
[null,"",null,null,null,"",null,null,null,{"$f":"IF(I3002=\"\",\"\",IF(VLOOKUP(I3002,CAD_Q!$C$6:$D$105,2,FALSE)=0,\"\",VLOOKUP(I3002,CAD_Q!$C$6:$D$105,2,FALSE)))","v":""},{"$f":"IFERROR(VLOOKUP(I3002,CAD_Q!$C$6:$E$109,3,FALSE)*F3002,\"\")","v":""},null,null,"",1,0,1900,0,1,1900,"Nombre y el registro de entrada válida"]
[null,"",null,null,null,"",null,null,null,{"$f":"IF(I3003=\"\",\"\",IF(VLOOKUP(I3003,CAD_Q!$C$6:$D$105,2,FALSE)=0,\"\",VLOOKUP(I3003,CAD_Q!$C$6:$D$105,2,FALSE)))","v":""},{"$f":"IFERROR(VLOOKUP(I3003,CAD_Q!$C$6:$E$109,3,FALSE)*F3003,\"\")","v":""},null,null,"",1,0,1900,0,1,1900,"Nombre y el registro de entrada válida"]
[null,"",null,null,null,"",null,null,null,{"$f":"IF(I3004=\"\",\"\",IF(VLOOKUP(I3004,CAD_Q!$C$6:$D$105,2,FALSE)=0,\"\",VLOOKUP(I3004,CAD_Q!$C$6:$D$105,2,FALSE)))","v":""},{"$f":"IFERROR(VLOOKUP(I3004,CAD_Q!$C$6:$E$109,3,FALSE)*F3004,\"\")","v":""},null,null,"",1,0,1900,0,1,1900,"Nombre y el registro de entrada válida"]
[null,"",null,null,null,"",null,null,null,{"$f":"IF(I3005=\"\",\"\",IF(VLOOKUP(I3005,CAD_Q!$C$6:$D$105,2,FALSE)=0,\"\",VLOOKUP(I3005,CAD_Q!$C$6:$D$105,2,FALSE)))","v":""},{"$f":"IFERROR(VLOOKUP(I3005,CAD_Q!$C$6:$E$109,3,FALSE)*F3005,\"\")","v":""},null,null,"",1,0,1900,0,1,1900,"Nombre y el registro de entrada válida"]
[null,"",null,null,null,"",null,null,null,{"$f":"IF(I3006=\"\",\"\",IF(VLOOKUP(I3006,CAD_Q!$C$6:$D$105,2,FALSE)=0,\"\",VLOOKUP(I3006,CAD_Q!$C$6:$D$105,2,FALSE)))","v":""},{"$f":"IFERROR(VLOOKUP(I3006,CAD_Q!$C$6:$E$109,3,FALSE)*F3006,\"\")","v":""},null,null,"",1,0,1900,0,1,1900,"Nombre y el registro de entrada válida"]

{"sheet":"DESP","index":3,"n_rows":3006,"n_cols":16,"rows_kept":3006,"cut":false,"hidden":false,"merged":[]}
[]
[]
[]
[null,null,"Anfitrión"]
[null,"Fecha de Cierre","Descripción del Gasto ","Tipo de Gasto","Valor ","Cantidad","Total ","Registrarse",null,null,"ECHA Vistazo de la ONU"]
[null,null,null,null,1000,1,{"$f":"F6*E6","v":1000},{"$f":"MONTH(B6)","v":1},{"$f":"DAY(B6)","v":0},{"$f":"YEAR(D6)","v":1900},{"$f":"DAY(E6)","v":26},{"$f":"MONTH(E6)","v":9},{"$f":"YEAR(E6)","v":1902},"Nombre y el registro de entrada válida",null,"Comer, beber y"]
[null,null,null,null,25000,1,{"$f":"F7*E7","v":25000},{"$f":"MONTH(B7)","v":1},{"$f":"DAY(B7)","v":0},{"$f":"YEAR(D7)","v":1900},{"$f":"DAY(E7)","v":11},{"$f":"MONTH(E7)","v":6},{"$f":"YEAR(E7)","v":1968},"Nombre y el registro de entrada válida",null,"lavandería"]
[null,null,null,null,300,6,1800,1,0,1900,26,10,1900,"Nombre y el registro de entrada válida",null,"Mobiliario y equipo"]
[null,null,null,null,550,3,1650,1,0,1900,3,7,1901,"Nombre y el registro de entrada válida",null,"Equipo"]
[null,null,null,null,0,null,0,1,0,1900,0,1,1900,"Nombre y el registro de entrada válida",null,"el mantenimiento"]
[null,null,null,null,null,null,0,1,0,1900,0,1,1900,"Nombre y el registro de entrada válida",null,"estructura"]
[null,null,null,null,null,null,0,1,0,1900,0,1,1900,"Nombre y el registro de entrada válida"]
[null,null,null,null,null,null,0,1,0,1900,0,1,1900,"Nombre y el registro de entrada válida"]
[null,null,null,null,null,null,0,1,0,1900,0,1,1900,"Nombre y el registro de entrada válida"]
[null,null,null,null,null,null,0,1,0,1900,0,1,1900,"Nombre y el registro de entrada válida"]
[null,null,null,null,null,null,0,1,0,1900,0,1,1900,"Nombre y el registro de entrada válida"]
[null,null,null,null,null,null,0,1,0,1900,0,1,1900,"Nombre y el registro de entrada válida"]
[null,null,null,null,null,null,0,1,0,1900,0,1,1900,"Nombre y el registro de entrada válida"]
[null,null,null,null,null,null,0,1,0,1900,0,1,1900,"Nombre y el registro de entrada válida"]
[null,null,null,null,null,null,0,1,0,1900,0,1,1900,"Nombre y el registro de entrada válida"]
[null,null,null,null,null,null,0,1,0,1900,0,1,1900,"Nombre y el registro de entrada válida"]
[null,null,null,null,null,null,0,1,0,1900,0,1,1900,"Nombre y el registro de entrada válida"]
[null,null,null,null,null,null,0,1,0,1900,0,1,1900,"Nombre y el registro de entrada válida"]
[null,null,null,null,null,null,0,1,0,1900,0,1,1900,"Nombre y el registro de entrada válida"]
[null,null,null,null,null,null,0,1,0,1900,0,1,1900,"Nombre y el registro de entrada válida"]
[null,null,null,null,null,null,0,1,0,1900,0,1,1900,"Nombre y el registro de entrada válida"]
[null,null,null,null,null,null,0,1,0,1900,0,1,1900,"Nombre y el registro de entrada válida"]
[null,null,null,null,null,null,0,1,0,1900,0,1,1900,"Nombre y el registro de entrada válida"]
[null,null,null,null,null,null,0,1,0,1900,0,1,1900,"Nombre y el registro de entrada válida"]
[null,null,null,null,null,null,0,1,0,1900,0,1,1900,"Nombre y el registro de entrada válida"]
[null,null,null,null,null,null,0,1,0,1900,0,1,1900,"Nombre y el registro de entrada válida"]
[null,null,null,null,null,null,0,1,0,1900,0,1,1900,"Nombre y el registro de entrada válida"]
[null,null,null,null,null,null,0,1,0,1900,0,1,1900,"Nombre y el registro de entrada válida"]
[null,null,null,null,null,null,0,1,0,1900,0,1,1900,"Nombre y el registro de entrada válida"]
[null,null,null,null,null,null,0,1,0,1900,0,1,1900,"Nombre y el registro de entrada válida"]
[null,null,null,null,null,null,0,1,0,1900,0,1,1900,"Nombre y el registro de entrada válida"]
[null,null,null,null,null,null,0,1,0,1900,0,1,1900,"Nombre y el registro de entrada válida"]
[null,null,null,null,null,null,0,1,0,1900,0,1,1900,"Nombre y el registro de entrada válida"]
[null,null,null,null,null,null,0,1,0,1900,0,1,1900,"Nombre y el registro de entrada válida"]
[null,null,null,null,null,null,0,1,0,1900,0,1,1900,"Nombre y el registro de entrada válida"]
[null,null,null,null,null,null,0,1,0,1900,0,1,1900,"Nombre y el registro de entrada válida"]
[null,null,null,null,null,null,0,1,0,1900,0,1,1900,"Nombre y el registro de entrada válida"]
[null,null,null,null,null,null,0,1,0,1900,0,1,1900,"Nombre y el registro de entrada válida"]
[null,null,null,null,null,null,0,1,0,1900,0,1,1900,"Nombre y el registro de entrada válida"]
[null,null,null,null,null,null,0,1,0,1900,0,1,1900,"Nombre y el registro de entrada válida"]
[null,null,null,null,null,null,0,1,0,1900,0,1,1900,"Nombre y el registro de entrada válida"]
[null,null,null,null,null,null,0,1,0,1900,0,1,1900,"Nombre y el registro de entrada válida"]
[null,null,null,null,null,null,0,1,0,1900,0,1,1900,"Nombre y el registro de entrada válida"]
[null,null,null,null,null,null,0,1,0,1900,0,1,1900,"Nombre y el registro de entrada válida"]
[null,null,null,null,null,null,0,1,0,1900,0,1,1900,"Nombre y el registro de entrada válida"]
[null,null,null,null,null,null,0,1,0,1900,0,1,1900,"Nombre y el registro de entrada válida"]
[null,null,null,null,null,null,0,1,0,1900,0,1,1900,"Nombre y el registro de entrada válida"]
[null,null,null,null,null,null,0,1,0,1900,0,1,1900,"Nombre y el registro de entrada válida"]
[null,null,null,null,null,null,0,1,0,1900,0,1,1900,"Nombre y el registro de entrada válida"]
[null,null,null,null,null,null,0,1,0,1900,0,1,1900,"Nombre y el registro de entrada válida"]
[null,null,null,null,null,null,0,1,0,1900,0,1,1900,"Nombre y el registro de entrada válida"]
[null,null,null,null,null,null,0,1,0,1900,0,1,1900,"Nombre y el registro de entrada válida"]
[null,null,null,null,null,null,0,1,0,1900,0,1,1900,"Nombre y el registro de entrada válida"]
[null,null,null,null,null,null,0,1,0,1900,0,1,1900,"Nombre y el registro de entrada válida"]
[null,null,null,null,null,null,0,1,0,1900,0,1,1900,"Nombre y el registro de entrada válida"]
[null,null,null,null,null,null,0,1,0,1900,0,1,1900,"Nombre y el registro de entrada válida"]
[null,null,null,null,null,null,0,1,0,1900,0,1,1900,"Nombre y el registro de entrada válida"]
[null,null,null,null,null,null,0,1,0,1900,0,1,1900,"Nombre y el registro de entrada válida"]
[null,null,null,null,null,null,0,1,0,1900,0,1,1900,"Nombre y el registro de entrada válida"]
[null,null,null,null,null,null,0,1,0,1900,0,1,1900,"Nombre y el registro de entrada válida"]
[null,null,null,null,null,null,0,1,0,1900,0,1,1900,"Nombre y el registro de entrada válida"]
[null,null,null,null,null,null,0,1,0,1900,0,1,1900,"Nombre y el registro de entrada válida"]
[null,null,null,null,null,null,0,1,0,1900,0,1,1900,"Nombre y el registro de entrada válida"]
[null,null,null,null,null,null,0,1,0,1900,0,1,1900,"Nombre y el registro de entrada válida"]
[null,null,null,null,null,null,0,1,0,1900,0,1,1900,"Nombre y el registro de entrada válida"]
[null,null,null,null,null,null,{"$f":"F71*E71","v":0},{"$f":"MONTH(B71)","v":1},{"$f":"DAY(B71)","v":0},{"$f":"YEAR(D71)","v":1900},{"$f":"DAY(E71)","v":0},{"$f":"MONTH(E71)","v":1},{"$f":"YEAR(E71)","v":1900},"Nombre y el registro de entrada válida"]
[null,null,null,null,null,null,0,1,0,1900,0,1,1900,"Nombre y el registro de entrada válida"]
[null,null,null,null,null,null,0,1,0,1900,0,1,1900,"Nombre y el registro de entrada válida"]
[null,null,null,null,null,null,0,1,0,1900,0,1,1900,"Nombre y el registro de entrada válida"]
[null,null,null,null,null,null,0,1,0,1900,0,1,1900,"Nombre y el registro de entrada válida"]
[null,null,null,null,null,null,0,1,0,1900,0,1,1900,"Nombre y el registro de entrada válida"]
[null,null,null,null,null,null,0,1,0,1900,0,1,1900,"Nombre y el registro de entrada válida"]
[null,null,null,null,null,null,0,1,0,1900,0,1,1900,"Nombre y el registro de entrada válida"]
[null,null,null,null,null,null,0,1,0,1900,0,1,1900,"Nombre y el registro de entrada válida"]
[null,null,null,null,null,null,0,1,0,1900,0,1,1900,"Nombre y el registro de entrada válida"]
[null,null,null,null,null,null,0,1,0,1900,0,1,1900,"Nombre y el registro de entrada válida"]
[null,null,null,null,null,null,0,1,0,1900,0,1,1900,"Nombre y el registro de entrada válida"]
[null,null,null,null,null,null,0,1,0,1900,0,1,1900,"Nombre y el registro de entrada válida"]
[null,null,null,null,null,null,0,1,0,1900,0,1,1900,"Nombre y el registro de entrada válida"]
[null,null,null,null,null,null,0,1,0,1900,0,1,1900,"Nombre y el registro de entrada válida"]
[null,null,null,null,null,null,0,1,0,1900,0,1,1900,"Nombre y el registro de entrada válida"]
[null,null,null,null,null,null,0,1,0,1900,0,1,1900,"Nombre y el registro de entrada válida"]
[null,null,null,null,null,null,0,1,0,1900,0,1,1900,"Nombre y el registro de entrada válida"]
[null,null,null,null,null,null,0,1,0,1900,0,1,1900,"Nombre y el registro de entrada válida"]
[null,null,null,null,null,null,0,1,0,1900,0,1,1900,"Nombre y el registro de entrada válida"]
[null,null,null,null,null,null,0,1,0,1900,0,1,1900,"Nombre y el registro de entrada válida"]
[null,null,null,null,null,null,0,1,0,1900,0,1,1900,"Nombre y el registro de entrada válida"]
[null,null,null,null,null,null,0,1,0,1900,0,1,1900,"Nombre y el registro de entrada válida"]
[null,null,null,null,null,null,0,1,0,1900,0,1,1900,"Nombre y el registro de entrada válida"]
[null,null,null,null,null,null,0,1,0,1900,0,1,1900,"Nombre y el registro de entrada válida"]
[null,null,null,null,null,null,0,1,0,1900,0,1,1900,"Nombre y el registro de entrada válida"]
[null,null,null,null,null,null,0,1,0,1900,0,1,1900,"Nombre y el registro de entrada válida"]
[null,null,null,null,null,null,0,1,0,1900,0,1,1900,"Nombre y el registro de entrada válida"]
[null,null,null,null,null,null,0,1,0,1900,0,1,1900,"Nombre y el registro de entrada válida"]
[null,null,null,null,null,null,0,1,0,1900,0,1,1900,"Nombre y el registro de entrada válida"]
[null,null,null,null,null,null,0,1,0,1900,0,1,1900,"Nombre y el registro de entrada válida"]
[null,null,null,null,null,null,0,1,0,1900,0,1,1900,"Nombre y el registro de entrada válida"]
[null,null,null,null,null,null,0,1,0,1900,0,1,1900,"Nombre y el registro de entrada válida"]
[null,null,null,null,null,null,0,1,0,1900,0,1,1900,"Nombre y el registro de entrada válida"]
[null,null,null,null,null,null,0,1,0,1900,0,1,1900,"Nombre y el registro de entrada válida"]
[null,null,null,null,null,null,0,1,0,1900,0,1,1900,"Nombre y el registro de entrada válida"]
[null,null,null,null,null,null,0,1,0,1900,0,1,1900,"Nombre y el registro de entrada válida"]
[null,null,null,null,null,null,0,1,0,1900,0,1,1900,"Nombre y el registro de entrada válida"]
[null,null,null,null,null,null,0,1,0,1900,0,1,1900,"Nombre y el registro de entrada válida"]
[null,null,null,null,null,null,0,1,0,1900,0,1,1900,"Nombre y el registro de entrada válida"]
[null,null,null,null,null,null,0,1,0,1900,0,1,1900,"Nombre y el registro de entrada válida"]
[null,null,null,null,null,null,0,1,0,1900,0,1,1900,"Nombre y el registro de entrada válida"]
[null,null,null,null,null,null,0,1,0,1900,0,1,1900,"Nombre y el registro de entrada válida"]
[null,null,null,null,null,null,0,1,0,1900,0,1,1900,"Nombre y el registro de entrada válida"]
[null,null,null,null,null,null,0,1,0,1900,0,1,1900,"Nombre y el registro de entrada válida"]
[null,null,null,null,null,null,0,1,0,1900,0,1,1900,"Nombre y el registro de entrada válida"]
[null,null,null,null,null,null,0,1,0,1900,0,1,1900,"Nombre y el registro de entrada válida"]
[null,null,null,null,null,null,0,1,0,1900,0,1,1900,"Nombre y el registro de entrada válida"]
[null,null,null,null,null,null,0,1,0,1900,0,1,1900,"Nombre y el registro de entrada válida"]
[null,null,null,null,null,null,0,1,0,1900,0,1,1900,"Nombre y el registro de entrada válida"]
[null,null,null,null,null,null,0,1,0,1900,0,1,1900,"Nombre y el registro de entrada válida"]
[null,null,null,null,null,null,0,1,0,1900,0,1,1900,"Nombre y el registro de entrada válida"]
[null,null,null,null,null,null,0,1,0,1900,0,1,1900,"Nombre y el registro de entrada válida"]
[null,null,null,null,null,null,0,1,0,1900,0,1,1900,"Nombre y el registro de entrada válida"]
[null,null,null,null,null,null,0,1,0,1900,0,1,1900,"Nombre y el registro de entrada válida"]
[null,null,null,null,null,null,0,1,0,1900,0,1,1900,"Nombre y el registro de entrada válida"]
[null,null,null,null,null,null,0,1,0,1900,0,1,1900,"Nombre y el registro de entrada válida"]
[null,null,null,null,null,null,0,1,0,1900,0,1,1900,"Nombre y el registro de entrada válida"]
[null,null,null,null,null,null,0,1,0,1900,0,1,1900,"Nombre y el registro de entrada válida"]
[null,null,null,null,null,null,0,1,0,1900,0,1,1900,"Nombre y el registro de entrada válida"]
[null,null,null,null,null,null,0,1,0,1900,0,1,1900,"Nombre y el registro de entrada válida"]
[null,null,null,null,null,null,0,1,0,1900,0,1,1900,"Nombre y el registro de entrada válida"]
[null,null,null,null,null,null,0,1,0,1900,0,1,1900,"Nombre y el registro de entrada válida"]
[null,null,null,null,null,null,0,1,0,1900,0,1,1900,"Nombre y el registro de entrada válida"]
[null,null,null,null,null,null,{"$f":"F135*E135","v":0},{"$f":"MONTH(B135)","v":1},{"$f":"DAY(B135)","v":0},{"$f":"YEAR(D135)","v":1900},{"$f":"DAY(E135)","v":0},{"$f":"MONTH(E135)","v":1},{"$f":"YEAR(E135)","v":1900},"Nombre y el registro de entrada válida"]
[null,null,null,null,null,null,0,1,0,1900,0,1,1900,"Nombre y el registro de entrada válida"]
[null,null,null,null,null,null,0,1,0,1900,0,1,1900,"Nombre y el registro de entrada válida"]
[null,null,null,null,null,null,0,1,0,1900,0,1,1900,"Nombre y el registro de entrada válida"]
[null,null,null,null,null,null,0,1,0,1900,0,1,1900,"Nombre y el registro de entrada válida"]
[null,null,null,null,null,null,0,1,0,1900,0,1,1900,"Nombre y el registro de entrada válida"]
[null,null,null,null,null,null,0,1,0,1900,0,1,1900,"Nombre y el registro de entrada válida"]
[null,null,null,null,null,null,0,1,0,1900,0,1,1900,"Nombre y el registro de entrada válida"]
[null,null,null,null,null,null,0,1,0,1900,0,1,1900,"Nombre y el registro de entrada válida"]
[null,null,null,null,null,null,0,1,0,1900,0,1,1900,"Nombre y el registro de entrada válida"]
[null,null,null,null,null,null,0,1,0,1900,0,1,1900,"Nombre y el registro de entrada válida"]
[null,null,null,null,null,null,0,1,0,1900,0,1,1900,"Nombre y el registro de entrada válida"]
[null,null,null,null,null,null,0,1,0,1900,0,1,1900,"Nombre y el registro de entrada válida"]
[null,null,null,null,null,null,0,1,0,1900,0,1,1900,"Nombre y el registro de entrada válida"]
[null,null,null,null,null,null,0,1,0,1900,0,1,1900,"Nombre y el registro de entrada válida"]
[null,null,null,null,null,null,0,1,0,1900,0,1,1900,"Nombre y el registro de entrada válida"]
[null,null,null,null,null,null,0,1,0,1900,0,1,1900,"Nombre y el registro de entrada válida"]
[null,null,null,null,null,null,0,1,0,1900,0,1,1900,"Nombre y el registro de entrada válida"]
[null,null,null,null,null,null,0,1,0,1900,0,1,1900,"Nombre y el registro de entrada válida"]
[null,null,null,null,null,null,0,1,0,1900,0,1,1900,"Nombre y el registro de entrada válida"]
[null,null,null,null,null,null,0,1,0,1900,0,1,1900,"Nombre y el registro de entrada válida"]
[null,null,null,null,null,null,0,1,0,1900,0,1,1900,"Nombre y el registro de entrada válida"]
[null,null,null,null,null,null,0,1,0,1900,0,1,1900,"Nombre y el registro de entrada válida"]
[null,null,null,null,null,null,0,1,0,1900,0,1,1900,"Nombre y el registro de entrada válida"]
[null,null,null,null,null,null,0,1,0,1900,0,1,1900,"Nombre y el registro de entrada válida"]
[null,null,null,null,null,null,0,1,0,1900,0,1,1900,"Nombre y el registro de entrada válida"]
[null,null,null,null,null,null,0,1,0,1900,0,1,1900,"Nombre y el registro de entrada válida"]
[null,null,null,null,null,null,0,1,0,1900,0,1,1900,"Nombre y el registro de entrada válida"]
[null,null,null,null,null,null,0,1,0,1900,0,1,1900,"Nombre y el registro de entrada válida"]
[null,null,null,null,null,null,0,1,0,1900,0,1,1900,"Nombre y el registro de entrada válida"]
[null,null,null,null,null,null,0,1,0,1900,0,1,1900,"Nombre y el registro de entrada válida"]
[null,null,null,null,null,null,0,1,0,1900,0,1,1900,"Nombre y el registro de entrada válida"]
[null,null,null,null,null,null,0,1,0,1900,0,1,1900,"Nombre y el registro de entrada válida"]
[null,null,null,null,null,null,0,1,0,1900,0,1,1900,"Nombre y el registro de entrada válida"]
[null,null,null,null,null,null,0,1,0,1900,0,1,1900,"Nombre y el registro de entrada válida"]
[null,null,null,null,null,null,0,1,0,1900,0,1,1900,"Nombre y el registro de entrada válida"]
[null,null,null,null,null,null,0,1,0,1900,0,1,1900,"Nombre y el registro de entrada válida"]
[null,null,null,null,null,null,0,1,0,1900,0,1,1900,"Nombre y el registro de entrada válida"]
[null,null,null,null,null,null,0,1,0,1900,0,1,1900,"Nombre y el registro de entrada válida"]
[null,null,null,null,null,null,0,1,0,1900,0,1,1900,"Nombre y el registro de entrada válida"]
[null,null,null,null,null,null,0,1,0,1900,0,1,1900,"Nombre y el registro de entrada válida"]
[null,null,null,null,null,null,0,1,0,1900,0,1,1900,"Nombre y el registro de entrada válida"]
[null,null,null,null,null,null,0,1,0,1900,0,1,1900,"Nombre y el registro de entrada válida"]
[null,null,null,null,null,null,0,1,0,1900,0,1,1900,"Nombre y el registro de entrada válida"]
[null,null,null,null,null,null,0,1,0,1900,0,1,1900,"Nombre y el registro de entrada válida"]
[null,null,null,null,null,null,0,1,0,1900,0,1,1900,"Nombre y el registro de entrada válida"]
[null,null,null,null,null,null,0,1,0,1900,0,1,1900,"Nombre y el registro de entrada válida"]
[null,null,null,null,null,null,0,1,0,1900,0,1,1900,"Nombre y el registro de entrada válida"]
[null,null,null,null,null,null,0,1,0,1900,0,1,1900,"Nombre y el registro de entrada válida"]
[null,null,null,null,null,null,0,1,0,1900,0,1,1900,"Nombre y el registro de entrada válida"]
[null,null,null,null,null,null,0,1,0,1900,0,1,1900,"Nombre y el registro de entrada válida"]
[null,null,null,null,null,null,0,1,0,1900,0,1,1900,"Nombre y el registro de entrada válida"]
[null,null,null,null,null,null,0,1,0,1900,0,1,1900,"Nombre y el registro de entrada válida"]
[null,null,null,null,null,null,0,1,0,1900,0,1,1900,"Nombre y el registro de entrada válida"]
[null,null,null,null,null,null,0,1,0,1900,0,1,1900,"Nombre y el registro de entrada válida"]
[null,null,null,null,null,null,0,1,0,1900,0,1,1900,"Nombre y el registro de entrada válida"]
[null,null,null,null,null,null,0,1,0,1900,0,1,1900,"Nombre y el registro de entrada válida"]
[null,null,null,null,null,null,0,1,0,1900,0,1,1900,"Nombre y el registro de entrada válida"]
[null,null,null,null,null,null,0,1,0,1900,0,1,1900,"Nombre y el registro de entrada válida"]
[null,null,null,null,null,null,0,1,0,1900,0,1,1900,"Nombre y el registro de entrada válida"]
[null,null,null,null,null,null,0,1,0,1900,0,1,1900,"Nombre y el registro de entrada válida"]
[null,null,null,null,null,null,0,1,0,1900,0,1,1900,"Nombre y el registro de entrada válida"]
[null,null,null,null,null,null,0,1,0,1900,0,1,1900,"Nombre y el registro de entrada válida"]
[null,null,null,null,null,null,0,1,0,1900,0,1,1900,"Nombre y el registro de entrada válida"]
[null,null,null,null,null,null,{"$f":"F199*E199","v":0},{"$f":"MONTH(B199)","v":1},{"$f":"DAY(B199)","v":0},{"$f":"YEAR(D199)","v":1900},{"$f":"DAY(E199)","v":0},{"$f":"MONTH(E199)","v":1},{"$f":"YEAR(E199)","v":1900},"Nombre y el registro de entrada válida"]
[null,null,null,null,null,null,0,1,0,1900,0,1,1900,"Nombre y el registro de entrada válida"]
[null,null,null,null,null,null,0,1,0,1900,0,1,1900,"Nombre y el registro de entrada válida"]
[null,null,null,null,null,null,0,1,0,1900,0,1,1900,"Nombre y el registro de entrada válida"]
[null,null,null,null,null,null,0,1,0,1900,0,1,1900,"Nombre y el registro de entrada válida"]
[null,null,null,null,null,null,0,1,0,1900,0,1,1900,"Nombre y el registro de entrada válida"]
[null,null,null,null,null,null,0,1,0,1900,0,1,1900,"Nombre y el registro de entrada válida"]
[null,null,null,null,null,null,0,1,0,1900,0,1,1900,"Nombre y el registro de entrada válida"]
[null,null,null,null,null,null,0,1,0,1900,0,1,1900,"Nombre y el registro de entrada válida"]
[null,null,null,null,null,null,0,1,0,1900,0,1,1900,"Nombre y el registro de entrada válida"]
[null,null,null,null,null,null,0,1,0,1900,0,1,1900,"Nombre y el registro de entrada válida"]
[null,null,null,null,null,null,0,1,0,1900,0,1,1900,"Nombre y el registro de entrada válida"]
[null,null,null,null,null,null,0,1,0,1900,0,1,1900,"Nombre y el registro de entrada válida"]
[null,null,null,null,null,null,0,1,0,1900,0,1,1900,"Nombre y el registro de entrada válida"]
[null,null,null,null,null,null,0,1,0,1900,0,1,1900,"Nombre y el registro de entrada válida"]
[null,null,null,null,null,null,0,1,0,1900,0,1,1900,"Nombre y el registro de entrada válida"]
[null,null,null,null,null,null,0,1,0,1900,0,1,1900,"Nombre y el registro de entrada válida"]
[null,null,null,null,null,null,0,1,0,1900,0,1,1900,"Nombre y el registro de entrada válida"]
[null,null,null,null,null,null,0,1,0,1900,0,1,1900,"Nombre y el registro de entrada válida"]
[null,null,null,null,null,null,0,1,0,1900,0,1,1900,"Nombre y el registro de entrada válida"]
[null,null,null,null,null,null,0,1,0,1900,0,1,1900,"Nombre y el registro de entrada válida"]
[null,null,null,null,null,null,0,1,0,1900,0,1,1900,"Nombre y el registro de entrada válida"]
[null,null,null,null,null,null,0,1,0,1900,0,1,1900,"Nombre y el registro de entrada válida"]
[null,null,null,null,null,null,0,1,0,1900,0,1,1900,"Nombre y el registro de entrada válida"]
[null,null,null,null,null,null,0,1,0,1900,0,1,1900,"Nombre y el registro de entrada válida"]
[null,null,null,null,null,null,0,1,0,1900,0,1,1900,"Nombre y el registro de entrada válida"]
[null,null,null,null,null,null,0,1,0,1900,0,1,1900,"Nombre y el registro de entrada válida"]
[null,null,null,null,null,null,0,1,0,1900,0,1,1900,"Nombre y el registro de entrada válida"]
[null,null,null,null,null,null,0,1,0,1900,0,1,1900,"Nombre y el registro de entrada válida"]
[null,null,null,null,null,null,0,1,0,1900,0,1,1900,"Nombre y el registro de entrada válida"]
[null,null,null,null,null,null,0,1,0,1900,0,1,1900,"Nombre y el registro de entrada válida"]
[null,null,null,null,null,null,0,1,0,1900,0,1,1900,"Nombre y el registro de entrada válida"]
[null,null,null,null,null,null,0,1,0,1900,0,1,1900,"Nombre y el registro de entrada válida"]
[null,null,null,null,null,null,0,1,0,1900,0,1,1900,"Nombre y el registro de entrada válida"]
[null,null,null,null,null,null,0,1,0,1900,0,1,1900,"Nombre y el registro de entrada válida"]
[null,null,null,null,null,null,0,1,0,1900,0,1,1900,"Nombre y el registro de entrada válida"]
[null,null,null,null,null,null,0,1,0,1900,0,1,1900,"Nombre y el registro de entrada válida"]
[null,null,null,null,null,null,0,1,0,1900,0,1,1900,"Nombre y el registro de entrada válida"]
[null,null,null,null,null,null,0,1,0,1900,0,1,1900,"Nombre y el registro de entrada válida"]
[null,null,null,null,null,null,0,1,0,1900,0,1,1900,"Nombre y el registro de entrada válida"]
[null,null,null,null,null,null,0,1,0,1900,0,1,1900,"Nombre y el registro de entrada válida"]
[null,null,null,null,null,null,0,1,0,1900,0,1,1900,"Nombre y el registro de entrada válida"]
[null,null,null,null,null,null,0,1,0,1900,0,1,1900,"Nombre y el registro de entrada válida"]
[null,null,null,null,null,null,0,1,0,1900,0,1,1900,"Nombre y el registro de entrada válida"]
[null,null,null,null,null,null,0,1,0,1900,0,1,1900,"Nombre y el registro de entrada válida"]
[null,null,null,null,null,null,0,1,0,1900,0,1,1900,"Nombre y el registro de entrada válida"]
[null,null,null,null,null,null,0,1,0,1900,0,1,1900,"Nombre y el registro de entrada válida"]
[null,null,null,null,null,null,0,1,0,1900,0,1,1900,"Nombre y el registro de entrada válida"]
[null,null,null,null,null,null,0,1,0,1900,0,1,1900,"Nombre y el registro de entrada válida"]
[null,null,null,null,null,null,0,1,0,1900,0,1,1900,"Nombre y el registro de entrada válida"]
[null,null,null,null,null,null,0,1,0,1900,0,1,1900,"Nombre y el registro de entrada válida"]
[null,null,null,null,null,null,0,1,0,1900,0,1,1900,"Nombre y el registro de entrada válida"]
[null,null,null,null,null,null,0,1,0,1900,0,1,1900,"Nombre y el registro de entrada válida"]
[null,null,null,null,null,null,0,1,0,1900,0,1,1900,"Nombre y el registro de entrada válida"]
[null,null,null,null,null,null,0,1,0,1900,0,1,1900,"Nombre y el registro de entrada válida"]
[null,null,null,null,null,null,0,1,0,1900,0,1,1900,"Nombre y el registro de entrada válida"]
[null,null,null,null,null,null,0,1,0,1900,0,1,1900,"Nombre y el registro de entrada válida"]
[null,null,null,null,null,null,0,1,0,1900,0,1,1900,"Nombre y el registro de entrada válida"]
[null,null,null,null,null,null,0,1,0,1900,0,1,1900,"Nombre y el registro de entrada válida"]
[null,null,null,null,null,null,0,1,0,1900,0,1,1900,"Nombre y el registro de entrada válida"]
[null,null,null,null,null,null,0,1,0,1900,0,1,1900,"Nombre y el registro de entrada válida"]
[null,null,null,null,null,null,0,1,0,1900,0,1,1900,"Nombre y el registro de entrada válida"]
[null,null,null,null,null,null,0,1,0,1900,0,1,1900,"Nombre y el registro de entrada válida"]
[null,null,null,null,null,null,0,1,0,1900,0,1,1900,"Nombre y el registro de entrada válida"]
[null,null,null,null,null,null,{"$f":"F263*E263","v":0},{"$f":"MONTH(B263)","v":1},{"$f":"DAY(B263)","v":0},{"$f":"YEAR(D263)","v":1900},{"$f":"DAY(E263)","v":0},{"$f":"MONTH(E263)","v":1},{"$f":"YEAR(E263)","v":1900},"Nombre y el registro de entrada válida"]
[null,null,null,null,null,null,0,1,0,1900,0,1,1900,"Nombre y el registro de entrada válida"]
[null,null,null,null,null,null,0,1,0,1900,0,1,1900,"Nombre y el registro de entrada válida"]
[null,null,null,null,null,null,0,1,0,1900,0,1,1900,"Nombre y el registro de entrada válida"]
[null,null,null,null,null,null,0,1,0,1900,0,1,1900,"Nombre y el registro de entrada válida"]
[null,null,null,null,null,null,0,1,0,1900,0,1,1900,"Nombre y el registro de entrada válida"]
[null,null,null,null,null,null,0,1,0,1900,0,1,1900,"Nombre y el registro de entrada válida"]
[null,null,null,null,null,null,0,1,0,1900,0,1,1900,"Nombre y el registro de entrada válida"]
[null,null,null,null,null,null,0,1,0,1900,0,1,1900,"Nombre y el registro de entrada válida"]
[null,null,null,null,null,null,0,1,0,1900,0,1,1900,"Nombre y el registro de entrada válida"]
[null,null,null,null,null,null,0,1,0,1900,0,1,1900,"Nombre y el registro de entrada válida"]
[null,null,null,null,null,null,0,1,0,1900,0,1,1900,"Nombre y el registro de entrada válida"]
[null,null,null,null,null,null,0,1,0,1900,0,1,1900,"Nombre y el registro de entrada válida"]
[null,null,null,null,null,null,0,1,0,1900,0,1,1900,"Nombre y el registro de entrada válida"]
[null,null,null,null,null,null,0,1,0,1900,0,1,1900,"Nombre y el registro de entrada válida"]
[null,null,null,null,null,null,0,1,0,1900,0,1,1900,"Nombre y el registro de entrada válida"]
[null,null,null,null,null,null,0,1,0,1900,0,1,1900,"Nombre y el registro de entrada válida"]
[null,null,null,null,null,null,0,1,0,1900,0,1,1900,"Nombre y el registro de entrada válida"]
[null,null,null,null,null,null,0,1,0,1900,0,1,1900,"Nombre y el registro de entrada válida"]
[null,null,null,null,null,null,0,1,0,1900,0,1,1900,"Nombre y el registro de entrada válida"]
[null,null,null,null,null,null,0,1,0,1900,0,1,1900,"Nombre y el registro de entrada válida"]
[null,null,null,null,null,null,0,1,0,1900,0,1,1900,"Nombre y el registro de entrada válida"]
[null,null,null,null,null,null,0,1,0,1900,0,1,1900,"Nombre y el registro de entrada válida"]
[null,null,null,null,null,null,0,1,0,1900,0,1,1900,"Nombre y el registro de entrada válida"]
[null,null,null,null,null,null,0,1,0,1900,0,1,1900,"Nombre y el registro de entrada válida"]
[null,null,null,null,null,null,0,1,0,1900,0,1,1900,"Nombre y el registro de entrada válida"]
[null,null,null,null,null,null,0,1,0,1900,0,1,1900,"Nombre y el registro de entrada válida"]
[null,null,null,null,null,null,0,1,0,1900,0,1,1900,"Nombre y el registro de entrada válida"]
[null,null,null,null,null,null,0,1,0,1900,0,1,1900,"Nombre y el registro de entrada válida"]
[null,null,null,null,null,null,0,1,0,1900,0,1,1900,"Nombre y el registro de entrada válida"]
[null,null,null,null,null,null,0,1,0,1900,0,1,1900,"Nombre y el registro de entrada válida"]
[null,null,null,null,null,null,0,1,0,1900,0,1,1900,"Nombre y el registro de entrada válida"]
[null,null,null,null,null,null,0,1,0,1900,0,1,1900,"Nombre y el registro de entrada válida"]
[null,null,null,null,null,null,0,1,0,1900,0,1,1900,"Nombre y el registro de entrada válida"]
[null,null,null,null,null,null,0,1,0,1900,0,1,1900,"Nombre y el registro de entrada válida"]
[null,null,null,null,null,null,0,1,0,1900,0,1,1900,"Nombre y el registro de entrada válida"]
[null,null,null,null,null,null,0,1,0,1900,0,1,1900,"Nombre y el registro de entrada válida"]
[null,null,null,null,null,null,0,1,0,1900,0,1,1900,"Nombre y el registro de entrada válida"]
[null,null,null,null,null,null,0,1,0,1900,0,1,1900,"Nombre y el registro de entrada válida"]
[null,null,null,null,null,null,0,1,0,1900,0,1,1900,"Nombre y el registro de entrada válida"]
[null,null,null,null,null,null,0,1,0,1900,0,1,1900,"Nombre y el registro de entrada válida"]
[null,null,null,null,null,null,0,1,0,1900,0,1,1900,"Nombre y el registro de entrada válida"]
[null,null,null,null,null,null,0,1,0,1900,0,1,1900,"Nombre y el registro de entrada válida"]
[null,null,null,null,null,null,0,1,0,1900,0,1,1900,"Nombre y el registro de entrada válida"]
[null,null,null,null,null,null,0,1,0,1900,0,1,1900,"Nombre y el registro de entrada válida"]
[null,null,null,null,null,null,0,1,0,1900,0,1,1900,"Nombre y el registro de entrada válida"]
[null,null,null,null,null,null,0,1,0,1900,0,1,1900,"Nombre y el registro de entrada válida"]
[null,null,null,null,null,null,0,1,0,1900,0,1,1900,"Nombre y el registro de entrada válida"]
[null,null,null,null,null,null,0,1,0,1900,0,1,1900,"Nombre y el registro de entrada válida"]
[null,null,null,null,null,null,0,1,0,1900,0,1,1900,"Nombre y el registro de entrada válida"]
[null,null,null,null,null,null,0,1,0,1900,0,1,1900,"Nombre y el registro de entrada válida"]
[null,null,null,null,null,null,0,1,0,1900,0,1,1900,"Nombre y el registro de entrada válida"]
[null,null,null,null,null,null,0,1,0,1900,0,1,1900,"Nombre y el registro de entrada válida"]
[null,null,null,null,null,null,0,1,0,1900,0,1,1900,"Nombre y el registro de entrada válida"]
[null,null,null,null,null,null,0,1,0,1900,0,1,1900,"Nombre y el registro de entrada válida"]
[null,null,null,null,null,null,0,1,0,1900,0,1,1900,"Nombre y el registro de entrada válida"]
[null,null,null,null,null,null,0,1,0,1900,0,1,1900,"Nombre y el registro de entrada válida"]
[null,null,null,null,null,null,0,1,0,1900,0,1,1900,"Nombre y el registro de entrada válida"]
[null,null,null,null,null,null,0,1,0,1900,0,1,1900,"Nombre y el registro de entrada válida"]
[null,null,null,null,null,null,0,1,0,1900,0,1,1900,"Nombre y el registro de entrada válida"]
[null,null,null,null,null,null,0,1,0,1900,0,1,1900,"Nombre y el registro de entrada válida"]
[null,null,null,null,null,null,0,1,0,1900,0,1,1900,"Nombre y el registro de entrada válida"]
[null,null,null,null,null,null,0,1,0,1900,0,1,1900,"Nombre y el registro de entrada válida"]
[null,null,null,null,null,null,0,1,0,1900,0,1,1900,"Nombre y el registro de entrada válida"]
[null,null,null,null,null,null,{"$f":"F327*E327","v":0},{"$f":"MONTH(B327)","v":1},{"$f":"DAY(B327)","v":0},{"$f":"YEAR(D327)","v":1900},{"$f":"DAY(E327)","v":0},{"$f":"MONTH(E327)","v":1},{"$f":"YEAR(E327)","v":1900},"Nombre y el registro de entrada válida"]
[null,null,null,null,null,null,0,1,0,1900,0,1,1900,"Nombre y el registro de entrada válida"]
[null,null,null,null,null,null,0,1,0,1900,0,1,1900,"Nombre y el registro de entrada válida"]
[null,null,null,null,null,null,0,1,0,1900,0,1,1900,"Nombre y el registro de entrada válida"]
[null,null,null,null,null,null,0,1,0,1900,0,1,1900,"Nombre y el registro de entrada válida"]
[null,null,null,null,null,null,0,1,0,1900,0,1,1900,"Nombre y el registro de entrada válida"]
[null,null,null,null,null,null,0,1,0,1900,0,1,1900,"Nombre y el registro de entrada válida"]
[null,null,null,null,null,null,0,1,0,1900,0,1,1900,"Nombre y el registro de entrada válida"]
[null,null,null,null,null,null,0,1,0,1900,0,1,1900,"Nombre y el registro de entrada válida"]
[null,null,null,null,null,null,0,1,0,1900,0,1,1900,"Nombre y el registro de entrada válida"]
[null,null,null,null,null,null,0,1,0,1900,0,1,1900,"Nombre y el registro de entrada válida"]
[null,null,null,null,null,null,0,1,0,1900,0,1,1900,"Nombre y el registro de entrada válida"]
[null,null,null,null,null,null,0,1,0,1900,0,1,1900,"Nombre y el registro de entrada válida"]
[null,null,null,null,null,null,0,1,0,1900,0,1,1900,"Nombre y el registro de entrada válida"]
[null,null,null,null,null,null,0,1,0,1900,0,1,1900,"Nombre y el registro de entrada válida"]
[null,null,null,null,null,null,0,1,0,1900,0,1,1900,"Nombre y el registro de entrada válida"]
[null,null,null,null,null,null,0,1,0,1900,0,1,1900,"Nombre y el registro de entrada válida"]
[null,null,null,null,null,null,0,1,0,1900,0,1,1900,"Nombre y el registro de entrada válida"]
[null,null,null,null,null,null,0,1,0,1900,0,1,1900,"Nombre y el registro de entrada válida"]
[null,null,null,null,null,null,0,1,0,1900,0,1,1900,"Nombre y el registro de entrada válida"]
[null,null,null,null,null,null,0,1,0,1900,0,1,1900,"Nombre y el registro de entrada válida"]
[null,null,null,null,null,null,0,1,0,1900,0,1,1900,"Nombre y el registro de entrada válida"]
[null,null,null,null,null,null,0,1,0,1900,0,1,1900,"Nombre y el registro de entrada válida"]
[null,null,null,null,null,null,0,1,0,1900,0,1,1900,"Nombre y el registro de entrada válida"]
[null,null,null,null,null,null,0,1,0,1900,0,1,1900,"Nombre y el registro de entrada válida"]
[null,null,null,null,null,null,0,1,0,1900,0,1,1900,"Nombre y el registro de entrada válida"]
[null,null,null,null,null,null,0,1,0,1900,0,1,1900,"Nombre y el registro de entrada válida"]
[null,null,null,null,null,null,0,1,0,1900,0,1,1900,"Nombre y el registro de entrada válida"]
[null,null,null,null,null,null,0,1,0,1900,0,1,1900,"Nombre y el registro de entrada válida"]
[null,null,null,null,null,null,0,1,0,1900,0,1,1900,"Nombre y el registro de entrada válida"]
[null,null,null,null,null,null,0,1,0,1900,0,1,1900,"Nombre y el registro de entrada válida"]
[null,null,null,null,null,null,0,1,0,1900,0,1,1900,"Nombre y el registro de entrada válida"]
[null,null,null,null,null,null,0,1,0,1900,0,1,1900,"Nombre y el registro de entrada válida"]
[null,null,null,null,null,null,0,1,0,1900,0,1,1900,"Nombre y el registro de entrada válida"]
[null,null,null,null,null,null,0,1,0,1900,0,1,1900,"Nombre y el registro de entrada válida"]
[null,null,null,null,null,null,0,1,0,1900,0,1,1900,"Nombre y el registro de entrada válida"]
[null,null,null,null,null,null,0,1,0,1900,0,1,1900,"Nombre y el registro de entrada válida"]
[null,null,null,null,null,null,0,1,0,1900,0,1,1900,"Nombre y el registro de entrada válida"]
[null,null,null,null,null,null,0,1,0,1900,0,1,1900,"Nombre y el registro de entrada válida"]
[null,null,null,null,null,null,0,1,0,1900,0,1,1900,"Nombre y el registro de entrada válida"]
[null,null,null,null,null,null,0,1,0,1900,0,1,1900,"Nombre y el registro de entrada válida"]
[null,null,null,null,null,null,0,1,0,1900,0,1,1900,"Nombre y el registro de entrada válida"]
[null,null,null,null,null,null,0,1,0,1900,0,1,1900,"Nombre y el registro de entrada válida"]
[null,null,null,null,null,null,0,1,0,1900,0,1,1900,"Nombre y el registro de entrada válida"]
[null,null,null,null,null,null,0,1,0,1900,0,1,1900,"Nombre y el registro de entrada válida"]
[null,null,null,null,null,null,0,1,0,1900,0,1,1900,"Nombre y el registro de entrada válida"]
[null,null,null,null,null,null,0,1,0,1900,0,1,1900,"Nombre y el registro de entrada válida"]
[null,null,null,null,null,null,0,1,0,1900,0,1,1900,"Nombre y el registro de entrada válida"]
[null,null,null,null,null,null,0,1,0,1900,0,1,1900,"Nombre y el registro de entrada válida"]
[null,null,null,null,null,null,0,1,0,1900,0,1,1900,"Nombre y el registro de entrada válida"]
[null,null,null,null,null,null,0,1,0,1900,0,1,1900,"Nombre y el registro de entrada válida"]
[null,null,null,null,null,null,0,1,0,1900,0,1,1900,"Nombre y el registro de entrada válida"]
[null,null,null,null,null,null,0,1,0,1900,0,1,1900,"Nombre y el registro de entrada válida"]
[null,null,null,null,null,null,0,1,0,1900,0,1,1900,"Nombre y el registro de entrada válida"]
[null,null,null,null,null,null,0,1,0,1900,0,1,1900,"Nombre y el registro de entrada válida"]
[null,null,null,null,null,null,0,1,0,1900,0,1,1900,"Nombre y el registro de entrada válida"]
[null,null,null,null,null,null,0,1,0,1900,0,1,1900,"Nombre y el registro de entrada válida"]
[null,null,null,null,null,null,0,1,0,1900,0,1,1900,"Nombre y el registro de entrada válida"]
[null,null,null,null,null,null,0,1,0,1900,0,1,1900,"Nombre y el registro de entrada válida"]
[null,null,null,null,null,null,0,1,0,1900,0,1,1900,"Nombre y el registro de entrada válida"]
[null,null,null,null,null,null,0,1,0,1900,0,1,1900,"Nombre y el registro de entrada válida"]
[null,null,null,null,null,null,0,1,0,1900,0,1,1900,"Nombre y el registro de entrada válida"]
[null,null,null,null,null,null,0,1,0,1900,0,1,1900,"Nombre y el registro de entrada válida"]
[null,null,null,null,null,null,0,1,0,1900,0,1,1900,"Nombre y el registro de entrada válida"]
[null,null,null,null,null,null,{"$f":"F391*E391","v":0},{"$f":"MONTH(B391)","v":1},{"$f":"DAY(B391)","v":0},{"$f":"YEAR(D391)","v":1900},{"$f":"DAY(E391)","v":0},{"$f":"MONTH(E391)","v":1},{"$f":"YEAR(E391)","v":1900},"Nombre y el registro de entrada válida"]
[null,null,null,null,null,null,0,1,0,1900,0,1,1900,"Nombre y el registro de entrada válida"]
[null,null,null,null,null,null,0,1,0,1900,0,1,1900,"Nombre y el registro de entrada válida"]
[null,null,null,null,null,null,0,1,0,1900,0,1,1900,"Nombre y el registro de entrada válida"]
[null,null,null,null,null,null,0,1,0,1900,0,1,1900,"Nombre y el registro de entrada válida"]
[null,null,null,null,null,null,0,1,0,1900,0,1,1900,"Nombre y el registro de entrada válida"]
[null,null,null,null,null,null,0,1,0,1900,0,1,1900,"Nombre y el registro de entrada válida"]
[null,null,null,null,null,null,0,1,0,1900,0,1,1900,"Nombre y el registro de entrada válida"]
[null,null,null,null,null,null,0,1,0,1900,0,1,1900,"Nombre y el registro de entrada válida"]
[null,null,null,null,null,null,0,1,0,1900,0,1,1900,"Nombre y el registro de entrada válida"]
[null,null,null,null,null,null,0,1,0,1900,0,1,1900,"Nombre y el registro de entrada válida"]
[null,null,null,null,null,null,0,1,0,1900,0,1,1900,"Nombre y el registro de entrada válida"]
[null,null,null,null,null,null,0,1,0,1900,0,1,1900,"Nombre y el registro de entrada válida"]
[null,null,null,null,null,null,0,1,0,1900,0,1,1900,"Nombre y el registro de entrada válida"]
[null,null,null,null,null,null,0,1,0,1900,0,1,1900,"Nombre y el registro de entrada válida"]
[null,null,null,null,null,null,0,1,0,1900,0,1,1900,"Nombre y el registro de entrada válida"]
[null,null,null,null,null,null,0,1,0,1900,0,1,1900,"Nombre y el registro de entrada válida"]
[null,null,null,null,null,null,0,1,0,1900,0,1,1900,"Nombre y el registro de entrada válida"]
[null,null,null,null,null,null,0,1,0,1900,0,1,1900,"Nombre y el registro de entrada válida"]
[null,null,null,null,null,null,0,1,0,1900,0,1,1900,"Nombre y el registro de entrada válida"]
[null,null,null,null,null,null,0,1,0,1900,0,1,1900,"Nombre y el registro de entrada válida"]
[null,null,null,null,null,null,0,1,0,1900,0,1,1900,"Nombre y el registro de entrada válida"]
[null,null,null,null,null,null,0,1,0,1900,0,1,1900,"Nombre y el registro de entrada válida"]
[null,null,null,null,null,null,0,1,0,1900,0,1,1900,"Nombre y el registro de entrada válida"]
[null,null,null,null,null,null,0,1,0,1900,0,1,1900,"Nombre y el registro de entrada válida"]
[null,null,null,null,null,null,0,1,0,1900,0,1,1900,"Nombre y el registro de entrada válida"]
[null,null,null,null,null,null,0,1,0,1900,0,1,1900,"Nombre y el registro de entrada válida"]
[null,null,null,null,null,null,0,1,0,1900,0,1,1900,"Nombre y el registro de entrada válida"]
[null,null,null,null,null,null,0,1,0,1900,0,1,1900,"Nombre y el registro de entrada válida"]
[null,null,null,null,null,null,0,1,0,1900,0,1,1900,"Nombre y el registro de entrada válida"]
[null,null,null,null,null,null,0,1,0,1900,0,1,1900,"Nombre y el registro de entrada válida"]
[null,null,null,null,null,null,0,1,0,1900,0,1,1900,"Nombre y el registro de entrada válida"]
[null,null,null,null,null,null,0,1,0,1900,0,1,1900,"Nombre y el registro de entrada válida"]
[null,null,null,null,null,null,0,1,0,1900,0,1,1900,"Nombre y el registro de entrada válida"]
[null,null,null,null,null,null,0,1,0,1900,0,1,1900,"Nombre y el registro de entrada válida"]
[null,null,null,null,null,null,0,1,0,1900,0,1,1900,"Nombre y el registro de entrada válida"]
[null,null,null,null,null,null,0,1,0,1900,0,1,1900,"Nombre y el registro de entrada válida"]
[null,null,null,null,null,null,0,1,0,1900,0,1,1900,"Nombre y el registro de entrada válida"]
[null,null,null,null,null,null,0,1,0,1900,0,1,1900,"Nombre y el registro de entrada válida"]
[null,null,null,null,null,null,0,1,0,1900,0,1,1900,"Nombre y el registro de entrada válida"]
[null,null,null,null,null,null,0,1,0,1900,0,1,1900,"Nombre y el registro de entrada válida"]
[null,null,null,null,null,null,0,1,0,1900,0,1,1900,"Nombre y el registro de entrada válida"]
[null,null,null,null,null,null,0,1,0,1900,0,1,1900,"Nombre y el registro de entrada válida"]
[null,null,null,null,null,null,0,1,0,1900,0,1,1900,"Nombre y el registro de entrada válida"]
[null,null,null,null,null,null,0,1,0,1900,0,1,1900,"Nombre y el registro de entrada válida"]
[null,null,null,null,null,null,0,1,0,1900,0,1,1900,"Nombre y el registro de entrada válida"]
[null,null,null,null,null,null,0,1,0,1900,0,1,1900,"Nombre y el registro de entrada válida"]
[null,null,null,null,null,null,0,1,0,1900,0,1,1900,"Nombre y el registro de entrada válida"]
[null,null,null,null,null,null,0,1,0,1900,0,1,1900,"Nombre y el registro de entrada válida"]
[null,null,null,null,null,null,0,1,0,1900,0,1,1900,"Nombre y el registro de entrada válida"]
[null,null,null,null,null,null,0,1,0,1900,0,1,1900,"Nombre y el registro de entrada válida"]
[null,null,null,null,null,null,0,1,0,1900,0,1,1900,"Nombre y el registro de entrada válida"]
[null,null,null,null,null,null,0,1,0,1900,0,1,1900,"Nombre y el registro de entrada válida"]
[null,null,null,null,null,null,0,1,0,1900,0,1,1900,"Nombre y el registro de entrada válida"]
[null,null,null,null,null,null,0,1,0,1900,0,1,1900,"Nombre y el registro de entrada válida"]
[null,null,null,null,null,null,0,1,0,1900,0,1,1900,"Nombre y el registro de entrada válida"]
[null,null,null,null,null,null,0,1,0,1900,0,1,1900,"Nombre y el registro de entrada válida"]
[null,null,null,null,null,null,0,1,0,1900,0,1,1900,"Nombre y el registro de entrada válida"]
[null,null,null,null,null,null,0,1,0,1900,0,1,1900,"Nombre y el registro de entrada válida"]
[null,null,null,null,null,null,0,1,0,1900,0,1,1900,"Nombre y el registro de entrada válida"]
[null,null,null,null,null,null,0,1,0,1900,0,1,1900,"Nombre y el registro de entrada válida"]
[null,null,null,null,null,null,0,1,0,1900,0,1,1900,"Nombre y el registro de entrada válida"]
[null,null,null,null,null,null,0,1,0,1900,0,1,1900,"Nombre y el registro de entrada válida"]
[null,null,null,null,null,null,0,1,0,1900,0,1,1900,"Nombre y el registro de entrada válida"]
[null,null,null,null,null,null,{"$f":"F455*E455","v":0},{"$f":"MONTH(B455)","v":1},{"$f":"DAY(B455)","v":0},{"$f":"YEAR(D455)","v":1900},{"$f":"DAY(E455)","v":0},{"$f":"MONTH(E455)","v":1},{"$f":"YEAR(E455)","v":1900},"Nombre y el registro de entrada válida"]
[null,null,null,null,null,null,0,1,0,1900,0,1,1900,"Nombre y el registro de entrada válida"]
[null,null,null,null,null,null,0,1,0,1900,0,1,1900,"Nombre y el registro de entrada válida"]
[null,null,null,null,null,null,0,1,0,1900,0,1,1900,"Nombre y el registro de entrada válida"]
[null,null,null,null,null,null,0,1,0,1900,0,1,1900,"Nombre y el registro de entrada válida"]
[null,null,null,null,null,null,0,1,0,1900,0,1,1900,"Nombre y el registro de entrada válida"]
[null,null,null,null,null,null,0,1,0,1900,0,1,1900,"Nombre y el registro de entrada válida"]
[null,null,null,null,null,null,0,1,0,1900,0,1,1900,"Nombre y el registro de entrada válida"]
[null,null,null,null,null,null,0,1,0,1900,0,1,1900,"Nombre y el registro de entrada válida"]
[null,null,null,null,null,null,0,1,0,1900,0,1,1900,"Nombre y el registro de entrada válida"]
[null,null,null,null,null,null,0,1,0,1900,0,1,1900,"Nombre y el registro de entrada válida"]
[null,null,null,null,null,null,0,1,0,1900,0,1,1900,"Nombre y el registro de entrada válida"]
[null,null,null,null,null,null,0,1,0,1900,0,1,1900,"Nombre y el registro de entrada válida"]
[null,null,null,null,null,null,0,1,0,1900,0,1,1900,"Nombre y el registro de entrada válida"]
[null,null,null,null,null,null,0,1,0,1900,0,1,1900,"Nombre y el registro de entrada válida"]
[null,null,null,null,null,null,0,1,0,1900,0,1,1900,"Nombre y el registro de entrada válida"]
[null,null,null,null,null,null,0,1,0,1900,0,1,1900,"Nombre y el registro de entrada válida"]
[null,null,null,null,null,null,0,1,0,1900,0,1,1900,"Nombre y el registro de entrada válida"]
[null,null,null,null,null,null,0,1,0,1900,0,1,1900,"Nombre y el registro de entrada válida"]
[null,null,null,null,null,null,0,1,0,1900,0,1,1900,"Nombre y el registro de entrada válida"]
[null,null,null,null,null,null,0,1,0,1900,0,1,1900,"Nombre y el registro de entrada válida"]
[null,null,null,null,null,null,0,1,0,1900,0,1,1900,"Nombre y el registro de entrada válida"]
[null,null,null,null,null,null,0,1,0,1900,0,1,1900,"Nombre y el registro de entrada válida"]
[null,null,null,null,null,null,0,1,0,1900,0,1,1900,"Nombre y el registro de entrada válida"]
[null,null,null,null,null,null,0,1,0,1900,0,1,1900,"Nombre y el registro de entrada válida"]
[null,null,null,null,null,null,0,1,0,1900,0,1,1900,"Nombre y el registro de entrada válida"]
[null,null,null,null,null,null,0,1,0,1900,0,1,1900,"Nombre y el registro de entrada válida"]
[null,null,null,null,null,null,0,1,0,1900,0,1,1900,"Nombre y el registro de entrada válida"]
[null,null,null,null,null,null,0,1,0,1900,0,1,1900,"Nombre y el registro de entrada válida"]
[null,null,null,null,null,null,0,1,0,1900,0,1,1900,"Nombre y el registro de entrada válida"]
[null,null,null,null,null,null,0,1,0,1900,0,1,1900,"Nombre y el registro de entrada válida"]
[null,null,null,null,null,null,0,1,0,1900,0,1,1900,"Nombre y el registro de entrada válida"]
[null,null,null,null,null,null,0,1,0,1900,0,1,1900,"Nombre y el registro de entrada válida"]
[null,null,null,null,null,null,0,1,0,1900,0,1,1900,"Nombre y el registro de entrada válida"]
[null,null,null,null,null,null,0,1,0,1900,0,1,1900,"Nombre y el registro de entrada válida"]
[null,null,null,null,null,null,0,1,0,1900,0,1,1900,"Nombre y el registro de entrada válida"]
[null,null,null,null,null,null,0,1,0,1900,0,1,1900,"Nombre y el registro de entrada válida"]
[null,null,null,null,null,null,0,1,0,1900,0,1,1900,"Nombre y el registro de entrada válida"]
[null,null,null,null,null,null,0,1,0,1900,0,1,1900,"Nombre y el registro de entrada válida"]
[null,null,null,null,null,null,0,1,0,1900,0,1,1900,"Nombre y el registro de entrada válida"]
[null,null,null,null,null,null,0,1,0,1900,0,1,1900,"Nombre y el registro de entrada válida"]
[null,null,null,null,null,null,0,1,0,1900,0,1,1900,"Nombre y el registro de entrada válida"]
[null,null,null,null,null,null,0,1,0,1900,0,1,1900,"Nombre y el registro de entrada válida"]
[null,null,null,null,null,null,0,1,0,1900,0,1,1900,"Nombre y el registro de entrada válida"]
[null,null,null,null,null,null,0,1,0,1900,0,1,1900,"Nombre y el registro de entrada válida"]
[null,null,null,null,null,null,0,1,0,1900,0,1,1900,"Nombre y el registro de entrada válida"]
[null,null,null,null,null,null,0,1,0,1900,0,1,1900,"Nombre y el registro de entrada válida"]
[null,null,null,null,null,null,0,1,0,1900,0,1,1900,"Nombre y el registro de entrada válida"]
[null,null,null,null,null,null,0,1,0,1900,0,1,1900,"Nombre y el registro de entrada válida"]
[null,null,null,null,null,null,0,1,0,1900,0,1,1900,"Nombre y el registro de entrada válida"]
[null,null,null,null,null,null,0,1,0,1900,0,1,1900,"Nombre y el registro de entrada válida"]
[null,null,null,null,null,null,0,1,0,1900,0,1,1900,"Nombre y el registro de entrada válida"]
[null,null,null,null,null,null,0,1,0,1900,0,1,1900,"Nombre y el registro de entrada válida"]
[null,null,null,null,null,null,0,1,0,1900,0,1,1900,"Nombre y el registro de entrada válida"]
[null,null,null,null,null,null,0,1,0,1900,0,1,1900,"Nombre y el registro de entrada válida"]
[null,null,null,null,null,null,0,1,0,1900,0,1,1900,"Nombre y el registro de entrada válida"]
[null,null,null,null,null,null,0,1,0,1900,0,1,1900,"Nombre y el registro de entrada válida"]
[null,null,null,null,null,null,0,1,0,1900,0,1,1900,"Nombre y el registro de entrada válida"]
[null,null,null,null,null,null,0,1,0,1900,0,1,1900,"Nombre y el registro de entrada válida"]
[null,null,null,null,null,null,0,1,0,1900,0,1,1900,"Nombre y el registro de entrada válida"]
[null,null,null,null,null,null,0,1,0,1900,0,1,1900,"Nombre y el registro de entrada válida"]
[null,null,null,null,null,null,0,1,0,1900,0,1,1900,"Nombre y el registro de entrada válida"]
[null,null,null,null,null,null,0,1,0,1900,0,1,1900,"Nombre y el registro de entrada válida"]
[null,null,null,null,null,null,0,1,0,1900,0,1,1900,"Nombre y el registro de entrada válida"]
[null,null,null,null,null,null,{"$f":"F519*E519","v":0},{"$f":"MONTH(B519)","v":1},{"$f":"DAY(B519)","v":0},{"$f":"YEAR(D519)","v":1900},{"$f":"DAY(E519)","v":0},{"$f":"MONTH(E519)","v":1},{"$f":"YEAR(E519)","v":1900},"Nombre y el registro de entrada válida"]
[null,null,null,null,null,null,0,1,0,1900,0,1,1900,"Nombre y el registro de entrada válida"]
[null,null,null,null,null,null,0,1,0,1900,0,1,1900,"Nombre y el registro de entrada válida"]
[null,null,null,null,null,null,0,1,0,1900,0,1,1900,"Nombre y el registro de entrada válida"]
[null,null,null,null,null,null,0,1,0,1900,0,1,1900,"Nombre y el registro de entrada válida"]
[null,null,null,null,null,null,0,1,0,1900,0,1,1900,"Nombre y el registro de entrada válida"]
[null,null,null,null,null,null,0,1,0,1900,0,1,1900,"Nombre y el registro de entrada válida"]
[null,null,null,null,null,null,0,1,0,1900,0,1,1900,"Nombre y el registro de entrada válida"]
[null,null,null,null,null,null,0,1,0,1900,0,1,1900,"Nombre y el registro de entrada válida"]
[null,null,null,null,null,null,0,1,0,1900,0,1,1900,"Nombre y el registro de entrada válida"]
[null,null,null,null,null,null,0,1,0,1900,0,1,1900,"Nombre y el registro de entrada válida"]
[null,null,null,null,null,null,0,1,0,1900,0,1,1900,"Nombre y el registro de entrada válida"]
[null,null,null,null,null,null,0,1,0,1900,0,1,1900,"Nombre y el registro de entrada válida"]
[null,null,null,null,null,null,0,1,0,1900,0,1,1900,"Nombre y el registro de entrada válida"]
[null,null,null,null,null,null,0,1,0,1900,0,1,1900,"Nombre y el registro de entrada válida"]
[null,null,null,null,null,null,0,1,0,1900,0,1,1900,"Nombre y el registro de entrada válida"]
[null,null,null,null,null,null,0,1,0,1900,0,1,1900,"Nombre y el registro de entrada válida"]
[null,null,null,null,null,null,0,1,0,1900,0,1,1900,"Nombre y el registro de entrada válida"]
[null,null,null,null,null,null,0,1,0,1900,0,1,1900,"Nombre y el registro de entrada válida"]
[null,null,null,null,null,null,0,1,0,1900,0,1,1900,"Nombre y el registro de entrada válida"]
[null,null,null,null,null,null,0,1,0,1900,0,1,1900,"Nombre y el registro de entrada válida"]
[null,null,null,null,null,null,0,1,0,1900,0,1,1900,"Nombre y el registro de entrada válida"]
[null,null,null,null,null,null,0,1,0,1900,0,1,1900,"Nombre y el registro de entrada válida"]
[null,null,null,null,null,null,0,1,0,1900,0,1,1900,"Nombre y el registro de entrada válida"]
[null,null,null,null,null,null,0,1,0,1900,0,1,1900,"Nombre y el registro de entrada válida"]
[null,null,null,null,null,null,0,1,0,1900,0,1,1900,"Nombre y el registro de entrada válida"]
[null,null,null,null,null,null,0,1,0,1900,0,1,1900,"Nombre y el registro de entrada válida"]
[null,null,null,null,null,null,0,1,0,1900,0,1,1900,"Nombre y el registro de entrada válida"]
[null,null,null,null,null,null,0,1,0,1900,0,1,1900,"Nombre y el registro de entrada válida"]
[null,null,null,null,null,null,0,1,0,1900,0,1,1900,"Nombre y el registro de entrada válida"]
[null,null,null,null,null,null,0,1,0,1900,0,1,1900,"Nombre y el registro de entrada válida"]
[null,null,null,null,null,null,0,1,0,1900,0,1,1900,"Nombre y el registro de entrada válida"]
[null,null,null,null,null,null,0,1,0,1900,0,1,1900,"Nombre y el registro de entrada válida"]
[null,null,null,null,null,null,0,1,0,1900,0,1,1900,"Nombre y el registro de entrada válida"]
[null,null,null,null,null,null,0,1,0,1900,0,1,1900,"Nombre y el registro de entrada válida"]
[null,null,null,null,null,null,0,1,0,1900,0,1,1900,"Nombre y el registro de entrada válida"]
[null,null,null,null,null,null,0,1,0,1900,0,1,1900,"Nombre y el registro de entrada válida"]
[null,null,null,null,null,null,0,1,0,1900,0,1,1900,"Nombre y el registro de entrada válida"]
[null,null,null,null,null,null,0,1,0,1900,0,1,1900,"Nombre y el registro de entrada válida"]
[null,null,null,null,null,null,0,1,0,1900,0,1,1900,"Nombre y el registro de entrada válida"]
[null,null,null,null,null,null,0,1,0,1900,0,1,1900,"Nombre y el registro de entrada válida"]
[null,null,null,null,null,null,0,1,0,1900,0,1,1900,"Nombre y el registro de entrada válida"]
[null,null,null,null,null,null,0,1,0,1900,0,1,1900,"Nombre y el registro de entrada válida"]
[null,null,null,null,null,null,0,1,0,1900,0,1,1900,"Nombre y el registro de entrada válida"]
[null,null,null,null,null,null,0,1,0,1900,0,1,1900,"Nombre y el registro de entrada válida"]
[null,null,null,null,null,null,0,1,0,1900,0,1,1900,"Nombre y el registro de entrada válida"]
[null,null,null,null,null,null,0,1,0,1900,0,1,1900,"Nombre y el registro de entrada válida"]
[null,null,null,null,null,null,0,1,0,1900,0,1,1900,"Nombre y el registro de entrada válida"]
[null,null,null,null,null,null,0,1,0,1900,0,1,1900,"Nombre y el registro de entrada válida"]
[null,null,null,null,null,null,0,1,0,1900,0,1,1900,"Nombre y el registro de entrada válida"]
[null,null,null,null,null,null,0,1,0,1900,0,1,1900,"Nombre y el registro de entrada válida"]
[null,null,null,null,null,null,0,1,0,1900,0,1,1900,"Nombre y el registro de entrada válida"]
[null,null,null,null,null,null,0,1,0,1900,0,1,1900,"Nombre y el registro de entrada válida"]
[null,null,null,null,null,null,0,1,0,1900,0,1,1900,"Nombre y el registro de entrada válida"]
[null,null,null,null,null,null,0,1,0,1900,0,1,1900,"Nombre y el registro de entrada válida"]
[null,null,null,null,null,null,0,1,0,1900,0,1,1900,"Nombre y el registro de entrada válida"]
[null,null,null,null,null,null,0,1,0,1900,0,1,1900,"Nombre y el registro de entrada válida"]
[null,null,null,null,null,null,0,1,0,1900,0,1,1900,"Nombre y el registro de entrada válida"]
[null,null,null,null,null,null,0,1,0,1900,0,1,1900,"Nombre y el registro de entrada válida"]
[null,null,null,null,null,null,0,1,0,1900,0,1,1900,"Nombre y el registro de entrada válida"]
[null,null,null,null,null,null,0,1,0,1900,0,1,1900,"Nombre y el registro de entrada válida"]
[null,null,null,null,null,null,0,1,0,1900,0,1,1900,"Nombre y el registro de entrada válida"]
[null,null,null,null,null,null,0,1,0,1900,0,1,1900,"Nombre y el registro de entrada válida"]
[null,null,null,null,null,null,0,1,0,1900,0,1,1900,"Nombre y el registro de entrada válida"]
[null,null,null,null,null,null,{"$f":"F583*E583","v":0},{"$f":"MONTH(B583)","v":1},{"$f":"DAY(B583)","v":0},{"$f":"YEAR(D583)","v":1900},{"$f":"DAY(E583)","v":0},{"$f":"MONTH(E583)","v":1},{"$f":"YEAR(E583)","v":1900},"Nombre y el registro de entrada válida"]
[null,null,null,null,null,null,0,1,0,1900,0,1,1900,"Nombre y el registro de entrada válida"]
[null,null,null,null,null,null,0,1,0,1900,0,1,1900,"Nombre y el registro de entrada válida"]
[null,null,null,null,null,null,0,1,0,1900,0,1,1900,"Nombre y el registro de entrada válida"]
[null,null,null,null,null,null,0,1,0,1900,0,1,1900,"Nombre y el registro de entrada válida"]
[null,null,null,null,null,null,0,1,0,1900,0,1,1900,"Nombre y el registro de entrada válida"]
[null,null,null,null,null,null,0,1,0,1900,0,1,1900,"Nombre y el registro de entrada válida"]
[null,null,null,null,null,null,0,1,0,1900,0,1,1900,"Nombre y el registro de entrada válida"]
[null,null,null,null,null,null,0,1,0,1900,0,1,1900,"Nombre y el registro de entrada válida"]
[null,null,null,null,null,null,0,1,0,1900,0,1,1900,"Nombre y el registro de entrada válida"]
[null,null,null,null,null,null,0,1,0,1900,0,1,1900,"Nombre y el registro de entrada válida"]
[null,null,null,null,null,null,0,1,0,1900,0,1,1900,"Nombre y el registro de entrada válida"]
[null,null,null,null,null,null,0,1,0,1900,0,1,1900,"Nombre y el registro de entrada válida"]
[null,null,null,null,null,null,0,1,0,1900,0,1,1900,"Nombre y el registro de entrada válida"]
[null,null,null,null,null,null,0,1,0,1900,0,1,1900,"Nombre y el registro de entrada válida"]
[null,null,null,null,null,null,0,1,0,1900,0,1,1900,"Nombre y el registro de entrada válida"]
[null,null,null,null,null,null,0,1,0,1900,0,1,1900,"Nombre y el registro de entrada válida"]
[null,null,null,null,null,null,0,1,0,1900,0,1,1900,"Nombre y el registro de entrada válida"]
[null,null,null,null,null,null,0,1,0,1900,0,1,1900,"Nombre y el registro de entrada válida"]
[null,null,null,null,null,null,0,1,0,1900,0,1,1900,"Nombre y el registro de entrada válida"]
[null,null,null,null,null,null,0,1,0,1900,0,1,1900,"Nombre y el registro de entrada válida"]
[null,null,null,null,null,null,0,1,0,1900,0,1,1900,"Nombre y el registro de entrada válida"]
[null,null,null,null,null,null,0,1,0,1900,0,1,1900,"Nombre y el registro de entrada válida"]
[null,null,null,null,null,null,0,1,0,1900,0,1,1900,"Nombre y el registro de entrada válida"]
[null,null,null,null,null,null,0,1,0,1900,0,1,1900,"Nombre y el registro de entrada válida"]
[null,null,null,null,null,null,0,1,0,1900,0,1,1900,"Nombre y el registro de entrada válida"]
[null,null,null,null,null,null,0,1,0,1900,0,1,1900,"Nombre y el registro de entrada válida"]
[null,null,null,null,null,null,0,1,0,1900,0,1,1900,"Nombre y el registro de entrada válida"]
[null,null,null,null,null,null,0,1,0,1900,0,1,1900,"Nombre y el registro de entrada válida"]
[null,null,null,null,null,null,0,1,0,1900,0,1,1900,"Nombre y el registro de entrada válida"]
[null,null,null,null,null,null,0,1,0,1900,0,1,1900,"Nombre y el registro de entrada válida"]
[null,null,null,null,null,null,0,1,0,1900,0,1,1900,"Nombre y el registro de entrada válida"]
[null,null,null,null,null,null,0,1,0,1900,0,1,1900,"Nombre y el registro de entrada válida"]
[null,null,null,null,null,null,0,1,0,1900,0,1,1900,"Nombre y el registro de entrada válida"]
[null,null,null,null,null,null,0,1,0,1900,0,1,1900,"Nombre y el registro de entrada válida"]
[null,null,null,null,null,null,0,1,0,1900,0,1,1900,"Nombre y el registro de entrada válida"]
[null,null,null,null,null,null,0,1,0,1900,0,1,1900,"Nombre y el registro de entrada válida"]
[null,null,null,null,null,null,0,1,0,1900,0,1,1900,"Nombre y el registro de entrada válida"]
[null,null,null,null,null,null,0,1,0,1900,0,1,1900,"Nombre y el registro de entrada válida"]
[null,null,null,null,null,null,0,1,0,1900,0,1,1900,"Nombre y el registro de entrada válida"]
[null,null,null,null,null,null,0,1,0,1900,0,1,1900,"Nombre y el registro de entrada válida"]
[null,null,null,null,null,null,0,1,0,1900,0,1,1900,"Nombre y el registro de entrada válida"]
[null,null,null,null,null,null,0,1,0,1900,0,1,1900,"Nombre y el registro de entrada válida"]
[null,null,null,null,null,null,0,1,0,1900,0,1,1900,"Nombre y el registro de entrada válida"]
[null,null,null,null,null,null,0,1,0,1900,0,1,1900,"Nombre y el registro de entrada válida"]
[null,null,null,null,null,null,0,1,0,1900,0,1,1900,"Nombre y el registro de entrada válida"]
[null,null,null,null,null,null,0,1,0,1900,0,1,1900,"Nombre y el registro de entrada válida"]
[null,null,null,null,null,null,0,1,0,1900,0,1,1900,"Nombre y el registro de entrada válida"]
[null,null,null,null,null,null,0,1,0,1900,0,1,1900,"Nombre y el registro de entrada válida"]
[null,null,null,null,null,null,0,1,0,1900,0,1,1900,"Nombre y el registro de entrada válida"]
[null,null,null,null,null,null,0,1,0,1900,0,1,1900,"Nombre y el registro de entrada válida"]
[null,null,null,null,null,null,0,1,0,1900,0,1,1900,"Nombre y el registro de entrada válida"]
[null,null,null,null,null,null,0,1,0,1900,0,1,1900,"Nombre y el registro de entrada válida"]
[null,null,null,null,null,null,0,1,0,1900,0,1,1900,"Nombre y el registro de entrada válida"]
[null,null,null,null,null,null,0,1,0,1900,0,1,1900,"Nombre y el registro de entrada válida"]
[null,null,null,null,null,null,0,1,0,1900,0,1,1900,"Nombre y el registro de entrada válida"]
[null,null,null,null,null,null,0,1,0,1900,0,1,1900,"Nombre y el registro de entrada válida"]
[null,null,null,null,null,null,0,1,0,1900,0,1,1900,"Nombre y el registro de entrada válida"]
[null,null,null,null,null,null,0,1,0,1900,0,1,1900,"Nombre y el registro de entrada válida"]
[null,null,null,null,null,null,0,1,0,1900,0,1,1900,"Nombre y el registro de entrada válida"]
[null,null,null,null,null,null,0,1,0,1900,0,1,1900,"Nombre y el registro de entrada válida"]
[null,null,null,null,null,null,0,1,0,1900,0,1,1900,"Nombre y el registro de entrada válida"]
[null,null,null,null,null,null,0,1,0,1900,0,1,1900,"Nombre y el registro de entrada válida"]
[null,null,null,null,null,null,0,1,0,1900,0,1,1900,"Nombre y el registro de entrada válida"]
[null,null,null,null,null,null,{"$f":"F647*E647","v":0},{"$f":"MONTH(B647)","v":1},{"$f":"DAY(B647)","v":0},{"$f":"YEAR(D647)","v":1900},{"$f":"DAY(E647)","v":0},{"$f":"MONTH(E647)","v":1},{"$f":"YEAR(E647)","v":1900},"Nombre y el registro de entrada válida"]
[null,null,null,null,null,null,0,1,0,1900,0,1,1900,"Nombre y el registro de entrada válida"]
[null,null,null,null,null,null,0,1,0,1900,0,1,1900,"Nombre y el registro de entrada válida"]
[null,null,null,null,null,null,0,1,0,1900,0,1,1900,"Nombre y el registro de entrada válida"]
[null,null,null,null,null,null,0,1,0,1900,0,1,1900,"Nombre y el registro de entrada válida"]
[null,null,null,null,null,null,0,1,0,1900,0,1,1900,"Nombre y el registro de entrada válida"]
[null,null,null,null,null,null,0,1,0,1900,0,1,1900,"Nombre y el registro de entrada válida"]
[null,null,null,null,null,null,0,1,0,1900,0,1,1900,"Nombre y el registro de entrada válida"]
[null,null,null,null,null,null,0,1,0,1900,0,1,1900,"Nombre y el registro de entrada válida"]
[null,null,null,null,null,null,0,1,0,1900,0,1,1900,"Nombre y el registro de entrada válida"]
[null,null,null,null,null,null,0,1,0,1900,0,1,1900,"Nombre y el registro de entrada válida"]
[null,null,null,null,null,null,0,1,0,1900,0,1,1900,"Nombre y el registro de entrada válida"]
[null,null,null,null,null,null,0,1,0,1900,0,1,1900,"Nombre y el registro de entrada válida"]
[null,null,null,null,null,null,0,1,0,1900,0,1,1900,"Nombre y el registro de entrada válida"]
[null,null,null,null,null,null,0,1,0,1900,0,1,1900,"Nombre y el registro de entrada válida"]
[null,null,null,null,null,null,0,1,0,1900,0,1,1900,"Nombre y el registro de entrada válida"]
[null,null,null,null,null,null,0,1,0,1900,0,1,1900,"Nombre y el registro de entrada válida"]
[null,null,null,null,null,null,0,1,0,1900,0,1,1900,"Nombre y el registro de entrada válida"]
[null,null,null,null,null,null,0,1,0,1900,0,1,1900,"Nombre y el registro de entrada válida"]
[null,null,null,null,null,null,0,1,0,1900,0,1,1900,"Nombre y el registro de entrada válida"]
[null,null,null,null,null,null,0,1,0,1900,0,1,1900,"Nombre y el registro de entrada válida"]
[null,null,null,null,null,null,0,1,0,1900,0,1,1900,"Nombre y el registro de entrada válida"]
[null,null,null,null,null,null,0,1,0,1900,0,1,1900,"Nombre y el registro de entrada válida"]
[null,null,null,null,null,null,0,1,0,1900,0,1,1900,"Nombre y el registro de entrada válida"]
[null,null,null,null,null,null,0,1,0,1900,0,1,1900,"Nombre y el registro de entrada válida"]
[null,null,null,null,null,null,0,1,0,1900,0,1,1900,"Nombre y el registro de entrada válida"]
[null,null,null,null,null,null,0,1,0,1900,0,1,1900,"Nombre y el registro de entrada válida"]
[null,null,null,null,null,null,0,1,0,1900,0,1,1900,"Nombre y el registro de entrada válida"]
[null,null,null,null,null,null,0,1,0,1900,0,1,1900,"Nombre y el registro de entrada válida"]
[null,null,null,null,null,null,0,1,0,1900,0,1,1900,"Nombre y el registro de entrada válida"]
[null,null,null,null,null,null,0,1,0,1900,0,1,1900,"Nombre y el registro de entrada válida"]
[null,null,null,null,null,null,0,1,0,1900,0,1,1900,"Nombre y el registro de entrada válida"]
[null,null,null,null,null,null,0,1,0,1900,0,1,1900,"Nombre y el registro de entrada válida"]
[null,null,null,null,null,null,0,1,0,1900,0,1,1900,"Nombre y el registro de entrada válida"]
[null,null,null,null,null,null,0,1,0,1900,0,1,1900,"Nombre y el registro de entrada válida"]
[null,null,null,null,null,null,0,1,0,1900,0,1,1900,"Nombre y el registro de entrada válida"]
[null,null,null,null,null,null,0,1,0,1900,0,1,1900,"Nombre y el registro de entrada válida"]
[null,null,null,null,null,null,0,1,0,1900,0,1,1900,"Nombre y el registro de entrada válida"]
[null,null,null,null,null,null,0,1,0,1900,0,1,1900,"Nombre y el registro de entrada válida"]
[null,null,null,null,null,null,0,1,0,1900,0,1,1900,"Nombre y el registro de entrada válida"]
[null,null,null,null,null,null,0,1,0,1900,0,1,1900,"Nombre y el registro de entrada válida"]
[null,null,null,null,null,null,0,1,0,1900,0,1,1900,"Nombre y el registro de entrada válida"]
[null,null,null,null,null,null,0,1,0,1900,0,1,1900,"Nombre y el registro de entrada válida"]
[null,null,null,null,null,null,0,1,0,1900,0,1,1900,"Nombre y el registro de entrada válida"]
[null,null,null,null,null,null,0,1,0,1900,0,1,1900,"Nombre y el registro de entrada válida"]
[null,null,null,null,null,null,0,1,0,1900,0,1,1900,"Nombre y el registro de entrada válida"]
[null,null,null,null,null,null,0,1,0,1900,0,1,1900,"Nombre y el registro de entrada válida"]
[null,null,null,null,null,null,0,1,0,1900,0,1,1900,"Nombre y el registro de entrada válida"]
[null,null,null,null,null,null,0,1,0,1900,0,1,1900,"Nombre y el registro de entrada válida"]
[null,null,null,null,null,null,0,1,0,1900,0,1,1900,"Nombre y el registro de entrada válida"]
[null,null,null,null,null,null,0,1,0,1900,0,1,1900,"Nombre y el registro de entrada válida"]
[null,null,null,null,null,null,0,1,0,1900,0,1,1900,"Nombre y el registro de entrada válida"]
[null,null,null,null,null,null,0,1,0,1900,0,1,1900,"Nombre y el registro de entrada válida"]
[null,null,null,null,null,null,0,1,0,1900,0,1,1900,"Nombre y el registro de entrada válida"]
[null,null,null,null,null,null,0,1,0,1900,0,1,1900,"Nombre y el registro de entrada válida"]
[null,null,null,null,null,null,0,1,0,1900,0,1,1900,"Nombre y el registro de entrada válida"]
[null,null,null,null,null,null,0,1,0,1900,0,1,1900,"Nombre y el registro de entrada válida"]
[null,null,null,null,null,null,0,1,0,1900,0,1,1900,"Nombre y el registro de entrada válida"]
[null,null,null,null,null,null,0,1,0,1900,0,1,1900,"Nombre y el registro de entrada válida"]
[null,null,null,null,null,null,0,1,0,1900,0,1,1900,"Nombre y el registro de entrada válida"]
[null,null,null,null,null,null,0,1,0,1900,0,1,1900,"Nombre y el registro de entrada válida"]
[null,null,null,null,null,null,0,1,0,1900,0,1,1900,"Nombre y el registro de entrada válida"]
[null,null,null,null,null,null,0,1,0,1900,0,1,1900,"Nombre y el registro de entrada válida"]
[null,null,null,null,null,null,0,1,0,1900,0,1,1900,"Nombre y el registro de entrada válida"]
[null,null,null,null,null,null,{"$f":"F711*E711","v":0},{"$f":"MONTH(B711)","v":1},{"$f":"DAY(B711)","v":0},{"$f":"YEAR(D711)","v":1900},{"$f":"DAY(E711)","v":0},{"$f":"MONTH(E711)","v":1},{"$f":"YEAR(E711)","v":1900},"Nombre y el registro de entrada válida"]
[null,null,null,null,null,null,0,1,0,1900,0,1,1900,"Nombre y el registro de entrada válida"]
[null,null,null,null,null,null,0,1,0,1900,0,1,1900,"Nombre y el registro de entrada válida"]
[null,null,null,null,null,null,0,1,0,1900,0,1,1900,"Nombre y el registro de entrada válida"]
[null,null,null,null,null,null,0,1,0,1900,0,1,1900,"Nombre y el registro de entrada válida"]
[null,null,null,null,null,null,0,1,0,1900,0,1,1900,"Nombre y el registro de entrada válida"]
[null,null,null,null,null,null,0,1,0,1900,0,1,1900,"Nombre y el registro de entrada válida"]
[null,null,null,null,null,null,0,1,0,1900,0,1,1900,"Nombre y el registro de entrada válida"]
[null,null,null,null,null,null,0,1,0,1900,0,1,1900,"Nombre y el registro de entrada válida"]
[null,null,null,null,null,null,0,1,0,1900,0,1,1900,"Nombre y el registro de entrada válida"]
[null,null,null,null,null,null,0,1,0,1900,0,1,1900,"Nombre y el registro de entrada válida"]
[null,null,null,null,null,null,0,1,0,1900,0,1,1900,"Nombre y el registro de entrada válida"]
[null,null,null,null,null,null,0,1,0,1900,0,1,1900,"Nombre y el registro de entrada válida"]
[null,null,null,null,null,null,0,1,0,1900,0,1,1900,"Nombre y el registro de entrada válida"]
[null,null,null,null,null,null,0,1,0,1900,0,1,1900,"Nombre y el registro de entrada válida"]
[null,null,null,null,null,null,0,1,0,1900,0,1,1900,"Nombre y el registro de entrada válida"]
[null,null,null,null,null,null,0,1,0,1900,0,1,1900,"Nombre y el registro de entrada válida"]
[null,null,null,null,null,null,0,1,0,1900,0,1,1900,"Nombre y el registro de entrada válida"]
[null,null,null,null,null,null,0,1,0,1900,0,1,1900,"Nombre y el registro de entrada válida"]
[null,null,null,null,null,null,0,1,0,1900,0,1,1900,"Nombre y el registro de entrada válida"]
[null,null,null,null,null,null,0,1,0,1900,0,1,1900,"Nombre y el registro de entrada válida"]
[null,null,null,null,null,null,0,1,0,1900,0,1,1900,"Nombre y el registro de entrada válida"]
[null,null,null,null,null,null,0,1,0,1900,0,1,1900,"Nombre y el registro de entrada válida"]
[null,null,null,null,null,null,0,1,0,1900,0,1,1900,"Nombre y el registro de entrada válida"]
[null,null,null,null,null,null,0,1,0,1900,0,1,1900,"Nombre y el registro de entrada válida"]
[null,null,null,null,null,null,0,1,0,1900,0,1,1900,"Nombre y el registro de entrada válida"]
[null,null,null,null,null,null,0,1,0,1900,0,1,1900,"Nombre y el registro de entrada válida"]
[null,null,null,null,null,null,0,1,0,1900,0,1,1900,"Nombre y el registro de entrada válida"]
[null,null,null,null,null,null,0,1,0,1900,0,1,1900,"Nombre y el registro de entrada válida"]
[null,null,null,null,null,null,0,1,0,1900,0,1,1900,"Nombre y el registro de entrada válida"]
[null,null,null,null,null,null,0,1,0,1900,0,1,1900,"Nombre y el registro de entrada válida"]
[null,null,null,null,null,null,0,1,0,1900,0,1,1900,"Nombre y el registro de entrada válida"]
[null,null,null,null,null,null,0,1,0,1900,0,1,1900,"Nombre y el registro de entrada válida"]
[null,null,null,null,null,null,0,1,0,1900,0,1,1900,"Nombre y el registro de entrada válida"]
[null,null,null,null,null,null,0,1,0,1900,0,1,1900,"Nombre y el registro de entrada válida"]
[null,null,null,null,null,null,0,1,0,1900,0,1,1900,"Nombre y el registro de entrada válida"]
[null,null,null,null,null,null,0,1,0,1900,0,1,1900,"Nombre y el registro de entrada válida"]
[null,null,null,null,null,null,0,1,0,1900,0,1,1900,"Nombre y el registro de entrada válida"]
[null,null,null,null,null,null,0,1,0,1900,0,1,1900,"Nombre y el registro de entrada válida"]
[null,null,null,null,null,null,0,1,0,1900,0,1,1900,"Nombre y el registro de entrada válida"]
[null,null,null,null,null,null,0,1,0,1900,0,1,1900,"Nombre y el registro de entrada válida"]
[null,null,null,null,null,null,0,1,0,1900,0,1,1900,"Nombre y el registro de entrada válida"]
[null,null,null,null,null,null,0,1,0,1900,0,1,1900,"Nombre y el registro de entrada válida"]
[null,null,null,null,null,null,0,1,0,1900,0,1,1900,"Nombre y el registro de entrada válida"]
[null,null,null,null,null,null,0,1,0,1900,0,1,1900,"Nombre y el registro de entrada válida"]
[null,null,null,null,null,null,0,1,0,1900,0,1,1900,"Nombre y el registro de entrada válida"]
[null,null,null,null,null,null,0,1,0,1900,0,1,1900,"Nombre y el registro de entrada válida"]
[null,null,null,null,null,null,0,1,0,1900,0,1,1900,"Nombre y el registro de entrada válida"]
[null,null,null,null,null,null,0,1,0,1900,0,1,1900,"Nombre y el registro de entrada válida"]
[null,null,null,null,null,null,0,1,0,1900,0,1,1900,"Nombre y el registro de entrada válida"]
[null,null,null,null,null,null,0,1,0,1900,0,1,1900,"Nombre y el registro de entrada válida"]
[null,null,null,null,null,null,0,1,0,1900,0,1,1900,"Nombre y el registro de entrada válida"]
[null,null,null,null,null,null,0,1,0,1900,0,1,1900,"Nombre y el registro de entrada válida"]
[null,null,null,null,null,null,0,1,0,1900,0,1,1900,"Nombre y el registro de entrada válida"]
[null,null,null,null,null,null,0,1,0,1900,0,1,1900,"Nombre y el registro de entrada válida"]
[null,null,null,null,null,null,0,1,0,1900,0,1,1900,"Nombre y el registro de entrada válida"]
[null,null,null,null,null,null,0,1,0,1900,0,1,1900,"Nombre y el registro de entrada válida"]
[null,null,null,null,null,null,0,1,0,1900,0,1,1900,"Nombre y el registro de entrada válida"]
[null,null,null,null,null,null,0,1,0,1900,0,1,1900,"Nombre y el registro de entrada válida"]
[null,null,null,null,null,null,0,1,0,1900,0,1,1900,"Nombre y el registro de entrada válida"]
[null,null,null,null,null,null,0,1,0,1900,0,1,1900,"Nombre y el registro de entrada válida"]
[null,null,null,null,null,null,0,1,0,1900,0,1,1900,"Nombre y el registro de entrada válida"]
[null,null,null,null,null,null,0,1,0,1900,0,1,1900,"Nombre y el registro de entrada válida"]
[null,null,null,null,null,null,0,1,0,1900,0,1,1900,"Nombre y el registro de entrada válida"]
[null,null,null,null,null,null,{"$f":"F775*E775","v":0},{"$f":"MONTH(B775)","v":1},{"$f":"DAY(B775)","v":0},{"$f":"YEAR(D775)","v":1900},{"$f":"DAY(E775)","v":0},{"$f":"MONTH(E775)","v":1},{"$f":"YEAR(E775)","v":1900},"Nombre y el registro de entrada válida"]
[null,null,null,null,null,null,0,1,0,1900,0,1,1900,"Nombre y el registro de entrada válida"]
[null,null,null,null,null,null,0,1,0,1900,0,1,1900,"Nombre y el registro de entrada válida"]
[null,null,null,null,null,null,0,1,0,1900,0,1,1900,"Nombre y el registro de entrada válida"]
[null,null,null,null,null,null,0,1,0,1900,0,1,1900,"Nombre y el registro de entrada válida"]
[null,null,null,null,null,null,0,1,0,1900,0,1,1900,"Nombre y el registro de entrada válida"]
[null,null,null,null,null,null,0,1,0,1900,0,1,1900,"Nombre y el registro de entrada válida"]
[null,null,null,null,null,null,0,1,0,1900,0,1,1900,"Nombre y el registro de entrada válida"]
[null,null,null,null,null,null,0,1,0,1900,0,1,1900,"Nombre y el registro de entrada válida"]
[null,null,null,null,null,null,0,1,0,1900,0,1,1900,"Nombre y el registro de entrada válida"]
[null,null,null,null,null,null,0,1,0,1900,0,1,1900,"Nombre y el registro de entrada válida"]
[null,null,null,null,null,null,0,1,0,1900,0,1,1900,"Nombre y el registro de entrada válida"]
[null,null,null,null,null,null,0,1,0,1900,0,1,1900,"Nombre y el registro de entrada válida"]
[null,null,null,null,null,null,0,1,0,1900,0,1,1900,"Nombre y el registro de entrada válida"]
[null,null,null,null,null,null,0,1,0,1900,0,1,1900,"Nombre y el registro de entrada válida"]
[null,null,null,null,null,null,0,1,0,1900,0,1,1900,"Nombre y el registro de entrada válida"]
[null,null,null,null,null,null,0,1,0,1900,0,1,1900,"Nombre y el registro de entrada válida"]
[null,null,null,null,null,null,0,1,0,1900,0,1,1900,"Nombre y el registro de entrada válida"]
[null,null,null,null,null,null,0,1,0,1900,0,1,1900,"Nombre y el registro de entrada válida"]
[null,null,null,null,null,null,0,1,0,1900,0,1,1900,"Nombre y el registro de entrada válida"]
[null,null,null,null,null,null,0,1,0,1900,0,1,1900,"Nombre y el registro de entrada válida"]
[null,null,null,null,null,null,0,1,0,1900,0,1,1900,"Nombre y el registro de entrada válida"]
[null,null,null,null,null,null,0,1,0,1900,0,1,1900,"Nombre y el registro de entrada válida"]
[null,null,null,null,null,null,0,1,0,1900,0,1,1900,"Nombre y el registro de entrada válida"]
[null,null,null,null,null,null,0,1,0,1900,0,1,1900,"Nombre y el registro de entrada válida"]
[null,null,null,null,null,null,0,1,0,1900,0,1,1900,"Nombre y el registro de entrada válida"]
[null,null,null,null,null,null,0,1,0,1900,0,1,1900,"Nombre y el registro de entrada válida"]
[null,null,null,null,null,null,0,1,0,1900,0,1,1900,"Nombre y el registro de entrada válida"]
[null,null,null,null,null,null,0,1,0,1900,0,1,1900,"Nombre y el registro de entrada válida"]
[null,null,null,null,null,null,0,1,0,1900,0,1,1900,"Nombre y el registro de entrada válida"]
[null,null,null,null,null,null,0,1,0,1900,0,1,1900,"Nombre y el registro de entrada válida"]
[null,null,null,null,null,null,0,1,0,1900,0,1,1900,"Nombre y el registro de entrada válida"]
[null,null,null,null,null,null,0,1,0,1900,0,1,1900,"Nombre y el registro de entrada válida"]
[null,null,null,null,null,null,0,1,0,1900,0,1,1900,"Nombre y el registro de entrada válida"]
[null,null,null,null,null,null,0,1,0,1900,0,1,1900,"Nombre y el registro de entrada válida"]
[null,null,null,null,null,null,0,1,0,1900,0,1,1900,"Nombre y el registro de entrada válida"]
[null,null,null,null,null,null,0,1,0,1900,0,1,1900,"Nombre y el registro de entrada válida"]
[null,null,null,null,null,null,0,1,0,1900,0,1,1900,"Nombre y el registro de entrada válida"]
[null,null,null,null,null,null,0,1,0,1900,0,1,1900,"Nombre y el registro de entrada válida"]
[null,null,null,null,null,null,0,1,0,1900,0,1,1900,"Nombre y el registro de entrada válida"]
[null,null,null,null,null,null,0,1,0,1900,0,1,1900,"Nombre y el registro de entrada válida"]
[null,null,null,null,null,null,0,1,0,1900,0,1,1900,"Nombre y el registro de entrada válida"]
[null,null,null,null,null,null,0,1,0,1900,0,1,1900,"Nombre y el registro de entrada válida"]
[null,null,null,null,null,null,0,1,0,1900,0,1,1900,"Nombre y el registro de entrada válida"]
[null,null,null,null,null,null,0,1,0,1900,0,1,1900,"Nombre y el registro de entrada válida"]
[null,null,null,null,null,null,0,1,0,1900,0,1,1900,"Nombre y el registro de entrada válida"]
[null,null,null,null,null,null,0,1,0,1900,0,1,1900,"Nombre y el registro de entrada válida"]
[null,null,null,null,null,null,0,1,0,1900,0,1,1900,"Nombre y el registro de entrada válida"]
[null,null,null,null,null,null,0,1,0,1900,0,1,1900,"Nombre y el registro de entrada válida"]
[null,null,null,null,null,null,0,1,0,1900,0,1,1900,"Nombre y el registro de entrada válida"]
[null,null,null,null,null,null,0,1,0,1900,0,1,1900,"Nombre y el registro de entrada válida"]
[null,null,null,null,null,null,0,1,0,1900,0,1,1900,"Nombre y el registro de entrada válida"]
[null,null,null,null,null,null,0,1,0,1900,0,1,1900,"Nombre y el registro de entrada válida"]
[null,null,null,null,null,null,0,1,0,1900,0,1,1900,"Nombre y el registro de entrada válida"]
[null,null,null,null,null,null,0,1,0,1900,0,1,1900,"Nombre y el registro de entrada válida"]
[null,null,null,null,null,null,0,1,0,1900,0,1,1900,"Nombre y el registro de entrada válida"]
[null,null,null,null,null,null,0,1,0,1900,0,1,1900,"Nombre y el registro de entrada válida"]
[null,null,null,null,null,null,0,1,0,1900,0,1,1900,"Nombre y el registro de entrada válida"]
[null,null,null,null,null,null,0,1,0,1900,0,1,1900,"Nombre y el registro de entrada válida"]
[null,null,null,null,null,null,0,1,0,1900,0,1,1900,"Nombre y el registro de entrada válida"]
[null,null,null,null,null,null,0,1,0,1900,0,1,1900,"Nombre y el registro de entrada válida"]
[null,null,null,null,null,null,0,1,0,1900,0,1,1900,"Nombre y el registro de entrada válida"]
[null,null,null,null,null,null,0,1,0,1900,0,1,1900,"Nombre y el registro de entrada válida"]
[null,null,null,null,null,null,0,1,0,1900,0,1,1900,"Nombre y el registro de entrada válida"]
[null,null,null,null,null,null,{"$f":"F839*E839","v":0},{"$f":"MONTH(B839)","v":1},{"$f":"DAY(B839)","v":0},{"$f":"YEAR(D839)","v":1900},{"$f":"DAY(E839)","v":0},{"$f":"MONTH(E839)","v":1},{"$f":"YEAR(E839)","v":1900},"Nombre y el registro de entrada válida"]
[null,null,null,null,null,null,0,1,0,1900,0,1,1900,"Nombre y el registro de entrada válida"]
[null,null,null,null,null,null,0,1,0,1900,0,1,1900,"Nombre y el registro de entrada válida"]
[null,null,null,null,null,null,0,1,0,1900,0,1,1900,"Nombre y el registro de entrada válida"]
[null,null,null,null,null,null,0,1,0,1900,0,1,1900,"Nombre y el registro de entrada válida"]
[null,null,null,null,null,null,0,1,0,1900,0,1,1900,"Nombre y el registro de entrada válida"]
[null,null,null,null,null,null,0,1,0,1900,0,1,1900,"Nombre y el registro de entrada válida"]
[null,null,null,null,null,null,0,1,0,1900,0,1,1900,"Nombre y el registro de entrada válida"]
[null,null,null,null,null,null,0,1,0,1900,0,1,1900,"Nombre y el registro de entrada válida"]
[null,null,null,null,null,null,0,1,0,1900,0,1,1900,"Nombre y el registro de entrada válida"]
[null,null,null,null,null,null,0,1,0,1900,0,1,1900,"Nombre y el registro de entrada válida"]
[null,null,null,null,null,null,0,1,0,1900,0,1,1900,"Nombre y el registro de entrada válida"]
[null,null,null,null,null,null,0,1,0,1900,0,1,1900,"Nombre y el registro de entrada válida"]
[null,null,null,null,null,null,0,1,0,1900,0,1,1900,"Nombre y el registro de entrada válida"]
[null,null,null,null,null,null,0,1,0,1900,0,1,1900,"Nombre y el registro de entrada válida"]
[null,null,null,null,null,null,0,1,0,1900,0,1,1900,"Nombre y el registro de entrada válida"]
[null,null,null,null,null,null,0,1,0,1900,0,1,1900,"Nombre y el registro de entrada válida"]
[null,null,null,null,null,null,0,1,0,1900,0,1,1900,"Nombre y el registro de entrada válida"]
[null,null,null,null,null,null,0,1,0,1900,0,1,1900,"Nombre y el registro de entrada válida"]
[null,null,null,null,null,null,0,1,0,1900,0,1,1900,"Nombre y el registro de entrada válida"]
[null,null,null,null,null,null,0,1,0,1900,0,1,1900,"Nombre y el registro de entrada válida"]
[null,null,null,null,null,null,0,1,0,1900,0,1,1900,"Nombre y el registro de entrada válida"]
[null,null,null,null,null,null,0,1,0,1900,0,1,1900,"Nombre y el registro de entrada válida"]
[null,null,null,null,null,null,0,1,0,1900,0,1,1900,"Nombre y el registro de entrada válida"]
[null,null,null,null,null,null,0,1,0,1900,0,1,1900,"Nombre y el registro de entrada válida"]
[null,null,null,null,null,null,0,1,0,1900,0,1,1900,"Nombre y el registro de entrada válida"]
[null,null,null,null,null,null,0,1,0,1900,0,1,1900,"Nombre y el registro de entrada válida"]
[null,null,null,null,null,null,0,1,0,1900,0,1,1900,"Nombre y el registro de entrada válida"]
[null,null,null,null,null,null,0,1,0,1900,0,1,1900,"Nombre y el registro de entrada válida"]
[null,null,null,null,null,null,0,1,0,1900,0,1,1900,"Nombre y el registro de entrada válida"]
[null,null,null,null,null,null,0,1,0,1900,0,1,1900,"Nombre y el registro de entrada válida"]
[null,null,null,null,null,null,0,1,0,1900,0,1,1900,"Nombre y el registro de entrada válida"]
[null,null,null,null,null,null,0,1,0,1900,0,1,1900,"Nombre y el registro de entrada válida"]
[null,null,null,null,null,null,0,1,0,1900,0,1,1900,"Nombre y el registro de entrada válida"]
[null,null,null,null,null,null,0,1,0,1900,0,1,1900,"Nombre y el registro de entrada válida"]
[null,null,null,null,null,null,0,1,0,1900,0,1,1900,"Nombre y el registro de entrada válida"]
[null,null,null,null,null,null,0,1,0,1900,0,1,1900,"Nombre y el registro de entrada válida"]
[null,null,null,null,null,null,0,1,0,1900,0,1,1900,"Nombre y el registro de entrada válida"]
[null,null,null,null,null,null,0,1,0,1900,0,1,1900,"Nombre y el registro de entrada válida"]
[null,null,null,null,null,null,0,1,0,1900,0,1,1900,"Nombre y el registro de entrada válida"]
[null,null,null,null,null,null,0,1,0,1900,0,1,1900,"Nombre y el registro de entrada válida"]
[null,null,null,null,null,null,0,1,0,1900,0,1,1900,"Nombre y el registro de entrada válida"]
[null,null,null,null,null,null,0,1,0,1900,0,1,1900,"Nombre y el registro de entrada válida"]
[null,null,null,null,null,null,0,1,0,1900,0,1,1900,"Nombre y el registro de entrada válida"]
[null,null,null,null,null,null,0,1,0,1900,0,1,1900,"Nombre y el registro de entrada válida"]
[null,null,null,null,null,null,0,1,0,1900,0,1,1900,"Nombre y el registro de entrada válida"]
[null,null,null,null,null,null,0,1,0,1900,0,1,1900,"Nombre y el registro de entrada válida"]
[null,null,null,null,null,null,0,1,0,1900,0,1,1900,"Nombre y el registro de entrada válida"]
[null,null,null,null,null,null,0,1,0,1900,0,1,1900,"Nombre y el registro de entrada válida"]
[null,null,null,null,null,null,0,1,0,1900,0,1,1900,"Nombre y el registro de entrada válida"]
[null,null,null,null,null,null,0,1,0,1900,0,1,1900,"Nombre y el registro de entrada válida"]
[null,null,null,null,null,null,0,1,0,1900,0,1,1900,"Nombre y el registro de entrada válida"]
[null,null,null,null,null,null,0,1,0,1900,0,1,1900,"Nombre y el registro de entrada válida"]
[null,null,null,null,null,null,0,1,0,1900,0,1,1900,"Nombre y el registro de entrada válida"]
[null,null,null,null,null,null,0,1,0,1900,0,1,1900,"Nombre y el registro de entrada válida"]
[null,null,null,null,null,null,0,1,0,1900,0,1,1900,"Nombre y el registro de entrada válida"]
[null,null,null,null,null,null,0,1,0,1900,0,1,1900,"Nombre y el registro de entrada válida"]
[null,null,null,null,null,null,0,1,0,1900,0,1,1900,"Nombre y el registro de entrada válida"]
[null,null,null,null,null,null,0,1,0,1900,0,1,1900,"Nombre y el registro de entrada válida"]
[null,null,null,null,null,null,0,1,0,1900,0,1,1900,"Nombre y el registro de entrada válida"]
[null,null,null,null,null,null,0,1,0,1900,0,1,1900,"Nombre y el registro de entrada válida"]
[null,null,null,null,null,null,0,1,0,1900,0,1,1900,"Nombre y el registro de entrada válida"]
[null,null,null,null,null,null,0,1,0,1900,0,1,1900,"Nombre y el registro de entrada válida"]
[null,null,null,null,null,null,0,1,0,1900,0,1,1900,"Nombre y el registro de entrada válida"]
[null,null,null,null,null,null,{"$f":"F903*E903","v":0},{"$f":"MONTH(B903)","v":1},{"$f":"DAY(B903)","v":0},{"$f":"YEAR(D903)","v":1900},{"$f":"DAY(E903)","v":0},{"$f":"MONTH(E903)","v":1},{"$f":"YEAR(E903)","v":1900},"Nombre y el registro de entrada válida"]
[null,null,null,null,null,null,0,1,0,1900,0,1,1900,"Nombre y el registro de entrada válida"]
[null,null,null,null,null,null,0,1,0,1900,0,1,1900,"Nombre y el registro de entrada válida"]
[null,null,null,null,null,null,0,1,0,1900,0,1,1900,"Nombre y el registro de entrada válida"]
[null,null,null,null,null,null,0,1,0,1900,0,1,1900,"Nombre y el registro de entrada válida"]
[null,null,null,null,null,null,0,1,0,1900,0,1,1900,"Nombre y el registro de entrada válida"]
[null,null,null,null,null,null,0,1,0,1900,0,1,1900,"Nombre y el registro de entrada válida"]
[null,null,null,null,null,null,0,1,0,1900,0,1,1900,"Nombre y el registro de entrada válida"]
[null,null,null,null,null,null,0,1,0,1900,0,1,1900,"Nombre y el registro de entrada válida"]
[null,null,null,null,null,null,0,1,0,1900,0,1,1900,"Nombre y el registro de entrada válida"]
[null,null,null,null,null,null,0,1,0,1900,0,1,1900,"Nombre y el registro de entrada válida"]
[null,null,null,null,null,null,0,1,0,1900,0,1,1900,"Nombre y el registro de entrada válida"]
[null,null,null,null,null,null,0,1,0,1900,0,1,1900,"Nombre y el registro de entrada válida"]
[null,null,null,null,null,null,0,1,0,1900,0,1,1900,"Nombre y el registro de entrada válida"]
[null,null,null,null,null,null,0,1,0,1900,0,1,1900,"Nombre y el registro de entrada válida"]
[null,null,null,null,null,null,0,1,0,1900,0,1,1900,"Nombre y el registro de entrada válida"]
[null,null,null,null,null,null,0,1,0,1900,0,1,1900,"Nombre y el registro de entrada válida"]
[null,null,null,null,null,null,0,1,0,1900,0,1,1900,"Nombre y el registro de entrada válida"]
[null,null,null,null,null,null,0,1,0,1900,0,1,1900,"Nombre y el registro de entrada válida"]
[null,null,null,null,null,null,0,1,0,1900,0,1,1900,"Nombre y el registro de entrada válida"]
[null,null,null,null,null,null,0,1,0,1900,0,1,1900,"Nombre y el registro de entrada válida"]
[null,null,null,null,null,null,0,1,0,1900,0,1,1900,"Nombre y el registro de entrada válida"]
[null,null,null,null,null,null,0,1,0,1900,0,1,1900,"Nombre y el registro de entrada válida"]
[null,null,null,null,null,null,0,1,0,1900,0,1,1900,"Nombre y el registro de entrada válida"]
[null,null,null,null,null,null,0,1,0,1900,0,1,1900,"Nombre y el registro de entrada válida"]
[null,null,null,null,null,null,0,1,0,1900,0,1,1900,"Nombre y el registro de entrada válida"]
[null,null,null,null,null,null,0,1,0,1900,0,1,1900,"Nombre y el registro de entrada válida"]
[null,null,null,null,null,null,0,1,0,1900,0,1,1900,"Nombre y el registro de entrada válida"]
[null,null,null,null,null,null,0,1,0,1900,0,1,1900,"Nombre y el registro de entrada válida"]
[null,null,null,null,null,null,0,1,0,1900,0,1,1900,"Nombre y el registro de entrada válida"]
[null,null,null,null,null,null,0,1,0,1900,0,1,1900,"Nombre y el registro de entrada válida"]
[null,null,null,null,null,null,0,1,0,1900,0,1,1900,"Nombre y el registro de entrada válida"]
[null,null,null,null,null,null,0,1,0,1900,0,1,1900,"Nombre y el registro de entrada válida"]
[null,null,null,null,null,null,0,1,0,1900,0,1,1900,"Nombre y el registro de entrada válida"]
[null,null,null,null,null,null,0,1,0,1900,0,1,1900,"Nombre y el registro de entrada válida"]
[null,null,null,null,null,null,0,1,0,1900,0,1,1900,"Nombre y el registro de entrada válida"]
[null,null,null,null,null,null,0,1,0,1900,0,1,1900,"Nombre y el registro de entrada válida"]
[null,null,null,null,null,null,0,1,0,1900,0,1,1900,"Nombre y el registro de entrada válida"]
[null,null,null,null,null,null,0,1,0,1900,0,1,1900,"Nombre y el registro de entrada válida"]
[null,null,null,null,null,null,0,1,0,1900,0,1,1900,"Nombre y el registro de entrada válida"]
[null,null,null,null,null,null,0,1,0,1900,0,1,1900,"Nombre y el registro de entrada válida"]
[null,null,null,null,null,null,0,1,0,1900,0,1,1900,"Nombre y el registro de entrada válida"]
[null,null,null,null,null,null,0,1,0,1900,0,1,1900,"Nombre y el registro de entrada válida"]
[null,null,null,null,null,null,0,1,0,1900,0,1,1900,"Nombre y el registro de entrada válida"]
[null,null,null,null,null,null,0,1,0,1900,0,1,1900,"Nombre y el registro de entrada válida"]
[null,null,null,null,null,null,0,1,0,1900,0,1,1900,"Nombre y el registro de entrada válida"]
[null,null,null,null,null,null,0,1,0,1900,0,1,1900,"Nombre y el registro de entrada válida"]
[null,null,null,null,null,null,0,1,0,1900,0,1,1900,"Nombre y el registro de entrada válida"]
[null,null,null,null,null,null,0,1,0,1900,0,1,1900,"Nombre y el registro de entrada válida"]
[null,null,null,null,null,null,0,1,0,1900,0,1,1900,"Nombre y el registro de entrada válida"]
[null,null,null,null,null,null,0,1,0,1900,0,1,1900,"Nombre y el registro de entrada válida"]
[null,null,null,null,null,null,0,1,0,1900,0,1,1900,"Nombre y el registro de entrada válida"]
[null,null,null,null,null,null,0,1,0,1900,0,1,1900,"Nombre y el registro de entrada válida"]
[null,null,null,null,null,null,0,1,0,1900,0,1,1900,"Nombre y el registro de entrada válida"]
[null,null,null,null,null,null,0,1,0,1900,0,1,1900,"Nombre y el registro de entrada válida"]
[null,null,null,null,null,null,0,1,0,1900,0,1,1900,"Nombre y el registro de entrada válida"]
[null,null,null,null,null,null,0,1,0,1900,0,1,1900,"Nombre y el registro de entrada válida"]
[null,null,null,null,null,null,0,1,0,1900,0,1,1900,"Nombre y el registro de entrada válida"]
[null,null,null,null,null,null,0,1,0,1900,0,1,1900,"Nombre y el registro de entrada válida"]
[null,null,null,null,null,null,0,1,0,1900,0,1,1900,"Nombre y el registro de entrada válida"]
[null,null,null,null,null,null,0,1,0,1900,0,1,1900,"Nombre y el registro de entrada válida"]
[null,null,null,null,null,null,0,1,0,1900,0,1,1900,"Nombre y el registro de entrada válida"]
[null,null,null,null,null,null,0,1,0,1900,0,1,1900,"Nombre y el registro de entrada válida"]
[null,null,null,null,null,null,0,1,0,1900,0,1,1900,"Nombre y el registro de entrada válida"]
[null,null,null,null,null,null,{"$f":"F967*E967","v":0},{"$f":"MONTH(B967)","v":1},{"$f":"DAY(B967)","v":0},{"$f":"YEAR(D967)","v":1900},{"$f":"DAY(E967)","v":0},{"$f":"MONTH(E967)","v":1},{"$f":"YEAR(E967)","v":1900},"Nombre y el registro de entrada válida"]
[null,null,null,null,null,null,0,1,0,1900,0,1,1900,"Nombre y el registro de entrada válida"]
[null,null,null,null,null,null,0,1,0,1900,0,1,1900,"Nombre y el registro de entrada válida"]
[null,null,null,null,null,null,0,1,0,1900,0,1,1900,"Nombre y el registro de entrada válida"]
[null,null,null,null,null,null,0,1,0,1900,0,1,1900,"Nombre y el registro de entrada válida"]
[null,null,null,null,null,null,0,1,0,1900,0,1,1900,"Nombre y el registro de entrada válida"]
[null,null,null,null,null,null,0,1,0,1900,0,1,1900,"Nombre y el registro de entrada válida"]
[null,null,null,null,null,null,0,1,0,1900,0,1,1900,"Nombre y el registro de entrada válida"]
[null,null,null,null,null,null,0,1,0,1900,0,1,1900,"Nombre y el registro de entrada válida"]
[null,null,null,null,null,null,0,1,0,1900,0,1,1900,"Nombre y el registro de entrada válida"]
[null,null,null,null,null,null,0,1,0,1900,0,1,1900,"Nombre y el registro de entrada válida"]
[null,null,null,null,null,null,0,1,0,1900,0,1,1900,"Nombre y el registro de entrada válida"]
[null,null,null,null,null,null,0,1,0,1900,0,1,1900,"Nombre y el registro de entrada válida"]
[null,null,null,null,null,null,0,1,0,1900,0,1,1900,"Nombre y el registro de entrada válida"]
[null,null,null,null,null,null,0,1,0,1900,0,1,1900,"Nombre y el registro de entrada válida"]
[null,null,null,null,null,null,0,1,0,1900,0,1,1900,"Nombre y el registro de entrada válida"]
[null,null,null,null,null,null,0,1,0,1900,0,1,1900,"Nombre y el registro de entrada válida"]
[null,null,null,null,null,null,0,1,0,1900,0,1,1900,"Nombre y el registro de entrada válida"]
[null,null,null,null,null,null,0,1,0,1900,0,1,1900,"Nombre y el registro de entrada válida"]
[null,null,null,null,null,null,0,1,0,1900,0,1,1900,"Nombre y el registro de entrada válida"]
[null,null,null,null,null,null,0,1,0,1900,0,1,1900,"Nombre y el registro de entrada válida"]
[null,null,null,null,null,null,0,1,0,1900,0,1,1900,"Nombre y el registro de entrada válida"]
[null,null,null,null,null,null,0,1,0,1900,0,1,1900,"Nombre y el registro de entrada válida"]
[null,null,null,null,null,null,0,1,0,1900,0,1,1900,"Nombre y el registro de entrada válida"]
[null,null,null,null,null,null,0,1,0,1900,0,1,1900,"Nombre y el registro de entrada válida"]
[null,null,null,null,null,null,0,1,0,1900,0,1,1900,"Nombre y el registro de entrada válida"]
[null,null,null,null,null,null,0,1,0,1900,0,1,1900,"Nombre y el registro de entrada válida"]
[null,null,null,null,null,null,0,1,0,1900,0,1,1900,"Nombre y el registro de entrada válida"]
[null,null,null,null,null,null,0,1,0,1900,0,1,1900,"Nombre y el registro de entrada válida"]
[null,null,null,null,null,null,0,1,0,1900,0,1,1900,"Nombre y el registro de entrada válida"]
[null,null,null,null,null,null,0,1,0,1900,0,1,1900,"Nombre y el registro de entrada válida"]
[null,null,null,null,null,null,0,1,0,1900,0,1,1900,"Nombre y el registro de entrada válida"]
[null,null,null,null,null,null,0,1,0,1900,0,1,1900,"Nombre y el registro de entrada válida"]
[null,null,null,null,null,null,0,1,0,1900,0,1,1900,"Nombre y el registro de entrada válida"]
[null,null,null,null,null,null,0,1,0,1900,0,1,1900,"Nombre y el registro de entrada válida"]
[null,null,null,null,null,null,0,1,0,1900,0,1,1900,"Nombre y el registro de entrada válida"]
[null,null,null,null,null,null,0,1,0,1900,0,1,1900,"Nombre y el registro de entrada válida"]
[null,null,null,null,null,null,0,1,0,1900,0,1,1900,"Nombre y el registro de entrada válida"]
[null,null,null,null,null,null,0,1,0,1900,0,1,1900,"Nombre y el registro de entrada válida"]
[null,null,null,null,null,null,0,1,0,1900,0,1,1900,"Nombre y el registro de entrada válida"]
[null,null,null,null,null,null,0,1,0,1900,0,1,1900,"Nombre y el registro de entrada válida"]
[null,null,null,null,null,null,0,1,0,1900,0,1,1900,"Nombre y el registro de entrada válida"]
[null,null,null,null,null,null,0,1,0,1900,0,1,1900,"Nombre y el registro de entrada válida"]
[null,null,null,null,null,null,0,1,0,1900,0,1,1900,"Nombre y el registro de entrada válida"]
[null,null,null,null,null,null,0,1,0,1900,0,1,1900,"Nombre y el registro de entrada válida"]
[null,null,null,null,null,null,0,1,0,1900,0,1,1900,"Nombre y el registro de entrada válida"]
[null,null,null,null,null,null,0,1,0,1900,0,1,1900,"Nombre y el registro de entrada válida"]
[null,null,null,null,null,null,0,1,0,1900,0,1,1900,"Nombre y el registro de entrada válida"]
[null,null,null,null,null,null,0,1,0,1900,0,1,1900,"Nombre y el registro de entrada válida"]
[null,null,null,null,null,null,0,1,0,1900,0,1,1900,"Nombre y el registro de entrada válida"]
[null,null,null,null,null,null,0,1,0,1900,0,1,1900,"Nombre y el registro de entrada válida"]
[null,null,null,null,null,null,0,1,0,1900,0,1,1900,"Nombre y el registro de entrada válida"]
[null,null,null,null,null,null,0,1,0,1900,0,1,1900,"Nombre y el registro de entrada válida"]
[null,null,null,null,null,null,0,1,0,1900,0,1,1900,"Nombre y el registro de entrada válida"]
[null,null,null,null,null,null,0,1,0,1900,0,1,1900,"Nombre y el registro de entrada válida"]
[null,null,null,null,null,null,0,1,0,1900,0,1,1900,"Nombre y el registro de entrada válida"]
[null,null,null,null,null,null,0,1,0,1900,0,1,1900,"Nombre y el registro de entrada válida"]
[null,null,null,null,null,null,0,1,0,1900,0,1,1900,"Nombre y el registro de entrada válida"]
[null,null,null,null,null,null,0,1,0,1900,0,1,1900,"Nombre y el registro de entrada válida"]
[null,null,null,null,null,null,0,1,0,1900,0,1,1900,"Nombre y el registro de entrada válida"]
[null,null,null,null,null,null,0,1,0,1900,0,1,1900,"Nombre y el registro de entrada válida"]
[null,null,null,null,null,null,0,1,0,1900,0,1,1900,"Nombre y el registro de entrada válida"]
[null,null,null,null,null,null,0,1,0,1900,0,1,1900,"Nombre y el registro de entrada válida"]
[null,null,null,null,null,null,0,1,0,1900,0,1,1900,"Nombre y el registro de entrada válida"]
[null,null,null,null,null,null,{"$f":"F1031*E1031","v":0},{"$f":"MONTH(B1031)","v":1},{"$f":"DAY(B1031)","v":0},{"$f":"YEAR(D1031)","v":1900},{"$f":"DAY(E1031)","v":0},{"$f":"MONTH(E1031)","v":1},{"$f":"YEAR(E1031)","v":1900},"Nombre y el registro de entrada válida"]
[null,null,null,null,null,null,0,1,0,1900,0,1,1900,"Nombre y el registro de entrada válida"]
[null,null,null,null,null,null,0,1,0,1900,0,1,1900,"Nombre y el registro de entrada válida"]
[null,null,null,null,null,null,0,1,0,1900,0,1,1900,"Nombre y el registro de entrada válida"]
[null,null,null,null,null,null,0,1,0,1900,0,1,1900,"Nombre y el registro de entrada válida"]
[null,null,null,null,null,null,0,1,0,1900,0,1,1900,"Nombre y el registro de entrada válida"]
[null,null,null,null,null,null,0,1,0,1900,0,1,1900,"Nombre y el registro de entrada válida"]
[null,null,null,null,null,null,0,1,0,1900,0,1,1900,"Nombre y el registro de entrada válida"]
[null,null,null,null,null,null,0,1,0,1900,0,1,1900,"Nombre y el registro de entrada válida"]
[null,null,null,null,null,null,0,1,0,1900,0,1,1900,"Nombre y el registro de entrada válida"]
[null,null,null,null,null,null,0,1,0,1900,0,1,1900,"Nombre y el registro de entrada válida"]
[null,null,null,null,null,null,0,1,0,1900,0,1,1900,"Nombre y el registro de entrada válida"]
[null,null,null,null,null,null,0,1,0,1900,0,1,1900,"Nombre y el registro de entrada válida"]
[null,null,null,null,null,null,0,1,0,1900,0,1,1900,"Nombre y el registro de entrada válida"]
[null,null,null,null,null,null,0,1,0,1900,0,1,1900,"Nombre y el registro de entrada válida"]
[null,null,null,null,null,null,0,1,0,1900,0,1,1900,"Nombre y el registro de entrada válida"]
[null,null,null,null,null,null,0,1,0,1900,0,1,1900,"Nombre y el registro de entrada válida"]
[null,null,null,null,null,null,0,1,0,1900,0,1,1900,"Nombre y el registro de entrada válida"]
[null,null,null,null,null,null,0,1,0,1900,0,1,1900,"Nombre y el registro de entrada válida"]
[null,null,null,null,null,null,0,1,0,1900,0,1,1900,"Nombre y el registro de entrada válida"]
[null,null,null,null,null,null,0,1,0,1900,0,1,1900,"Nombre y el registro de entrada válida"]
[null,null,null,null,null,null,0,1,0,1900,0,1,1900,"Nombre y el registro de entrada válida"]
[null,null,null,null,null,null,0,1,0,1900,0,1,1900,"Nombre y el registro de entrada válida"]
[null,null,null,null,null,null,0,1,0,1900,0,1,1900,"Nombre y el registro de entrada válida"]
[null,null,null,null,null,null,0,1,0,1900,0,1,1900,"Nombre y el registro de entrada válida"]
[null,null,null,null,null,null,0,1,0,1900,0,1,1900,"Nombre y el registro de entrada válida"]
[null,null,null,null,null,null,0,1,0,1900,0,1,1900,"Nombre y el registro de entrada válida"]
[null,null,null,null,null,null,0,1,0,1900,0,1,1900,"Nombre y el registro de entrada válida"]
[null,null,null,null,null,null,0,1,0,1900,0,1,1900,"Nombre y el registro de entrada válida"]
[null,null,null,null,null,null,0,1,0,1900,0,1,1900,"Nombre y el registro de entrada válida"]
[null,null,null,null,null,null,0,1,0,1900,0,1,1900,"Nombre y el registro de entrada válida"]
[null,null,null,null,null,null,0,1,0,1900,0,1,1900,"Nombre y el registro de entrada válida"]
[null,null,null,null,null,null,0,1,0,1900,0,1,1900,"Nombre y el registro de entrada válida"]
[null,null,null,null,null,null,0,1,0,1900,0,1,1900,"Nombre y el registro de entrada válida"]
[null,null,null,null,null,null,0,1,0,1900,0,1,1900,"Nombre y el registro de entrada válida"]
[null,null,null,null,null,null,0,1,0,1900,0,1,1900,"Nombre y el registro de entrada válida"]
[null,null,null,null,null,null,0,1,0,1900,0,1,1900,"Nombre y el registro de entrada válida"]
[null,null,null,null,null,null,0,1,0,1900,0,1,1900,"Nombre y el registro de entrada válida"]
[null,null,null,null,null,null,0,1,0,1900,0,1,1900,"Nombre y el registro de entrada válida"]
[null,null,null,null,null,null,0,1,0,1900,0,1,1900,"Nombre y el registro de entrada válida"]
[null,null,null,null,null,null,0,1,0,1900,0,1,1900,"Nombre y el registro de entrada válida"]
[null,null,null,null,null,null,0,1,0,1900,0,1,1900,"Nombre y el registro de entrada válida"]
[null,null,null,null,null,null,0,1,0,1900,0,1,1900,"Nombre y el registro de entrada válida"]
[null,null,null,null,null,null,0,1,0,1900,0,1,1900,"Nombre y el registro de entrada válida"]
[null,null,null,null,null,null,0,1,0,1900,0,1,1900,"Nombre y el registro de entrada válida"]
[null,null,null,null,null,null,0,1,0,1900,0,1,1900,"Nombre y el registro de entrada válida"]
[null,null,null,null,null,null,0,1,0,1900,0,1,1900,"Nombre y el registro de entrada válida"]
[null,null,null,null,null,null,0,1,0,1900,0,1,1900,"Nombre y el registro de entrada válida"]
[null,null,null,null,null,null,0,1,0,1900,0,1,1900,"Nombre y el registro de entrada válida"]
[null,null,null,null,null,null,0,1,0,1900,0,1,1900,"Nombre y el registro de entrada válida"]
[null,null,null,null,null,null,0,1,0,1900,0,1,1900,"Nombre y el registro de entrada válida"]
[null,null,null,null,null,null,0,1,0,1900,0,1,1900,"Nombre y el registro de entrada válida"]
[null,null,null,null,null,null,0,1,0,1900,0,1,1900,"Nombre y el registro de entrada válida"]
[null,null,null,null,null,null,0,1,0,1900,0,1,1900,"Nombre y el registro de entrada válida"]
[null,null,null,null,null,null,0,1,0,1900,0,1,1900,"Nombre y el registro de entrada válida"]
[null,null,null,null,null,null,0,1,0,1900,0,1,1900,"Nombre y el registro de entrada válida"]
[null,null,null,null,null,null,0,1,0,1900,0,1,1900,"Nombre y el registro de entrada válida"]
[null,null,null,null,null,null,0,1,0,1900,0,1,1900,"Nombre y el registro de entrada válida"]
[null,null,null,null,null,null,0,1,0,1900,0,1,1900,"Nombre y el registro de entrada válida"]
[null,null,null,null,null,null,0,1,0,1900,0,1,1900,"Nombre y el registro de entrada válida"]
[null,null,null,null,null,null,0,1,0,1900,0,1,1900,"Nombre y el registro de entrada válida"]
[null,null,null,null,null,null,0,1,0,1900,0,1,1900,"Nombre y el registro de entrada válida"]
[null,null,null,null,null,null,0,1,0,1900,0,1,1900,"Nombre y el registro de entrada válida"]
[null,null,null,null,null,null,0,1,0,1900,0,1,1900,"Nombre y el registro de entrada válida"]
[null,null,null,null,null,null,{"$f":"F1095*E1095","v":0},{"$f":"MONTH(B1095)","v":1},{"$f":"DAY(B1095)","v":0},{"$f":"YEAR(D1095)","v":1900},{"$f":"DAY(E1095)","v":0},{"$f":"MONTH(E1095)","v":1},{"$f":"YEAR(E1095)","v":1900},"Nombre y el registro de entrada válida"]
[null,null,null,null,null,null,0,1,0,1900,0,1,1900,"Nombre y el registro de entrada válida"]
[null,null,null,null,null,null,0,1,0,1900,0,1,1900,"Nombre y el registro de entrada válida"]
[null,null,null,null,null,null,0,1,0,1900,0,1,1900,"Nombre y el registro de entrada válida"]
[null,null,null,null,null,null,0,1,0,1900,0,1,1900,"Nombre y el registro de entrada válida"]
[null,null,null,null,null,null,0,1,0,1900,0,1,1900,"Nombre y el registro de entrada válida"]
[null,null,null,null,null,null,0,1,0,1900,0,1,1900,"Nombre y el registro de entrada válida"]
[null,null,null,null,null,null,0,1,0,1900,0,1,1900,"Nombre y el registro de entrada válida"]
[null,null,null,null,null,null,0,1,0,1900,0,1,1900,"Nombre y el registro de entrada válida"]
[null,null,null,null,null,null,0,1,0,1900,0,1,1900,"Nombre y el registro de entrada válida"]
[null,null,null,null,null,null,0,1,0,1900,0,1,1900,"Nombre y el registro de entrada válida"]
[null,null,null,null,null,null,0,1,0,1900,0,1,1900,"Nombre y el registro de entrada válida"]
[null,null,null,null,null,null,0,1,0,1900,0,1,1900,"Nombre y el registro de entrada válida"]
[null,null,null,null,null,null,0,1,0,1900,0,1,1900,"Nombre y el registro de entrada válida"]
[null,null,null,null,null,null,0,1,0,1900,0,1,1900,"Nombre y el registro de entrada válida"]
[null,null,null,null,null,null,0,1,0,1900,0,1,1900,"Nombre y el registro de entrada válida"]
[null,null,null,null,null,null,0,1,0,1900,0,1,1900,"Nombre y el registro de entrada válida"]
[null,null,null,null,null,null,0,1,0,1900,0,1,1900,"Nombre y el registro de entrada válida"]
[null,null,null,null,null,null,0,1,0,1900,0,1,1900,"Nombre y el registro de entrada válida"]
[null,null,null,null,null,null,0,1,0,1900,0,1,1900,"Nombre y el registro de entrada válida"]
[null,null,null,null,null,null,0,1,0,1900,0,1,1900,"Nombre y el registro de entrada válida"]
[null,null,null,null,null,null,0,1,0,1900,0,1,1900,"Nombre y el registro de entrada válida"]
[null,null,null,null,null,null,0,1,0,1900,0,1,1900,"Nombre y el registro de entrada válida"]
[null,null,null,null,null,null,0,1,0,1900,0,1,1900,"Nombre y el registro de entrada válida"]
[null,null,null,null,null,null,0,1,0,1900,0,1,1900,"Nombre y el registro de entrada válida"]
[null,null,null,null,null,null,0,1,0,1900,0,1,1900,"Nombre y el registro de entrada válida"]
[null,null,null,null,null,null,0,1,0,1900,0,1,1900,"Nombre y el registro de entrada válida"]
[null,null,null,null,null,null,0,1,0,1900,0,1,1900,"Nombre y el registro de entrada válida"]
[null,null,null,null,null,null,0,1,0,1900,0,1,1900,"Nombre y el registro de entrada válida"]
[null,null,null,null,null,null,0,1,0,1900,0,1,1900,"Nombre y el registro de entrada válida"]
[null,null,null,null,null,null,0,1,0,1900,0,1,1900,"Nombre y el registro de entrada válida"]
[null,null,null,null,null,null,0,1,0,1900,0,1,1900,"Nombre y el registro de entrada válida"]
[null,null,null,null,null,null,0,1,0,1900,0,1,1900,"Nombre y el registro de entrada válida"]
[null,null,null,null,null,null,0,1,0,1900,0,1,1900,"Nombre y el registro de entrada válida"]
[null,null,null,null,null,null,0,1,0,1900,0,1,1900,"Nombre y el registro de entrada válida"]
[null,null,null,null,null,null,0,1,0,1900,0,1,1900,"Nombre y el registro de entrada válida"]
[null,null,null,null,null,null,0,1,0,1900,0,1,1900,"Nombre y el registro de entrada válida"]
[null,null,null,null,null,null,0,1,0,1900,0,1,1900,"Nombre y el registro de entrada válida"]
[null,null,null,null,null,null,0,1,0,1900,0,1,1900,"Nombre y el registro de entrada válida"]
[null,null,null,null,null,null,0,1,0,1900,0,1,1900,"Nombre y el registro de entrada válida"]
[null,null,null,null,null,null,0,1,0,1900,0,1,1900,"Nombre y el registro de entrada válida"]
[null,null,null,null,null,null,0,1,0,1900,0,1,1900,"Nombre y el registro de entrada válida"]
[null,null,null,null,null,null,0,1,0,1900,0,1,1900,"Nombre y el registro de entrada válida"]
[null,null,null,null,null,null,0,1,0,1900,0,1,1900,"Nombre y el registro de entrada válida"]
[null,null,null,null,null,null,0,1,0,1900,0,1,1900,"Nombre y el registro de entrada válida"]
[null,null,null,null,null,null,0,1,0,1900,0,1,1900,"Nombre y el registro de entrada válida"]
[null,null,null,null,null,null,0,1,0,1900,0,1,1900,"Nombre y el registro de entrada válida"]
[null,null,null,null,null,null,0,1,0,1900,0,1,1900,"Nombre y el registro de entrada válida"]
[null,null,null,null,null,null,0,1,0,1900,0,1,1900,"Nombre y el registro de entrada válida"]
[null,null,null,null,null,null,0,1,0,1900,0,1,1900,"Nombre y el registro de entrada válida"]
[null,null,null,null,null,null,0,1,0,1900,0,1,1900,"Nombre y el registro de entrada válida"]
[null,null,null,null,null,null,0,1,0,1900,0,1,1900,"Nombre y el registro de entrada válida"]
[null,null,null,null,null,null,0,1,0,1900,0,1,1900,"Nombre y el registro de entrada válida"]
[null,null,null,null,null,null,0,1,0,1900,0,1,1900,"Nombre y el registro de entrada válida"]
[null,null,null,null,null,null,0,1,0,1900,0,1,1900,"Nombre y el registro de entrada válida"]
[null,null,null,null,null,null,0,1,0,1900,0,1,1900,"Nombre y el registro de entrada válida"]
[null,null,null,null,null,null,0,1,0,1900,0,1,1900,"Nombre y el registro de entrada válida"]
[null,null,null,null,null,null,0,1,0,1900,0,1,1900,"Nombre y el registro de entrada válida"]
[null,null,null,null,null,null,0,1,0,1900,0,1,1900,"Nombre y el registro de entrada válida"]
[null,null,null,null,null,null,0,1,0,1900,0,1,1900,"Nombre y el registro de entrada válida"]
[null,null,null,null,null,null,0,1,0,1900,0,1,1900,"Nombre y el registro de entrada válida"]
[null,null,null,null,null,null,0,1,0,1900,0,1,1900,"Nombre y el registro de entrada válida"]
[null,null,null,null,null,null,0,1,0,1900,0,1,1900,"Nombre y el registro de entrada válida"]
[null,null,null,null,null,null,0,1,0,1900,0,1,1900,"Nombre y el registro de entrada válida"]
[null,null,null,null,null,null,{"$f":"F1159*E1159","v":0},{"$f":"MONTH(B1159)","v":1},{"$f":"DAY(B1159)","v":0},{"$f":"YEAR(D1159)","v":1900},{"$f":"DAY(E1159)","v":0},{"$f":"MONTH(E1159)","v":1},{"$f":"YEAR(E1159)","v":1900},"Nombre y el registro de entrada válida"]
[null,null,null,null,null,null,0,1,0,1900,0,1,1900,"Nombre y el registro de entrada válida"]
[null,null,null,null,null,null,0,1,0,1900,0,1,1900,"Nombre y el registro de entrada válida"]
[null,null,null,null,null,null,0,1,0,1900,0,1,1900,"Nombre y el registro de entrada válida"]
[null,null,null,null,null,null,0,1,0,1900,0,1,1900,"Nombre y el registro de entrada válida"]
[null,null,null,null,null,null,0,1,0,1900,0,1,1900,"Nombre y el registro de entrada válida"]
[null,null,null,null,null,null,0,1,0,1900,0,1,1900,"Nombre y el registro de entrada válida"]
[null,null,null,null,null,null,0,1,0,1900,0,1,1900,"Nombre y el registro de entrada válida"]
[null,null,null,null,null,null,0,1,0,1900,0,1,1900,"Nombre y el registro de entrada válida"]
[null,null,null,null,null,null,0,1,0,1900,0,1,1900,"Nombre y el registro de entrada válida"]
[null,null,null,null,null,null,0,1,0,1900,0,1,1900,"Nombre y el registro de entrada válida"]
[null,null,null,null,null,null,0,1,0,1900,0,1,1900,"Nombre y el registro de entrada válida"]
[null,null,null,null,null,null,0,1,0,1900,0,1,1900,"Nombre y el registro de entrada válida"]
[null,null,null,null,null,null,0,1,0,1900,0,1,1900,"Nombre y el registro de entrada válida"]
[null,null,null,null,null,null,0,1,0,1900,0,1,1900,"Nombre y el registro de entrada válida"]
[null,null,null,null,null,null,0,1,0,1900,0,1,1900,"Nombre y el registro de entrada válida"]
[null,null,null,null,null,null,0,1,0,1900,0,1,1900,"Nombre y el registro de entrada válida"]
[null,null,null,null,null,null,0,1,0,1900,0,1,1900,"Nombre y el registro de entrada válida"]
[null,null,null,null,null,null,0,1,0,1900,0,1,1900,"Nombre y el registro de entrada válida"]
[null,null,null,null,null,null,0,1,0,1900,0,1,1900,"Nombre y el registro de entrada válida"]
[null,null,null,null,null,null,0,1,0,1900,0,1,1900,"Nombre y el registro de entrada válida"]
[null,null,null,null,null,null,0,1,0,1900,0,1,1900,"Nombre y el registro de entrada válida"]
[null,null,null,null,null,null,0,1,0,1900,0,1,1900,"Nombre y el registro de entrada válida"]
[null,null,null,null,null,null,0,1,0,1900,0,1,1900,"Nombre y el registro de entrada válida"]
[null,null,null,null,null,null,0,1,0,1900,0,1,1900,"Nombre y el registro de entrada válida"]
[null,null,null,null,null,null,0,1,0,1900,0,1,1900,"Nombre y el registro de entrada válida"]
[null,null,null,null,null,null,0,1,0,1900,0,1,1900,"Nombre y el registro de entrada válida"]
[null,null,null,null,null,null,0,1,0,1900,0,1,1900,"Nombre y el registro de entrada válida"]
[null,null,null,null,null,null,0,1,0,1900,0,1,1900,"Nombre y el registro de entrada válida"]
[null,null,null,null,null,null,0,1,0,1900,0,1,1900,"Nombre y el registro de entrada válida"]
[null,null,null,null,null,null,0,1,0,1900,0,1,1900,"Nombre y el registro de entrada válida"]
[null,null,null,null,null,null,0,1,0,1900,0,1,1900,"Nombre y el registro de entrada válida"]
[null,null,null,null,null,null,0,1,0,1900,0,1,1900,"Nombre y el registro de entrada válida"]
[null,null,null,null,null,null,0,1,0,1900,0,1,1900,"Nombre y el registro de entrada válida"]
[null,null,null,null,null,null,0,1,0,1900,0,1,1900,"Nombre y el registro de entrada válida"]
[null,null,null,null,null,null,0,1,0,1900,0,1,1900,"Nombre y el registro de entrada válida"]
[null,null,null,null,null,null,0,1,0,1900,0,1,1900,"Nombre y el registro de entrada válida"]
[null,null,null,null,null,null,0,1,0,1900,0,1,1900,"Nombre y el registro de entrada válida"]
[null,null,null,null,null,null,0,1,0,1900,0,1,1900,"Nombre y el registro de entrada válida"]
[null,null,null,null,null,null,0,1,0,1900,0,1,1900,"Nombre y el registro de entrada válida"]
[null,null,null,null,null,null,0,1,0,1900,0,1,1900,"Nombre y el registro de entrada válida"]
[null,null,null,null,null,null,0,1,0,1900,0,1,1900,"Nombre y el registro de entrada válida"]
[null,null,null,null,null,null,0,1,0,1900,0,1,1900,"Nombre y el registro de entrada válida"]
[null,null,null,null,null,null,0,1,0,1900,0,1,1900,"Nombre y el registro de entrada válida"]
[null,null,null,null,null,null,0,1,0,1900,0,1,1900,"Nombre y el registro de entrada válida"]
[null,null,null,null,null,null,0,1,0,1900,0,1,1900,"Nombre y el registro de entrada válida"]
[null,null,null,null,null,null,0,1,0,1900,0,1,1900,"Nombre y el registro de entrada válida"]
[null,null,null,null,null,null,0,1,0,1900,0,1,1900,"Nombre y el registro de entrada válida"]
[null,null,null,null,null,null,0,1,0,1900,0,1,1900,"Nombre y el registro de entrada válida"]
[null,null,null,null,null,null,0,1,0,1900,0,1,1900,"Nombre y el registro de entrada válida"]
[null,null,null,null,null,null,0,1,0,1900,0,1,1900,"Nombre y el registro de entrada válida"]
[null,null,null,null,null,null,0,1,0,1900,0,1,1900,"Nombre y el registro de entrada válida"]
[null,null,null,null,null,null,0,1,0,1900,0,1,1900,"Nombre y el registro de entrada válida"]
[null,null,null,null,null,null,0,1,0,1900,0,1,1900,"Nombre y el registro de entrada válida"]
[null,null,null,null,null,null,0,1,0,1900,0,1,1900,"Nombre y el registro de entrada válida"]
[null,null,null,null,null,null,0,1,0,1900,0,1,1900,"Nombre y el registro de entrada válida"]
[null,null,null,null,null,null,0,1,0,1900,0,1,1900,"Nombre y el registro de entrada válida"]
[null,null,null,null,null,null,0,1,0,1900,0,1,1900,"Nombre y el registro de entrada válida"]
[null,null,null,null,null,null,0,1,0,1900,0,1,1900,"Nombre y el registro de entrada válida"]
[null,null,null,null,null,null,0,1,0,1900,0,1,1900,"Nombre y el registro de entrada válida"]
[null,null,null,null,null,null,0,1,0,1900,0,1,1900,"Nombre y el registro de entrada válida"]
[null,null,null,null,null,null,0,1,0,1900,0,1,1900,"Nombre y el registro de entrada válida"]
[null,null,null,null,null,null,0,1,0,1900,0,1,1900,"Nombre y el registro de entrada válida"]
[null,null,null,null,null,null,0,1,0,1900,0,1,1900,"Nombre y el registro de entrada válida"]
[null,null,null,null,null,null,{"$f":"F1223*E1223","v":0},{"$f":"MONTH(B1223)","v":1},{"$f":"DAY(B1223)","v":0},{"$f":"YEAR(D1223)","v":1900},{"$f":"DAY(E1223)","v":0},{"$f":"MONTH(E1223)","v":1},{"$f":"YEAR(E1223)","v":1900},"Nombre y el registro de entrada válida"]
[null,null,null,null,null,null,0,1,0,1900,0,1,1900,"Nombre y el registro de entrada válida"]
[null,null,null,null,null,null,0,1,0,1900,0,1,1900,"Nombre y el registro de entrada válida"]
[null,null,null,null,null,null,0,1,0,1900,0,1,1900,"Nombre y el registro de entrada válida"]
[null,null,null,null,null,null,0,1,0,1900,0,1,1900,"Nombre y el registro de entrada válida"]
[null,null,null,null,null,null,0,1,0,1900,0,1,1900,"Nombre y el registro de entrada válida"]
[null,null,null,null,null,null,0,1,0,1900,0,1,1900,"Nombre y el registro de entrada válida"]
[null,null,null,null,null,null,0,1,0,1900,0,1,1900,"Nombre y el registro de entrada válida"]
[null,null,null,null,null,null,0,1,0,1900,0,1,1900,"Nombre y el registro de entrada válida"]
[null,null,null,null,null,null,0,1,0,1900,0,1,1900,"Nombre y el registro de entrada válida"]
[null,null,null,null,null,null,0,1,0,1900,0,1,1900,"Nombre y el registro de entrada válida"]
[null,null,null,null,null,null,0,1,0,1900,0,1,1900,"Nombre y el registro de entrada válida"]
[null,null,null,null,null,null,0,1,0,1900,0,1,1900,"Nombre y el registro de entrada válida"]
[null,null,null,null,null,null,0,1,0,1900,0,1,1900,"Nombre y el registro de entrada válida"]
[null,null,null,null,null,null,0,1,0,1900,0,1,1900,"Nombre y el registro de entrada válida"]
[null,null,null,null,null,null,0,1,0,1900,0,1,1900,"Nombre y el registro de entrada válida"]
[null,null,null,null,null,null,0,1,0,1900,0,1,1900,"Nombre y el registro de entrada válida"]
[null,null,null,null,null,null,0,1,0,1900,0,1,1900,"Nombre y el registro de entrada válida"]
[null,null,null,null,null,null,0,1,0,1900,0,1,1900,"Nombre y el registro de entrada válida"]
[null,null,null,null,null,null,0,1,0,1900,0,1,1900,"Nombre y el registro de entrada válida"]
[null,null,null,null,null,null,0,1,0,1900,0,1,1900,"Nombre y el registro de entrada válida"]
[null,null,null,null,null,null,0,1,0,1900,0,1,1900,"Nombre y el registro de entrada válida"]
[null,null,null,null,null,null,0,1,0,1900,0,1,1900,"Nombre y el registro de entrada válida"]
[null,null,null,null,null,null,0,1,0,1900,0,1,1900,"Nombre y el registro de entrada válida"]
[null,null,null,null,null,null,0,1,0,1900,0,1,1900,"Nombre y el registro de entrada válida"]
[null,null,null,null,null,null,0,1,0,1900,0,1,1900,"Nombre y el registro de entrada válida"]
[null,null,null,null,null,null,0,1,0,1900,0,1,1900,"Nombre y el registro de entrada válida"]
[null,null,null,null,null,null,0,1,0,1900,0,1,1900,"Nombre y el registro de entrada válida"]
[null,null,null,null,null,null,0,1,0,1900,0,1,1900,"Nombre y el registro de entrada válida"]
[null,null,null,null,null,null,0,1,0,1900,0,1,1900,"Nombre y el registro de entrada válida"]
[null,null,null,null,null,null,0,1,0,1900,0,1,1900,"Nombre y el registro de entrada válida"]
[null,null,null,null,null,null,0,1,0,1900,0,1,1900,"Nombre y el registro de entrada válida"]
[null,null,null,null,null,null,0,1,0,1900,0,1,1900,"Nombre y el registro de entrada válida"]
[null,null,null,null,null,null,0,1,0,1900,0,1,1900,"Nombre y el registro de entrada válida"]
[null,null,null,null,null,null,0,1,0,1900,0,1,1900,"Nombre y el registro de entrada válida"]
[null,null,null,null,null,null,0,1,0,1900,0,1,1900,"Nombre y el registro de entrada válida"]
[null,null,null,null,null,null,0,1,0,1900,0,1,1900,"Nombre y el registro de entrada válida"]
[null,null,null,null,null,null,0,1,0,1900,0,1,1900,"Nombre y el registro de entrada válida"]
[null,null,null,null,null,null,0,1,0,1900,0,1,1900,"Nombre y el registro de entrada válida"]
[null,null,null,null,null,null,0,1,0,1900,0,1,1900,"Nombre y el registro de entrada válida"]
[null,null,null,null,null,null,0,1,0,1900,0,1,1900,"Nombre y el registro de entrada válida"]
[null,null,null,null,null,null,0,1,0,1900,0,1,1900,"Nombre y el registro de entrada válida"]
[null,null,null,null,null,null,0,1,0,1900,0,1,1900,"Nombre y el registro de entrada válida"]
[null,null,null,null,null,null,0,1,0,1900,0,1,1900,"Nombre y el registro de entrada válida"]
[null,null,null,null,null,null,0,1,0,1900,0,1,1900,"Nombre y el registro de entrada válida"]
[null,null,null,null,null,null,0,1,0,1900,0,1,1900,"Nombre y el registro de entrada válida"]
[null,null,null,null,null,null,0,1,0,1900,0,1,1900,"Nombre y el registro de entrada válida"]
[null,null,null,null,null,null,0,1,0,1900,0,1,1900,"Nombre y el registro de entrada válida"]
[null,null,null,null,null,null,0,1,0,1900,0,1,1900,"Nombre y el registro de entrada válida"]
[null,null,null,null,null,null,0,1,0,1900,0,1,1900,"Nombre y el registro de entrada válida"]
[null,null,null,null,null,null,0,1,0,1900,0,1,1900,"Nombre y el registro de entrada válida"]
[null,null,null,null,null,null,0,1,0,1900,0,1,1900,"Nombre y el registro de entrada válida"]
[null,null,null,null,null,null,0,1,0,1900,0,1,1900,"Nombre y el registro de entrada válida"]
[null,null,null,null,null,null,0,1,0,1900,0,1,1900,"Nombre y el registro de entrada válida"]
[null,null,null,null,null,null,0,1,0,1900,0,1,1900,"Nombre y el registro de entrada válida"]
[null,null,null,null,null,null,0,1,0,1900,0,1,1900,"Nombre y el registro de entrada válida"]
[null,null,null,null,null,null,0,1,0,1900,0,1,1900,"Nombre y el registro de entrada válida"]
[null,null,null,null,null,null,0,1,0,1900,0,1,1900,"Nombre y el registro de entrada válida"]
[null,null,null,null,null,null,0,1,0,1900,0,1,1900,"Nombre y el registro de entrada válida"]
[null,null,null,null,null,null,0,1,0,1900,0,1,1900,"Nombre y el registro de entrada válida"]
[null,null,null,null,null,null,0,1,0,1900,0,1,1900,"Nombre y el registro de entrada válida"]
[null,null,null,null,null,null,0,1,0,1900,0,1,1900,"Nombre y el registro de entrada válida"]
[null,null,null,null,null,null,0,1,0,1900,0,1,1900,"Nombre y el registro de entrada válida"]
[null,null,null,null,null,null,0,1,0,1900,0,1,1900,"Nombre y el registro de entrada válida"]
[null,null,null,null,null,null,{"$f":"F1287*E1287","v":0},{"$f":"MONTH(B1287)","v":1},{"$f":"DAY(B1287)","v":0},{"$f":"YEAR(D1287)","v":1900},{"$f":"DAY(E1287)","v":0},{"$f":"MONTH(E1287)","v":1},{"$f":"YEAR(E1287)","v":1900},"Nombre y el registro de entrada válida"]
[null,null,null,null,null,null,0,1,0,1900,0,1,1900,"Nombre y el registro de entrada válida"]
[null,null,null,null,null,null,0,1,0,1900,0,1,1900,"Nombre y el registro de entrada válida"]
[null,null,null,null,null,null,0,1,0,1900,0,1,1900,"Nombre y el registro de entrada válida"]
[null,null,null,null,null,null,0,1,0,1900,0,1,1900,"Nombre y el registro de entrada válida"]
[null,null,null,null,null,null,0,1,0,1900,0,1,1900,"Nombre y el registro de entrada válida"]
[null,null,null,null,null,null,0,1,0,1900,0,1,1900,"Nombre y el registro de entrada válida"]
[null,null,null,null,null,null,0,1,0,1900,0,1,1900,"Nombre y el registro de entrada válida"]
[null,null,null,null,null,null,0,1,0,1900,0,1,1900,"Nombre y el registro de entrada válida"]
[null,null,null,null,null,null,0,1,0,1900,0,1,1900,"Nombre y el registro de entrada válida"]
[null,null,null,null,null,null,0,1,0,1900,0,1,1900,"Nombre y el registro de entrada válida"]
[null,null,null,null,null,null,0,1,0,1900,0,1,1900,"Nombre y el registro de entrada válida"]
[null,null,null,null,null,null,0,1,0,1900,0,1,1900,"Nombre y el registro de entrada válida"]
[null,null,null,null,null,null,0,1,0,1900,0,1,1900,"Nombre y el registro de entrada válida"]
[null,null,null,null,null,null,0,1,0,1900,0,1,1900,"Nombre y el registro de entrada válida"]
[null,null,null,null,null,null,0,1,0,1900,0,1,1900,"Nombre y el registro de entrada válida"]
[null,null,null,null,null,null,0,1,0,1900,0,1,1900,"Nombre y el registro de entrada válida"]
[null,null,null,null,null,null,0,1,0,1900,0,1,1900,"Nombre y el registro de entrada válida"]
[null,null,null,null,null,null,0,1,0,1900,0,1,1900,"Nombre y el registro de entrada válida"]
[null,null,null,null,null,null,0,1,0,1900,0,1,1900,"Nombre y el registro de entrada válida"]
[null,null,null,null,null,null,0,1,0,1900,0,1,1900,"Nombre y el registro de entrada válida"]
[null,null,null,null,null,null,0,1,0,1900,0,1,1900,"Nombre y el registro de entrada válida"]
[null,null,null,null,null,null,0,1,0,1900,0,1,1900,"Nombre y el registro de entrada válida"]
[null,null,null,null,null,null,0,1,0,1900,0,1,1900,"Nombre y el registro de entrada válida"]
[null,null,null,null,null,null,0,1,0,1900,0,1,1900,"Nombre y el registro de entrada válida"]
[null,null,null,null,null,null,0,1,0,1900,0,1,1900,"Nombre y el registro de entrada válida"]
[null,null,null,null,null,null,0,1,0,1900,0,1,1900,"Nombre y el registro de entrada válida"]
[null,null,null,null,null,null,0,1,0,1900,0,1,1900,"Nombre y el registro de entrada válida"]
[null,null,null,null,null,null,0,1,0,1900,0,1,1900,"Nombre y el registro de entrada válida"]
[null,null,null,null,null,null,0,1,0,1900,0,1,1900,"Nombre y el registro de entrada válida"]
[null,null,null,null,null,null,0,1,0,1900,0,1,1900,"Nombre y el registro de entrada válida"]
[null,null,null,null,null,null,0,1,0,1900,0,1,1900,"Nombre y el registro de entrada válida"]
[null,null,null,null,null,null,0,1,0,1900,0,1,1900,"Nombre y el registro de entrada válida"]
[null,null,null,null,null,null,0,1,0,1900,0,1,1900,"Nombre y el registro de entrada válida"]
[null,null,null,null,null,null,0,1,0,1900,0,1,1900,"Nombre y el registro de entrada válida"]
[null,null,null,null,null,null,0,1,0,1900,0,1,1900,"Nombre y el registro de entrada válida"]
[null,null,null,null,null,null,0,1,0,1900,0,1,1900,"Nombre y el registro de entrada válida"]
[null,null,null,null,null,null,0,1,0,1900,0,1,1900,"Nombre y el registro de entrada válida"]
[null,null,null,null,null,null,0,1,0,1900,0,1,1900,"Nombre y el registro de entrada válida"]
[null,null,null,null,null,null,0,1,0,1900,0,1,1900,"Nombre y el registro de entrada válida"]
[null,null,null,null,null,null,0,1,0,1900,0,1,1900,"Nombre y el registro de entrada válida"]
[null,null,null,null,null,null,0,1,0,1900,0,1,1900,"Nombre y el registro de entrada válida"]
[null,null,null,null,null,null,0,1,0,1900,0,1,1900,"Nombre y el registro de entrada válida"]
[null,null,null,null,null,null,0,1,0,1900,0,1,1900,"Nombre y el registro de entrada válida"]
[null,null,null,null,null,null,0,1,0,1900,0,1,1900,"Nombre y el registro de entrada válida"]
[null,null,null,null,null,null,0,1,0,1900,0,1,1900,"Nombre y el registro de entrada válida"]
[null,null,null,null,null,null,0,1,0,1900,0,1,1900,"Nombre y el registro de entrada válida"]
[null,null,null,null,null,null,0,1,0,1900,0,1,1900,"Nombre y el registro de entrada válida"]
[null,null,null,null,null,null,0,1,0,1900,0,1,1900,"Nombre y el registro de entrada válida"]
[null,null,null,null,null,null,0,1,0,1900,0,1,1900,"Nombre y el registro de entrada válida"]
[null,null,null,null,null,null,0,1,0,1900,0,1,1900,"Nombre y el registro de entrada válida"]
[null,null,null,null,null,null,0,1,0,1900,0,1,1900,"Nombre y el registro de entrada válida"]
[null,null,null,null,null,null,0,1,0,1900,0,1,1900,"Nombre y el registro de entrada válida"]
[null,null,null,null,null,null,0,1,0,1900,0,1,1900,"Nombre y el registro de entrada válida"]
[null,null,null,null,null,null,0,1,0,1900,0,1,1900,"Nombre y el registro de entrada válida"]
[null,null,null,null,null,null,0,1,0,1900,0,1,1900,"Nombre y el registro de entrada válida"]
[null,null,null,null,null,null,0,1,0,1900,0,1,1900,"Nombre y el registro de entrada válida"]
[null,null,null,null,null,null,0,1,0,1900,0,1,1900,"Nombre y el registro de entrada válida"]
[null,null,null,null,null,null,0,1,0,1900,0,1,1900,"Nombre y el registro de entrada válida"]
[null,null,null,null,null,null,0,1,0,1900,0,1,1900,"Nombre y el registro de entrada válida"]
[null,null,null,null,null,null,0,1,0,1900,0,1,1900,"Nombre y el registro de entrada válida"]
[null,null,null,null,null,null,0,1,0,1900,0,1,1900,"Nombre y el registro de entrada válida"]
[null,null,null,null,null,null,0,1,0,1900,0,1,1900,"Nombre y el registro de entrada válida"]
[null,null,null,null,null,null,0,1,0,1900,0,1,1900,"Nombre y el registro de entrada válida"]
[null,null,null,null,null,null,{"$f":"F1351*E1351","v":0},{"$f":"MONTH(B1351)","v":1},{"$f":"DAY(B1351)","v":0},{"$f":"YEAR(D1351)","v":1900},{"$f":"DAY(E1351)","v":0},{"$f":"MONTH(E1351)","v":1},{"$f":"YEAR(E1351)","v":1900},"Nombre y el registro de entrada válida"]
[null,null,null,null,null,null,0,1,0,1900,0,1,1900,"Nombre y el registro de entrada válida"]
[null,null,null,null,null,null,0,1,0,1900,0,1,1900,"Nombre y el registro de entrada válida"]
[null,null,null,null,null,null,0,1,0,1900,0,1,1900,"Nombre y el registro de entrada válida"]
[null,null,null,null,null,null,0,1,0,1900,0,1,1900,"Nombre y el registro de entrada válida"]
[null,null,null,null,null,null,0,1,0,1900,0,1,1900,"Nombre y el registro de entrada válida"]
[null,null,null,null,null,null,0,1,0,1900,0,1,1900,"Nombre y el registro de entrada válida"]
[null,null,null,null,null,null,0,1,0,1900,0,1,1900,"Nombre y el registro de entrada válida"]
[null,null,null,null,null,null,0,1,0,1900,0,1,1900,"Nombre y el registro de entrada válida"]
[null,null,null,null,null,null,0,1,0,1900,0,1,1900,"Nombre y el registro de entrada válida"]
[null,null,null,null,null,null,0,1,0,1900,0,1,1900,"Nombre y el registro de entrada válida"]
[null,null,null,null,null,null,0,1,0,1900,0,1,1900,"Nombre y el registro de entrada válida"]
[null,null,null,null,null,null,0,1,0,1900,0,1,1900,"Nombre y el registro de entrada válida"]
[null,null,null,null,null,null,0,1,0,1900,0,1,1900,"Nombre y el registro de entrada válida"]
[null,null,null,null,null,null,0,1,0,1900,0,1,1900,"Nombre y el registro de entrada válida"]
[null,null,null,null,null,null,0,1,0,1900,0,1,1900,"Nombre y el registro de entrada válida"]
[null,null,null,null,null,null,0,1,0,1900,0,1,1900,"Nombre y el registro de entrada válida"]
[null,null,null,null,null,null,0,1,0,1900,0,1,1900,"Nombre y el registro de entrada válida"]
[null,null,null,null,null,null,0,1,0,1900,0,1,1900,"Nombre y el registro de entrada válida"]
[null,null,null,null,null,null,0,1,0,1900,0,1,1900,"Nombre y el registro de entrada válida"]
[null,null,null,null,null,null,0,1,0,1900,0,1,1900,"Nombre y el registro de entrada válida"]
[null,null,null,null,null,null,0,1,0,1900,0,1,1900,"Nombre y el registro de entrada válida"]
[null,null,null,null,null,null,0,1,0,1900,0,1,1900,"Nombre y el registro de entrada válida"]
[null,null,null,null,null,null,0,1,0,1900,0,1,1900,"Nombre y el registro de entrada válida"]
[null,null,null,null,null,null,0,1,0,1900,0,1,1900,"Nombre y el registro de entrada válida"]
[null,null,null,null,null,null,0,1,0,1900,0,1,1900,"Nombre y el registro de entrada válida"]
[null,null,null,null,null,null,0,1,0,1900,0,1,1900,"Nombre y el registro de entrada válida"]
[null,null,null,null,null,null,0,1,0,1900,0,1,1900,"Nombre y el registro de entrada válida"]
[null,null,null,null,null,null,0,1,0,1900,0,1,1900,"Nombre y el registro de entrada válida"]
[null,null,null,null,null,null,0,1,0,1900,0,1,1900,"Nombre y el registro de entrada válida"]
[null,null,null,null,null,null,0,1,0,1900,0,1,1900,"Nombre y el registro de entrada válida"]
[null,null,null,null,null,null,0,1,0,1900,0,1,1900,"Nombre y el registro de entrada válida"]
[null,null,null,null,null,null,0,1,0,1900,0,1,1900,"Nombre y el registro de entrada válida"]
[null,null,null,null,null,null,0,1,0,1900,0,1,1900,"Nombre y el registro de entrada válida"]
[null,null,null,null,null,null,0,1,0,1900,0,1,1900,"Nombre y el registro de entrada válida"]
[null,null,null,null,null,null,0,1,0,1900,0,1,1900,"Nombre y el registro de entrada válida"]
[null,null,null,null,null,null,0,1,0,1900,0,1,1900,"Nombre y el registro de entrada válida"]
[null,null,null,null,null,null,0,1,0,1900,0,1,1900,"Nombre y el registro de entrada válida"]
[null,null,null,null,null,null,0,1,0,1900,0,1,1900,"Nombre y el registro de entrada válida"]
[null,null,null,null,null,null,0,1,0,1900,0,1,1900,"Nombre y el registro de entrada válida"]
[null,null,null,null,null,null,0,1,0,1900,0,1,1900,"Nombre y el registro de entrada válida"]
[null,null,null,null,null,null,0,1,0,1900,0,1,1900,"Nombre y el registro de entrada válida"]
[null,null,null,null,null,null,0,1,0,1900,0,1,1900,"Nombre y el registro de entrada válida"]
[null,null,null,null,null,null,0,1,0,1900,0,1,1900,"Nombre y el registro de entrada válida"]
[null,null,null,null,null,null,0,1,0,1900,0,1,1900,"Nombre y el registro de entrada válida"]
[null,null,null,null,null,null,0,1,0,1900,0,1,1900,"Nombre y el registro de entrada válida"]
[null,null,null,null,null,null,0,1,0,1900,0,1,1900,"Nombre y el registro de entrada válida"]
[null,null,null,null,null,null,0,1,0,1900,0,1,1900,"Nombre y el registro de entrada válida"]
[null,null,null,null,null,null,0,1,0,1900,0,1,1900,"Nombre y el registro de entrada válida"]
[null,null,null,null,null,null,0,1,0,1900,0,1,1900,"Nombre y el registro de entrada válida"]
[null,null,null,null,null,null,0,1,0,1900,0,1,1900,"Nombre y el registro de entrada válida"]
[null,null,null,null,null,null,0,1,0,1900,0,1,1900,"Nombre y el registro de entrada válida"]
[null,null,null,null,null,null,0,1,0,1900,0,1,1900,"Nombre y el registro de entrada válida"]
[null,null,null,null,null,null,0,1,0,1900,0,1,1900,"Nombre y el registro de entrada válida"]
[null,null,null,null,null,null,0,1,0,1900,0,1,1900,"Nombre y el registro de entrada válida"]
[null,null,null,null,null,null,0,1,0,1900,0,1,1900,"Nombre y el registro de entrada válida"]
[null,null,null,null,null,null,0,1,0,1900,0,1,1900,"Nombre y el registro de entrada válida"]
[null,null,null,null,null,null,0,1,0,1900,0,1,1900,"Nombre y el registro de entrada válida"]
[null,null,null,null,null,null,0,1,0,1900,0,1,1900,"Nombre y el registro de entrada válida"]
[null,null,null,null,null,null,0,1,0,1900,0,1,1900,"Nombre y el registro de entrada válida"]
[null,null,null,null,null,null,0,1,0,1900,0,1,1900,"Nombre y el registro de entrada válida"]
[null,null,null,null,null,null,0,1,0,1900,0,1,1900,"Nombre y el registro de entrada válida"]
[null,null,null,null,null,null,0,1,0,1900,0,1,1900,"Nombre y el registro de entrada válida"]
[null,null,null,null,null,null,0,1,0,1900,0,1,1900,"Nombre y el registro de entrada válida"]
[null,null,null,null,null,null,{"$f":"F1415*E1415","v":0},{"$f":"MONTH(B1415)","v":1},{"$f":"DAY(B1415)","v":0},{"$f":"YEAR(D1415)","v":1900},{"$f":"DAY(E1415)","v":0},{"$f":"MONTH(E1415)","v":1},{"$f":"YEAR(E1415)","v":1900},"Nombre y el registro de entrada válida"]
[null,null,null,null,null,null,0,1,0,1900,0,1,1900,"Nombre y el registro de entrada válida"]
[null,null,null,null,null,null,0,1,0,1900,0,1,1900,"Nombre y el registro de entrada válida"]
[null,null,null,null,null,null,0,1,0,1900,0,1,1900,"Nombre y el registro de entrada válida"]
[null,null,null,null,null,null,0,1,0,1900,0,1,1900,"Nombre y el registro de entrada válida"]
[null,null,null,null,null,null,0,1,0,1900,0,1,1900,"Nombre y el registro de entrada válida"]
[null,null,null,null,null,null,0,1,0,1900,0,1,1900,"Nombre y el registro de entrada válida"]
[null,null,null,null,null,null,0,1,0,1900,0,1,1900,"Nombre y el registro de entrada válida"]
[null,null,null,null,null,null,0,1,0,1900,0,1,1900,"Nombre y el registro de entrada válida"]
[null,null,null,null,null,null,0,1,0,1900,0,1,1900,"Nombre y el registro de entrada válida"]
[null,null,null,null,null,null,0,1,0,1900,0,1,1900,"Nombre y el registro de entrada válida"]
[null,null,null,null,null,null,0,1,0,1900,0,1,1900,"Nombre y el registro de entrada válida"]
[null,null,null,null,null,null,0,1,0,1900,0,1,1900,"Nombre y el registro de entrada válida"]
[null,null,null,null,null,null,0,1,0,1900,0,1,1900,"Nombre y el registro de entrada válida"]
[null,null,null,null,null,null,0,1,0,1900,0,1,1900,"Nombre y el registro de entrada válida"]
[null,null,null,null,null,null,0,1,0,1900,0,1,1900,"Nombre y el registro de entrada válida"]
[null,null,null,null,null,null,0,1,0,1900,0,1,1900,"Nombre y el registro de entrada válida"]
[null,null,null,null,null,null,0,1,0,1900,0,1,1900,"Nombre y el registro de entrada válida"]
[null,null,null,null,null,null,0,1,0,1900,0,1,1900,"Nombre y el registro de entrada válida"]
[null,null,null,null,null,null,0,1,0,1900,0,1,1900,"Nombre y el registro de entrada válida"]
[null,null,null,null,null,null,0,1,0,1900,0,1,1900,"Nombre y el registro de entrada válida"]
[null,null,null,null,null,null,0,1,0,1900,0,1,1900,"Nombre y el registro de entrada válida"]
[null,null,null,null,null,null,0,1,0,1900,0,1,1900,"Nombre y el registro de entrada válida"]
[null,null,null,null,null,null,0,1,0,1900,0,1,1900,"Nombre y el registro de entrada válida"]
[null,null,null,null,null,null,0,1,0,1900,0,1,1900,"Nombre y el registro de entrada válida"]
[null,null,null,null,null,null,0,1,0,1900,0,1,1900,"Nombre y el registro de entrada válida"]
[null,null,null,null,null,null,0,1,0,1900,0,1,1900,"Nombre y el registro de entrada válida"]
[null,null,null,null,null,null,0,1,0,1900,0,1,1900,"Nombre y el registro de entrada válida"]
[null,null,null,null,null,null,0,1,0,1900,0,1,1900,"Nombre y el registro de entrada válida"]
[null,null,null,null,null,null,0,1,0,1900,0,1,1900,"Nombre y el registro de entrada válida"]
[null,null,null,null,null,null,0,1,0,1900,0,1,1900,"Nombre y el registro de entrada válida"]
[null,null,null,null,null,null,0,1,0,1900,0,1,1900,"Nombre y el registro de entrada válida"]
[null,null,null,null,null,null,0,1,0,1900,0,1,1900,"Nombre y el registro de entrada válida"]
[null,null,null,null,null,null,0,1,0,1900,0,1,1900,"Nombre y el registro de entrada válida"]
[null,null,null,null,null,null,0,1,0,1900,0,1,1900,"Nombre y el registro de entrada válida"]
[null,null,null,null,null,null,0,1,0,1900,0,1,1900,"Nombre y el registro de entrada válida"]
[null,null,null,null,null,null,0,1,0,1900,0,1,1900,"Nombre y el registro de entrada válida"]
[null,null,null,null,null,null,0,1,0,1900,0,1,1900,"Nombre y el registro de entrada válida"]
[null,null,null,null,null,null,0,1,0,1900,0,1,1900,"Nombre y el registro de entrada válida"]
[null,null,null,null,null,null,0,1,0,1900,0,1,1900,"Nombre y el registro de entrada válida"]
[null,null,null,null,null,null,0,1,0,1900,0,1,1900,"Nombre y el registro de entrada válida"]
[null,null,null,null,null,null,0,1,0,1900,0,1,1900,"Nombre y el registro de entrada válida"]
[null,null,null,null,null,null,0,1,0,1900,0,1,1900,"Nombre y el registro de entrada válida"]
[null,null,null,null,null,null,0,1,0,1900,0,1,1900,"Nombre y el registro de entrada válida"]
[null,null,null,null,null,null,0,1,0,1900,0,1,1900,"Nombre y el registro de entrada válida"]
[null,null,null,null,null,null,0,1,0,1900,0,1,1900,"Nombre y el registro de entrada válida"]
[null,null,null,null,null,null,0,1,0,1900,0,1,1900,"Nombre y el registro de entrada válida"]
[null,null,null,null,null,null,0,1,0,1900,0,1,1900,"Nombre y el registro de entrada válida"]
[null,null,null,null,null,null,0,1,0,1900,0,1,1900,"Nombre y el registro de entrada válida"]
[null,null,null,null,null,null,0,1,0,1900,0,1,1900,"Nombre y el registro de entrada válida"]
[null,null,null,null,null,null,0,1,0,1900,0,1,1900,"Nombre y el registro de entrada válida"]
[null,null,null,null,null,null,0,1,0,1900,0,1,1900,"Nombre y el registro de entrada válida"]
[null,null,null,null,null,null,0,1,0,1900,0,1,1900,"Nombre y el registro de entrada válida"]
[null,null,null,null,null,null,0,1,0,1900,0,1,1900,"Nombre y el registro de entrada válida"]
[null,null,null,null,null,null,0,1,0,1900,0,1,1900,"Nombre y el registro de entrada válida"]
[null,null,null,null,null,null,0,1,0,1900,0,1,1900,"Nombre y el registro de entrada válida"]
[null,null,null,null,null,null,0,1,0,1900,0,1,1900,"Nombre y el registro de entrada válida"]
[null,null,null,null,null,null,0,1,0,1900,0,1,1900,"Nombre y el registro de entrada válida"]
[null,null,null,null,null,null,0,1,0,1900,0,1,1900,"Nombre y el registro de entrada válida"]
[null,null,null,null,null,null,0,1,0,1900,0,1,1900,"Nombre y el registro de entrada válida"]
[null,null,null,null,null,null,0,1,0,1900,0,1,1900,"Nombre y el registro de entrada válida"]
[null,null,null,null,null,null,0,1,0,1900,0,1,1900,"Nombre y el registro de entrada válida"]
[null,null,null,null,null,null,0,1,0,1900,0,1,1900,"Nombre y el registro de entrada válida"]
[null,null,null,null,null,null,0,1,0,1900,0,1,1900,"Nombre y el registro de entrada válida"]
[null,null,null,null,null,null,{"$f":"F1479*E1479","v":0},{"$f":"MONTH(B1479)","v":1},{"$f":"DAY(B1479)","v":0},{"$f":"YEAR(D1479)","v":1900},{"$f":"DAY(E1479)","v":0},{"$f":"MONTH(E1479)","v":1},{"$f":"YEAR(E1479)","v":1900},"Nombre y el registro de entrada válida"]
[null,null,null,null,null,null,0,1,0,1900,0,1,1900,"Nombre y el registro de entrada válida"]
[null,null,null,null,null,null,0,1,0,1900,0,1,1900,"Nombre y el registro de entrada válida"]
[null,null,null,null,null,null,0,1,0,1900,0,1,1900,"Nombre y el registro de entrada válida"]
[null,null,null,null,null,null,0,1,0,1900,0,1,1900,"Nombre y el registro de entrada válida"]
[null,null,null,null,null,null,0,1,0,1900,0,1,1900,"Nombre y el registro de entrada válida"]
[null,null,null,null,null,null,0,1,0,1900,0,1,1900,"Nombre y el registro de entrada válida"]
[null,null,null,null,null,null,0,1,0,1900,0,1,1900,"Nombre y el registro de entrada válida"]
[null,null,null,null,null,null,0,1,0,1900,0,1,1900,"Nombre y el registro de entrada válida"]
[null,null,null,null,null,null,0,1,0,1900,0,1,1900,"Nombre y el registro de entrada válida"]
[null,null,null,null,null,null,0,1,0,1900,0,1,1900,"Nombre y el registro de entrada válida"]
[null,null,null,null,null,null,0,1,0,1900,0,1,1900,"Nombre y el registro de entrada válida"]
[null,null,null,null,null,null,0,1,0,1900,0,1,1900,"Nombre y el registro de entrada válida"]
[null,null,null,null,null,null,0,1,0,1900,0,1,1900,"Nombre y el registro de entrada válida"]
[null,null,null,null,null,null,0,1,0,1900,0,1,1900,"Nombre y el registro de entrada válida"]
[null,null,null,null,null,null,0,1,0,1900,0,1,1900,"Nombre y el registro de entrada válida"]
[null,null,null,null,null,null,0,1,0,1900,0,1,1900,"Nombre y el registro de entrada válida"]
[null,null,null,null,null,null,0,1,0,1900,0,1,1900,"Nombre y el registro de entrada válida"]
[null,null,null,null,null,null,0,1,0,1900,0,1,1900,"Nombre y el registro de entrada válida"]
[null,null,null,null,null,null,0,1,0,1900,0,1,1900,"Nombre y el registro de entrada válida"]
[null,null,null,null,null,null,0,1,0,1900,0,1,1900,"Nombre y el registro de entrada válida"]
[null,null,null,null,null,null,0,1,0,1900,0,1,1900,"Nombre y el registro de entrada válida"]
[null,null,null,null,null,null,0,1,0,1900,0,1,1900,"Nombre y el registro de entrada válida"]
[null,null,null,null,null,null,0,1,0,1900,0,1,1900,"Nombre y el registro de entrada válida"]
[null,null,null,null,null,null,0,1,0,1900,0,1,1900,"Nombre y el registro de entrada válida"]
[null,null,null,null,null,null,0,1,0,1900,0,1,1900,"Nombre y el registro de entrada válida"]
[null,null,null,null,null,null,0,1,0,1900,0,1,1900,"Nombre y el registro de entrada válida"]
[null,null,null,null,null,null,0,1,0,1900,0,1,1900,"Nombre y el registro de entrada válida"]
[null,null,null,null,null,null,0,1,0,1900,0,1,1900,"Nombre y el registro de entrada válida"]
[null,null,null,null,null,null,0,1,0,1900,0,1,1900,"Nombre y el registro de entrada válida"]
[null,null,null,null,null,null,0,1,0,1900,0,1,1900,"Nombre y el registro de entrada válida"]
[null,null,null,null,null,null,0,1,0,1900,0,1,1900,"Nombre y el registro de entrada válida"]
[null,null,null,null,null,null,0,1,0,1900,0,1,1900,"Nombre y el registro de entrada válida"]
[null,null,null,null,null,null,0,1,0,1900,0,1,1900,"Nombre y el registro de entrada válida"]
[null,null,null,null,null,null,0,1,0,1900,0,1,1900,"Nombre y el registro de entrada válida"]
[null,null,null,null,null,null,0,1,0,1900,0,1,1900,"Nombre y el registro de entrada válida"]
[null,null,null,null,null,null,0,1,0,1900,0,1,1900,"Nombre y el registro de entrada válida"]
[null,null,null,null,null,null,0,1,0,1900,0,1,1900,"Nombre y el registro de entrada válida"]
[null,null,null,null,null,null,0,1,0,1900,0,1,1900,"Nombre y el registro de entrada válida"]
[null,null,null,null,null,null,0,1,0,1900,0,1,1900,"Nombre y el registro de entrada válida"]
[null,null,null,null,null,null,0,1,0,1900,0,1,1900,"Nombre y el registro de entrada válida"]
[null,null,null,null,null,null,0,1,0,1900,0,1,1900,"Nombre y el registro de entrada válida"]
[null,null,null,null,null,null,0,1,0,1900,0,1,1900,"Nombre y el registro de entrada válida"]
[null,null,null,null,null,null,0,1,0,1900,0,1,1900,"Nombre y el registro de entrada válida"]
[null,null,null,null,null,null,0,1,0,1900,0,1,1900,"Nombre y el registro de entrada válida"]
[null,null,null,null,null,null,0,1,0,1900,0,1,1900,"Nombre y el registro de entrada válida"]
[null,null,null,null,null,null,0,1,0,1900,0,1,1900,"Nombre y el registro de entrada válida"]
[null,null,null,null,null,null,0,1,0,1900,0,1,1900,"Nombre y el registro de entrada válida"]
[null,null,null,null,null,null,0,1,0,1900,0,1,1900,"Nombre y el registro de entrada válida"]
[null,null,null,null,null,null,0,1,0,1900,0,1,1900,"Nombre y el registro de entrada válida"]
[null,null,null,null,null,null,0,1,0,1900,0,1,1900,"Nombre y el registro de entrada válida"]
[null,null,null,null,null,null,0,1,0,1900,0,1,1900,"Nombre y el registro de entrada válida"]
[null,null,null,null,null,null,0,1,0,1900,0,1,1900,"Nombre y el registro de entrada válida"]
[null,null,null,null,null,null,0,1,0,1900,0,1,1900,"Nombre y el registro de entrada válida"]
[null,null,null,null,null,null,0,1,0,1900,0,1,1900,"Nombre y el registro de entrada válida"]
[null,null,null,null,null,null,0,1,0,1900,0,1,1900,"Nombre y el registro de entrada válida"]
[null,null,null,null,null,null,0,1,0,1900,0,1,1900,"Nombre y el registro de entrada válida"]
[null,null,null,null,null,null,0,1,0,1900,0,1,1900,"Nombre y el registro de entrada válida"]
[null,null,null,null,null,null,0,1,0,1900,0,1,1900,"Nombre y el registro de entrada válida"]
[null,null,null,null,null,null,0,1,0,1900,0,1,1900,"Nombre y el registro de entrada válida"]
[null,null,null,null,null,null,0,1,0,1900,0,1,1900,"Nombre y el registro de entrada válida"]
[null,null,null,null,null,null,0,1,0,1900,0,1,1900,"Nombre y el registro de entrada válida"]
[null,null,null,null,null,null,0,1,0,1900,0,1,1900,"Nombre y el registro de entrada válida"]
[null,null,null,null,null,null,0,1,0,1900,0,1,1900,"Nombre y el registro de entrada válida"]
[null,null,null,null,null,null,{"$f":"F1543*E1543","v":0},{"$f":"MONTH(B1543)","v":1},{"$f":"DAY(B1543)","v":0},{"$f":"YEAR(D1543)","v":1900},{"$f":"DAY(E1543)","v":0},{"$f":"MONTH(E1543)","v":1},{"$f":"YEAR(E1543)","v":1900},"Nombre y el registro de entrada válida"]
[null,null,null,null,null,null,0,1,0,1900,0,1,1900,"Nombre y el registro de entrada válida"]
[null,null,null,null,null,null,0,1,0,1900,0,1,1900,"Nombre y el registro de entrada válida"]
[null,null,null,null,null,null,0,1,0,1900,0,1,1900,"Nombre y el registro de entrada válida"]
[null,null,null,null,null,null,0,1,0,1900,0,1,1900,"Nombre y el registro de entrada válida"]
[null,null,null,null,null,null,0,1,0,1900,0,1,1900,"Nombre y el registro de entrada válida"]
[null,null,null,null,null,null,0,1,0,1900,0,1,1900,"Nombre y el registro de entrada válida"]
[null,null,null,null,null,null,0,1,0,1900,0,1,1900,"Nombre y el registro de entrada válida"]
[null,null,null,null,null,null,0,1,0,1900,0,1,1900,"Nombre y el registro de entrada válida"]
[null,null,null,null,null,null,0,1,0,1900,0,1,1900,"Nombre y el registro de entrada válida"]
[null,null,null,null,null,null,0,1,0,1900,0,1,1900,"Nombre y el registro de entrada válida"]
[null,null,null,null,null,null,0,1,0,1900,0,1,1900,"Nombre y el registro de entrada válida"]
[null,null,null,null,null,null,0,1,0,1900,0,1,1900,"Nombre y el registro de entrada válida"]
[null,null,null,null,null,null,0,1,0,1900,0,1,1900,"Nombre y el registro de entrada válida"]
[null,null,null,null,null,null,0,1,0,1900,0,1,1900,"Nombre y el registro de entrada válida"]
[null,null,null,null,null,null,0,1,0,1900,0,1,1900,"Nombre y el registro de entrada válida"]
[null,null,null,null,null,null,0,1,0,1900,0,1,1900,"Nombre y el registro de entrada válida"]
[null,null,null,null,null,null,0,1,0,1900,0,1,1900,"Nombre y el registro de entrada válida"]
[null,null,null,null,null,null,0,1,0,1900,0,1,1900,"Nombre y el registro de entrada válida"]
[null,null,null,null,null,null,0,1,0,1900,0,1,1900,"Nombre y el registro de entrada válida"]
[null,null,null,null,null,null,0,1,0,1900,0,1,1900,"Nombre y el registro de entrada válida"]
[null,null,null,null,null,null,0,1,0,1900,0,1,1900,"Nombre y el registro de entrada válida"]
[null,null,null,null,null,null,0,1,0,1900,0,1,1900,"Nombre y el registro de entrada válida"]
[null,null,null,null,null,null,0,1,0,1900,0,1,1900,"Nombre y el registro de entrada válida"]
[null,null,null,null,null,null,0,1,0,1900,0,1,1900,"Nombre y el registro de entrada válida"]
[null,null,null,null,null,null,0,1,0,1900,0,1,1900,"Nombre y el registro de entrada válida"]
[null,null,null,null,null,null,0,1,0,1900,0,1,1900,"Nombre y el registro de entrada válida"]
[null,null,null,null,null,null,0,1,0,1900,0,1,1900,"Nombre y el registro de entrada válida"]
[null,null,null,null,null,null,0,1,0,1900,0,1,1900,"Nombre y el registro de entrada válida"]
[null,null,null,null,null,null,0,1,0,1900,0,1,1900,"Nombre y el registro de entrada válida"]
[null,null,null,null,null,null,0,1,0,1900,0,1,1900,"Nombre y el registro de entrada válida"]
[null,null,null,null,null,null,0,1,0,1900,0,1,1900,"Nombre y el registro de entrada válida"]
[null,null,null,null,null,null,0,1,0,1900,0,1,1900,"Nombre y el registro de entrada válida"]
[null,null,null,null,null,null,0,1,0,1900,0,1,1900,"Nombre y el registro de entrada válida"]
[null,null,null,null,null,null,0,1,0,1900,0,1,1900,"Nombre y el registro de entrada válida"]
[null,null,null,null,null,null,0,1,0,1900,0,1,1900,"Nombre y el registro de entrada válida"]
[null,null,null,null,null,null,0,1,0,1900,0,1,1900,"Nombre y el registro de entrada válida"]
[null,null,null,null,null,null,0,1,0,1900,0,1,1900,"Nombre y el registro de entrada válida"]
[null,null,null,null,null,null,0,1,0,1900,0,1,1900,"Nombre y el registro de entrada válida"]
[null,null,null,null,null,null,0,1,0,1900,0,1,1900,"Nombre y el registro de entrada válida"]
[null,null,null,null,null,null,0,1,0,1900,0,1,1900,"Nombre y el registro de entrada válida"]
[null,null,null,null,null,null,0,1,0,1900,0,1,1900,"Nombre y el registro de entrada válida"]
[null,null,null,null,null,null,0,1,0,1900,0,1,1900,"Nombre y el registro de entrada válida"]
[null,null,null,null,null,null,0,1,0,1900,0,1,1900,"Nombre y el registro de entrada válida"]
[null,null,null,null,null,null,0,1,0,1900,0,1,1900,"Nombre y el registro de entrada válida"]
[null,null,null,null,null,null,0,1,0,1900,0,1,1900,"Nombre y el registro de entrada válida"]
[null,null,null,null,null,null,0,1,0,1900,0,1,1900,"Nombre y el registro de entrada válida"]
[null,null,null,null,null,null,0,1,0,1900,0,1,1900,"Nombre y el registro de entrada válida"]
[null,null,null,null,null,null,0,1,0,1900,0,1,1900,"Nombre y el registro de entrada válida"]
[null,null,null,null,null,null,0,1,0,1900,0,1,1900,"Nombre y el registro de entrada válida"]
[null,null,null,null,null,null,0,1,0,1900,0,1,1900,"Nombre y el registro de entrada válida"]
[null,null,null,null,null,null,0,1,0,1900,0,1,1900,"Nombre y el registro de entrada válida"]
[null,null,null,null,null,null,0,1,0,1900,0,1,1900,"Nombre y el registro de entrada válida"]
[null,null,null,null,null,null,0,1,0,1900,0,1,1900,"Nombre y el registro de entrada válida"]
[null,null,null,null,null,null,0,1,0,1900,0,1,1900,"Nombre y el registro de entrada válida"]
[null,null,null,null,null,null,0,1,0,1900,0,1,1900,"Nombre y el registro de entrada válida"]
[null,null,null,null,null,null,0,1,0,1900,0,1,1900,"Nombre y el registro de entrada válida"]
[null,null,null,null,null,null,0,1,0,1900,0,1,1900,"Nombre y el registro de entrada válida"]
[null,null,null,null,null,null,0,1,0,1900,0,1,1900,"Nombre y el registro de entrada válida"]
[null,null,null,null,null,null,0,1,0,1900,0,1,1900,"Nombre y el registro de entrada válida"]
[null,null,null,null,null,null,0,1,0,1900,0,1,1900,"Nombre y el registro de entrada válida"]
[null,null,null,null,null,null,0,1,0,1900,0,1,1900,"Nombre y el registro de entrada válida"]
[null,null,null,null,null,null,0,1,0,1900,0,1,1900,"Nombre y el registro de entrada válida"]
[null,null,null,null,null,null,0,1,0,1900,0,1,1900,"Nombre y el registro de entrada válida"]
[null,null,null,null,null,null,{"$f":"F1607*E1607","v":0},{"$f":"MONTH(B1607)","v":1},{"$f":"DAY(B1607)","v":0},{"$f":"YEAR(D1607)","v":1900},{"$f":"DAY(E1607)","v":0},{"$f":"MONTH(E1607)","v":1},{"$f":"YEAR(E1607)","v":1900},"Nombre y el registro de entrada válida"]
[null,null,null,null,null,null,0,1,0,1900,0,1,1900,"Nombre y el registro de entrada válida"]
[null,null,null,null,null,null,0,1,0,1900,0,1,1900,"Nombre y el registro de entrada válida"]
[null,null,null,null,null,null,0,1,0,1900,0,1,1900,"Nombre y el registro de entrada válida"]
[null,null,null,null,null,null,0,1,0,1900,0,1,1900,"Nombre y el registro de entrada válida"]
[null,null,null,null,null,null,0,1,0,1900,0,1,1900,"Nombre y el registro de entrada válida"]
[null,null,null,null,null,null,0,1,0,1900,0,1,1900,"Nombre y el registro de entrada válida"]
[null,null,null,null,null,null,0,1,0,1900,0,1,1900,"Nombre y el registro de entrada válida"]
[null,null,null,null,null,null,0,1,0,1900,0,1,1900,"Nombre y el registro de entrada válida"]
[null,null,null,null,null,null,0,1,0,1900,0,1,1900,"Nombre y el registro de entrada válida"]
[null,null,null,null,null,null,0,1,0,1900,0,1,1900,"Nombre y el registro de entrada válida"]
[null,null,null,null,null,null,0,1,0,1900,0,1,1900,"Nombre y el registro de entrada válida"]
[null,null,null,null,null,null,0,1,0,1900,0,1,1900,"Nombre y el registro de entrada válida"]
[null,null,null,null,null,null,0,1,0,1900,0,1,1900,"Nombre y el registro de entrada válida"]
[null,null,null,null,null,null,0,1,0,1900,0,1,1900,"Nombre y el registro de entrada válida"]
[null,null,null,null,null,null,0,1,0,1900,0,1,1900,"Nombre y el registro de entrada válida"]
[null,null,null,null,null,null,0,1,0,1900,0,1,1900,"Nombre y el registro de entrada válida"]
[null,null,null,null,null,null,0,1,0,1900,0,1,1900,"Nombre y el registro de entrada válida"]
[null,null,null,null,null,null,0,1,0,1900,0,1,1900,"Nombre y el registro de entrada válida"]
[null,null,null,null,null,null,0,1,0,1900,0,1,1900,"Nombre y el registro de entrada válida"]
[null,null,null,null,null,null,0,1,0,1900,0,1,1900,"Nombre y el registro de entrada válida"]
[null,null,null,null,null,null,0,1,0,1900,0,1,1900,"Nombre y el registro de entrada válida"]
[null,null,null,null,null,null,0,1,0,1900,0,1,1900,"Nombre y el registro de entrada válida"]
[null,null,null,null,null,null,0,1,0,1900,0,1,1900,"Nombre y el registro de entrada válida"]
[null,null,null,null,null,null,0,1,0,1900,0,1,1900,"Nombre y el registro de entrada válida"]
[null,null,null,null,null,null,0,1,0,1900,0,1,1900,"Nombre y el registro de entrada válida"]
[null,null,null,null,null,null,0,1,0,1900,0,1,1900,"Nombre y el registro de entrada válida"]
[null,null,null,null,null,null,0,1,0,1900,0,1,1900,"Nombre y el registro de entrada válida"]
[null,null,null,null,null,null,0,1,0,1900,0,1,1900,"Nombre y el registro de entrada válida"]
[null,null,null,null,null,null,0,1,0,1900,0,1,1900,"Nombre y el registro de entrada válida"]
[null,null,null,null,null,null,0,1,0,1900,0,1,1900,"Nombre y el registro de entrada válida"]
[null,null,null,null,null,null,0,1,0,1900,0,1,1900,"Nombre y el registro de entrada válida"]
[null,null,null,null,null,null,0,1,0,1900,0,1,1900,"Nombre y el registro de entrada válida"]
[null,null,null,null,null,null,0,1,0,1900,0,1,1900,"Nombre y el registro de entrada válida"]
[null,null,null,null,null,null,0,1,0,1900,0,1,1900,"Nombre y el registro de entrada válida"]
[null,null,null,null,null,null,0,1,0,1900,0,1,1900,"Nombre y el registro de entrada válida"]
[null,null,null,null,null,null,0,1,0,1900,0,1,1900,"Nombre y el registro de entrada válida"]
[null,null,null,null,null,null,0,1,0,1900,0,1,1900,"Nombre y el registro de entrada válida"]
[null,null,null,null,null,null,0,1,0,1900,0,1,1900,"Nombre y el registro de entrada válida"]
[null,null,null,null,null,null,0,1,0,1900,0,1,1900,"Nombre y el registro de entrada válida"]
[null,null,null,null,null,null,0,1,0,1900,0,1,1900,"Nombre y el registro de entrada válida"]
[null,null,null,null,null,null,0,1,0,1900,0,1,1900,"Nombre y el registro de entrada válida"]
[null,null,null,null,null,null,0,1,0,1900,0,1,1900,"Nombre y el registro de entrada válida"]
[null,null,null,null,null,null,0,1,0,1900,0,1,1900,"Nombre y el registro de entrada válida"]
[null,null,null,null,null,null,0,1,0,1900,0,1,1900,"Nombre y el registro de entrada válida"]
[null,null,null,null,null,null,0,1,0,1900,0,1,1900,"Nombre y el registro de entrada válida"]
[null,null,null,null,null,null,0,1,0,1900,0,1,1900,"Nombre y el registro de entrada válida"]
[null,null,null,null,null,null,0,1,0,1900,0,1,1900,"Nombre y el registro de entrada válida"]
[null,null,null,null,null,null,0,1,0,1900,0,1,1900,"Nombre y el registro de entrada válida"]
[null,null,null,null,null,null,0,1,0,1900,0,1,1900,"Nombre y el registro de entrada válida"]
[null,null,null,null,null,null,0,1,0,1900,0,1,1900,"Nombre y el registro de entrada válida"]
[null,null,null,null,null,null,0,1,0,1900,0,1,1900,"Nombre y el registro de entrada válida"]
[null,null,null,null,null,null,0,1,0,1900,0,1,1900,"Nombre y el registro de entrada válida"]
[null,null,null,null,null,null,0,1,0,1900,0,1,1900,"Nombre y el registro de entrada válida"]
[null,null,null,null,null,null,0,1,0,1900,0,1,1900,"Nombre y el registro de entrada válida"]
[null,null,null,null,null,null,0,1,0,1900,0,1,1900,"Nombre y el registro de entrada válida"]
[null,null,null,null,null,null,0,1,0,1900,0,1,1900,"Nombre y el registro de entrada válida"]
[null,null,null,null,null,null,0,1,0,1900,0,1,1900,"Nombre y el registro de entrada válida"]
[null,null,null,null,null,null,0,1,0,1900,0,1,1900,"Nombre y el registro de entrada válida"]
[null,null,null,null,null,null,0,1,0,1900,0,1,1900,"Nombre y el registro de entrada válida"]
[null,null,null,null,null,null,0,1,0,1900,0,1,1900,"Nombre y el registro de entrada válida"]
[null,null,null,null,null,null,0,1,0,1900,0,1,1900,"Nombre y el registro de entrada válida"]
[null,null,null,null,null,null,0,1,0,1900,0,1,1900,"Nombre y el registro de entrada válida"]
[null,null,null,null,null,null,0,1,0,1900,0,1,1900,"Nombre y el registro de entrada válida"]
[null,null,null,null,null,null,{"$f":"F1671*E1671","v":0},{"$f":"MONTH(B1671)","v":1},{"$f":"DAY(B1671)","v":0},{"$f":"YEAR(D1671)","v":1900},{"$f":"DAY(E1671)","v":0},{"$f":"MONTH(E1671)","v":1},{"$f":"YEAR(E1671)","v":1900},"Nombre y el registro de entrada válida"]
[null,null,null,null,null,null,0,1,0,1900,0,1,1900,"Nombre y el registro de entrada válida"]
[null,null,null,null,null,null,0,1,0,1900,0,1,1900,"Nombre y el registro de entrada válida"]
[null,null,null,null,null,null,0,1,0,1900,0,1,1900,"Nombre y el registro de entrada válida"]
[null,null,null,null,null,null,0,1,0,1900,0,1,1900,"Nombre y el registro de entrada válida"]
[null,null,null,null,null,null,0,1,0,1900,0,1,1900,"Nombre y el registro de entrada válida"]
[null,null,null,null,null,null,0,1,0,1900,0,1,1900,"Nombre y el registro de entrada válida"]
[null,null,null,null,null,null,0,1,0,1900,0,1,1900,"Nombre y el registro de entrada válida"]
[null,null,null,null,null,null,0,1,0,1900,0,1,1900,"Nombre y el registro de entrada válida"]
[null,null,null,null,null,null,0,1,0,1900,0,1,1900,"Nombre y el registro de entrada válida"]
[null,null,null,null,null,null,0,1,0,1900,0,1,1900,"Nombre y el registro de entrada válida"]
[null,null,null,null,null,null,0,1,0,1900,0,1,1900,"Nombre y el registro de entrada válida"]
[null,null,null,null,null,null,0,1,0,1900,0,1,1900,"Nombre y el registro de entrada válida"]
[null,null,null,null,null,null,0,1,0,1900,0,1,1900,"Nombre y el registro de entrada válida"]
[null,null,null,null,null,null,0,1,0,1900,0,1,1900,"Nombre y el registro de entrada válida"]
[null,null,null,null,null,null,0,1,0,1900,0,1,1900,"Nombre y el registro de entrada válida"]
[null,null,null,null,null,null,0,1,0,1900,0,1,1900,"Nombre y el registro de entrada válida"]
[null,null,null,null,null,null,0,1,0,1900,0,1,1900,"Nombre y el registro de entrada válida"]
[null,null,null,null,null,null,0,1,0,1900,0,1,1900,"Nombre y el registro de entrada válida"]
[null,null,null,null,null,null,0,1,0,1900,0,1,1900,"Nombre y el registro de entrada válida"]
[null,null,null,null,null,null,0,1,0,1900,0,1,1900,"Nombre y el registro de entrada válida"]
[null,null,null,null,null,null,0,1,0,1900,0,1,1900,"Nombre y el registro de entrada válida"]
[null,null,null,null,null,null,0,1,0,1900,0,1,1900,"Nombre y el registro de entrada válida"]
[null,null,null,null,null,null,0,1,0,1900,0,1,1900,"Nombre y el registro de entrada válida"]
[null,null,null,null,null,null,0,1,0,1900,0,1,1900,"Nombre y el registro de entrada válida"]
[null,null,null,null,null,null,0,1,0,1900,0,1,1900,"Nombre y el registro de entrada válida"]
[null,null,null,null,null,null,0,1,0,1900,0,1,1900,"Nombre y el registro de entrada válida"]
[null,null,null,null,null,null,0,1,0,1900,0,1,1900,"Nombre y el registro de entrada válida"]
[null,null,null,null,null,null,0,1,0,1900,0,1,1900,"Nombre y el registro de entrada válida"]
[null,null,null,null,null,null,0,1,0,1900,0,1,1900,"Nombre y el registro de entrada válida"]
[null,null,null,null,null,null,0,1,0,1900,0,1,1900,"Nombre y el registro de entrada válida"]
[null,null,null,null,null,null,0,1,0,1900,0,1,1900,"Nombre y el registro de entrada válida"]
[null,null,null,null,null,null,0,1,0,1900,0,1,1900,"Nombre y el registro de entrada válida"]
[null,null,null,null,null,null,0,1,0,1900,0,1,1900,"Nombre y el registro de entrada válida"]
[null,null,null,null,null,null,0,1,0,1900,0,1,1900,"Nombre y el registro de entrada válida"]
[null,null,null,null,null,null,0,1,0,1900,0,1,1900,"Nombre y el registro de entrada válida"]
[null,null,null,null,null,null,0,1,0,1900,0,1,1900,"Nombre y el registro de entrada válida"]
[null,null,null,null,null,null,0,1,0,1900,0,1,1900,"Nombre y el registro de entrada válida"]
[null,null,null,null,null,null,0,1,0,1900,0,1,1900,"Nombre y el registro de entrada válida"]
[null,null,null,null,null,null,0,1,0,1900,0,1,1900,"Nombre y el registro de entrada válida"]
[null,null,null,null,null,null,0,1,0,1900,0,1,1900,"Nombre y el registro de entrada válida"]
[null,null,null,null,null,null,0,1,0,1900,0,1,1900,"Nombre y el registro de entrada válida"]
[null,null,null,null,null,null,0,1,0,1900,0,1,1900,"Nombre y el registro de entrada válida"]
[null,null,null,null,null,null,0,1,0,1900,0,1,1900,"Nombre y el registro de entrada válida"]
[null,null,null,null,null,null,0,1,0,1900,0,1,1900,"Nombre y el registro de entrada válida"]
[null,null,null,null,null,null,0,1,0,1900,0,1,1900,"Nombre y el registro de entrada válida"]
[null,null,null,null,null,null,0,1,0,1900,0,1,1900,"Nombre y el registro de entrada válida"]
[null,null,null,null,null,null,0,1,0,1900,0,1,1900,"Nombre y el registro de entrada válida"]
[null,null,null,null,null,null,0,1,0,1900,0,1,1900,"Nombre y el registro de entrada válida"]
[null,null,null,null,null,null,0,1,0,1900,0,1,1900,"Nombre y el registro de entrada válida"]
[null,null,null,null,null,null,0,1,0,1900,0,1,1900,"Nombre y el registro de entrada válida"]
[null,null,null,null,null,null,0,1,0,1900,0,1,1900,"Nombre y el registro de entrada válida"]
[null,null,null,null,null,null,0,1,0,1900,0,1,1900,"Nombre y el registro de entrada válida"]
[null,null,null,null,null,null,0,1,0,1900,0,1,1900,"Nombre y el registro de entrada válida"]
[null,null,null,null,null,null,0,1,0,1900,0,1,1900,"Nombre y el registro de entrada válida"]
[null,null,null,null,null,null,0,1,0,1900,0,1,1900,"Nombre y el registro de entrada válida"]
[null,null,null,null,null,null,0,1,0,1900,0,1,1900,"Nombre y el registro de entrada válida"]
[null,null,null,null,null,null,0,1,0,1900,0,1,1900,"Nombre y el registro de entrada válida"]
[null,null,null,null,null,null,0,1,0,1900,0,1,1900,"Nombre y el registro de entrada válida"]
[null,null,null,null,null,null,0,1,0,1900,0,1,1900,"Nombre y el registro de entrada válida"]
[null,null,null,null,null,null,0,1,0,1900,0,1,1900,"Nombre y el registro de entrada válida"]
[null,null,null,null,null,null,0,1,0,1900,0,1,1900,"Nombre y el registro de entrada válida"]
[null,null,null,null,null,null,0,1,0,1900,0,1,1900,"Nombre y el registro de entrada válida"]
[null,null,null,null,null,null,0,1,0,1900,0,1,1900,"Nombre y el registro de entrada válida"]
[null,null,null,null,null,null,{"$f":"F1735*E1735","v":0},{"$f":"MONTH(B1735)","v":1},{"$f":"DAY(B1735)","v":0},{"$f":"YEAR(D1735)","v":1900},{"$f":"DAY(E1735)","v":0},{"$f":"MONTH(E1735)","v":1},{"$f":"YEAR(E1735)","v":1900},"Nombre y el registro de entrada válida"]
[null,null,null,null,null,null,0,1,0,1900,0,1,1900,"Nombre y el registro de entrada válida"]
[null,null,null,null,null,null,0,1,0,1900,0,1,1900,"Nombre y el registro de entrada válida"]
[null,null,null,null,null,null,0,1,0,1900,0,1,1900,"Nombre y el registro de entrada válida"]
[null,null,null,null,null,null,0,1,0,1900,0,1,1900,"Nombre y el registro de entrada válida"]
[null,null,null,null,null,null,0,1,0,1900,0,1,1900,"Nombre y el registro de entrada válida"]
[null,null,null,null,null,null,0,1,0,1900,0,1,1900,"Nombre y el registro de entrada válida"]
[null,null,null,null,null,null,0,1,0,1900,0,1,1900,"Nombre y el registro de entrada válida"]
[null,null,null,null,null,null,0,1,0,1900,0,1,1900,"Nombre y el registro de entrada válida"]
[null,null,null,null,null,null,0,1,0,1900,0,1,1900,"Nombre y el registro de entrada válida"]
[null,null,null,null,null,null,0,1,0,1900,0,1,1900,"Nombre y el registro de entrada válida"]
[null,null,null,null,null,null,0,1,0,1900,0,1,1900,"Nombre y el registro de entrada válida"]
[null,null,null,null,null,null,0,1,0,1900,0,1,1900,"Nombre y el registro de entrada válida"]
[null,null,null,null,null,null,0,1,0,1900,0,1,1900,"Nombre y el registro de entrada válida"]
[null,null,null,null,null,null,0,1,0,1900,0,1,1900,"Nombre y el registro de entrada válida"]
[null,null,null,null,null,null,0,1,0,1900,0,1,1900,"Nombre y el registro de entrada válida"]
[null,null,null,null,null,null,0,1,0,1900,0,1,1900,"Nombre y el registro de entrada válida"]
[null,null,null,null,null,null,0,1,0,1900,0,1,1900,"Nombre y el registro de entrada válida"]
[null,null,null,null,null,null,0,1,0,1900,0,1,1900,"Nombre y el registro de entrada válida"]
[null,null,null,null,null,null,0,1,0,1900,0,1,1900,"Nombre y el registro de entrada válida"]
[null,null,null,null,null,null,0,1,0,1900,0,1,1900,"Nombre y el registro de entrada válida"]
[null,null,null,null,null,null,0,1,0,1900,0,1,1900,"Nombre y el registro de entrada válida"]
[null,null,null,null,null,null,0,1,0,1900,0,1,1900,"Nombre y el registro de entrada válida"]
[null,null,null,null,null,null,0,1,0,1900,0,1,1900,"Nombre y el registro de entrada válida"]
[null,null,null,null,null,null,0,1,0,1900,0,1,1900,"Nombre y el registro de entrada válida"]
[null,null,null,null,null,null,0,1,0,1900,0,1,1900,"Nombre y el registro de entrada válida"]
[null,null,null,null,null,null,0,1,0,1900,0,1,1900,"Nombre y el registro de entrada válida"]
[null,null,null,null,null,null,0,1,0,1900,0,1,1900,"Nombre y el registro de entrada válida"]
[null,null,null,null,null,null,0,1,0,1900,0,1,1900,"Nombre y el registro de entrada válida"]
[null,null,null,null,null,null,0,1,0,1900,0,1,1900,"Nombre y el registro de entrada válida"]
[null,null,null,null,null,null,0,1,0,1900,0,1,1900,"Nombre y el registro de entrada válida"]
[null,null,null,null,null,null,0,1,0,1900,0,1,1900,"Nombre y el registro de entrada válida"]
[null,null,null,null,null,null,0,1,0,1900,0,1,1900,"Nombre y el registro de entrada válida"]
[null,null,null,null,null,null,0,1,0,1900,0,1,1900,"Nombre y el registro de entrada válida"]
[null,null,null,null,null,null,0,1,0,1900,0,1,1900,"Nombre y el registro de entrada válida"]
[null,null,null,null,null,null,0,1,0,1900,0,1,1900,"Nombre y el registro de entrada válida"]
[null,null,null,null,null,null,0,1,0,1900,0,1,1900,"Nombre y el registro de entrada válida"]
[null,null,null,null,null,null,0,1,0,1900,0,1,1900,"Nombre y el registro de entrada válida"]
[null,null,null,null,null,null,0,1,0,1900,0,1,1900,"Nombre y el registro de entrada válida"]
[null,null,null,null,null,null,0,1,0,1900,0,1,1900,"Nombre y el registro de entrada válida"]
[null,null,null,null,null,null,0,1,0,1900,0,1,1900,"Nombre y el registro de entrada válida"]
[null,null,null,null,null,null,0,1,0,1900,0,1,1900,"Nombre y el registro de entrada válida"]
[null,null,null,null,null,null,0,1,0,1900,0,1,1900,"Nombre y el registro de entrada válida"]
[null,null,null,null,null,null,0,1,0,1900,0,1,1900,"Nombre y el registro de entrada válida"]
[null,null,null,null,null,null,0,1,0,1900,0,1,1900,"Nombre y el registro de entrada válida"]
[null,null,null,null,null,null,0,1,0,1900,0,1,1900,"Nombre y el registro de entrada válida"]
[null,null,null,null,null,null,0,1,0,1900,0,1,1900,"Nombre y el registro de entrada válida"]
[null,null,null,null,null,null,0,1,0,1900,0,1,1900,"Nombre y el registro de entrada válida"]
[null,null,null,null,null,null,0,1,0,1900,0,1,1900,"Nombre y el registro de entrada válida"]
[null,null,null,null,null,null,0,1,0,1900,0,1,1900,"Nombre y el registro de entrada válida"]
[null,null,null,null,null,null,0,1,0,1900,0,1,1900,"Nombre y el registro de entrada válida"]
[null,null,null,null,null,null,0,1,0,1900,0,1,1900,"Nombre y el registro de entrada válida"]
[null,null,null,null,null,null,0,1,0,1900,0,1,1900,"Nombre y el registro de entrada válida"]
[null,null,null,null,null,null,0,1,0,1900,0,1,1900,"Nombre y el registro de entrada válida"]
[null,null,null,null,null,null,0,1,0,1900,0,1,1900,"Nombre y el registro de entrada válida"]
[null,null,null,null,null,null,0,1,0,1900,0,1,1900,"Nombre y el registro de entrada válida"]
[null,null,null,null,null,null,0,1,0,1900,0,1,1900,"Nombre y el registro de entrada válida"]
[null,null,null,null,null,null,0,1,0,1900,0,1,1900,"Nombre y el registro de entrada válida"]
[null,null,null,null,null,null,0,1,0,1900,0,1,1900,"Nombre y el registro de entrada válida"]
[null,null,null,null,null,null,0,1,0,1900,0,1,1900,"Nombre y el registro de entrada válida"]
[null,null,null,null,null,null,0,1,0,1900,0,1,1900,"Nombre y el registro de entrada válida"]
[null,null,null,null,null,null,0,1,0,1900,0,1,1900,"Nombre y el registro de entrada válida"]
[null,null,null,null,null,null,0,1,0,1900,0,1,1900,"Nombre y el registro de entrada válida"]
[null,null,null,null,null,null,0,1,0,1900,0,1,1900,"Nombre y el registro de entrada válida"]
[null,null,null,null,null,null,{"$f":"F1799*E1799","v":0},{"$f":"MONTH(B1799)","v":1},{"$f":"DAY(B1799)","v":0},{"$f":"YEAR(D1799)","v":1900},{"$f":"DAY(E1799)","v":0},{"$f":"MONTH(E1799)","v":1},{"$f":"YEAR(E1799)","v":1900},"Nombre y el registro de entrada válida"]
[null,null,null,null,null,null,0,1,0,1900,0,1,1900,"Nombre y el registro de entrada válida"]
[null,null,null,null,null,null,0,1,0,1900,0,1,1900,"Nombre y el registro de entrada válida"]
[null,null,null,null,null,null,0,1,0,1900,0,1,1900,"Nombre y el registro de entrada válida"]
[null,null,null,null,null,null,0,1,0,1900,0,1,1900,"Nombre y el registro de entrada válida"]
[null,null,null,null,null,null,0,1,0,1900,0,1,1900,"Nombre y el registro de entrada válida"]
[null,null,null,null,null,null,0,1,0,1900,0,1,1900,"Nombre y el registro de entrada válida"]
[null,null,null,null,null,null,0,1,0,1900,0,1,1900,"Nombre y el registro de entrada válida"]
[null,null,null,null,null,null,0,1,0,1900,0,1,1900,"Nombre y el registro de entrada válida"]
[null,null,null,null,null,null,0,1,0,1900,0,1,1900,"Nombre y el registro de entrada válida"]
[null,null,null,null,null,null,0,1,0,1900,0,1,1900,"Nombre y el registro de entrada válida"]
[null,null,null,null,null,null,0,1,0,1900,0,1,1900,"Nombre y el registro de entrada válida"]
[null,null,null,null,null,null,0,1,0,1900,0,1,1900,"Nombre y el registro de entrada válida"]
[null,null,null,null,null,null,0,1,0,1900,0,1,1900,"Nombre y el registro de entrada válida"]
[null,null,null,null,null,null,0,1,0,1900,0,1,1900,"Nombre y el registro de entrada válida"]
[null,null,null,null,null,null,0,1,0,1900,0,1,1900,"Nombre y el registro de entrada válida"]
[null,null,null,null,null,null,0,1,0,1900,0,1,1900,"Nombre y el registro de entrada válida"]
[null,null,null,null,null,null,0,1,0,1900,0,1,1900,"Nombre y el registro de entrada válida"]
[null,null,null,null,null,null,0,1,0,1900,0,1,1900,"Nombre y el registro de entrada válida"]
[null,null,null,null,null,null,0,1,0,1900,0,1,1900,"Nombre y el registro de entrada válida"]
[null,null,null,null,null,null,0,1,0,1900,0,1,1900,"Nombre y el registro de entrada válida"]
[null,null,null,null,null,null,0,1,0,1900,0,1,1900,"Nombre y el registro de entrada válida"]
[null,null,null,null,null,null,0,1,0,1900,0,1,1900,"Nombre y el registro de entrada válida"]
[null,null,null,null,null,null,0,1,0,1900,0,1,1900,"Nombre y el registro de entrada válida"]
[null,null,null,null,null,null,0,1,0,1900,0,1,1900,"Nombre y el registro de entrada válida"]
[null,null,null,null,null,null,0,1,0,1900,0,1,1900,"Nombre y el registro de entrada válida"]
[null,null,null,null,null,null,0,1,0,1900,0,1,1900,"Nombre y el registro de entrada válida"]
[null,null,null,null,null,null,0,1,0,1900,0,1,1900,"Nombre y el registro de entrada válida"]
[null,null,null,null,null,null,0,1,0,1900,0,1,1900,"Nombre y el registro de entrada válida"]
[null,null,null,null,null,null,0,1,0,1900,0,1,1900,"Nombre y el registro de entrada válida"]
[null,null,null,null,null,null,0,1,0,1900,0,1,1900,"Nombre y el registro de entrada válida"]
[null,null,null,null,null,null,0,1,0,1900,0,1,1900,"Nombre y el registro de entrada válida"]
[null,null,null,null,null,null,0,1,0,1900,0,1,1900,"Nombre y el registro de entrada válida"]
[null,null,null,null,null,null,0,1,0,1900,0,1,1900,"Nombre y el registro de entrada válida"]
[null,null,null,null,null,null,0,1,0,1900,0,1,1900,"Nombre y el registro de entrada válida"]
[null,null,null,null,null,null,0,1,0,1900,0,1,1900,"Nombre y el registro de entrada válida"]
[null,null,null,null,null,null,0,1,0,1900,0,1,1900,"Nombre y el registro de entrada válida"]
[null,null,null,null,null,null,0,1,0,1900,0,1,1900,"Nombre y el registro de entrada válida"]
[null,null,null,null,null,null,0,1,0,1900,0,1,1900,"Nombre y el registro de entrada válida"]
[null,null,null,null,null,null,0,1,0,1900,0,1,1900,"Nombre y el registro de entrada válida"]
[null,null,null,null,null,null,0,1,0,1900,0,1,1900,"Nombre y el registro de entrada válida"]
[null,null,null,null,null,null,0,1,0,1900,0,1,1900,"Nombre y el registro de entrada válida"]
[null,null,null,null,null,null,0,1,0,1900,0,1,1900,"Nombre y el registro de entrada válida"]
[null,null,null,null,null,null,0,1,0,1900,0,1,1900,"Nombre y el registro de entrada válida"]
[null,null,null,null,null,null,0,1,0,1900,0,1,1900,"Nombre y el registro de entrada válida"]
[null,null,null,null,null,null,0,1,0,1900,0,1,1900,"Nombre y el registro de entrada válida"]
[null,null,null,null,null,null,0,1,0,1900,0,1,1900,"Nombre y el registro de entrada válida"]
[null,null,null,null,null,null,0,1,0,1900,0,1,1900,"Nombre y el registro de entrada válida"]
[null,null,null,null,null,null,0,1,0,1900,0,1,1900,"Nombre y el registro de entrada válida"]
[null,null,null,null,null,null,0,1,0,1900,0,1,1900,"Nombre y el registro de entrada válida"]
[null,null,null,null,null,null,0,1,0,1900,0,1,1900,"Nombre y el registro de entrada válida"]
[null,null,null,null,null,null,0,1,0,1900,0,1,1900,"Nombre y el registro de entrada válida"]
[null,null,null,null,null,null,0,1,0,1900,0,1,1900,"Nombre y el registro de entrada válida"]
[null,null,null,null,null,null,0,1,0,1900,0,1,1900,"Nombre y el registro de entrada válida"]
[null,null,null,null,null,null,0,1,0,1900,0,1,1900,"Nombre y el registro de entrada válida"]
[null,null,null,null,null,null,0,1,0,1900,0,1,1900,"Nombre y el registro de entrada válida"]
[null,null,null,null,null,null,0,1,0,1900,0,1,1900,"Nombre y el registro de entrada válida"]
[null,null,null,null,null,null,0,1,0,1900,0,1,1900,"Nombre y el registro de entrada válida"]
[null,null,null,null,null,null,0,1,0,1900,0,1,1900,"Nombre y el registro de entrada válida"]
[null,null,null,null,null,null,0,1,0,1900,0,1,1900,"Nombre y el registro de entrada válida"]
[null,null,null,null,null,null,0,1,0,1900,0,1,1900,"Nombre y el registro de entrada válida"]
[null,null,null,null,null,null,0,1,0,1900,0,1,1900,"Nombre y el registro de entrada válida"]
[null,null,null,null,null,null,0,1,0,1900,0,1,1900,"Nombre y el registro de entrada válida"]
[null,null,null,null,null,null,0,1,0,1900,0,1,1900,"Nombre y el registro de entrada válida"]
[null,null,null,null,null,null,{"$f":"F1863*E1863","v":0},{"$f":"MONTH(B1863)","v":1},{"$f":"DAY(B1863)","v":0},{"$f":"YEAR(D1863)","v":1900},{"$f":"DAY(E1863)","v":0},{"$f":"MONTH(E1863)","v":1},{"$f":"YEAR(E1863)","v":1900},"Nombre y el registro de entrada válida"]
[null,null,null,null,null,null,0,1,0,1900,0,1,1900,"Nombre y el registro de entrada válida"]
[null,null,null,null,null,null,0,1,0,1900,0,1,1900,"Nombre y el registro de entrada válida"]
[null,null,null,null,null,null,0,1,0,1900,0,1,1900,"Nombre y el registro de entrada válida"]
[null,null,null,null,null,null,0,1,0,1900,0,1,1900,"Nombre y el registro de entrada válida"]
[null,null,null,null,null,null,0,1,0,1900,0,1,1900,"Nombre y el registro de entrada válida"]
[null,null,null,null,null,null,0,1,0,1900,0,1,1900,"Nombre y el registro de entrada válida"]
[null,null,null,null,null,null,0,1,0,1900,0,1,1900,"Nombre y el registro de entrada válida"]
[null,null,null,null,null,null,0,1,0,1900,0,1,1900,"Nombre y el registro de entrada válida"]
[null,null,null,null,null,null,0,1,0,1900,0,1,1900,"Nombre y el registro de entrada válida"]
[null,null,null,null,null,null,0,1,0,1900,0,1,1900,"Nombre y el registro de entrada válida"]
[null,null,null,null,null,null,0,1,0,1900,0,1,1900,"Nombre y el registro de entrada válida"]
[null,null,null,null,null,null,0,1,0,1900,0,1,1900,"Nombre y el registro de entrada válida"]
[null,null,null,null,null,null,0,1,0,1900,0,1,1900,"Nombre y el registro de entrada válida"]
[null,null,null,null,null,null,0,1,0,1900,0,1,1900,"Nombre y el registro de entrada válida"]
[null,null,null,null,null,null,0,1,0,1900,0,1,1900,"Nombre y el registro de entrada válida"]
[null,null,null,null,null,null,0,1,0,1900,0,1,1900,"Nombre y el registro de entrada válida"]
[null,null,null,null,null,null,0,1,0,1900,0,1,1900,"Nombre y el registro de entrada válida"]
[null,null,null,null,null,null,0,1,0,1900,0,1,1900,"Nombre y el registro de entrada válida"]
[null,null,null,null,null,null,0,1,0,1900,0,1,1900,"Nombre y el registro de entrada válida"]
[null,null,null,null,null,null,0,1,0,1900,0,1,1900,"Nombre y el registro de entrada válida"]
[null,null,null,null,null,null,0,1,0,1900,0,1,1900,"Nombre y el registro de entrada válida"]
[null,null,null,null,null,null,0,1,0,1900,0,1,1900,"Nombre y el registro de entrada válida"]
[null,null,null,null,null,null,0,1,0,1900,0,1,1900,"Nombre y el registro de entrada válida"]
[null,null,null,null,null,null,0,1,0,1900,0,1,1900,"Nombre y el registro de entrada válida"]
[null,null,null,null,null,null,0,1,0,1900,0,1,1900,"Nombre y el registro de entrada válida"]
[null,null,null,null,null,null,0,1,0,1900,0,1,1900,"Nombre y el registro de entrada válida"]
[null,null,null,null,null,null,0,1,0,1900,0,1,1900,"Nombre y el registro de entrada válida"]
[null,null,null,null,null,null,0,1,0,1900,0,1,1900,"Nombre y el registro de entrada válida"]
[null,null,null,null,null,null,0,1,0,1900,0,1,1900,"Nombre y el registro de entrada válida"]
[null,null,null,null,null,null,0,1,0,1900,0,1,1900,"Nombre y el registro de entrada válida"]
[null,null,null,null,null,null,0,1,0,1900,0,1,1900,"Nombre y el registro de entrada válida"]
[null,null,null,null,null,null,0,1,0,1900,0,1,1900,"Nombre y el registro de entrada válida"]
[null,null,null,null,null,null,0,1,0,1900,0,1,1900,"Nombre y el registro de entrada válida"]
[null,null,null,null,null,null,0,1,0,1900,0,1,1900,"Nombre y el registro de entrada válida"]
[null,null,null,null,null,null,0,1,0,1900,0,1,1900,"Nombre y el registro de entrada válida"]
[null,null,null,null,null,null,0,1,0,1900,0,1,1900,"Nombre y el registro de entrada válida"]
[null,null,null,null,null,null,0,1,0,1900,0,1,1900,"Nombre y el registro de entrada válida"]
[null,null,null,null,null,null,0,1,0,1900,0,1,1900,"Nombre y el registro de entrada válida"]
[null,null,null,null,null,null,0,1,0,1900,0,1,1900,"Nombre y el registro de entrada válida"]
[null,null,null,null,null,null,0,1,0,1900,0,1,1900,"Nombre y el registro de entrada válida"]
[null,null,null,null,null,null,0,1,0,1900,0,1,1900,"Nombre y el registro de entrada válida"]
[null,null,null,null,null,null,0,1,0,1900,0,1,1900,"Nombre y el registro de entrada válida"]
[null,null,null,null,null,null,0,1,0,1900,0,1,1900,"Nombre y el registro de entrada válida"]
[null,null,null,null,null,null,0,1,0,1900,0,1,1900,"Nombre y el registro de entrada válida"]
[null,null,null,null,null,null,0,1,0,1900,0,1,1900,"Nombre y el registro de entrada válida"]
[null,null,null,null,null,null,0,1,0,1900,0,1,1900,"Nombre y el registro de entrada válida"]
[null,null,null,null,null,null,0,1,0,1900,0,1,1900,"Nombre y el registro de entrada válida"]
[null,null,null,null,null,null,0,1,0,1900,0,1,1900,"Nombre y el registro de entrada válida"]
[null,null,null,null,null,null,0,1,0,1900,0,1,1900,"Nombre y el registro de entrada válida"]
[null,null,null,null,null,null,0,1,0,1900,0,1,1900,"Nombre y el registro de entrada válida"]
[null,null,null,null,null,null,0,1,0,1900,0,1,1900,"Nombre y el registro de entrada válida"]
[null,null,null,null,null,null,0,1,0,1900,0,1,1900,"Nombre y el registro de entrada válida"]
[null,null,null,null,null,null,0,1,0,1900,0,1,1900,"Nombre y el registro de entrada válida"]
[null,null,null,null,null,null,0,1,0,1900,0,1,1900,"Nombre y el registro de entrada válida"]
[null,null,null,null,null,null,0,1,0,1900,0,1,1900,"Nombre y el registro de entrada válida"]
[null,null,null,null,null,null,0,1,0,1900,0,1,1900,"Nombre y el registro de entrada válida"]
[null,null,null,null,null,null,0,1,0,1900,0,1,1900,"Nombre y el registro de entrada válida"]
[null,null,null,null,null,null,0,1,0,1900,0,1,1900,"Nombre y el registro de entrada válida"]
[null,null,null,null,null,null,0,1,0,1900,0,1,1900,"Nombre y el registro de entrada válida"]
[null,null,null,null,null,null,0,1,0,1900,0,1,1900,"Nombre y el registro de entrada válida"]
[null,null,null,null,null,null,0,1,0,1900,0,1,1900,"Nombre y el registro de entrada válida"]
[null,null,null,null,null,null,0,1,0,1900,0,1,1900,"Nombre y el registro de entrada válida"]
[null,null,null,null,null,null,0,1,0,1900,0,1,1900,"Nombre y el registro de entrada válida"]
[null,null,null,null,null,null,{"$f":"F1927*E1927","v":0},{"$f":"MONTH(B1927)","v":1},{"$f":"DAY(B1927)","v":0},{"$f":"YEAR(D1927)","v":1900},{"$f":"DAY(E1927)","v":0},{"$f":"MONTH(E1927)","v":1},{"$f":"YEAR(E1927)","v":1900},"Nombre y el registro de entrada válida"]
[null,null,null,null,null,null,0,1,0,1900,0,1,1900,"Nombre y el registro de entrada válida"]
[null,null,null,null,null,null,0,1,0,1900,0,1,1900,"Nombre y el registro de entrada válida"]
[null,null,null,null,null,null,0,1,0,1900,0,1,1900,"Nombre y el registro de entrada válida"]
[null,null,null,null,null,null,0,1,0,1900,0,1,1900,"Nombre y el registro de entrada válida"]
[null,null,null,null,null,null,0,1,0,1900,0,1,1900,"Nombre y el registro de entrada válida"]
[null,null,null,null,null,null,0,1,0,1900,0,1,1900,"Nombre y el registro de entrada válida"]
[null,null,null,null,null,null,0,1,0,1900,0,1,1900,"Nombre y el registro de entrada válida"]
[null,null,null,null,null,null,0,1,0,1900,0,1,1900,"Nombre y el registro de entrada válida"]
[null,null,null,null,null,null,0,1,0,1900,0,1,1900,"Nombre y el registro de entrada válida"]
[null,null,null,null,null,null,0,1,0,1900,0,1,1900,"Nombre y el registro de entrada válida"]
[null,null,null,null,null,null,0,1,0,1900,0,1,1900,"Nombre y el registro de entrada válida"]
[null,null,null,null,null,null,0,1,0,1900,0,1,1900,"Nombre y el registro de entrada válida"]
[null,null,null,null,null,null,0,1,0,1900,0,1,1900,"Nombre y el registro de entrada válida"]
[null,null,null,null,null,null,0,1,0,1900,0,1,1900,"Nombre y el registro de entrada válida"]
[null,null,null,null,null,null,0,1,0,1900,0,1,1900,"Nombre y el registro de entrada válida"]
[null,null,null,null,null,null,0,1,0,1900,0,1,1900,"Nombre y el registro de entrada válida"]
[null,null,null,null,null,null,0,1,0,1900,0,1,1900,"Nombre y el registro de entrada válida"]
[null,null,null,null,null,null,0,1,0,1900,0,1,1900,"Nombre y el registro de entrada válida"]
[null,null,null,null,null,null,0,1,0,1900,0,1,1900,"Nombre y el registro de entrada válida"]
[null,null,null,null,null,null,0,1,0,1900,0,1,1900,"Nombre y el registro de entrada válida"]
[null,null,null,null,null,null,0,1,0,1900,0,1,1900,"Nombre y el registro de entrada válida"]
[null,null,null,null,null,null,0,1,0,1900,0,1,1900,"Nombre y el registro de entrada válida"]
[null,null,null,null,null,null,0,1,0,1900,0,1,1900,"Nombre y el registro de entrada válida"]
[null,null,null,null,null,null,0,1,0,1900,0,1,1900,"Nombre y el registro de entrada válida"]
[null,null,null,null,null,null,0,1,0,1900,0,1,1900,"Nombre y el registro de entrada válida"]
[null,null,null,null,null,null,0,1,0,1900,0,1,1900,"Nombre y el registro de entrada válida"]
[null,null,null,null,null,null,0,1,0,1900,0,1,1900,"Nombre y el registro de entrada válida"]
[null,null,null,null,null,null,0,1,0,1900,0,1,1900,"Nombre y el registro de entrada válida"]
[null,null,null,null,null,null,0,1,0,1900,0,1,1900,"Nombre y el registro de entrada válida"]
[null,null,null,null,null,null,0,1,0,1900,0,1,1900,"Nombre y el registro de entrada válida"]
[null,null,null,null,null,null,0,1,0,1900,0,1,1900,"Nombre y el registro de entrada válida"]
[null,null,null,null,null,null,0,1,0,1900,0,1,1900,"Nombre y el registro de entrada válida"]
[null,null,null,null,null,null,0,1,0,1900,0,1,1900,"Nombre y el registro de entrada válida"]
[null,null,null,null,null,null,0,1,0,1900,0,1,1900,"Nombre y el registro de entrada válida"]
[null,null,null,null,null,null,0,1,0,1900,0,1,1900,"Nombre y el registro de entrada válida"]
[null,null,null,null,null,null,0,1,0,1900,0,1,1900,"Nombre y el registro de entrada válida"]
[null,null,null,null,null,null,0,1,0,1900,0,1,1900,"Nombre y el registro de entrada válida"]
[null,null,null,null,null,null,0,1,0,1900,0,1,1900,"Nombre y el registro de entrada válida"]
[null,null,null,null,null,null,0,1,0,1900,0,1,1900,"Nombre y el registro de entrada válida"]
[null,null,null,null,null,null,0,1,0,1900,0,1,1900,"Nombre y el registro de entrada válida"]
[null,null,null,null,null,null,0,1,0,1900,0,1,1900,"Nombre y el registro de entrada válida"]
[null,null,null,null,null,null,0,1,0,1900,0,1,1900,"Nombre y el registro de entrada válida"]
[null,null,null,null,null,null,0,1,0,1900,0,1,1900,"Nombre y el registro de entrada válida"]
[null,null,null,null,null,null,0,1,0,1900,0,1,1900,"Nombre y el registro de entrada válida"]
[null,null,null,null,null,null,0,1,0,1900,0,1,1900,"Nombre y el registro de entrada válida"]
[null,null,null,null,null,null,0,1,0,1900,0,1,1900,"Nombre y el registro de entrada válida"]
[null,null,null,null,null,null,0,1,0,1900,0,1,1900,"Nombre y el registro de entrada válida"]
[null,null,null,null,null,null,0,1,0,1900,0,1,1900,"Nombre y el registro de entrada válida"]
[null,null,null,null,null,null,0,1,0,1900,0,1,1900,"Nombre y el registro de entrada válida"]
[null,null,null,null,null,null,0,1,0,1900,0,1,1900,"Nombre y el registro de entrada válida"]
[null,null,null,null,null,null,0,1,0,1900,0,1,1900,"Nombre y el registro de entrada válida"]
[null,null,null,null,null,null,0,1,0,1900,0,1,1900,"Nombre y el registro de entrada válida"]
[null,null,null,null,null,null,0,1,0,1900,0,1,1900,"Nombre y el registro de entrada válida"]
[null,null,null,null,null,null,0,1,0,1900,0,1,1900,"Nombre y el registro de entrada válida"]
[null,null,null,null,null,null,0,1,0,1900,0,1,1900,"Nombre y el registro de entrada válida"]
[null,null,null,null,null,null,0,1,0,1900,0,1,1900,"Nombre y el registro de entrada válida"]
[null,null,null,null,null,null,0,1,0,1900,0,1,1900,"Nombre y el registro de entrada válida"]
[null,null,null,null,null,null,0,1,0,1900,0,1,1900,"Nombre y el registro de entrada válida"]
[null,null,null,null,null,null,0,1,0,1900,0,1,1900,"Nombre y el registro de entrada válida"]
[null,null,null,null,null,null,0,1,0,1900,0,1,1900,"Nombre y el registro de entrada válida"]
[null,null,null,null,null,null,0,1,0,1900,0,1,1900,"Nombre y el registro de entrada válida"]
[null,null,null,null,null,null,0,1,0,1900,0,1,1900,"Nombre y el registro de entrada válida"]
[null,null,null,null,null,null,0,1,0,1900,0,1,1900,"Nombre y el registro de entrada válida"]
[null,null,null,null,null,null,{"$f":"F1991*E1991","v":0},{"$f":"MONTH(B1991)","v":1},{"$f":"DAY(B1991)","v":0},{"$f":"YEAR(D1991)","v":1900},{"$f":"DAY(E1991)","v":0},{"$f":"MONTH(E1991)","v":1},{"$f":"YEAR(E1991)","v":1900},"Nombre y el registro de entrada válida"]
[null,null,null,null,null,null,0,1,0,1900,0,1,1900,"Nombre y el registro de entrada válida"]
[null,null,null,null,null,null,0,1,0,1900,0,1,1900,"Nombre y el registro de entrada válida"]
[null,null,null,null,null,null,0,1,0,1900,0,1,1900,"Nombre y el registro de entrada válida"]
[null,null,null,null,null,null,0,1,0,1900,0,1,1900,"Nombre y el registro de entrada válida"]
[null,null,null,null,null,null,0,1,0,1900,0,1,1900,"Nombre y el registro de entrada válida"]
[null,null,null,null,null,null,0,1,0,1900,0,1,1900,"Nombre y el registro de entrada válida"]
[null,null,null,null,null,null,0,1,0,1900,0,1,1900,"Nombre y el registro de entrada válida"]
[null,null,null,null,null,null,0,1,0,1900,0,1,1900,"Nombre y el registro de entrada válida"]
[null,null,null,null,null,null,0,1,0,1900,0,1,1900,"Nombre y el registro de entrada válida"]
[null,null,null,null,null,null,0,1,0,1900,0,1,1900,"Nombre y el registro de entrada válida"]
[null,null,null,null,null,null,0,1,0,1900,0,1,1900,"Nombre y el registro de entrada válida"]
[null,null,null,null,null,null,0,1,0,1900,0,1,1900,"Nombre y el registro de entrada válida"]
[null,null,null,null,null,null,0,1,0,1900,0,1,1900,"Nombre y el registro de entrada válida"]
[null,null,null,null,null,null,0,1,0,1900,0,1,1900,"Nombre y el registro de entrada válida"]
[null,null,null,null,null,null,0,1,0,1900,0,1,1900,"Nombre y el registro de entrada válida"]
[null,null,null,null,null,null,0,1,0,1900,0,1,1900,"Nombre y el registro de entrada válida"]
[null,null,null,null,null,null,0,1,0,1900,0,1,1900,"Nombre y el registro de entrada válida"]
[null,null,null,null,null,null,0,1,0,1900,0,1,1900,"Nombre y el registro de entrada válida"]
[null,null,null,null,null,null,0,1,0,1900,0,1,1900,"Nombre y el registro de entrada válida"]
[null,null,null,null,null,null,0,1,0,1900,0,1,1900,"Nombre y el registro de entrada válida"]
[null,null,null,null,null,null,0,1,0,1900,0,1,1900,"Nombre y el registro de entrada válida"]
[null,null,null,null,null,null,0,1,0,1900,0,1,1900,"Nombre y el registro de entrada válida"]
[null,null,null,null,null,null,0,1,0,1900,0,1,1900,"Nombre y el registro de entrada válida"]
[null,null,null,null,null,null,0,1,0,1900,0,1,1900,"Nombre y el registro de entrada válida"]
[null,null,null,null,null,null,0,1,0,1900,0,1,1900,"Nombre y el registro de entrada válida"]
[null,null,null,null,null,null,0,1,0,1900,0,1,1900,"Nombre y el registro de entrada válida"]
[null,null,null,null,null,null,0,1,0,1900,0,1,1900,"Nombre y el registro de entrada válida"]
[null,null,null,null,null,null,0,1,0,1900,0,1,1900,"Nombre y el registro de entrada válida"]
[null,null,null,null,null,null,0,1,0,1900,0,1,1900,"Nombre y el registro de entrada válida"]
[null,null,null,null,null,null,0,1,0,1900,0,1,1900,"Nombre y el registro de entrada válida"]
[null,null,null,null,null,null,0,1,0,1900,0,1,1900,"Nombre y el registro de entrada válida"]
[null,null,null,null,null,null,0,1,0,1900,0,1,1900,"Nombre y el registro de entrada válida"]
[null,null,null,null,null,null,0,1,0,1900,0,1,1900,"Nombre y el registro de entrada válida"]
[null,null,null,null,null,null,0,1,0,1900,0,1,1900,"Nombre y el registro de entrada válida"]
[null,null,null,null,null,null,0,1,0,1900,0,1,1900,"Nombre y el registro de entrada válida"]
[null,null,null,null,null,null,0,1,0,1900,0,1,1900,"Nombre y el registro de entrada válida"]
[null,null,null,null,null,null,0,1,0,1900,0,1,1900,"Nombre y el registro de entrada válida"]
[null,null,null,null,null,null,0,1,0,1900,0,1,1900,"Nombre y el registro de entrada válida"]
[null,null,null,null,null,null,0,1,0,1900,0,1,1900,"Nombre y el registro de entrada válida"]
[null,null,null,null,null,null,0,1,0,1900,0,1,1900,"Nombre y el registro de entrada válida"]
[null,null,null,null,null,null,0,1,0,1900,0,1,1900,"Nombre y el registro de entrada válida"]
[null,null,null,null,null,null,0,1,0,1900,0,1,1900,"Nombre y el registro de entrada válida"]
[null,null,null,null,null,null,0,1,0,1900,0,1,1900,"Nombre y el registro de entrada válida"]
[null,null,null,null,null,null,0,1,0,1900,0,1,1900,"Nombre y el registro de entrada válida"]
[null,null,null,null,null,null,0,1,0,1900,0,1,1900,"Nombre y el registro de entrada válida"]
[null,null,null,null,null,null,0,1,0,1900,0,1,1900,"Nombre y el registro de entrada válida"]
[null,null,null,null,null,null,0,1,0,1900,0,1,1900,"Nombre y el registro de entrada válida"]
[null,null,null,null,null,null,0,1,0,1900,0,1,1900,"Nombre y el registro de entrada válida"]
[null,null,null,null,null,null,0,1,0,1900,0,1,1900,"Nombre y el registro de entrada válida"]
[null,null,null,null,null,null,0,1,0,1900,0,1,1900,"Nombre y el registro de entrada válida"]
[null,null,null,null,null,null,0,1,0,1900,0,1,1900,"Nombre y el registro de entrada válida"]
[null,null,null,null,null,null,0,1,0,1900,0,1,1900,"Nombre y el registro de entrada válida"]
[null,null,null,null,null,null,0,1,0,1900,0,1,1900,"Nombre y el registro de entrada válida"]
[null,null,null,null,null,null,0,1,0,1900,0,1,1900,"Nombre y el registro de entrada válida"]
[null,null,null,null,null,null,0,1,0,1900,0,1,1900,"Nombre y el registro de entrada válida"]
[null,null,null,null,null,null,0,1,0,1900,0,1,1900,"Nombre y el registro de entrada válida"]
[null,null,null,null,null,null,0,1,0,1900,0,1,1900,"Nombre y el registro de entrada válida"]
[null,null,null,null,null,null,0,1,0,1900,0,1,1900,"Nombre y el registro de entrada válida"]
[null,null,null,null,null,null,0,1,0,1900,0,1,1900,"Nombre y el registro de entrada válida"]
[null,null,null,null,null,null,0,1,0,1900,0,1,1900,"Nombre y el registro de entrada válida"]
[null,null,null,null,null,null,0,1,0,1900,0,1,1900,"Nombre y el registro de entrada válida"]
[null,null,null,null,null,null,0,1,0,1900,0,1,1900,"Nombre y el registro de entrada válida"]
[null,null,null,null,null,null,0,1,0,1900,0,1,1900,"Nombre y el registro de entrada válida"]
[null,null,null,null,null,null,{"$f":"F2055*E2055","v":0},{"$f":"MONTH(B2055)","v":1},{"$f":"DAY(B2055)","v":0},{"$f":"YEAR(D2055)","v":1900},{"$f":"DAY(E2055)","v":0},{"$f":"MONTH(E2055)","v":1},{"$f":"YEAR(E2055)","v":1900},"Nombre y el registro de entrada válida"]
[null,null,null,null,null,null,0,1,0,1900,0,1,1900,"Nombre y el registro de entrada válida"]
[null,null,null,null,null,null,0,1,0,1900,0,1,1900,"Nombre y el registro de entrada válida"]
[null,null,null,null,null,null,0,1,0,1900,0,1,1900,"Nombre y el registro de entrada válida"]
[null,null,null,null,null,null,0,1,0,1900,0,1,1900,"Nombre y el registro de entrada válida"]
[null,null,null,null,null,null,0,1,0,1900,0,1,1900,"Nombre y el registro de entrada válida"]
[null,null,null,null,null,null,0,1,0,1900,0,1,1900,"Nombre y el registro de entrada válida"]
[null,null,null,null,null,null,0,1,0,1900,0,1,1900,"Nombre y el registro de entrada válida"]
[null,null,null,null,null,null,0,1,0,1900,0,1,1900,"Nombre y el registro de entrada válida"]
[null,null,null,null,null,null,0,1,0,1900,0,1,1900,"Nombre y el registro de entrada válida"]
[null,null,null,null,null,null,0,1,0,1900,0,1,1900,"Nombre y el registro de entrada válida"]
[null,null,null,null,null,null,0,1,0,1900,0,1,1900,"Nombre y el registro de entrada válida"]
[null,null,null,null,null,null,0,1,0,1900,0,1,1900,"Nombre y el registro de entrada válida"]
[null,null,null,null,null,null,0,1,0,1900,0,1,1900,"Nombre y el registro de entrada válida"]
[null,null,null,null,null,null,0,1,0,1900,0,1,1900,"Nombre y el registro de entrada válida"]
[null,null,null,null,null,null,0,1,0,1900,0,1,1900,"Nombre y el registro de entrada válida"]
[null,null,null,null,null,null,0,1,0,1900,0,1,1900,"Nombre y el registro de entrada válida"]
[null,null,null,null,null,null,0,1,0,1900,0,1,1900,"Nombre y el registro de entrada válida"]
[null,null,null,null,null,null,0,1,0,1900,0,1,1900,"Nombre y el registro de entrada válida"]
[null,null,null,null,null,null,0,1,0,1900,0,1,1900,"Nombre y el registro de entrada válida"]
[null,null,null,null,null,null,0,1,0,1900,0,1,1900,"Nombre y el registro de entrada válida"]
[null,null,null,null,null,null,0,1,0,1900,0,1,1900,"Nombre y el registro de entrada válida"]
[null,null,null,null,null,null,0,1,0,1900,0,1,1900,"Nombre y el registro de entrada válida"]
[null,null,null,null,null,null,0,1,0,1900,0,1,1900,"Nombre y el registro de entrada válida"]
[null,null,null,null,null,null,0,1,0,1900,0,1,1900,"Nombre y el registro de entrada válida"]
[null,null,null,null,null,null,0,1,0,1900,0,1,1900,"Nombre y el registro de entrada válida"]
[null,null,null,null,null,null,0,1,0,1900,0,1,1900,"Nombre y el registro de entrada válida"]
[null,null,null,null,null,null,0,1,0,1900,0,1,1900,"Nombre y el registro de entrada válida"]
[null,null,null,null,null,null,0,1,0,1900,0,1,1900,"Nombre y el registro de entrada válida"]
[null,null,null,null,null,null,0,1,0,1900,0,1,1900,"Nombre y el registro de entrada válida"]
[null,null,null,null,null,null,0,1,0,1900,0,1,1900,"Nombre y el registro de entrada válida"]
[null,null,null,null,null,null,0,1,0,1900,0,1,1900,"Nombre y el registro de entrada válida"]
[null,null,null,null,null,null,0,1,0,1900,0,1,1900,"Nombre y el registro de entrada válida"]
[null,null,null,null,null,null,0,1,0,1900,0,1,1900,"Nombre y el registro de entrada válida"]
[null,null,null,null,null,null,0,1,0,1900,0,1,1900,"Nombre y el registro de entrada válida"]
[null,null,null,null,null,null,0,1,0,1900,0,1,1900,"Nombre y el registro de entrada válida"]
[null,null,null,null,null,null,0,1,0,1900,0,1,1900,"Nombre y el registro de entrada válida"]
[null,null,null,null,null,null,0,1,0,1900,0,1,1900,"Nombre y el registro de entrada válida"]
[null,null,null,null,null,null,0,1,0,1900,0,1,1900,"Nombre y el registro de entrada válida"]
[null,null,null,null,null,null,0,1,0,1900,0,1,1900,"Nombre y el registro de entrada válida"]
[null,null,null,null,null,null,0,1,0,1900,0,1,1900,"Nombre y el registro de entrada válida"]
[null,null,null,null,null,null,0,1,0,1900,0,1,1900,"Nombre y el registro de entrada válida"]
[null,null,null,null,null,null,0,1,0,1900,0,1,1900,"Nombre y el registro de entrada válida"]
[null,null,null,null,null,null,0,1,0,1900,0,1,1900,"Nombre y el registro de entrada válida"]
[null,null,null,null,null,null,0,1,0,1900,0,1,1900,"Nombre y el registro de entrada válida"]
[null,null,null,null,null,null,0,1,0,1900,0,1,1900,"Nombre y el registro de entrada válida"]
[null,null,null,null,null,null,0,1,0,1900,0,1,1900,"Nombre y el registro de entrada válida"]
[null,null,null,null,null,null,0,1,0,1900,0,1,1900,"Nombre y el registro de entrada válida"]
[null,null,null,null,null,null,0,1,0,1900,0,1,1900,"Nombre y el registro de entrada válida"]
[null,null,null,null,null,null,0,1,0,1900,0,1,1900,"Nombre y el registro de entrada válida"]
[null,null,null,null,null,null,0,1,0,1900,0,1,1900,"Nombre y el registro de entrada válida"]
[null,null,null,null,null,null,0,1,0,1900,0,1,1900,"Nombre y el registro de entrada válida"]
[null,null,null,null,null,null,0,1,0,1900,0,1,1900,"Nombre y el registro de entrada válida"]
[null,null,null,null,null,null,0,1,0,1900,0,1,1900,"Nombre y el registro de entrada válida"]
[null,null,null,null,null,null,0,1,0,1900,0,1,1900,"Nombre y el registro de entrada válida"]
[null,null,null,null,null,null,0,1,0,1900,0,1,1900,"Nombre y el registro de entrada válida"]
[null,null,null,null,null,null,0,1,0,1900,0,1,1900,"Nombre y el registro de entrada válida"]
[null,null,null,null,null,null,0,1,0,1900,0,1,1900,"Nombre y el registro de entrada válida"]
[null,null,null,null,null,null,0,1,0,1900,0,1,1900,"Nombre y el registro de entrada válida"]
[null,null,null,null,null,null,0,1,0,1900,0,1,1900,"Nombre y el registro de entrada válida"]
[null,null,null,null,null,null,0,1,0,1900,0,1,1900,"Nombre y el registro de entrada válida"]
[null,null,null,null,null,null,0,1,0,1900,0,1,1900,"Nombre y el registro de entrada válida"]
[null,null,null,null,null,null,0,1,0,1900,0,1,1900,"Nombre y el registro de entrada válida"]
[null,null,null,null,null,null,0,1,0,1900,0,1,1900,"Nombre y el registro de entrada válida"]
[null,null,null,null,null,null,{"$f":"F2119*E2119","v":0},{"$f":"MONTH(B2119)","v":1},{"$f":"DAY(B2119)","v":0},{"$f":"YEAR(D2119)","v":1900},{"$f":"DAY(E2119)","v":0},{"$f":"MONTH(E2119)","v":1},{"$f":"YEAR(E2119)","v":1900},"Nombre y el registro de entrada válida"]
[null,null,null,null,null,null,0,1,0,1900,0,1,1900,"Nombre y el registro de entrada válida"]
[null,null,null,null,null,null,0,1,0,1900,0,1,1900,"Nombre y el registro de entrada válida"]
[null,null,null,null,null,null,0,1,0,1900,0,1,1900,"Nombre y el registro de entrada válida"]
[null,null,null,null,null,null,0,1,0,1900,0,1,1900,"Nombre y el registro de entrada válida"]
[null,null,null,null,null,null,0,1,0,1900,0,1,1900,"Nombre y el registro de entrada válida"]
[null,null,null,null,null,null,0,1,0,1900,0,1,1900,"Nombre y el registro de entrada válida"]
[null,null,null,null,null,null,0,1,0,1900,0,1,1900,"Nombre y el registro de entrada válida"]
[null,null,null,null,null,null,0,1,0,1900,0,1,1900,"Nombre y el registro de entrada válida"]
[null,null,null,null,null,null,0,1,0,1900,0,1,1900,"Nombre y el registro de entrada válida"]
[null,null,null,null,null,null,0,1,0,1900,0,1,1900,"Nombre y el registro de entrada válida"]
[null,null,null,null,null,null,0,1,0,1900,0,1,1900,"Nombre y el registro de entrada válida"]
[null,null,null,null,null,null,0,1,0,1900,0,1,1900,"Nombre y el registro de entrada válida"]
[null,null,null,null,null,null,0,1,0,1900,0,1,1900,"Nombre y el registro de entrada válida"]
[null,null,null,null,null,null,0,1,0,1900,0,1,1900,"Nombre y el registro de entrada válida"]
[null,null,null,null,null,null,0,1,0,1900,0,1,1900,"Nombre y el registro de entrada válida"]
[null,null,null,null,null,null,0,1,0,1900,0,1,1900,"Nombre y el registro de entrada válida"]
[null,null,null,null,null,null,0,1,0,1900,0,1,1900,"Nombre y el registro de entrada válida"]
[null,null,null,null,null,null,0,1,0,1900,0,1,1900,"Nombre y el registro de entrada válida"]
[null,null,null,null,null,null,0,1,0,1900,0,1,1900,"Nombre y el registro de entrada válida"]
[null,null,null,null,null,null,0,1,0,1900,0,1,1900,"Nombre y el registro de entrada válida"]
[null,null,null,null,null,null,0,1,0,1900,0,1,1900,"Nombre y el registro de entrada válida"]
[null,null,null,null,null,null,0,1,0,1900,0,1,1900,"Nombre y el registro de entrada válida"]
[null,null,null,null,null,null,0,1,0,1900,0,1,1900,"Nombre y el registro de entrada válida"]
[null,null,null,null,null,null,0,1,0,1900,0,1,1900,"Nombre y el registro de entrada válida"]
[null,null,null,null,null,null,0,1,0,1900,0,1,1900,"Nombre y el registro de entrada válida"]
[null,null,null,null,null,null,0,1,0,1900,0,1,1900,"Nombre y el registro de entrada válida"]
[null,null,null,null,null,null,0,1,0,1900,0,1,1900,"Nombre y el registro de entrada válida"]
[null,null,null,null,null,null,0,1,0,1900,0,1,1900,"Nombre y el registro de entrada válida"]
[null,null,null,null,null,null,0,1,0,1900,0,1,1900,"Nombre y el registro de entrada válida"]
[null,null,null,null,null,null,0,1,0,1900,0,1,1900,"Nombre y el registro de entrada válida"]
[null,null,null,null,null,null,0,1,0,1900,0,1,1900,"Nombre y el registro de entrada válida"]
[null,null,null,null,null,null,0,1,0,1900,0,1,1900,"Nombre y el registro de entrada válida"]
[null,null,null,null,null,null,0,1,0,1900,0,1,1900,"Nombre y el registro de entrada válida"]
[null,null,null,null,null,null,0,1,0,1900,0,1,1900,"Nombre y el registro de entrada válida"]
[null,null,null,null,null,null,0,1,0,1900,0,1,1900,"Nombre y el registro de entrada válida"]
[null,null,null,null,null,null,0,1,0,1900,0,1,1900,"Nombre y el registro de entrada válida"]
[null,null,null,null,null,null,0,1,0,1900,0,1,1900,"Nombre y el registro de entrada válida"]
[null,null,null,null,null,null,0,1,0,1900,0,1,1900,"Nombre y el registro de entrada válida"]
[null,null,null,null,null,null,0,1,0,1900,0,1,1900,"Nombre y el registro de entrada válida"]
[null,null,null,null,null,null,0,1,0,1900,0,1,1900,"Nombre y el registro de entrada válida"]
[null,null,null,null,null,null,0,1,0,1900,0,1,1900,"Nombre y el registro de entrada válida"]
[null,null,null,null,null,null,0,1,0,1900,0,1,1900,"Nombre y el registro de entrada válida"]
[null,null,null,null,null,null,0,1,0,1900,0,1,1900,"Nombre y el registro de entrada válida"]
[null,null,null,null,null,null,0,1,0,1900,0,1,1900,"Nombre y el registro de entrada válida"]
[null,null,null,null,null,null,0,1,0,1900,0,1,1900,"Nombre y el registro de entrada válida"]
[null,null,null,null,null,null,0,1,0,1900,0,1,1900,"Nombre y el registro de entrada válida"]
[null,null,null,null,null,null,0,1,0,1900,0,1,1900,"Nombre y el registro de entrada válida"]
[null,null,null,null,null,null,0,1,0,1900,0,1,1900,"Nombre y el registro de entrada válida"]
[null,null,null,null,null,null,0,1,0,1900,0,1,1900,"Nombre y el registro de entrada válida"]
[null,null,null,null,null,null,0,1,0,1900,0,1,1900,"Nombre y el registro de entrada válida"]
[null,null,null,null,null,null,0,1,0,1900,0,1,1900,"Nombre y el registro de entrada válida"]
[null,null,null,null,null,null,0,1,0,1900,0,1,1900,"Nombre y el registro de entrada válida"]
[null,null,null,null,null,null,0,1,0,1900,0,1,1900,"Nombre y el registro de entrada válida"]
[null,null,null,null,null,null,0,1,0,1900,0,1,1900,"Nombre y el registro de entrada válida"]
[null,null,null,null,null,null,0,1,0,1900,0,1,1900,"Nombre y el registro de entrada válida"]
[null,null,null,null,null,null,0,1,0,1900,0,1,1900,"Nombre y el registro de entrada válida"]
[null,null,null,null,null,null,0,1,0,1900,0,1,1900,"Nombre y el registro de entrada válida"]
[null,null,null,null,null,null,0,1,0,1900,0,1,1900,"Nombre y el registro de entrada válida"]
[null,null,null,null,null,null,0,1,0,1900,0,1,1900,"Nombre y el registro de entrada válida"]
[null,null,null,null,null,null,0,1,0,1900,0,1,1900,"Nombre y el registro de entrada válida"]
[null,null,null,null,null,null,0,1,0,1900,0,1,1900,"Nombre y el registro de entrada válida"]
[null,null,null,null,null,null,0,1,0,1900,0,1,1900,"Nombre y el registro de entrada válida"]
[null,null,null,null,null,null,0,1,0,1900,0,1,1900,"Nombre y el registro de entrada válida"]
[null,null,null,null,null,null,{"$f":"F2183*E2183","v":0},{"$f":"MONTH(B2183)","v":1},{"$f":"DAY(B2183)","v":0},{"$f":"YEAR(D2183)","v":1900},{"$f":"DAY(E2183)","v":0},{"$f":"MONTH(E2183)","v":1},{"$f":"YEAR(E2183)","v":1900},"Nombre y el registro de entrada válida"]
[null,null,null,null,null,null,0,1,0,1900,0,1,1900,"Nombre y el registro de entrada válida"]
[null,null,null,null,null,null,0,1,0,1900,0,1,1900,"Nombre y el registro de entrada válida"]
[null,null,null,null,null,null,0,1,0,1900,0,1,1900,"Nombre y el registro de entrada válida"]
[null,null,null,null,null,null,0,1,0,1900,0,1,1900,"Nombre y el registro de entrada válida"]
[null,null,null,null,null,null,0,1,0,1900,0,1,1900,"Nombre y el registro de entrada válida"]
[null,null,null,null,null,null,0,1,0,1900,0,1,1900,"Nombre y el registro de entrada válida"]
[null,null,null,null,null,null,0,1,0,1900,0,1,1900,"Nombre y el registro de entrada válida"]
[null,null,null,null,null,null,0,1,0,1900,0,1,1900,"Nombre y el registro de entrada válida"]
[null,null,null,null,null,null,0,1,0,1900,0,1,1900,"Nombre y el registro de entrada válida"]
[null,null,null,null,null,null,0,1,0,1900,0,1,1900,"Nombre y el registro de entrada válida"]
[null,null,null,null,null,null,0,1,0,1900,0,1,1900,"Nombre y el registro de entrada válida"]
[null,null,null,null,null,null,0,1,0,1900,0,1,1900,"Nombre y el registro de entrada válida"]
[null,null,null,null,null,null,0,1,0,1900,0,1,1900,"Nombre y el registro de entrada válida"]
[null,null,null,null,null,null,0,1,0,1900,0,1,1900,"Nombre y el registro de entrada válida"]
[null,null,null,null,null,null,0,1,0,1900,0,1,1900,"Nombre y el registro de entrada válida"]
[null,null,null,null,null,null,0,1,0,1900,0,1,1900,"Nombre y el registro de entrada válida"]
[null,null,null,null,null,null,0,1,0,1900,0,1,1900,"Nombre y el registro de entrada válida"]
[null,null,null,null,null,null,0,1,0,1900,0,1,1900,"Nombre y el registro de entrada válida"]
[null,null,null,null,null,null,0,1,0,1900,0,1,1900,"Nombre y el registro de entrada válida"]
[null,null,null,null,null,null,0,1,0,1900,0,1,1900,"Nombre y el registro de entrada válida"]
[null,null,null,null,null,null,0,1,0,1900,0,1,1900,"Nombre y el registro de entrada válida"]
[null,null,null,null,null,null,0,1,0,1900,0,1,1900,"Nombre y el registro de entrada válida"]
[null,null,null,null,null,null,0,1,0,1900,0,1,1900,"Nombre y el registro de entrada válida"]
[null,null,null,null,null,null,0,1,0,1900,0,1,1900,"Nombre y el registro de entrada válida"]
[null,null,null,null,null,null,0,1,0,1900,0,1,1900,"Nombre y el registro de entrada válida"]
[null,null,null,null,null,null,0,1,0,1900,0,1,1900,"Nombre y el registro de entrada válida"]
[null,null,null,null,null,null,0,1,0,1900,0,1,1900,"Nombre y el registro de entrada válida"]
[null,null,null,null,null,null,0,1,0,1900,0,1,1900,"Nombre y el registro de entrada válida"]
[null,null,null,null,null,null,0,1,0,1900,0,1,1900,"Nombre y el registro de entrada válida"]
[null,null,null,null,null,null,0,1,0,1900,0,1,1900,"Nombre y el registro de entrada válida"]
[null,null,null,null,null,null,0,1,0,1900,0,1,1900,"Nombre y el registro de entrada válida"]
[null,null,null,null,null,null,0,1,0,1900,0,1,1900,"Nombre y el registro de entrada válida"]
[null,null,null,null,null,null,0,1,0,1900,0,1,1900,"Nombre y el registro de entrada válida"]
[null,null,null,null,null,null,0,1,0,1900,0,1,1900,"Nombre y el registro de entrada válida"]
[null,null,null,null,null,null,0,1,0,1900,0,1,1900,"Nombre y el registro de entrada válida"]
[null,null,null,null,null,null,0,1,0,1900,0,1,1900,"Nombre y el registro de entrada válida"]
[null,null,null,null,null,null,0,1,0,1900,0,1,1900,"Nombre y el registro de entrada válida"]
[null,null,null,null,null,null,0,1,0,1900,0,1,1900,"Nombre y el registro de entrada válida"]
[null,null,null,null,null,null,0,1,0,1900,0,1,1900,"Nombre y el registro de entrada válida"]
[null,null,null,null,null,null,0,1,0,1900,0,1,1900,"Nombre y el registro de entrada válida"]
[null,null,null,null,null,null,0,1,0,1900,0,1,1900,"Nombre y el registro de entrada válida"]
[null,null,null,null,null,null,0,1,0,1900,0,1,1900,"Nombre y el registro de entrada válida"]
[null,null,null,null,null,null,0,1,0,1900,0,1,1900,"Nombre y el registro de entrada válida"]
[null,null,null,null,null,null,0,1,0,1900,0,1,1900,"Nombre y el registro de entrada válida"]
[null,null,null,null,null,null,0,1,0,1900,0,1,1900,"Nombre y el registro de entrada válida"]
[null,null,null,null,null,null,0,1,0,1900,0,1,1900,"Nombre y el registro de entrada válida"]
[null,null,null,null,null,null,0,1,0,1900,0,1,1900,"Nombre y el registro de entrada válida"]
[null,null,null,null,null,null,0,1,0,1900,0,1,1900,"Nombre y el registro de entrada válida"]
[null,null,null,null,null,null,0,1,0,1900,0,1,1900,"Nombre y el registro de entrada válida"]
[null,null,null,null,null,null,0,1,0,1900,0,1,1900,"Nombre y el registro de entrada válida"]
[null,null,null,null,null,null,0,1,0,1900,0,1,1900,"Nombre y el registro de entrada válida"]
[null,null,null,null,null,null,0,1,0,1900,0,1,1900,"Nombre y el registro de entrada válida"]
[null,null,null,null,null,null,0,1,0,1900,0,1,1900,"Nombre y el registro de entrada válida"]
[null,null,null,null,null,null,0,1,0,1900,0,1,1900,"Nombre y el registro de entrada válida"]
[null,null,null,null,null,null,0,1,0,1900,0,1,1900,"Nombre y el registro de entrada válida"]
[null,null,null,null,null,null,0,1,0,1900,0,1,1900,"Nombre y el registro de entrada válida"]
[null,null,null,null,null,null,0,1,0,1900,0,1,1900,"Nombre y el registro de entrada válida"]
[null,null,null,null,null,null,0,1,0,1900,0,1,1900,"Nombre y el registro de entrada válida"]
[null,null,null,null,null,null,0,1,0,1900,0,1,1900,"Nombre y el registro de entrada válida"]
[null,null,null,null,null,null,0,1,0,1900,0,1,1900,"Nombre y el registro de entrada válida"]
[null,null,null,null,null,null,0,1,0,1900,0,1,1900,"Nombre y el registro de entrada válida"]
[null,null,null,null,null,null,0,1,0,1900,0,1,1900,"Nombre y el registro de entrada válida"]
[null,null,null,null,null,null,0,1,0,1900,0,1,1900,"Nombre y el registro de entrada válida"]
[null,null,null,null,null,null,{"$f":"F2247*E2247","v":0},{"$f":"MONTH(B2247)","v":1},{"$f":"DAY(B2247)","v":0},{"$f":"YEAR(D2247)","v":1900},{"$f":"DAY(E2247)","v":0},{"$f":"MONTH(E2247)","v":1},{"$f":"YEAR(E2247)","v":1900},"Nombre y el registro de entrada válida"]
[null,null,null,null,null,null,0,1,0,1900,0,1,1900,"Nombre y el registro de entrada válida"]
[null,null,null,null,null,null,0,1,0,1900,0,1,1900,"Nombre y el registro de entrada válida"]
[null,null,null,null,null,null,0,1,0,1900,0,1,1900,"Nombre y el registro de entrada válida"]
[null,null,null,null,null,null,0,1,0,1900,0,1,1900,"Nombre y el registro de entrada válida"]
[null,null,null,null,null,null,0,1,0,1900,0,1,1900,"Nombre y el registro de entrada válida"]
[null,null,null,null,null,null,0,1,0,1900,0,1,1900,"Nombre y el registro de entrada válida"]
[null,null,null,null,null,null,0,1,0,1900,0,1,1900,"Nombre y el registro de entrada válida"]
[null,null,null,null,null,null,0,1,0,1900,0,1,1900,"Nombre y el registro de entrada válida"]
[null,null,null,null,null,null,0,1,0,1900,0,1,1900,"Nombre y el registro de entrada válida"]
[null,null,null,null,null,null,0,1,0,1900,0,1,1900,"Nombre y el registro de entrada válida"]
[null,null,null,null,null,null,0,1,0,1900,0,1,1900,"Nombre y el registro de entrada válida"]
[null,null,null,null,null,null,0,1,0,1900,0,1,1900,"Nombre y el registro de entrada válida"]
[null,null,null,null,null,null,0,1,0,1900,0,1,1900,"Nombre y el registro de entrada válida"]
[null,null,null,null,null,null,0,1,0,1900,0,1,1900,"Nombre y el registro de entrada válida"]
[null,null,null,null,null,null,0,1,0,1900,0,1,1900,"Nombre y el registro de entrada válida"]
[null,null,null,null,null,null,0,1,0,1900,0,1,1900,"Nombre y el registro de entrada válida"]
[null,null,null,null,null,null,0,1,0,1900,0,1,1900,"Nombre y el registro de entrada válida"]
[null,null,null,null,null,null,0,1,0,1900,0,1,1900,"Nombre y el registro de entrada válida"]
[null,null,null,null,null,null,0,1,0,1900,0,1,1900,"Nombre y el registro de entrada válida"]
[null,null,null,null,null,null,0,1,0,1900,0,1,1900,"Nombre y el registro de entrada válida"]
[null,null,null,null,null,null,0,1,0,1900,0,1,1900,"Nombre y el registro de entrada válida"]
[null,null,null,null,null,null,0,1,0,1900,0,1,1900,"Nombre y el registro de entrada válida"]
[null,null,null,null,null,null,0,1,0,1900,0,1,1900,"Nombre y el registro de entrada válida"]
[null,null,null,null,null,null,0,1,0,1900,0,1,1900,"Nombre y el registro de entrada válida"]
[null,null,null,null,null,null,0,1,0,1900,0,1,1900,"Nombre y el registro de entrada válida"]
[null,null,null,null,null,null,0,1,0,1900,0,1,1900,"Nombre y el registro de entrada válida"]
[null,null,null,null,null,null,0,1,0,1900,0,1,1900,"Nombre y el registro de entrada válida"]
[null,null,null,null,null,null,0,1,0,1900,0,1,1900,"Nombre y el registro de entrada válida"]
[null,null,null,null,null,null,0,1,0,1900,0,1,1900,"Nombre y el registro de entrada válida"]
[null,null,null,null,null,null,0,1,0,1900,0,1,1900,"Nombre y el registro de entrada válida"]
[null,null,null,null,null,null,0,1,0,1900,0,1,1900,"Nombre y el registro de entrada válida"]
[null,null,null,null,null,null,0,1,0,1900,0,1,1900,"Nombre y el registro de entrada válida"]
[null,null,null,null,null,null,0,1,0,1900,0,1,1900,"Nombre y el registro de entrada válida"]
[null,null,null,null,null,null,0,1,0,1900,0,1,1900,"Nombre y el registro de entrada válida"]
[null,null,null,null,null,null,0,1,0,1900,0,1,1900,"Nombre y el registro de entrada válida"]
[null,null,null,null,null,null,0,1,0,1900,0,1,1900,"Nombre y el registro de entrada válida"]
[null,null,null,null,null,null,0,1,0,1900,0,1,1900,"Nombre y el registro de entrada válida"]
[null,null,null,null,null,null,0,1,0,1900,0,1,1900,"Nombre y el registro de entrada válida"]
[null,null,null,null,null,null,0,1,0,1900,0,1,1900,"Nombre y el registro de entrada válida"]
[null,null,null,null,null,null,0,1,0,1900,0,1,1900,"Nombre y el registro de entrada válida"]
[null,null,null,null,null,null,0,1,0,1900,0,1,1900,"Nombre y el registro de entrada válida"]
[null,null,null,null,null,null,0,1,0,1900,0,1,1900,"Nombre y el registro de entrada válida"]
[null,null,null,null,null,null,0,1,0,1900,0,1,1900,"Nombre y el registro de entrada válida"]
[null,null,null,null,null,null,0,1,0,1900,0,1,1900,"Nombre y el registro de entrada válida"]
[null,null,null,null,null,null,0,1,0,1900,0,1,1900,"Nombre y el registro de entrada válida"]
[null,null,null,null,null,null,0,1,0,1900,0,1,1900,"Nombre y el registro de entrada válida"]
[null,null,null,null,null,null,0,1,0,1900,0,1,1900,"Nombre y el registro de entrada válida"]
[null,null,null,null,null,null,0,1,0,1900,0,1,1900,"Nombre y el registro de entrada válida"]
[null,null,null,null,null,null,0,1,0,1900,0,1,1900,"Nombre y el registro de entrada válida"]
[null,null,null,null,null,null,0,1,0,1900,0,1,1900,"Nombre y el registro de entrada válida"]
[null,null,null,null,null,null,0,1,0,1900,0,1,1900,"Nombre y el registro de entrada válida"]
[null,null,null,null,null,null,0,1,0,1900,0,1,1900,"Nombre y el registro de entrada válida"]
[null,null,null,null,null,null,0,1,0,1900,0,1,1900,"Nombre y el registro de entrada válida"]
[null,null,null,null,null,null,0,1,0,1900,0,1,1900,"Nombre y el registro de entrada válida"]
[null,null,null,null,null,null,0,1,0,1900,0,1,1900,"Nombre y el registro de entrada válida"]
[null,null,null,null,null,null,0,1,0,1900,0,1,1900,"Nombre y el registro de entrada válida"]
[null,null,null,null,null,null,0,1,0,1900,0,1,1900,"Nombre y el registro de entrada válida"]
[null,null,null,null,null,null,0,1,0,1900,0,1,1900,"Nombre y el registro de entrada válida"]
[null,null,null,null,null,null,0,1,0,1900,0,1,1900,"Nombre y el registro de entrada válida"]
[null,null,null,null,null,null,0,1,0,1900,0,1,1900,"Nombre y el registro de entrada válida"]
[null,null,null,null,null,null,0,1,0,1900,0,1,1900,"Nombre y el registro de entrada válida"]
[null,null,null,null,null,null,0,1,0,1900,0,1,1900,"Nombre y el registro de entrada válida"]
[null,null,null,null,null,null,0,1,0,1900,0,1,1900,"Nombre y el registro de entrada válida"]
[null,null,null,null,null,null,{"$f":"F2311*E2311","v":0},{"$f":"MONTH(B2311)","v":1},{"$f":"DAY(B2311)","v":0},{"$f":"YEAR(D2311)","v":1900},{"$f":"DAY(E2311)","v":0},{"$f":"MONTH(E2311)","v":1},{"$f":"YEAR(E2311)","v":1900},"Nombre y el registro de entrada válida"]
[null,null,null,null,null,null,0,1,0,1900,0,1,1900,"Nombre y el registro de entrada válida"]
[null,null,null,null,null,null,0,1,0,1900,0,1,1900,"Nombre y el registro de entrada válida"]
[null,null,null,null,null,null,0,1,0,1900,0,1,1900,"Nombre y el registro de entrada válida"]
[null,null,null,null,null,null,0,1,0,1900,0,1,1900,"Nombre y el registro de entrada válida"]
[null,null,null,null,null,null,0,1,0,1900,0,1,1900,"Nombre y el registro de entrada válida"]
[null,null,null,null,null,null,0,1,0,1900,0,1,1900,"Nombre y el registro de entrada válida"]
[null,null,null,null,null,null,0,1,0,1900,0,1,1900,"Nombre y el registro de entrada válida"]
[null,null,null,null,null,null,0,1,0,1900,0,1,1900,"Nombre y el registro de entrada válida"]
[null,null,null,null,null,null,0,1,0,1900,0,1,1900,"Nombre y el registro de entrada válida"]
[null,null,null,null,null,null,0,1,0,1900,0,1,1900,"Nombre y el registro de entrada válida"]
[null,null,null,null,null,null,0,1,0,1900,0,1,1900,"Nombre y el registro de entrada válida"]
[null,null,null,null,null,null,0,1,0,1900,0,1,1900,"Nombre y el registro de entrada válida"]
[null,null,null,null,null,null,0,1,0,1900,0,1,1900,"Nombre y el registro de entrada válida"]
[null,null,null,null,null,null,0,1,0,1900,0,1,1900,"Nombre y el registro de entrada válida"]
[null,null,null,null,null,null,0,1,0,1900,0,1,1900,"Nombre y el registro de entrada válida"]
[null,null,null,null,null,null,0,1,0,1900,0,1,1900,"Nombre y el registro de entrada válida"]
[null,null,null,null,null,null,0,1,0,1900,0,1,1900,"Nombre y el registro de entrada válida"]
[null,null,null,null,null,null,0,1,0,1900,0,1,1900,"Nombre y el registro de entrada válida"]
[null,null,null,null,null,null,0,1,0,1900,0,1,1900,"Nombre y el registro de entrada válida"]
[null,null,null,null,null,null,0,1,0,1900,0,1,1900,"Nombre y el registro de entrada válida"]
[null,null,null,null,null,null,0,1,0,1900,0,1,1900,"Nombre y el registro de entrada válida"]
[null,null,null,null,null,null,0,1,0,1900,0,1,1900,"Nombre y el registro de entrada válida"]
[null,null,null,null,null,null,0,1,0,1900,0,1,1900,"Nombre y el registro de entrada válida"]
[null,null,null,null,null,null,0,1,0,1900,0,1,1900,"Nombre y el registro de entrada válida"]
[null,null,null,null,null,null,0,1,0,1900,0,1,1900,"Nombre y el registro de entrada válida"]
[null,null,null,null,null,null,0,1,0,1900,0,1,1900,"Nombre y el registro de entrada válida"]
[null,null,null,null,null,null,0,1,0,1900,0,1,1900,"Nombre y el registro de entrada válida"]
[null,null,null,null,null,null,0,1,0,1900,0,1,1900,"Nombre y el registro de entrada válida"]
[null,null,null,null,null,null,0,1,0,1900,0,1,1900,"Nombre y el registro de entrada válida"]
[null,null,null,null,null,null,0,1,0,1900,0,1,1900,"Nombre y el registro de entrada válida"]
[null,null,null,null,null,null,0,1,0,1900,0,1,1900,"Nombre y el registro de entrada válida"]
[null,null,null,null,null,null,0,1,0,1900,0,1,1900,"Nombre y el registro de entrada válida"]
[null,null,null,null,null,null,0,1,0,1900,0,1,1900,"Nombre y el registro de entrada válida"]
[null,null,null,null,null,null,0,1,0,1900,0,1,1900,"Nombre y el registro de entrada válida"]
[null,null,null,null,null,null,0,1,0,1900,0,1,1900,"Nombre y el registro de entrada válida"]
[null,null,null,null,null,null,0,1,0,1900,0,1,1900,"Nombre y el registro de entrada válida"]
[null,null,null,null,null,null,0,1,0,1900,0,1,1900,"Nombre y el registro de entrada válida"]
[null,null,null,null,null,null,0,1,0,1900,0,1,1900,"Nombre y el registro de entrada válida"]
[null,null,null,null,null,null,0,1,0,1900,0,1,1900,"Nombre y el registro de entrada válida"]
[null,null,null,null,null,null,0,1,0,1900,0,1,1900,"Nombre y el registro de entrada válida"]
[null,null,null,null,null,null,0,1,0,1900,0,1,1900,"Nombre y el registro de entrada válida"]
[null,null,null,null,null,null,0,1,0,1900,0,1,1900,"Nombre y el registro de entrada válida"]
[null,null,null,null,null,null,0,1,0,1900,0,1,1900,"Nombre y el registro de entrada válida"]
[null,null,null,null,null,null,0,1,0,1900,0,1,1900,"Nombre y el registro de entrada válida"]
[null,null,null,null,null,null,0,1,0,1900,0,1,1900,"Nombre y el registro de entrada válida"]
[null,null,null,null,null,null,0,1,0,1900,0,1,1900,"Nombre y el registro de entrada válida"]
[null,null,null,null,null,null,0,1,0,1900,0,1,1900,"Nombre y el registro de entrada válida"]
[null,null,null,null,null,null,0,1,0,1900,0,1,1900,"Nombre y el registro de entrada válida"]
[null,null,null,null,null,null,0,1,0,1900,0,1,1900,"Nombre y el registro de entrada válida"]
[null,null,null,null,null,null,0,1,0,1900,0,1,1900,"Nombre y el registro de entrada válida"]
[null,null,null,null,null,null,0,1,0,1900,0,1,1900,"Nombre y el registro de entrada válida"]
[null,null,null,null,null,null,0,1,0,1900,0,1,1900,"Nombre y el registro de entrada válida"]
[null,null,null,null,null,null,0,1,0,1900,0,1,1900,"Nombre y el registro de entrada válida"]
[null,null,null,null,null,null,0,1,0,1900,0,1,1900,"Nombre y el registro de entrada válida"]
[null,null,null,null,null,null,0,1,0,1900,0,1,1900,"Nombre y el registro de entrada válida"]
[null,null,null,null,null,null,0,1,0,1900,0,1,1900,"Nombre y el registro de entrada válida"]
[null,null,null,null,null,null,0,1,0,1900,0,1,1900,"Nombre y el registro de entrada válida"]
[null,null,null,null,null,null,0,1,0,1900,0,1,1900,"Nombre y el registro de entrada válida"]
[null,null,null,null,null,null,0,1,0,1900,0,1,1900,"Nombre y el registro de entrada válida"]
[null,null,null,null,null,null,0,1,0,1900,0,1,1900,"Nombre y el registro de entrada válida"]
[null,null,null,null,null,null,0,1,0,1900,0,1,1900,"Nombre y el registro de entrada válida"]
[null,null,null,null,null,null,0,1,0,1900,0,1,1900,"Nombre y el registro de entrada válida"]
[null,null,null,null,null,null,0,1,0,1900,0,1,1900,"Nombre y el registro de entrada válida"]
[null,null,null,null,null,null,{"$f":"F2375*E2375","v":0},{"$f":"MONTH(B2375)","v":1},{"$f":"DAY(B2375)","v":0},{"$f":"YEAR(D2375)","v":1900},{"$f":"DAY(E2375)","v":0},{"$f":"MONTH(E2375)","v":1},{"$f":"YEAR(E2375)","v":1900},"Nombre y el registro de entrada válida"]
[null,null,null,null,null,null,0,1,0,1900,0,1,1900,"Nombre y el registro de entrada válida"]
[null,null,null,null,null,null,0,1,0,1900,0,1,1900,"Nombre y el registro de entrada válida"]
[null,null,null,null,null,null,0,1,0,1900,0,1,1900,"Nombre y el registro de entrada válida"]
[null,null,null,null,null,null,0,1,0,1900,0,1,1900,"Nombre y el registro de entrada válida"]
[null,null,null,null,null,null,0,1,0,1900,0,1,1900,"Nombre y el registro de entrada válida"]
[null,null,null,null,null,null,0,1,0,1900,0,1,1900,"Nombre y el registro de entrada válida"]
[null,null,null,null,null,null,0,1,0,1900,0,1,1900,"Nombre y el registro de entrada válida"]
[null,null,null,null,null,null,0,1,0,1900,0,1,1900,"Nombre y el registro de entrada válida"]
[null,null,null,null,null,null,0,1,0,1900,0,1,1900,"Nombre y el registro de entrada válida"]
[null,null,null,null,null,null,0,1,0,1900,0,1,1900,"Nombre y el registro de entrada válida"]
[null,null,null,null,null,null,0,1,0,1900,0,1,1900,"Nombre y el registro de entrada válida"]
[null,null,null,null,null,null,0,1,0,1900,0,1,1900,"Nombre y el registro de entrada válida"]
[null,null,null,null,null,null,0,1,0,1900,0,1,1900,"Nombre y el registro de entrada válida"]
[null,null,null,null,null,null,0,1,0,1900,0,1,1900,"Nombre y el registro de entrada válida"]
[null,null,null,null,null,null,0,1,0,1900,0,1,1900,"Nombre y el registro de entrada válida"]
[null,null,null,null,null,null,0,1,0,1900,0,1,1900,"Nombre y el registro de entrada válida"]
[null,null,null,null,null,null,0,1,0,1900,0,1,1900,"Nombre y el registro de entrada válida"]
[null,null,null,null,null,null,0,1,0,1900,0,1,1900,"Nombre y el registro de entrada válida"]
[null,null,null,null,null,null,0,1,0,1900,0,1,1900,"Nombre y el registro de entrada válida"]
[null,null,null,null,null,null,0,1,0,1900,0,1,1900,"Nombre y el registro de entrada válida"]
[null,null,null,null,null,null,0,1,0,1900,0,1,1900,"Nombre y el registro de entrada válida"]
[null,null,null,null,null,null,0,1,0,1900,0,1,1900,"Nombre y el registro de entrada válida"]
[null,null,null,null,null,null,0,1,0,1900,0,1,1900,"Nombre y el registro de entrada válida"]
[null,null,null,null,null,null,0,1,0,1900,0,1,1900,"Nombre y el registro de entrada válida"]
[null,null,null,null,null,null,0,1,0,1900,0,1,1900,"Nombre y el registro de entrada válida"]
[null,null,null,null,null,null,0,1,0,1900,0,1,1900,"Nombre y el registro de entrada válida"]
[null,null,null,null,null,null,0,1,0,1900,0,1,1900,"Nombre y el registro de entrada válida"]
[null,null,null,null,null,null,0,1,0,1900,0,1,1900,"Nombre y el registro de entrada válida"]
[null,null,null,null,null,null,0,1,0,1900,0,1,1900,"Nombre y el registro de entrada válida"]
[null,null,null,null,null,null,0,1,0,1900,0,1,1900,"Nombre y el registro de entrada válida"]
[null,null,null,null,null,null,0,1,0,1900,0,1,1900,"Nombre y el registro de entrada válida"]
[null,null,null,null,null,null,0,1,0,1900,0,1,1900,"Nombre y el registro de entrada válida"]
[null,null,null,null,null,null,0,1,0,1900,0,1,1900,"Nombre y el registro de entrada válida"]
[null,null,null,null,null,null,0,1,0,1900,0,1,1900,"Nombre y el registro de entrada válida"]
[null,null,null,null,null,null,0,1,0,1900,0,1,1900,"Nombre y el registro de entrada válida"]
[null,null,null,null,null,null,0,1,0,1900,0,1,1900,"Nombre y el registro de entrada válida"]
[null,null,null,null,null,null,0,1,0,1900,0,1,1900,"Nombre y el registro de entrada válida"]
[null,null,null,null,null,null,0,1,0,1900,0,1,1900,"Nombre y el registro de entrada válida"]
[null,null,null,null,null,null,0,1,0,1900,0,1,1900,"Nombre y el registro de entrada válida"]
[null,null,null,null,null,null,0,1,0,1900,0,1,1900,"Nombre y el registro de entrada válida"]
[null,null,null,null,null,null,0,1,0,1900,0,1,1900,"Nombre y el registro de entrada válida"]
[null,null,null,null,null,null,0,1,0,1900,0,1,1900,"Nombre y el registro de entrada válida"]
[null,null,null,null,null,null,0,1,0,1900,0,1,1900,"Nombre y el registro de entrada válida"]
[null,null,null,null,null,null,0,1,0,1900,0,1,1900,"Nombre y el registro de entrada válida"]
[null,null,null,null,null,null,0,1,0,1900,0,1,1900,"Nombre y el registro de entrada válida"]
[null,null,null,null,null,null,0,1,0,1900,0,1,1900,"Nombre y el registro de entrada válida"]
[null,null,null,null,null,null,0,1,0,1900,0,1,1900,"Nombre y el registro de entrada válida"]
[null,null,null,null,null,null,0,1,0,1900,0,1,1900,"Nombre y el registro de entrada válida"]
[null,null,null,null,null,null,0,1,0,1900,0,1,1900,"Nombre y el registro de entrada válida"]
[null,null,null,null,null,null,0,1,0,1900,0,1,1900,"Nombre y el registro de entrada válida"]
[null,null,null,null,null,null,0,1,0,1900,0,1,1900,"Nombre y el registro de entrada válida"]
[null,null,null,null,null,null,0,1,0,1900,0,1,1900,"Nombre y el registro de entrada válida"]
[null,null,null,null,null,null,0,1,0,1900,0,1,1900,"Nombre y el registro de entrada válida"]
[null,null,null,null,null,null,0,1,0,1900,0,1,1900,"Nombre y el registro de entrada válida"]
[null,null,null,null,null,null,0,1,0,1900,0,1,1900,"Nombre y el registro de entrada válida"]
[null,null,null,null,null,null,0,1,0,1900,0,1,1900,"Nombre y el registro de entrada válida"]
[null,null,null,null,null,null,0,1,0,1900,0,1,1900,"Nombre y el registro de entrada válida"]
[null,null,null,null,null,null,0,1,0,1900,0,1,1900,"Nombre y el registro de entrada válida"]
[null,null,null,null,null,null,0,1,0,1900,0,1,1900,"Nombre y el registro de entrada válida"]
[null,null,null,null,null,null,0,1,0,1900,0,1,1900,"Nombre y el registro de entrada válida"]
[null,null,null,null,null,null,0,1,0,1900,0,1,1900,"Nombre y el registro de entrada válida"]
[null,null,null,null,null,null,0,1,0,1900,0,1,1900,"Nombre y el registro de entrada válida"]
[null,null,null,null,null,null,0,1,0,1900,0,1,1900,"Nombre y el registro de entrada válida"]
[null,null,null,null,null,null,{"$f":"F2439*E2439","v":0},{"$f":"MONTH(B2439)","v":1},{"$f":"DAY(B2439)","v":0},{"$f":"YEAR(D2439)","v":1900},{"$f":"DAY(E2439)","v":0},{"$f":"MONTH(E2439)","v":1},{"$f":"YEAR(E2439)","v":1900},"Nombre y el registro de entrada válida"]
[null,null,null,null,null,null,0,1,0,1900,0,1,1900,"Nombre y el registro de entrada válida"]
[null,null,null,null,null,null,0,1,0,1900,0,1,1900,"Nombre y el registro de entrada válida"]
[null,null,null,null,null,null,0,1,0,1900,0,1,1900,"Nombre y el registro de entrada válida"]
[null,null,null,null,null,null,0,1,0,1900,0,1,1900,"Nombre y el registro de entrada válida"]
[null,null,null,null,null,null,0,1,0,1900,0,1,1900,"Nombre y el registro de entrada válida"]
[null,null,null,null,null,null,0,1,0,1900,0,1,1900,"Nombre y el registro de entrada válida"]
[null,null,null,null,null,null,0,1,0,1900,0,1,1900,"Nombre y el registro de entrada válida"]
[null,null,null,null,null,null,0,1,0,1900,0,1,1900,"Nombre y el registro de entrada válida"]
[null,null,null,null,null,null,0,1,0,1900,0,1,1900,"Nombre y el registro de entrada válida"]
[null,null,null,null,null,null,0,1,0,1900,0,1,1900,"Nombre y el registro de entrada válida"]
[null,null,null,null,null,null,0,1,0,1900,0,1,1900,"Nombre y el registro de entrada válida"]
[null,null,null,null,null,null,0,1,0,1900,0,1,1900,"Nombre y el registro de entrada válida"]
[null,null,null,null,null,null,0,1,0,1900,0,1,1900,"Nombre y el registro de entrada válida"]
[null,null,null,null,null,null,0,1,0,1900,0,1,1900,"Nombre y el registro de entrada válida"]
[null,null,null,null,null,null,0,1,0,1900,0,1,1900,"Nombre y el registro de entrada válida"]
[null,null,null,null,null,null,0,1,0,1900,0,1,1900,"Nombre y el registro de entrada válida"]
[null,null,null,null,null,null,0,1,0,1900,0,1,1900,"Nombre y el registro de entrada válida"]
[null,null,null,null,null,null,0,1,0,1900,0,1,1900,"Nombre y el registro de entrada válida"]
[null,null,null,null,null,null,0,1,0,1900,0,1,1900,"Nombre y el registro de entrada válida"]
[null,null,null,null,null,null,0,1,0,1900,0,1,1900,"Nombre y el registro de entrada válida"]
[null,null,null,null,null,null,0,1,0,1900,0,1,1900,"Nombre y el registro de entrada válida"]
[null,null,null,null,null,null,0,1,0,1900,0,1,1900,"Nombre y el registro de entrada válida"]
[null,null,null,null,null,null,0,1,0,1900,0,1,1900,"Nombre y el registro de entrada válida"]
[null,null,null,null,null,null,0,1,0,1900,0,1,1900,"Nombre y el registro de entrada válida"]
[null,null,null,null,null,null,0,1,0,1900,0,1,1900,"Nombre y el registro de entrada válida"]
[null,null,null,null,null,null,0,1,0,1900,0,1,1900,"Nombre y el registro de entrada válida"]
[null,null,null,null,null,null,0,1,0,1900,0,1,1900,"Nombre y el registro de entrada válida"]
[null,null,null,null,null,null,0,1,0,1900,0,1,1900,"Nombre y el registro de entrada válida"]
[null,null,null,null,null,null,0,1,0,1900,0,1,1900,"Nombre y el registro de entrada válida"]
[null,null,null,null,null,null,0,1,0,1900,0,1,1900,"Nombre y el registro de entrada válida"]
[null,null,null,null,null,null,0,1,0,1900,0,1,1900,"Nombre y el registro de entrada válida"]
[null,null,null,null,null,null,0,1,0,1900,0,1,1900,"Nombre y el registro de entrada válida"]
[null,null,null,null,null,null,0,1,0,1900,0,1,1900,"Nombre y el registro de entrada válida"]
[null,null,null,null,null,null,0,1,0,1900,0,1,1900,"Nombre y el registro de entrada válida"]
[null,null,null,null,null,null,0,1,0,1900,0,1,1900,"Nombre y el registro de entrada válida"]
[null,null,null,null,null,null,0,1,0,1900,0,1,1900,"Nombre y el registro de entrada válida"]
[null,null,null,null,null,null,0,1,0,1900,0,1,1900,"Nombre y el registro de entrada válida"]
[null,null,null,null,null,null,0,1,0,1900,0,1,1900,"Nombre y el registro de entrada válida"]
[null,null,null,null,null,null,0,1,0,1900,0,1,1900,"Nombre y el registro de entrada válida"]
[null,null,null,null,null,null,0,1,0,1900,0,1,1900,"Nombre y el registro de entrada válida"]
[null,null,null,null,null,null,0,1,0,1900,0,1,1900,"Nombre y el registro de entrada válida"]
[null,null,null,null,null,null,0,1,0,1900,0,1,1900,"Nombre y el registro de entrada válida"]
[null,null,null,null,null,null,0,1,0,1900,0,1,1900,"Nombre y el registro de entrada válida"]
[null,null,null,null,null,null,0,1,0,1900,0,1,1900,"Nombre y el registro de entrada válida"]
[null,null,null,null,null,null,0,1,0,1900,0,1,1900,"Nombre y el registro de entrada válida"]
[null,null,null,null,null,null,0,1,0,1900,0,1,1900,"Nombre y el registro de entrada válida"]
[null,null,null,null,null,null,0,1,0,1900,0,1,1900,"Nombre y el registro de entrada válida"]
[null,null,null,null,null,null,0,1,0,1900,0,1,1900,"Nombre y el registro de entrada válida"]
[null,null,null,null,null,null,0,1,0,1900,0,1,1900,"Nombre y el registro de entrada válida"]
[null,null,null,null,null,null,0,1,0,1900,0,1,1900,"Nombre y el registro de entrada válida"]
[null,null,null,null,null,null,0,1,0,1900,0,1,1900,"Nombre y el registro de entrada válida"]
[null,null,null,null,null,null,0,1,0,1900,0,1,1900,"Nombre y el registro de entrada válida"]
[null,null,null,null,null,null,0,1,0,1900,0,1,1900,"Nombre y el registro de entrada válida"]
[null,null,null,null,null,null,0,1,0,1900,0,1,1900,"Nombre y el registro de entrada válida"]
[null,null,null,null,null,null,0,1,0,1900,0,1,1900,"Nombre y el registro de entrada válida"]
[null,null,null,null,null,null,0,1,0,1900,0,1,1900,"Nombre y el registro de entrada válida"]
[null,null,null,null,null,null,0,1,0,1900,0,1,1900,"Nombre y el registro de entrada válida"]
[null,null,null,null,null,null,0,1,0,1900,0,1,1900,"Nombre y el registro de entrada válida"]
[null,null,null,null,null,null,0,1,0,1900,0,1,1900,"Nombre y el registro de entrada válida"]
[null,null,null,null,null,null,0,1,0,1900,0,1,1900,"Nombre y el registro de entrada válida"]
[null,null,null,null,null,null,0,1,0,1900,0,1,1900,"Nombre y el registro de entrada válida"]
[null,null,null,null,null,null,0,1,0,1900,0,1,1900,"Nombre y el registro de entrada válida"]
[null,null,null,null,null,null,0,1,0,1900,0,1,1900,"Nombre y el registro de entrada válida"]
[null,null,null,null,null,null,{"$f":"F2503*E2503","v":0},{"$f":"MONTH(B2503)","v":1},{"$f":"DAY(B2503)","v":0},{"$f":"YEAR(D2503)","v":1900},{"$f":"DAY(E2503)","v":0},{"$f":"MONTH(E2503)","v":1},{"$f":"YEAR(E2503)","v":1900},"Nombre y el registro de entrada válida"]
[null,null,null,null,null,null,0,1,0,1900,0,1,1900,"Nombre y el registro de entrada válida"]
[null,null,null,null,null,null,0,1,0,1900,0,1,1900,"Nombre y el registro de entrada válida"]
[null,null,null,null,null,null,0,1,0,1900,0,1,1900,"Nombre y el registro de entrada válida"]
[null,null,null,null,null,null,0,1,0,1900,0,1,1900,"Nombre y el registro de entrada válida"]
[null,null,null,null,null,null,0,1,0,1900,0,1,1900,"Nombre y el registro de entrada válida"]
[null,null,null,null,null,null,0,1,0,1900,0,1,1900,"Nombre y el registro de entrada válida"]
[null,null,null,null,null,null,0,1,0,1900,0,1,1900,"Nombre y el registro de entrada válida"]
[null,null,null,null,null,null,0,1,0,1900,0,1,1900,"Nombre y el registro de entrada válida"]
[null,null,null,null,null,null,0,1,0,1900,0,1,1900,"Nombre y el registro de entrada válida"]
[null,null,null,null,null,null,0,1,0,1900,0,1,1900,"Nombre y el registro de entrada válida"]
[null,null,null,null,null,null,0,1,0,1900,0,1,1900,"Nombre y el registro de entrada válida"]
[null,null,null,null,null,null,0,1,0,1900,0,1,1900,"Nombre y el registro de entrada válida"]
[null,null,null,null,null,null,0,1,0,1900,0,1,1900,"Nombre y el registro de entrada válida"]
[null,null,null,null,null,null,0,1,0,1900,0,1,1900,"Nombre y el registro de entrada válida"]
[null,null,null,null,null,null,0,1,0,1900,0,1,1900,"Nombre y el registro de entrada válida"]
[null,null,null,null,null,null,0,1,0,1900,0,1,1900,"Nombre y el registro de entrada válida"]
[null,null,null,null,null,null,0,1,0,1900,0,1,1900,"Nombre y el registro de entrada válida"]
[null,null,null,null,null,null,0,1,0,1900,0,1,1900,"Nombre y el registro de entrada válida"]
[null,null,null,null,null,null,0,1,0,1900,0,1,1900,"Nombre y el registro de entrada válida"]
[null,null,null,null,null,null,0,1,0,1900,0,1,1900,"Nombre y el registro de entrada válida"]
[null,null,null,null,null,null,0,1,0,1900,0,1,1900,"Nombre y el registro de entrada válida"]
[null,null,null,null,null,null,0,1,0,1900,0,1,1900,"Nombre y el registro de entrada válida"]
[null,null,null,null,null,null,0,1,0,1900,0,1,1900,"Nombre y el registro de entrada válida"]
[null,null,null,null,null,null,0,1,0,1900,0,1,1900,"Nombre y el registro de entrada válida"]
[null,null,null,null,null,null,0,1,0,1900,0,1,1900,"Nombre y el registro de entrada válida"]
[null,null,null,null,null,null,0,1,0,1900,0,1,1900,"Nombre y el registro de entrada válida"]
[null,null,null,null,null,null,0,1,0,1900,0,1,1900,"Nombre y el registro de entrada válida"]
[null,null,null,null,null,null,0,1,0,1900,0,1,1900,"Nombre y el registro de entrada válida"]
[null,null,null,null,null,null,0,1,0,1900,0,1,1900,"Nombre y el registro de entrada válida"]
[null,null,null,null,null,null,0,1,0,1900,0,1,1900,"Nombre y el registro de entrada válida"]
[null,null,null,null,null,null,0,1,0,1900,0,1,1900,"Nombre y el registro de entrada válida"]
[null,null,null,null,null,null,0,1,0,1900,0,1,1900,"Nombre y el registro de entrada válida"]
[null,null,null,null,null,null,0,1,0,1900,0,1,1900,"Nombre y el registro de entrada válida"]
[null,null,null,null,null,null,0,1,0,1900,0,1,1900,"Nombre y el registro de entrada válida"]
[null,null,null,null,null,null,0,1,0,1900,0,1,1900,"Nombre y el registro de entrada válida"]
[null,null,null,null,null,null,0,1,0,1900,0,1,1900,"Nombre y el registro de entrada válida"]
[null,null,null,null,null,null,0,1,0,1900,0,1,1900,"Nombre y el registro de entrada válida"]
[null,null,null,null,null,null,0,1,0,1900,0,1,1900,"Nombre y el registro de entrada válida"]
[null,null,null,null,null,null,0,1,0,1900,0,1,1900,"Nombre y el registro de entrada válida"]
[null,null,null,null,null,null,0,1,0,1900,0,1,1900,"Nombre y el registro de entrada válida"]
[null,null,null,null,null,null,0,1,0,1900,0,1,1900,"Nombre y el registro de entrada válida"]
[null,null,null,null,null,null,0,1,0,1900,0,1,1900,"Nombre y el registro de entrada válida"]
[null,null,null,null,null,null,0,1,0,1900,0,1,1900,"Nombre y el registro de entrada válida"]
[null,null,null,null,null,null,0,1,0,1900,0,1,1900,"Nombre y el registro de entrada válida"]
[null,null,null,null,null,null,0,1,0,1900,0,1,1900,"Nombre y el registro de entrada válida"]
[null,null,null,null,null,null,0,1,0,1900,0,1,1900,"Nombre y el registro de entrada válida"]
[null,null,null,null,null,null,0,1,0,1900,0,1,1900,"Nombre y el registro de entrada válida"]
[null,null,null,null,null,null,0,1,0,1900,0,1,1900,"Nombre y el registro de entrada válida"]
[null,null,null,null,null,null,0,1,0,1900,0,1,1900,"Nombre y el registro de entrada válida"]
[null,null,null,null,null,null,0,1,0,1900,0,1,1900,"Nombre y el registro de entrada válida"]
[null,null,null,null,null,null,0,1,0,1900,0,1,1900,"Nombre y el registro de entrada válida"]
[null,null,null,null,null,null,0,1,0,1900,0,1,1900,"Nombre y el registro de entrada válida"]
[null,null,null,null,null,null,0,1,0,1900,0,1,1900,"Nombre y el registro de entrada válida"]
[null,null,null,null,null,null,0,1,0,1900,0,1,1900,"Nombre y el registro de entrada válida"]
[null,null,null,null,null,null,0,1,0,1900,0,1,1900,"Nombre y el registro de entrada válida"]
[null,null,null,null,null,null,0,1,0,1900,0,1,1900,"Nombre y el registro de entrada válida"]
[null,null,null,null,null,null,0,1,0,1900,0,1,1900,"Nombre y el registro de entrada válida"]
[null,null,null,null,null,null,0,1,0,1900,0,1,1900,"Nombre y el registro de entrada válida"]
[null,null,null,null,null,null,0,1,0,1900,0,1,1900,"Nombre y el registro de entrada válida"]
[null,null,null,null,null,null,0,1,0,1900,0,1,1900,"Nombre y el registro de entrada válida"]
[null,null,null,null,null,null,0,1,0,1900,0,1,1900,"Nombre y el registro de entrada válida"]
[null,null,null,null,null,null,0,1,0,1900,0,1,1900,"Nombre y el registro de entrada válida"]
[null,null,null,null,null,null,0,1,0,1900,0,1,1900,"Nombre y el registro de entrada válida"]
[null,null,null,null,null,null,{"$f":"F2567*E2567","v":0},{"$f":"MONTH(B2567)","v":1},{"$f":"DAY(B2567)","v":0},{"$f":"YEAR(D2567)","v":1900},{"$f":"DAY(E2567)","v":0},{"$f":"MONTH(E2567)","v":1},{"$f":"YEAR(E2567)","v":1900},"Nombre y el registro de entrada válida"]
[null,null,null,null,null,null,0,1,0,1900,0,1,1900,"Nombre y el registro de entrada válida"]
[null,null,null,null,null,null,0,1,0,1900,0,1,1900,"Nombre y el registro de entrada válida"]
[null,null,null,null,null,null,0,1,0,1900,0,1,1900,"Nombre y el registro de entrada válida"]
[null,null,null,null,null,null,0,1,0,1900,0,1,1900,"Nombre y el registro de entrada válida"]
[null,null,null,null,null,null,0,1,0,1900,0,1,1900,"Nombre y el registro de entrada válida"]
[null,null,null,null,null,null,0,1,0,1900,0,1,1900,"Nombre y el registro de entrada válida"]
[null,null,null,null,null,null,0,1,0,1900,0,1,1900,"Nombre y el registro de entrada válida"]
[null,null,null,null,null,null,0,1,0,1900,0,1,1900,"Nombre y el registro de entrada válida"]
[null,null,null,null,null,null,0,1,0,1900,0,1,1900,"Nombre y el registro de entrada válida"]
[null,null,null,null,null,null,0,1,0,1900,0,1,1900,"Nombre y el registro de entrada válida"]
[null,null,null,null,null,null,0,1,0,1900,0,1,1900,"Nombre y el registro de entrada válida"]
[null,null,null,null,null,null,0,1,0,1900,0,1,1900,"Nombre y el registro de entrada válida"]
[null,null,null,null,null,null,0,1,0,1900,0,1,1900,"Nombre y el registro de entrada válida"]
[null,null,null,null,null,null,0,1,0,1900,0,1,1900,"Nombre y el registro de entrada válida"]
[null,null,null,null,null,null,0,1,0,1900,0,1,1900,"Nombre y el registro de entrada válida"]
[null,null,null,null,null,null,0,1,0,1900,0,1,1900,"Nombre y el registro de entrada válida"]
[null,null,null,null,null,null,0,1,0,1900,0,1,1900,"Nombre y el registro de entrada válida"]
[null,null,null,null,null,null,0,1,0,1900,0,1,1900,"Nombre y el registro de entrada válida"]
[null,null,null,null,null,null,0,1,0,1900,0,1,1900,"Nombre y el registro de entrada válida"]
[null,null,null,null,null,null,0,1,0,1900,0,1,1900,"Nombre y el registro de entrada válida"]
[null,null,null,null,null,null,0,1,0,1900,0,1,1900,"Nombre y el registro de entrada válida"]
[null,null,null,null,null,null,0,1,0,1900,0,1,1900,"Nombre y el registro de entrada válida"]
[null,null,null,null,null,null,0,1,0,1900,0,1,1900,"Nombre y el registro de entrada válida"]
[null,null,null,null,null,null,0,1,0,1900,0,1,1900,"Nombre y el registro de entrada válida"]
[null,null,null,null,null,null,0,1,0,1900,0,1,1900,"Nombre y el registro de entrada válida"]
[null,null,null,null,null,null,0,1,0,1900,0,1,1900,"Nombre y el registro de entrada válida"]
[null,null,null,null,null,null,0,1,0,1900,0,1,1900,"Nombre y el registro de entrada válida"]
[null,null,null,null,null,null,0,1,0,1900,0,1,1900,"Nombre y el registro de entrada válida"]
[null,null,null,null,null,null,0,1,0,1900,0,1,1900,"Nombre y el registro de entrada válida"]
[null,null,null,null,null,null,0,1,0,1900,0,1,1900,"Nombre y el registro de entrada válida"]
[null,null,null,null,null,null,0,1,0,1900,0,1,1900,"Nombre y el registro de entrada válida"]
[null,null,null,null,null,null,0,1,0,1900,0,1,1900,"Nombre y el registro de entrada válida"]
[null,null,null,null,null,null,0,1,0,1900,0,1,1900,"Nombre y el registro de entrada válida"]
[null,null,null,null,null,null,0,1,0,1900,0,1,1900,"Nombre y el registro de entrada válida"]
[null,null,null,null,null,null,0,1,0,1900,0,1,1900,"Nombre y el registro de entrada válida"]
[null,null,null,null,null,null,0,1,0,1900,0,1,1900,"Nombre y el registro de entrada válida"]
[null,null,null,null,null,null,0,1,0,1900,0,1,1900,"Nombre y el registro de entrada válida"]
[null,null,null,null,null,null,0,1,0,1900,0,1,1900,"Nombre y el registro de entrada válida"]
[null,null,null,null,null,null,0,1,0,1900,0,1,1900,"Nombre y el registro de entrada válida"]
[null,null,null,null,null,null,0,1,0,1900,0,1,1900,"Nombre y el registro de entrada válida"]
[null,null,null,null,null,null,0,1,0,1900,0,1,1900,"Nombre y el registro de entrada válida"]
[null,null,null,null,null,null,0,1,0,1900,0,1,1900,"Nombre y el registro de entrada válida"]
[null,null,null,null,null,null,0,1,0,1900,0,1,1900,"Nombre y el registro de entrada válida"]
[null,null,null,null,null,null,0,1,0,1900,0,1,1900,"Nombre y el registro de entrada válida"]
[null,null,null,null,null,null,0,1,0,1900,0,1,1900,"Nombre y el registro de entrada válida"]
[null,null,null,null,null,null,0,1,0,1900,0,1,1900,"Nombre y el registro de entrada válida"]
[null,null,null,null,null,null,0,1,0,1900,0,1,1900,"Nombre y el registro de entrada válida"]
[null,null,null,null,null,null,0,1,0,1900,0,1,1900,"Nombre y el registro de entrada válida"]
[null,null,null,null,null,null,0,1,0,1900,0,1,1900,"Nombre y el registro de entrada válida"]
[null,null,null,null,null,null,0,1,0,1900,0,1,1900,"Nombre y el registro de entrada válida"]
[null,null,null,null,null,null,0,1,0,1900,0,1,1900,"Nombre y el registro de entrada válida"]
[null,null,null,null,null,null,0,1,0,1900,0,1,1900,"Nombre y el registro de entrada válida"]
[null,null,null,null,null,null,0,1,0,1900,0,1,1900,"Nombre y el registro de entrada válida"]
[null,null,null,null,null,null,0,1,0,1900,0,1,1900,"Nombre y el registro de entrada válida"]
[null,null,null,null,null,null,0,1,0,1900,0,1,1900,"Nombre y el registro de entrada válida"]
[null,null,null,null,null,null,0,1,0,1900,0,1,1900,"Nombre y el registro de entrada válida"]
[null,null,null,null,null,null,0,1,0,1900,0,1,1900,"Nombre y el registro de entrada válida"]
[null,null,null,null,null,null,0,1,0,1900,0,1,1900,"Nombre y el registro de entrada válida"]
[null,null,null,null,null,null,0,1,0,1900,0,1,1900,"Nombre y el registro de entrada válida"]
[null,null,null,null,null,null,0,1,0,1900,0,1,1900,"Nombre y el registro de entrada válida"]
[null,null,null,null,null,null,0,1,0,1900,0,1,1900,"Nombre y el registro de entrada válida"]
[null,null,null,null,null,null,0,1,0,1900,0,1,1900,"Nombre y el registro de entrada válida"]
[null,null,null,null,null,null,0,1,0,1900,0,1,1900,"Nombre y el registro de entrada válida"]
[null,null,null,null,null,null,{"$f":"F2631*E2631","v":0},{"$f":"MONTH(B2631)","v":1},{"$f":"DAY(B2631)","v":0},{"$f":"YEAR(D2631)","v":1900},{"$f":"DAY(E2631)","v":0},{"$f":"MONTH(E2631)","v":1},{"$f":"YEAR(E2631)","v":1900},"Nombre y el registro de entrada válida"]
[null,null,null,null,null,null,0,1,0,1900,0,1,1900,"Nombre y el registro de entrada válida"]
[null,null,null,null,null,null,0,1,0,1900,0,1,1900,"Nombre y el registro de entrada válida"]
[null,null,null,null,null,null,0,1,0,1900,0,1,1900,"Nombre y el registro de entrada válida"]
[null,null,null,null,null,null,0,1,0,1900,0,1,1900,"Nombre y el registro de entrada válida"]
[null,null,null,null,null,null,0,1,0,1900,0,1,1900,"Nombre y el registro de entrada válida"]
[null,null,null,null,null,null,0,1,0,1900,0,1,1900,"Nombre y el registro de entrada válida"]
[null,null,null,null,null,null,0,1,0,1900,0,1,1900,"Nombre y el registro de entrada válida"]
[null,null,null,null,null,null,0,1,0,1900,0,1,1900,"Nombre y el registro de entrada válida"]
[null,null,null,null,null,null,0,1,0,1900,0,1,1900,"Nombre y el registro de entrada válida"]
[null,null,null,null,null,null,0,1,0,1900,0,1,1900,"Nombre y el registro de entrada válida"]
[null,null,null,null,null,null,0,1,0,1900,0,1,1900,"Nombre y el registro de entrada válida"]
[null,null,null,null,null,null,0,1,0,1900,0,1,1900,"Nombre y el registro de entrada válida"]
[null,null,null,null,null,null,0,1,0,1900,0,1,1900,"Nombre y el registro de entrada válida"]
[null,null,null,null,null,null,0,1,0,1900,0,1,1900,"Nombre y el registro de entrada válida"]
[null,null,null,null,null,null,0,1,0,1900,0,1,1900,"Nombre y el registro de entrada válida"]
[null,null,null,null,null,null,0,1,0,1900,0,1,1900,"Nombre y el registro de entrada válida"]
[null,null,null,null,null,null,0,1,0,1900,0,1,1900,"Nombre y el registro de entrada válida"]
[null,null,null,null,null,null,0,1,0,1900,0,1,1900,"Nombre y el registro de entrada válida"]
[null,null,null,null,null,null,0,1,0,1900,0,1,1900,"Nombre y el registro de entrada válida"]
[null,null,null,null,null,null,0,1,0,1900,0,1,1900,"Nombre y el registro de entrada válida"]
[null,null,null,null,null,null,0,1,0,1900,0,1,1900,"Nombre y el registro de entrada válida"]
[null,null,null,null,null,null,0,1,0,1900,0,1,1900,"Nombre y el registro de entrada válida"]
[null,null,null,null,null,null,0,1,0,1900,0,1,1900,"Nombre y el registro de entrada válida"]
[null,null,null,null,null,null,0,1,0,1900,0,1,1900,"Nombre y el registro de entrada válida"]
[null,null,null,null,null,null,0,1,0,1900,0,1,1900,"Nombre y el registro de entrada válida"]
[null,null,null,null,null,null,0,1,0,1900,0,1,1900,"Nombre y el registro de entrada válida"]
[null,null,null,null,null,null,0,1,0,1900,0,1,1900,"Nombre y el registro de entrada válida"]
[null,null,null,null,null,null,0,1,0,1900,0,1,1900,"Nombre y el registro de entrada válida"]
[null,null,null,null,null,null,0,1,0,1900,0,1,1900,"Nombre y el registro de entrada válida"]
[null,null,null,null,null,null,0,1,0,1900,0,1,1900,"Nombre y el registro de entrada válida"]
[null,null,null,null,null,null,0,1,0,1900,0,1,1900,"Nombre y el registro de entrada válida"]
[null,null,null,null,null,null,0,1,0,1900,0,1,1900,"Nombre y el registro de entrada válida"]
[null,null,null,null,null,null,0,1,0,1900,0,1,1900,"Nombre y el registro de entrada válida"]
[null,null,null,null,null,null,0,1,0,1900,0,1,1900,"Nombre y el registro de entrada válida"]
[null,null,null,null,null,null,0,1,0,1900,0,1,1900,"Nombre y el registro de entrada válida"]
[null,null,null,null,null,null,0,1,0,1900,0,1,1900,"Nombre y el registro de entrada válida"]
[null,null,null,null,null,null,0,1,0,1900,0,1,1900,"Nombre y el registro de entrada válida"]
[null,null,null,null,null,null,0,1,0,1900,0,1,1900,"Nombre y el registro de entrada válida"]
[null,null,null,null,null,null,0,1,0,1900,0,1,1900,"Nombre y el registro de entrada válida"]
[null,null,null,null,null,null,0,1,0,1900,0,1,1900,"Nombre y el registro de entrada válida"]
[null,null,null,null,null,null,0,1,0,1900,0,1,1900,"Nombre y el registro de entrada válida"]
[null,null,null,null,null,null,0,1,0,1900,0,1,1900,"Nombre y el registro de entrada válida"]
[null,null,null,null,null,null,0,1,0,1900,0,1,1900,"Nombre y el registro de entrada válida"]
[null,null,null,null,null,null,0,1,0,1900,0,1,1900,"Nombre y el registro de entrada válida"]
[null,null,null,null,null,null,0,1,0,1900,0,1,1900,"Nombre y el registro de entrada válida"]
[null,null,null,null,null,null,0,1,0,1900,0,1,1900,"Nombre y el registro de entrada válida"]
[null,null,null,null,null,null,0,1,0,1900,0,1,1900,"Nombre y el registro de entrada válida"]
[null,null,null,null,null,null,0,1,0,1900,0,1,1900,"Nombre y el registro de entrada válida"]
[null,null,null,null,null,null,0,1,0,1900,0,1,1900,"Nombre y el registro de entrada válida"]
[null,null,null,null,null,null,0,1,0,1900,0,1,1900,"Nombre y el registro de entrada válida"]
[null,null,null,null,null,null,0,1,0,1900,0,1,1900,"Nombre y el registro de entrada válida"]
[null,null,null,null,null,null,0,1,0,1900,0,1,1900,"Nombre y el registro de entrada válida"]
[null,null,null,null,null,null,0,1,0,1900,0,1,1900,"Nombre y el registro de entrada válida"]
[null,null,null,null,null,null,0,1,0,1900,0,1,1900,"Nombre y el registro de entrada válida"]
[null,null,null,null,null,null,0,1,0,1900,0,1,1900,"Nombre y el registro de entrada válida"]
[null,null,null,null,null,null,0,1,0,1900,0,1,1900,"Nombre y el registro de entrada válida"]
[null,null,null,null,null,null,0,1,0,1900,0,1,1900,"Nombre y el registro de entrada válida"]
[null,null,null,null,null,null,0,1,0,1900,0,1,1900,"Nombre y el registro de entrada válida"]
[null,null,null,null,null,null,0,1,0,1900,0,1,1900,"Nombre y el registro de entrada válida"]
[null,null,null,null,null,null,0,1,0,1900,0,1,1900,"Nombre y el registro de entrada válida"]
[null,null,null,null,null,null,0,1,0,1900,0,1,1900,"Nombre y el registro de entrada válida"]
[null,null,null,null,null,null,0,1,0,1900,0,1,1900,"Nombre y el registro de entrada válida"]
[null,null,null,null,null,null,0,1,0,1900,0,1,1900,"Nombre y el registro de entrada válida"]
[null,null,null,null,null,null,{"$f":"F2695*E2695","v":0},{"$f":"MONTH(B2695)","v":1},{"$f":"DAY(B2695)","v":0},{"$f":"YEAR(D2695)","v":1900},{"$f":"DAY(E2695)","v":0},{"$f":"MONTH(E2695)","v":1},{"$f":"YEAR(E2695)","v":1900},"Nombre y el registro de entrada válida"]
[null,null,null,null,null,null,0,1,0,1900,0,1,1900,"Nombre y el registro de entrada válida"]
[null,null,null,null,null,null,0,1,0,1900,0,1,1900,"Nombre y el registro de entrada válida"]
[null,null,null,null,null,null,0,1,0,1900,0,1,1900,"Nombre y el registro de entrada válida"]
[null,null,null,null,null,null,0,1,0,1900,0,1,1900,"Nombre y el registro de entrada válida"]
[null,null,null,null,null,null,0,1,0,1900,0,1,1900,"Nombre y el registro de entrada válida"]
[null,null,null,null,null,null,0,1,0,1900,0,1,1900,"Nombre y el registro de entrada válida"]
[null,null,null,null,null,null,0,1,0,1900,0,1,1900,"Nombre y el registro de entrada válida"]
[null,null,null,null,null,null,0,1,0,1900,0,1,1900,"Nombre y el registro de entrada válida"]
[null,null,null,null,null,null,0,1,0,1900,0,1,1900,"Nombre y el registro de entrada válida"]
[null,null,null,null,null,null,0,1,0,1900,0,1,1900,"Nombre y el registro de entrada válida"]
[null,null,null,null,null,null,0,1,0,1900,0,1,1900,"Nombre y el registro de entrada válida"]
[null,null,null,null,null,null,0,1,0,1900,0,1,1900,"Nombre y el registro de entrada válida"]
[null,null,null,null,null,null,0,1,0,1900,0,1,1900,"Nombre y el registro de entrada válida"]
[null,null,null,null,null,null,0,1,0,1900,0,1,1900,"Nombre y el registro de entrada válida"]
[null,null,null,null,null,null,0,1,0,1900,0,1,1900,"Nombre y el registro de entrada válida"]
[null,null,null,null,null,null,0,1,0,1900,0,1,1900,"Nombre y el registro de entrada válida"]
[null,null,null,null,null,null,0,1,0,1900,0,1,1900,"Nombre y el registro de entrada válida"]
[null,null,null,null,null,null,0,1,0,1900,0,1,1900,"Nombre y el registro de entrada válida"]
[null,null,null,null,null,null,0,1,0,1900,0,1,1900,"Nombre y el registro de entrada válida"]
[null,null,null,null,null,null,0,1,0,1900,0,1,1900,"Nombre y el registro de entrada válida"]
[null,null,null,null,null,null,0,1,0,1900,0,1,1900,"Nombre y el registro de entrada válida"]
[null,null,null,null,null,null,0,1,0,1900,0,1,1900,"Nombre y el registro de entrada válida"]
[null,null,null,null,null,null,0,1,0,1900,0,1,1900,"Nombre y el registro de entrada válida"]
[null,null,null,null,null,null,0,1,0,1900,0,1,1900,"Nombre y el registro de entrada válida"]
[null,null,null,null,null,null,0,1,0,1900,0,1,1900,"Nombre y el registro de entrada válida"]
[null,null,null,null,null,null,0,1,0,1900,0,1,1900,"Nombre y el registro de entrada válida"]
[null,null,null,null,null,null,0,1,0,1900,0,1,1900,"Nombre y el registro de entrada válida"]
[null,null,null,null,null,null,0,1,0,1900,0,1,1900,"Nombre y el registro de entrada válida"]
[null,null,null,null,null,null,0,1,0,1900,0,1,1900,"Nombre y el registro de entrada válida"]
[null,null,null,null,null,null,0,1,0,1900,0,1,1900,"Nombre y el registro de entrada válida"]
[null,null,null,null,null,null,0,1,0,1900,0,1,1900,"Nombre y el registro de entrada válida"]
[null,null,null,null,null,null,0,1,0,1900,0,1,1900,"Nombre y el registro de entrada válida"]
[null,null,null,null,null,null,0,1,0,1900,0,1,1900,"Nombre y el registro de entrada válida"]
[null,null,null,null,null,null,0,1,0,1900,0,1,1900,"Nombre y el registro de entrada válida"]
[null,null,null,null,null,null,0,1,0,1900,0,1,1900,"Nombre y el registro de entrada válida"]
[null,null,null,null,null,null,0,1,0,1900,0,1,1900,"Nombre y el registro de entrada válida"]
[null,null,null,null,null,null,0,1,0,1900,0,1,1900,"Nombre y el registro de entrada válida"]
[null,null,null,null,null,null,0,1,0,1900,0,1,1900,"Nombre y el registro de entrada válida"]
[null,null,null,null,null,null,0,1,0,1900,0,1,1900,"Nombre y el registro de entrada válida"]
[null,null,null,null,null,null,0,1,0,1900,0,1,1900,"Nombre y el registro de entrada válida"]
[null,null,null,null,null,null,0,1,0,1900,0,1,1900,"Nombre y el registro de entrada válida"]
[null,null,null,null,null,null,0,1,0,1900,0,1,1900,"Nombre y el registro de entrada válida"]
[null,null,null,null,null,null,0,1,0,1900,0,1,1900,"Nombre y el registro de entrada válida"]
[null,null,null,null,null,null,0,1,0,1900,0,1,1900,"Nombre y el registro de entrada válida"]
[null,null,null,null,null,null,0,1,0,1900,0,1,1900,"Nombre y el registro de entrada válida"]
[null,null,null,null,null,null,0,1,0,1900,0,1,1900,"Nombre y el registro de entrada válida"]
[null,null,null,null,null,null,0,1,0,1900,0,1,1900,"Nombre y el registro de entrada válida"]
[null,null,null,null,null,null,0,1,0,1900,0,1,1900,"Nombre y el registro de entrada válida"]
[null,null,null,null,null,null,0,1,0,1900,0,1,1900,"Nombre y el registro de entrada válida"]
[null,null,null,null,null,null,0,1,0,1900,0,1,1900,"Nombre y el registro de entrada válida"]
[null,null,null,null,null,null,0,1,0,1900,0,1,1900,"Nombre y el registro de entrada válida"]
[null,null,null,null,null,null,0,1,0,1900,0,1,1900,"Nombre y el registro de entrada válida"]
[null,null,null,null,null,null,0,1,0,1900,0,1,1900,"Nombre y el registro de entrada válida"]
[null,null,null,null,null,null,0,1,0,1900,0,1,1900,"Nombre y el registro de entrada válida"]
[null,null,null,null,null,null,0,1,0,1900,0,1,1900,"Nombre y el registro de entrada válida"]
[null,null,null,null,null,null,0,1,0,1900,0,1,1900,"Nombre y el registro de entrada válida"]
[null,null,null,null,null,null,0,1,0,1900,0,1,1900,"Nombre y el registro de entrada válida"]
[null,null,null,null,null,null,0,1,0,1900,0,1,1900,"Nombre y el registro de entrada válida"]
[null,null,null,null,null,null,0,1,0,1900,0,1,1900,"Nombre y el registro de entrada válida"]
[null,null,null,null,null,null,0,1,0,1900,0,1,1900,"Nombre y el registro de entrada válida"]
[null,null,null,null,null,null,0,1,0,1900,0,1,1900,"Nombre y el registro de entrada válida"]
[null,null,null,null,null,null,0,1,0,1900,0,1,1900,"Nombre y el registro de entrada válida"]
[null,null,null,null,null,null,0,1,0,1900,0,1,1900,"Nombre y el registro de entrada válida"]
[null,null,null,null,null,null,{"$f":"F2759*E2759","v":0},{"$f":"MONTH(B2759)","v":1},{"$f":"DAY(B2759)","v":0},{"$f":"YEAR(D2759)","v":1900},{"$f":"DAY(E2759)","v":0},{"$f":"MONTH(E2759)","v":1},{"$f":"YEAR(E2759)","v":1900},"Nombre y el registro de entrada válida"]
[null,null,null,null,null,null,0,1,0,1900,0,1,1900,"Nombre y el registro de entrada válida"]
[null,null,null,null,null,null,0,1,0,1900,0,1,1900,"Nombre y el registro de entrada válida"]
[null,null,null,null,null,null,0,1,0,1900,0,1,1900,"Nombre y el registro de entrada válida"]
[null,null,null,null,null,null,0,1,0,1900,0,1,1900,"Nombre y el registro de entrada válida"]
[null,null,null,null,null,null,0,1,0,1900,0,1,1900,"Nombre y el registro de entrada válida"]
[null,null,null,null,null,null,0,1,0,1900,0,1,1900,"Nombre y el registro de entrada válida"]
[null,null,null,null,null,null,0,1,0,1900,0,1,1900,"Nombre y el registro de entrada válida"]
[null,null,null,null,null,null,0,1,0,1900,0,1,1900,"Nombre y el registro de entrada válida"]
[null,null,null,null,null,null,0,1,0,1900,0,1,1900,"Nombre y el registro de entrada válida"]
[null,null,null,null,null,null,0,1,0,1900,0,1,1900,"Nombre y el registro de entrada válida"]
[null,null,null,null,null,null,0,1,0,1900,0,1,1900,"Nombre y el registro de entrada válida"]
[null,null,null,null,null,null,0,1,0,1900,0,1,1900,"Nombre y el registro de entrada válida"]
[null,null,null,null,null,null,0,1,0,1900,0,1,1900,"Nombre y el registro de entrada válida"]
[null,null,null,null,null,null,0,1,0,1900,0,1,1900,"Nombre y el registro de entrada válida"]
[null,null,null,null,null,null,0,1,0,1900,0,1,1900,"Nombre y el registro de entrada válida"]
[null,null,null,null,null,null,0,1,0,1900,0,1,1900,"Nombre y el registro de entrada válida"]
[null,null,null,null,null,null,0,1,0,1900,0,1,1900,"Nombre y el registro de entrada válida"]
[null,null,null,null,null,null,0,1,0,1900,0,1,1900,"Nombre y el registro de entrada válida"]
[null,null,null,null,null,null,0,1,0,1900,0,1,1900,"Nombre y el registro de entrada válida"]
[null,null,null,null,null,null,0,1,0,1900,0,1,1900,"Nombre y el registro de entrada válida"]
[null,null,null,null,null,null,0,1,0,1900,0,1,1900,"Nombre y el registro de entrada válida"]
[null,null,null,null,null,null,0,1,0,1900,0,1,1900,"Nombre y el registro de entrada válida"]
[null,null,null,null,null,null,0,1,0,1900,0,1,1900,"Nombre y el registro de entrada válida"]
[null,null,null,null,null,null,0,1,0,1900,0,1,1900,"Nombre y el registro de entrada válida"]
[null,null,null,null,null,null,0,1,0,1900,0,1,1900,"Nombre y el registro de entrada válida"]
[null,null,null,null,null,null,0,1,0,1900,0,1,1900,"Nombre y el registro de entrada válida"]
[null,null,null,null,null,null,0,1,0,1900,0,1,1900,"Nombre y el registro de entrada válida"]
[null,null,null,null,null,null,0,1,0,1900,0,1,1900,"Nombre y el registro de entrada válida"]
[null,null,null,null,null,null,0,1,0,1900,0,1,1900,"Nombre y el registro de entrada válida"]
[null,null,null,null,null,null,0,1,0,1900,0,1,1900,"Nombre y el registro de entrada válida"]
[null,null,null,null,null,null,0,1,0,1900,0,1,1900,"Nombre y el registro de entrada válida"]
[null,null,null,null,null,null,0,1,0,1900,0,1,1900,"Nombre y el registro de entrada válida"]
[null,null,null,null,null,null,0,1,0,1900,0,1,1900,"Nombre y el registro de entrada válida"]
[null,null,null,null,null,null,0,1,0,1900,0,1,1900,"Nombre y el registro de entrada válida"]
[null,null,null,null,null,null,0,1,0,1900,0,1,1900,"Nombre y el registro de entrada válida"]
[null,null,null,null,null,null,0,1,0,1900,0,1,1900,"Nombre y el registro de entrada válida"]
[null,null,null,null,null,null,0,1,0,1900,0,1,1900,"Nombre y el registro de entrada válida"]
[null,null,null,null,null,null,0,1,0,1900,0,1,1900,"Nombre y el registro de entrada válida"]
[null,null,null,null,null,null,0,1,0,1900,0,1,1900,"Nombre y el registro de entrada válida"]
[null,null,null,null,null,null,0,1,0,1900,0,1,1900,"Nombre y el registro de entrada válida"]
[null,null,null,null,null,null,0,1,0,1900,0,1,1900,"Nombre y el registro de entrada válida"]
[null,null,null,null,null,null,0,1,0,1900,0,1,1900,"Nombre y el registro de entrada válida"]
[null,null,null,null,null,null,0,1,0,1900,0,1,1900,"Nombre y el registro de entrada válida"]
[null,null,null,null,null,null,0,1,0,1900,0,1,1900,"Nombre y el registro de entrada válida"]
[null,null,null,null,null,null,0,1,0,1900,0,1,1900,"Nombre y el registro de entrada válida"]
[null,null,null,null,null,null,0,1,0,1900,0,1,1900,"Nombre y el registro de entrada válida"]
[null,null,null,null,null,null,0,1,0,1900,0,1,1900,"Nombre y el registro de entrada válida"]
[null,null,null,null,null,null,0,1,0,1900,0,1,1900,"Nombre y el registro de entrada válida"]
[null,null,null,null,null,null,0,1,0,1900,0,1,1900,"Nombre y el registro de entrada válida"]
[null,null,null,null,null,null,0,1,0,1900,0,1,1900,"Nombre y el registro de entrada válida"]
[null,null,null,null,null,null,0,1,0,1900,0,1,1900,"Nombre y el registro de entrada válida"]
[null,null,null,null,null,null,0,1,0,1900,0,1,1900,"Nombre y el registro de entrada válida"]
[null,null,null,null,null,null,0,1,0,1900,0,1,1900,"Nombre y el registro de entrada válida"]
[null,null,null,null,null,null,0,1,0,1900,0,1,1900,"Nombre y el registro de entrada válida"]
[null,null,null,null,null,null,0,1,0,1900,0,1,1900,"Nombre y el registro de entrada válida"]
[null,null,null,null,null,null,0,1,0,1900,0,1,1900,"Nombre y el registro de entrada válida"]
[null,null,null,null,null,null,0,1,0,1900,0,1,1900,"Nombre y el registro de entrada válida"]
[null,null,null,null,null,null,0,1,0,1900,0,1,1900,"Nombre y el registro de entrada válida"]
[null,null,null,null,null,null,0,1,0,1900,0,1,1900,"Nombre y el registro de entrada válida"]
[null,null,null,null,null,null,0,1,0,1900,0,1,1900,"Nombre y el registro de entrada válida"]
[null,null,null,null,null,null,0,1,0,1900,0,1,1900,"Nombre y el registro de entrada válida"]
[null,null,null,null,null,null,0,1,0,1900,0,1,1900,"Nombre y el registro de entrada válida"]
[null,null,null,null,null,null,0,1,0,1900,0,1,1900,"Nombre y el registro de entrada válida"]
[null,null,null,null,null,null,{"$f":"F2823*E2823","v":0},{"$f":"MONTH(B2823)","v":1},{"$f":"DAY(B2823)","v":0},{"$f":"YEAR(D2823)","v":1900},{"$f":"DAY(E2823)","v":0},{"$f":"MONTH(E2823)","v":1},{"$f":"YEAR(E2823)","v":1900},"Nombre y el registro de entrada válida"]
[null,null,null,null,null,null,0,1,0,1900,0,1,1900,"Nombre y el registro de entrada válida"]
[null,null,null,null,null,null,0,1,0,1900,0,1,1900,"Nombre y el registro de entrada válida"]
[null,null,null,null,null,null,0,1,0,1900,0,1,1900,"Nombre y el registro de entrada válida"]
[null,null,null,null,null,null,0,1,0,1900,0,1,1900,"Nombre y el registro de entrada válida"]
[null,null,null,null,null,null,0,1,0,1900,0,1,1900,"Nombre y el registro de entrada válida"]
[null,null,null,null,null,null,0,1,0,1900,0,1,1900,"Nombre y el registro de entrada válida"]
[null,null,null,null,null,null,0,1,0,1900,0,1,1900,"Nombre y el registro de entrada válida"]
[null,null,null,null,null,null,0,1,0,1900,0,1,1900,"Nombre y el registro de entrada válida"]
[null,null,null,null,null,null,0,1,0,1900,0,1,1900,"Nombre y el registro de entrada válida"]
[null,null,null,null,null,null,0,1,0,1900,0,1,1900,"Nombre y el registro de entrada válida"]
[null,null,null,null,null,null,0,1,0,1900,0,1,1900,"Nombre y el registro de entrada válida"]
[null,null,null,null,null,null,0,1,0,1900,0,1,1900,"Nombre y el registro de entrada válida"]
[null,null,null,null,null,null,0,1,0,1900,0,1,1900,"Nombre y el registro de entrada válida"]
[null,null,null,null,null,null,0,1,0,1900,0,1,1900,"Nombre y el registro de entrada válida"]
[null,null,null,null,null,null,0,1,0,1900,0,1,1900,"Nombre y el registro de entrada válida"]
[null,null,null,null,null,null,0,1,0,1900,0,1,1900,"Nombre y el registro de entrada válida"]
[null,null,null,null,null,null,0,1,0,1900,0,1,1900,"Nombre y el registro de entrada válida"]
[null,null,null,null,null,null,0,1,0,1900,0,1,1900,"Nombre y el registro de entrada válida"]
[null,null,null,null,null,null,0,1,0,1900,0,1,1900,"Nombre y el registro de entrada válida"]
[null,null,null,null,null,null,0,1,0,1900,0,1,1900,"Nombre y el registro de entrada válida"]
[null,null,null,null,null,null,0,1,0,1900,0,1,1900,"Nombre y el registro de entrada válida"]
[null,null,null,null,null,null,0,1,0,1900,0,1,1900,"Nombre y el registro de entrada válida"]
[null,null,null,null,null,null,0,1,0,1900,0,1,1900,"Nombre y el registro de entrada válida"]
[null,null,null,null,null,null,0,1,0,1900,0,1,1900,"Nombre y el registro de entrada válida"]
[null,null,null,null,null,null,0,1,0,1900,0,1,1900,"Nombre y el registro de entrada válida"]
[null,null,null,null,null,null,0,1,0,1900,0,1,1900,"Nombre y el registro de entrada válida"]
[null,null,null,null,null,null,0,1,0,1900,0,1,1900,"Nombre y el registro de entrada válida"]
[null,null,null,null,null,null,0,1,0,1900,0,1,1900,"Nombre y el registro de entrada válida"]
[null,null,null,null,null,null,0,1,0,1900,0,1,1900,"Nombre y el registro de entrada válida"]
[null,null,null,null,null,null,0,1,0,1900,0,1,1900,"Nombre y el registro de entrada válida"]
[null,null,null,null,null,null,0,1,0,1900,0,1,1900,"Nombre y el registro de entrada válida"]
[null,null,null,null,null,null,0,1,0,1900,0,1,1900,"Nombre y el registro de entrada válida"]
[null,null,null,null,null,null,0,1,0,1900,0,1,1900,"Nombre y el registro de entrada válida"]
[null,null,null,null,null,null,0,1,0,1900,0,1,1900,"Nombre y el registro de entrada válida"]
[null,null,null,null,null,null,0,1,0,1900,0,1,1900,"Nombre y el registro de entrada válida"]
[null,null,null,null,null,null,0,1,0,1900,0,1,1900,"Nombre y el registro de entrada válida"]
[null,null,null,null,null,null,0,1,0,1900,0,1,1900,"Nombre y el registro de entrada válida"]
[null,null,null,null,null,null,0,1,0,1900,0,1,1900,"Nombre y el registro de entrada válida"]
[null,null,null,null,null,null,0,1,0,1900,0,1,1900,"Nombre y el registro de entrada válida"]
[null,null,null,null,null,null,0,1,0,1900,0,1,1900,"Nombre y el registro de entrada válida"]
[null,null,null,null,null,null,0,1,0,1900,0,1,1900,"Nombre y el registro de entrada válida"]
[null,null,null,null,null,null,0,1,0,1900,0,1,1900,"Nombre y el registro de entrada válida"]
[null,null,null,null,null,null,0,1,0,1900,0,1,1900,"Nombre y el registro de entrada válida"]
[null,null,null,null,null,null,0,1,0,1900,0,1,1900,"Nombre y el registro de entrada válida"]
[null,null,null,null,null,null,0,1,0,1900,0,1,1900,"Nombre y el registro de entrada válida"]
[null,null,null,null,null,null,0,1,0,1900,0,1,1900,"Nombre y el registro de entrada válida"]
[null,null,null,null,null,null,0,1,0,1900,0,1,1900,"Nombre y el registro de entrada válida"]
[null,null,null,null,null,null,0,1,0,1900,0,1,1900,"Nombre y el registro de entrada válida"]
[null,null,null,null,null,null,0,1,0,1900,0,1,1900,"Nombre y el registro de entrada válida"]
[null,null,null,null,null,null,0,1,0,1900,0,1,1900,"Nombre y el registro de entrada válida"]
[null,null,null,null,null,null,0,1,0,1900,0,1,1900,"Nombre y el registro de entrada válida"]
[null,null,null,null,null,null,0,1,0,1900,0,1,1900,"Nombre y el registro de entrada válida"]
[null,null,null,null,null,null,0,1,0,1900,0,1,1900,"Nombre y el registro de entrada válida"]
[null,null,null,null,null,null,0,1,0,1900,0,1,1900,"Nombre y el registro de entrada válida"]
[null,null,null,null,null,null,0,1,0,1900,0,1,1900,"Nombre y el registro de entrada válida"]
[null,null,null,null,null,null,0,1,0,1900,0,1,1900,"Nombre y el registro de entrada válida"]
[null,null,null,null,null,null,0,1,0,1900,0,1,1900,"Nombre y el registro de entrada válida"]
[null,null,null,null,null,null,0,1,0,1900,0,1,1900,"Nombre y el registro de entrada válida"]
[null,null,null,null,null,null,0,1,0,1900,0,1,1900,"Nombre y el registro de entrada válida"]
[null,null,null,null,null,null,0,1,0,1900,0,1,1900,"Nombre y el registro de entrada válida"]
[null,null,null,null,null,null,0,1,0,1900,0,1,1900,"Nombre y el registro de entrada válida"]
[null,null,null,null,null,null,0,1,0,1900,0,1,1900,"Nombre y el registro de entrada válida"]
[null,null,null,null,null,null,0,1,0,1900,0,1,1900,"Nombre y el registro de entrada válida"]
[null,null,null,null,null,null,{"$f":"F2887*E2887","v":0},{"$f":"MONTH(B2887)","v":1},{"$f":"DAY(B2887)","v":0},{"$f":"YEAR(D2887)","v":1900},{"$f":"DAY(E2887)","v":0},{"$f":"MONTH(E2887)","v":1},{"$f":"YEAR(E2887)","v":1900},"Nombre y el registro de entrada válida"]
[null,null,null,null,null,null,0,1,0,1900,0,1,1900,"Nombre y el registro de entrada válida"]
[null,null,null,null,null,null,0,1,0,1900,0,1,1900,"Nombre y el registro de entrada válida"]
[null,null,null,null,null,null,0,1,0,1900,0,1,1900,"Nombre y el registro de entrada válida"]
[null,null,null,null,null,null,0,1,0,1900,0,1,1900,"Nombre y el registro de entrada válida"]
[null,null,null,null,null,null,0,1,0,1900,0,1,1900,"Nombre y el registro de entrada válida"]
[null,null,null,null,null,null,0,1,0,1900,0,1,1900,"Nombre y el registro de entrada válida"]
[null,null,null,null,null,null,0,1,0,1900,0,1,1900,"Nombre y el registro de entrada válida"]
[null,null,null,null,null,null,0,1,0,1900,0,1,1900,"Nombre y el registro de entrada válida"]
[null,null,null,null,null,null,0,1,0,1900,0,1,1900,"Nombre y el registro de entrada válida"]
[null,null,null,null,null,null,0,1,0,1900,0,1,1900,"Nombre y el registro de entrada válida"]
[null,null,null,null,null,null,0,1,0,1900,0,1,1900,"Nombre y el registro de entrada válida"]
[null,null,null,null,null,null,0,1,0,1900,0,1,1900,"Nombre y el registro de entrada válida"]
[null,null,null,null,null,null,0,1,0,1900,0,1,1900,"Nombre y el registro de entrada válida"]
[null,null,null,null,null,null,0,1,0,1900,0,1,1900,"Nombre y el registro de entrada válida"]
[null,null,null,null,null,null,0,1,0,1900,0,1,1900,"Nombre y el registro de entrada válida"]
[null,null,null,null,null,null,0,1,0,1900,0,1,1900,"Nombre y el registro de entrada válida"]
[null,null,null,null,null,null,0,1,0,1900,0,1,1900,"Nombre y el registro de entrada válida"]
[null,null,null,null,null,null,0,1,0,1900,0,1,1900,"Nombre y el registro de entrada válida"]
[null,null,null,null,null,null,0,1,0,1900,0,1,1900,"Nombre y el registro de entrada válida"]
[null,null,null,null,null,null,0,1,0,1900,0,1,1900,"Nombre y el registro de entrada válida"]
[null,null,null,null,null,null,0,1,0,1900,0,1,1900,"Nombre y el registro de entrada válida"]
[null,null,null,null,null,null,0,1,0,1900,0,1,1900,"Nombre y el registro de entrada válida"]
[null,null,null,null,null,null,0,1,0,1900,0,1,1900,"Nombre y el registro de entrada válida"]
[null,null,null,null,null,null,0,1,0,1900,0,1,1900,"Nombre y el registro de entrada válida"]
[null,null,null,null,null,null,0,1,0,1900,0,1,1900,"Nombre y el registro de entrada válida"]
[null,null,null,null,null,null,0,1,0,1900,0,1,1900,"Nombre y el registro de entrada válida"]
[null,null,null,null,null,null,0,1,0,1900,0,1,1900,"Nombre y el registro de entrada válida"]
[null,null,null,null,null,null,0,1,0,1900,0,1,1900,"Nombre y el registro de entrada válida"]
[null,null,null,null,null,null,0,1,0,1900,0,1,1900,"Nombre y el registro de entrada válida"]
[null,null,null,null,null,null,0,1,0,1900,0,1,1900,"Nombre y el registro de entrada válida"]
[null,null,null,null,null,null,0,1,0,1900,0,1,1900,"Nombre y el registro de entrada válida"]
[null,null,null,null,null,null,0,1,0,1900,0,1,1900,"Nombre y el registro de entrada válida"]
[null,null,null,null,null,null,0,1,0,1900,0,1,1900,"Nombre y el registro de entrada válida"]
[null,null,null,null,null,null,0,1,0,1900,0,1,1900,"Nombre y el registro de entrada válida"]
[null,null,null,null,null,null,0,1,0,1900,0,1,1900,"Nombre y el registro de entrada válida"]
[null,null,null,null,null,null,0,1,0,1900,0,1,1900,"Nombre y el registro de entrada válida"]
[null,null,null,null,null,null,0,1,0,1900,0,1,1900,"Nombre y el registro de entrada válida"]
[null,null,null,null,null,null,0,1,0,1900,0,1,1900,"Nombre y el registro de entrada válida"]
[null,null,null,null,null,null,0,1,0,1900,0,1,1900,"Nombre y el registro de entrada válida"]
[null,null,null,null,null,null,0,1,0,1900,0,1,1900,"Nombre y el registro de entrada válida"]
[null,null,null,null,null,null,0,1,0,1900,0,1,1900,"Nombre y el registro de entrada válida"]
[null,null,null,null,null,null,0,1,0,1900,0,1,1900,"Nombre y el registro de entrada válida"]
[null,null,null,null,null,null,0,1,0,1900,0,1,1900,"Nombre y el registro de entrada válida"]
[null,null,null,null,null,null,0,1,0,1900,0,1,1900,"Nombre y el registro de entrada válida"]
[null,null,null,null,null,null,0,1,0,1900,0,1,1900,"Nombre y el registro de entrada válida"]
[null,null,null,null,null,null,0,1,0,1900,0,1,1900,"Nombre y el registro de entrada válida"]
[null,null,null,null,null,null,0,1,0,1900,0,1,1900,"Nombre y el registro de entrada válida"]
[null,null,null,null,null,null,0,1,0,1900,0,1,1900,"Nombre y el registro de entrada válida"]
[null,null,null,null,null,null,0,1,0,1900,0,1,1900,"Nombre y el registro de entrada válida"]
[null,null,null,null,null,null,0,1,0,1900,0,1,1900,"Nombre y el registro de entrada válida"]
[null,null,null,null,null,null,0,1,0,1900,0,1,1900,"Nombre y el registro de entrada válida"]
[null,null,null,null,null,null,0,1,0,1900,0,1,1900,"Nombre y el registro de entrada válida"]
[null,null,null,null,null,null,0,1,0,1900,0,1,1900,"Nombre y el registro de entrada válida"]
[null,null,null,null,null,null,0,1,0,1900,0,1,1900,"Nombre y el registro de entrada válida"]
[null,null,null,null,null,null,0,1,0,1900,0,1,1900,"Nombre y el registro de entrada válida"]
[null,null,null,null,null,null,0,1,0,1900,0,1,1900,"Nombre y el registro de entrada válida"]
[null,null,null,null,null,null,0,1,0,1900,0,1,1900,"Nombre y el registro de entrada válida"]
[null,null,null,null,null,null,0,1,0,1900,0,1,1900,"Nombre y el registro de entrada válida"]
[null,null,null,null,null,null,0,1,0,1900,0,1,1900,"Nombre y el registro de entrada válida"]
[null,null,null,null,null,null,0,1,0,1900,0,1,1900,"Nombre y el registro de entrada válida"]
[null,null,null,null,null,null,0,1,0,1900,0,1,1900,"Nombre y el registro de entrada válida"]
[null,null,null,null,null,null,0,1,0,1900,0,1,1900,"Nombre y el registro de entrada válida"]
[null,null,null,null,null,null,0,1,0,1900,0,1,1900,"Nombre y el registro de entrada válida"]
[null,null,null,null,null,null,{"$f":"F2951*E2951","v":0},{"$f":"MONTH(B2951)","v":1},{"$f":"DAY(B2951)","v":0},{"$f":"YEAR(D2951)","v":1900},{"$f":"DAY(E2951)","v":0},{"$f":"MONTH(E2951)","v":1},{"$f":"YEAR(E2951)","v":1900},"Nombre y el registro de entrada válida"]
[null,null,null,null,null,null,0,1,0,1900,0,1,1900,"Nombre y el registro de entrada válida"]
[null,null,null,null,null,null,0,1,0,1900,0,1,1900,"Nombre y el registro de entrada válida"]
[null,null,null,null,null,null,0,1,0,1900,0,1,1900,"Nombre y el registro de entrada válida"]
[null,null,null,null,null,null,0,1,0,1900,0,1,1900,"Nombre y el registro de entrada válida"]
[null,null,null,null,null,null,0,1,0,1900,0,1,1900,"Nombre y el registro de entrada válida"]
[null,null,null,null,null,null,0,1,0,1900,0,1,1900,"Nombre y el registro de entrada válida"]
[null,null,null,null,null,null,0,1,0,1900,0,1,1900,"Nombre y el registro de entrada válida"]
[null,null,null,null,null,null,0,1,0,1900,0,1,1900,"Nombre y el registro de entrada válida"]
[null,null,null,null,null,null,0,1,0,1900,0,1,1900,"Nombre y el registro de entrada válida"]
[null,null,null,null,null,null,0,1,0,1900,0,1,1900,"Nombre y el registro de entrada válida"]
[null,null,null,null,null,null,0,1,0,1900,0,1,1900,"Nombre y el registro de entrada válida"]
[null,null,null,null,null,null,0,1,0,1900,0,1,1900,"Nombre y el registro de entrada válida"]
[null,null,null,null,null,null,0,1,0,1900,0,1,1900,"Nombre y el registro de entrada válida"]
[null,null,null,null,null,null,0,1,0,1900,0,1,1900,"Nombre y el registro de entrada válida"]
[null,null,null,null,null,null,0,1,0,1900,0,1,1900,"Nombre y el registro de entrada válida"]
[null,null,null,null,null,null,0,1,0,1900,0,1,1900,"Nombre y el registro de entrada válida"]
[null,null,null,null,null,null,0,1,0,1900,0,1,1900,"Nombre y el registro de entrada válida"]
[null,null,null,null,null,null,0,1,0,1900,0,1,1900,"Nombre y el registro de entrada válida"]
[null,null,null,null,null,null,0,1,0,1900,0,1,1900,"Nombre y el registro de entrada válida"]
[null,null,null,null,null,null,0,1,0,1900,0,1,1900,"Nombre y el registro de entrada válida"]
[null,null,null,null,null,null,0,1,0,1900,0,1,1900,"Nombre y el registro de entrada válida"]
[null,null,null,null,null,null,0,1,0,1900,0,1,1900,"Nombre y el registro de entrada válida"]
[null,null,null,null,null,null,0,1,0,1900,0,1,1900,"Nombre y el registro de entrada válida"]
[null,null,null,null,null,null,0,1,0,1900,0,1,1900,"Nombre y el registro de entrada válida"]
[null,null,null,null,null,null,0,1,0,1900,0,1,1900,"Nombre y el registro de entrada válida"]
[null,null,null,null,null,null,0,1,0,1900,0,1,1900,"Nombre y el registro de entrada válida"]
[null,null,null,null,null,null,0,1,0,1900,0,1,1900,"Nombre y el registro de entrada válida"]
[null,null,null,null,null,null,0,1,0,1900,0,1,1900,"Nombre y el registro de entrada válida"]
[null,null,null,null,null,null,0,1,0,1900,0,1,1900,"Nombre y el registro de entrada válida"]
[null,null,null,null,null,null,0,1,0,1900,0,1,1900,"Nombre y el registro de entrada válida"]
[null,null,null,null,null,null,0,1,0,1900,0,1,1900,"Nombre y el registro de entrada válida"]
[null,null,null,null,null,null,0,1,0,1900,0,1,1900,"Nombre y el registro de entrada válida"]
[null,null,null,null,null,null,0,1,0,1900,0,1,1900,"Nombre y el registro de entrada válida"]
[null,null,null,null,null,null,0,1,0,1900,0,1,1900,"Nombre y el registro de entrada válida"]
[null,null,null,null,null,null,0,1,0,1900,0,1,1900,"Nombre y el registro de entrada válida"]
[null,null,null,null,null,null,0,1,0,1900,0,1,1900,"Nombre y el registro de entrada válida"]
[null,null,null,null,null,null,0,1,0,1900,0,1,1900,"Nombre y el registro de entrada válida"]
[null,null,null,null,null,null,0,1,0,1900,0,1,1900,"Nombre y el registro de entrada válida"]
[null,null,null,null,null,null,0,1,0,1900,0,1,1900,"Nombre y el registro de entrada válida"]
[null,null,null,null,null,null,0,1,0,1900,0,1,1900,"Nombre y el registro de entrada válida"]
[null,null,null,null,null,null,0,1,0,1900,0,1,1900,"Nombre y el registro de entrada válida"]
[null,null,null,null,null,null,0,1,0,1900,0,1,1900,"Nombre y el registro de entrada válida"]
[null,null,null,null,null,null,0,1,0,1900,0,1,1900,"Nombre y el registro de entrada válida"]
[null,null,null,null,null,null,0,1,0,1900,0,1,1900,"Nombre y el registro de entrada válida"]
[null,null,null,null,null,null,0,1,0,1900,0,1,1900,"Nombre y el registro de entrada válida"]
[null,null,null,null,null,null,0,1,0,1900,0,1,1900,"Nombre y el registro de entrada válida"]
[null,null,null,null,null,null,0,1,0,1900,0,1,1900,"Nombre y el registro de entrada válida"]
[null,null,null,null,null,null,0,1,0,1900,0,1,1900,"Nombre y el registro de entrada válida"]
[null,null,null,null,null,null,0,1,0,1900,0,1,1900,"Nombre y el registro de entrada válida"]
[null,null,null,null,null,null,0,1,0,1900,0,1,1900,"Nombre y el registro de entrada válida"]
[null,null,null,null,null,null,0,1,0,1900,0,1,1900,"Nombre y el registro de entrada válida"]
[null,null,null,null,null,null,0,1,0,1900,0,1,1900,"Nombre y el registro de entrada válida"]
[null,null,null,null,null,null,0,1,0,1900,0,1,1900,"Nombre y el registro de entrada válida"]
[null,null,null,null,null,null,0,1,0,1900,0,1,1900,"Nombre y el registro de entrada válida"]
[null,null,null,null,null,null,0,1,0,1900,0,1,1900,"Nombre y el registro de entrada válida"]

{"sheet":"DISP","index":4,"n_rows":107,"n_cols":23,"rows_kept":107,"cut":false,"hidden":false,"merged":[[5,3,6,3],[5,2,6,2],[4,21,4,22]]}
[]
[]
[]
[]
[null,null,"Fecha de Cierre","2024-07-22",null,0,null,null,null,null,null,null,null,null,null,null,null,null,null,null,null,"Leyenda"]
[null,null,"Número de habitación","Tipo de Habitación",null,{"$f":"TEXT(WEEKDAY(F7),\"ddd\")","v":"lun"},{"$f":"TEXT(WEEKDAY(G7),\"ddd\")","v":"mar"},"mié","jue","vie","sáb","dom","lun","mar","mié","jue","vie",{"$f":"TEXT(WEEKDAY(R7),\"ddd\")","v":"sáb"},{"$f":"TEXT(WEEKDAY(S7),\"ddd\")","v":"dom"},{"$f":"TEXT(WEEKDAY(T7),\"ddd\")","v":"lun"},null,null,"disponible"]
[null,null,null,null,null,{"$f":"D5+F5","v":"2024-07-22"},{"$f":"F7+1","v":"2024-07-23"},{"$f":"G7+1","v":"2024-07-24"},"2024-07-25","2024-07-26","2024-07-27","2024-07-28","2024-07-29","2024-07-30","2024-07-31","2024-08-01","2024-08-02","2024-08-03","2024-08-04","2024-08-05",null,null,"No disponible"]
[null,null,{"$f":"CAD_Q!C6","v":1},{"$f":"IFERROR(IF(VLOOKUP(C8,CAD_Q!$C$6:$D$105,2,FALSE)=0,\"\",VLOOKUP(C8,CAD_Q!$C$6:$D$105,2,FALSE)),\"\")","v":"Estándar"},null,{"$f":"IFERROR(IF(AND($C8<>\"\",$D8<>\"\"),1-SUMPRODUCT((RES!$D$6:$D$3006<=F$7)*(RES!$E$6:$E$3006>=F$7+1)*(RES!$I$6:$I$3006=$C8)*(RES!$J$6:$J$3006=$D8)),\"\"),\"\")","v":1},{"$f":"IFERROR(IF(AND($C8<>\"\",$D8<>\"\"),1-SUMPRODUCT((RES!$D$6:$D$3006<=G$7)*(RES!$E$6:$E$3006>=G$7+1)*(RES!$I$6:$I$3006=$C8)*(RES!$J$6:$J$3006=$D8)),\"\"),\"\")","v":1},{"$f":"IFERROR(IF(AND($C8<>\"\",$D8<>\"\"),1-SUMPRODUCT((RES!$D$6:$D$3006<=H$7)*(RES!$E$6:$E$3006>=H$7+1)*(RES!$I$6:$I$3006=$C8)*(RES!$J$6:$J$3006=$D8)),\"\"),\"\")","v":1},{"$f":"IFERROR(IF(AND($C8<>\"\",$D8<>\"\"),1-SUMPRODUCT((RES!$D$6:$D$3006<=I$7)*(RES!$E$6:$E$3006>=I$7+1)*(RES!$I$6:$I$3006=$C8)*(RES!$J$6:$J$3006=$D8)),\"\"),\"\")","v":1},{"$f":"IFERROR(IF(AND($C8<>\"\",$D8<>\"\"),1-SUMPRODUCT((RES!$D$6:$D$3006<=J$7)*(RES!$E$6:$E$3006>=J$7+1)*(RES!$I$6:$I$3006=$C8)*(RES!$J$6:$J$3006=$D8)),\"\"),\"\")","v":0},{"$f":"IFERROR(IF(AND($C8<>\"\",$D8<>\"\"),1-SUMPRODUCT((RES!$D$6:$D$3006<=K$7)*(RES!$E$6:$E$3006>=K$7+1)*(RES!$I$6:$I$3006=$C8)*(RES!$J$6:$J$3006=$D8)),\"\"),\"\")","v":0},{"$f":"IFERROR(IF(AND($C8<>\"\",$D8<>\"\"),1-SUMPRODUCT((RES!$D$6:$D$3006<=L$7)*(RES!$E$6:$E$3006>=L$7+1)*(RES!$I$6:$I$3006=$C8)*(RES!$J$6:$J$3006=$D8)),\"\"),\"\")","v":1},{"$f":"IFERROR(IF(AND($C8<>\"\",$D8<>\"\"),1-SUMPRODUCT((RES!$D$6:$D$3006<=M$7)*(RES!$E$6:$E$3006>=M$7+1)*(RES!$I$6:$I$3006=$C8)*(RES!$J$6:$J$3006=$D8)),\"\"),\"\")","v":1},{"$f":"IFERROR(IF(AND($C8<>\"\",$D8<>\"\"),1-SUMPRODUCT((RES!$D$6:$D$3006<=N$7)*(RES!$E$6:$E$3006>=N$7+1)*(RES!$I$6:$I$3006=$C8)*(RES!$J$6:$J$3006=$D8)),\"\"),\"\")","v":1},{"$f":"IFERROR(IF(AND($C8<>\"\",$D8<>\"\"),1-SUMPRODUCT((RES!$D$6:$D$3006<=O$7)*(RES!$E$6:$E$3006>=O$7+1)*(RES!$I$6:$I$3006=$C8)*(RES!$J$6:$J$3006=$D8)),\"\"),\"\")","v":1},{"$f":"IFERROR(IF(AND($C8<>\"\",$D8<>\"\"),1-SUMPRODUCT((RES!$D$6:$D$3006<=P$7)*(RES!$E$6:$E$3006>=P$7+1)*(RES!$I$6:$I$3006=$C8)*(RES!$J$6:$J$3006=$D8)),\"\"),\"\")","v":1},{"$f":"IFERROR(IF(AND($C8<>\"\",$D8<>\"\"),1-SUMPRODUCT((RES!$D$6:$D$3006<=Q$7)*(RES!$E$6:$E$3006>=Q$7+1)*(RES!$I$6:$I$3006=$C8)*(RES!$J$6:$J$3006=$D8)),\"\"),\"\")","v":1},{"$f":"IFERROR(IF(AND($C8<>\"\",$D8<>\"\"),1-SUMPRODUCT((RES!$D$6:$D$3006<=R$7)*(RES!$E$6:$E$3006>=R$7+1)*(RES!$I$6:$I$3006=$C8)*(RES!$J$6:$J$3006=$D8)),\"\"),\"\")","v":1},{"$f":"IFERROR(IF(AND($C8<>\"\",$D8<>\"\"),1-SUMPRODUCT((RES!$D$6:$D$3006<=S$7)*(RES!$E$6:$E$3006>=S$7+1)*(RES!$I$6:$I$3006=$C8)*(RES!$J$6:$J$3006=$D8)),\"\"),\"\")","v":1},{"$f":"IFERROR(IF(AND($C8<>\"\",$D8<>\"\"),1-SUMPRODUCT((RES!$D$6:$D$3006<=T$7)*(RES!$E$6:$E$3006>=T$7+1)*(RES!$I$6:$I$3006=$C8)*(RES!$J$6:$J$3006=$D8)),\"\"),\"\")","v":1},null,null,"reserva doble"]
[null,null,{"$f":"CAD_Q!C7","v":2},{"$f":"IFERROR(IF(VLOOKUP(C9,CAD_Q!$C$6:$D$105,2,FALSE)=0,\"\",VLOOKUP(C9,CAD_Q!$C$6:$D$105,2,FALSE)),\"\")","v":"Estándar"},null,{"$f":"IFERROR(IF(AND($C9<>\"\",$D9<>\"\"),1-SUMPRODUCT((RES!$D$6:$D$3006<=F$7)*(RES!$E$6:$E$3006>=F$7+1)*(RES!$I$6:$I$3006=$C9)*(RES!$J$6:$J$3006=$D9)),\"\"),\"\")","v":1},{"$f":"IFERROR(IF(AND($C9<>\"\",$D9<>\"\"),1-SUMPRODUCT((RES!$D$6:$D$3006<=G$7)*(RES!$E$6:$E$3006>=G$7+1)*(RES!$I$6:$I$3006=$C9)*(RES!$J$6:$J$3006=$D9)),\"\"),\"\")","v":1},{"$f":"IFERROR(IF(AND($C9<>\"\",$D9<>\"\"),1-SUMPRODUCT((RES!$D$6:$D$3006<=H$7)*(RES!$E$6:$E$3006>=H$7+1)*(RES!$I$6:$I$3006=$C9)*(RES!$J$6:$J$3006=$D9)),\"\"),\"\")","v":1},{"$f":"IFERROR(IF(AND($C9<>\"\",$D9<>\"\"),1-SUMPRODUCT((RES!$D$6:$D$3006<=I$7)*(RES!$E$6:$E$3006>=I$7+1)*(RES!$I$6:$I$3006=$C9)*(RES!$J$6:$J$3006=$D9)),\"\"),\"\")","v":0},{"$f":"IFERROR(IF(AND($C9<>\"\",$D9<>\"\"),1-SUMPRODUCT((RES!$D$6:$D$3006<=J$7)*(RES!$E$6:$E$3006>=J$7+1)*(RES!$I$6:$I$3006=$C9)*(RES!$J$6:$J$3006=$D9)),\"\"),\"\")","v":0},{"$f":"IFERROR(IF(AND($C9<>\"\",$D9<>\"\"),1-SUMPRODUCT((RES!$D$6:$D$3006<=K$7)*(RES!$E$6:$E$3006>=K$7+1)*(RES!$I$6:$I$3006=$C9)*(RES!$J$6:$J$3006=$D9)),\"\"),\"\")","v":0},{"$f":"IFERROR(IF(AND($C9<>\"\",$D9<>\"\"),1-SUMPRODUCT((RES!$D$6:$D$3006<=L$7)*(RES!$E$6:$E$3006>=L$7+1)*(RES!$I$6:$I$3006=$C9)*(RES!$J$6:$J$3006=$D9)),\"\"),\"\")","v":0},{"$f":"IFERROR(IF(AND($C9<>\"\",$D9<>\"\"),1-SUMPRODUCT((RES!$D$6:$D$3006<=M$7)*(RES!$E$6:$E$3006>=M$7+1)*(RES!$I$6:$I$3006=$C9)*(RES!$J$6:$J$3006=$D9)),\"\"),\"\")","v":0},{"$f":"IFERROR(IF(AND($C9<>\"\",$D9<>\"\"),1-SUMPRODUCT((RES!$D$6:$D$3006<=N$7)*(RES!$E$6:$E$3006>=N$7+1)*(RES!$I$6:$I$3006=$C9)*(RES!$J$6:$J$3006=$D9)),\"\"),\"\")","v":0},{"$f":"IFERROR(IF(AND($C9<>\"\",$D9<>\"\"),1-SUMPRODUCT((RES!$D$6:$D$3006<=O$7)*(RES!$E$6:$E$3006>=O$7+1)*(RES!$I$6:$I$3006=$C9)*(RES!$J$6:$J$3006=$D9)),\"\"),\"\")","v":0},{"$f":"IFERROR(IF(AND($C9<>\"\",$D9<>\"\"),1-SUMPRODUCT((RES!$D$6:$D$3006<=P$7)*(RES!$E$6:$E$3006>=P$7+1)*(RES!$I$6:$I$3006=$C9)*(RES!$J$6:$J$3006=$D9)),\"\"),\"\")","v":0},{"$f":"IFERROR(IF(AND($C9<>\"\",$D9<>\"\"),1-SUMPRODUCT((RES!$D$6:$D$3006<=Q$7)*(RES!$E$6:$E$3006>=Q$7+1)*(RES!$I$6:$I$3006=$C9)*(RES!$J$6:$J$3006=$D9)),\"\"),\"\")","v":1},{"$f":"IFERROR(IF(AND($C9<>\"\",$D9<>\"\"),1-SUMPRODUCT((RES!$D$6:$D$3006<=R$7)*(RES!$E$6:$E$3006>=R$7+1)*(RES!$I$6:$I$3006=$C9)*(RES!$J$6:$J$3006=$D9)),\"\"),\"\")","v":1},{"$f":"IFERROR(IF(AND($C9<>\"\",$D9<>\"\"),1-SUMPRODUCT((RES!$D$6:$D$3006<=S$7)*(RES!$E$6:$E$3006>=S$7+1)*(RES!$I$6:$I$3006=$C9)*(RES!$J$6:$J$3006=$D9)),\"\"),\"\")","v":1},{"$f":"IFERROR(IF(AND($C9<>\"\",$D9<>\"\"),1-SUMPRODUCT((RES!$D$6:$D$3006<=T$7)*(RES!$E$6:$E$3006>=T$7+1)*(RES!$I$6:$I$3006=$C9)*(RES!$J$6:$J$3006=$D9)),\"\"),\"\")","v":1}]
[null,null,{"$f":"CAD_Q!C8","v":3},{"$f":"IFERROR(IF(VLOOKUP(C10,CAD_Q!$C$6:$D$105,2,FALSE)=0,\"\",VLOOKUP(C10,CAD_Q!$C$6:$D$105,2,FALSE)),\"\")","v":"Estándar"},null,{"$f":"IFERROR(IF(AND($C10<>\"\",$D10<>\"\"),1-SUMPRODUCT((RES!$D$6:$D$3006<=F$7)*(RES!$E$6:$E$3006>=F$7+1)*(RES!$I$6:$I$3006=$C10)*(RES!$J$6:$J$3006=$D10)),\"\"),\"\")","v":1},{"$f":"IFERROR(IF(AND($C10<>\"\",$D10<>\"\"),1-SUMPRODUCT((RES!$D$6:$D$3006<=G$7)*(RES!$E$6:$E$3006>=G$7+1)*(RES!$I$6:$I$3006=$C10)*(RES!$J$6:$J$3006=$D10)),\"\"),\"\")","v":1},{"$f":"IFERROR(IF(AND($C10<>\"\",$D10<>\"\"),1-SUMPRODUCT((RES!$D$6:$D$3006<=H$7)*(RES!$E$6:$E$3006>=H$7+1)*(RES!$I$6:$I$3006=$C10)*(RES!$J$6:$J$3006=$D10)),\"\"),\"\")","v":1},{"$f":"IFERROR(IF(AND($C10<>\"\",$D10<>\"\"),1-SUMPRODUCT((RES!$D$6:$D$3006<=I$7)*(RES!$E$6:$E$3006>=I$7+1)*(RES!$I$6:$I$3006=$C10)*(RES!$J$6:$J$3006=$D10)),\"\"),\"\")","v":1},{"$f":"IFERROR(IF(AND($C10<>\"\",$D10<>\"\"),1-SUMPRODUCT((RES!$D$6:$D$3006<=J$7)*(RES!$E$6:$E$3006>=J$7+1)*(RES!$I$6:$I$3006=$C10)*(RES!$J$6:$J$3006=$D10)),\"\"),\"\")","v":1},{"$f":"IFERROR(IF(AND($C10<>\"\",$D10<>\"\"),1-SUMPRODUCT((RES!$D$6:$D$3006<=K$7)*(RES!$E$6:$E$3006>=K$7+1)*(RES!$I$6:$I$3006=$C10)*(RES!$J$6:$J$3006=$D10)),\"\"),\"\")","v":1},{"$f":"IFERROR(IF(AND($C10<>\"\",$D10<>\"\"),1-SUMPRODUCT((RES!$D$6:$D$3006<=L$7)*(RES!$E$6:$E$3006>=L$7+1)*(RES!$I$6:$I$3006=$C10)*(RES!$J$6:$J$3006=$D10)),\"\"),\"\")","v":1},{"$f":"IFERROR(IF(AND($C10<>\"\",$D10<>\"\"),1-SUMPRODUCT((RES!$D$6:$D$3006<=M$7)*(RES!$E$6:$E$3006>=M$7+1)*(RES!$I$6:$I$3006=$C10)*(RES!$J$6:$J$3006=$D10)),\"\"),\"\")","v":1},{"$f":"IFERROR(IF(AND($C10<>\"\",$D10<>\"\"),1-SUMPRODUCT((RES!$D$6:$D$3006<=N$7)*(RES!$E$6:$E$3006>=N$7+1)*(RES!$I$6:$I$3006=$C10)*(RES!$J$6:$J$3006=$D10)),\"\"),\"\")","v":1},{"$f":"IFERROR(IF(AND($C10<>\"\",$D10<>\"\"),1-SUMPRODUCT((RES!$D$6:$D$3006<=O$7)*(RES!$E$6:$E$3006>=O$7+1)*(RES!$I$6:$I$3006=$C10)*(RES!$J$6:$J$3006=$D10)),\"\"),\"\")","v":1},{"$f":"IFERROR(IF(AND($C10<>\"\",$D10<>\"\"),1-SUMPRODUCT((RES!$D$6:$D$3006<=P$7)*(RES!$E$6:$E$3006>=P$7+1)*(RES!$I$6:$I$3006=$C10)*(RES!$J$6:$J$3006=$D10)),\"\"),\"\")","v":1},{"$f":"IFERROR(IF(AND($C10<>\"\",$D10<>\"\"),1-SUMPRODUCT((RES!$D$6:$D$3006<=Q$7)*(RES!$E$6:$E$3006>=Q$7+1)*(RES!$I$6:$I$3006=$C10)*(RES!$J$6:$J$3006=$D10)),\"\"),\"\")","v":1},{"$f":"IFERROR(IF(AND($C10<>\"\",$D10<>\"\"),1-SUMPRODUCT((RES!$D$6:$D$3006<=R$7)*(RES!$E$6:$E$3006>=R$7+1)*(RES!$I$6:$I$3006=$C10)*(RES!$J$6:$J$3006=$D10)),\"\"),\"\")","v":1},{"$f":"IFERROR(IF(AND($C10<>\"\",$D10<>\"\"),1-SUMPRODUCT((RES!$D$6:$D$3006<=S$7)*(RES!$E$6:$E$3006>=S$7+1)*(RES!$I$6:$I$3006=$C10)*(RES!$J$6:$J$3006=$D10)),\"\"),\"\")","v":1},{"$f":"IFERROR(IF(AND($C10<>\"\",$D10<>\"\"),1-SUMPRODUCT((RES!$D$6:$D$3006<=T$7)*(RES!$E$6:$E$3006>=T$7+1)*(RES!$I$6:$I$3006=$C10)*(RES!$J$6:$J$3006=$D10)),\"\"),\"\")","v":1}]
[null,null,{"$f":"CAD_Q!C9","v":4},{"$f":"IFERROR(IF(VLOOKUP(C11,CAD_Q!$C$6:$D$105,2,FALSE)=0,\"\",VLOOKUP(C11,CAD_Q!$C$6:$D$105,2,FALSE)),\"\")","v":"sencillo"},null,{"$f":"IFERROR(IF(AND($C11<>\"\",$D11<>\"\"),1-SUMPRODUCT((RES!$D$6:$D$3006<=F$7)*(RES!$E$6:$E$3006>=F$7+1)*(RES!$I$6:$I$3006=$C11)*(RES!$J$6:$J$3006=$D11)),\"\"),\"\")","v":0},{"$f":"IFERROR(IF(AND($C11<>\"\",$D11<>\"\"),1-SUMPRODUCT((RES!$D$6:$D$3006<=G$7)*(RES!$E$6:$E$3006>=G$7+1)*(RES!$I$6:$I$3006=$C11)*(RES!$J$6:$J$3006=$D11)),\"\"),\"\")","v":0},{"$f":"IFERROR(IF(AND($C11<>\"\",$D11<>\"\"),1-SUMPRODUCT((RES!$D$6:$D$3006<=H$7)*(RES!$E$6:$E$3006>=H$7+1)*(RES!$I$6:$I$3006=$C11)*(RES!$J$6:$J$3006=$D11)),\"\"),\"\")","v":0},{"$f":"IFERROR(IF(AND($C11<>\"\",$D11<>\"\"),1-SUMPRODUCT((RES!$D$6:$D$3006<=I$7)*(RES!$E$6:$E$3006>=I$7+1)*(RES!$I$6:$I$3006=$C11)*(RES!$J$6:$J$3006=$D11)),\"\"),\"\")","v":1},{"$f":"IFERROR(IF(AND($C11<>\"\",$D11<>\"\"),1-SUMPRODUCT((RES!$D$6:$D$3006<=J$7)*(RES!$E$6:$E$3006>=J$7+1)*(RES!$I$6:$I$3006=$C11)*(RES!$J$6:$J$3006=$D11)),\"\"),\"\")","v":0},{"$f":"IFERROR(IF(AND($C11<>\"\",$D11<>\"\"),1-SUMPRODUCT((RES!$D$6:$D$3006<=K$7)*(RES!$E$6:$E$3006>=K$7+1)*(RES!$I$6:$I$3006=$C11)*(RES!$J$6:$J$3006=$D11)),\"\"),\"\")","v":0},{"$f":"IFERROR(IF(AND($C11<>\"\",$D11<>\"\"),1-SUMPRODUCT((RES!$D$6:$D$3006<=L$7)*(RES!$E$6:$E$3006>=L$7+1)*(RES!$I$6:$I$3006=$C11)*(RES!$J$6:$J$3006=$D11)),\"\"),\"\")","v":0},{"$f":"IFERROR(IF(AND($C11<>\"\",$D11<>\"\"),1-SUMPRODUCT((RES!$D$6:$D$3006<=M$7)*(RES!$E$6:$E$3006>=M$7+1)*(RES!$I$6:$I$3006=$C11)*(RES!$J$6:$J$3006=$D11)),\"\"),\"\")","v":1},{"$f":"IFERROR(IF(AND($C11<>\"\",$D11<>\"\"),1-SUMPRODUCT((RES!$D$6:$D$3006<=N$7)*(RES!$E$6:$E$3006>=N$7+1)*(RES!$I$6:$I$3006=$C11)*(RES!$J$6:$J$3006=$D11)),\"\"),\"\")","v":1},{"$f":"IFERROR(IF(AND($C11<>\"\",$D11<>\"\"),1-SUMPRODUCT((RES!$D$6:$D$3006<=O$7)*(RES!$E$6:$E$3006>=O$7+1)*(RES!$I$6:$I$3006=$C11)*(RES!$J$6:$J$3006=$D11)),\"\"),\"\")","v":1},{"$f":"IFERROR(IF(AND($C11<>\"\",$D11<>\"\"),1-SUMPRODUCT((RES!$D$6:$D$3006<=P$7)*(RES!$E$6:$E$3006>=P$7+1)*(RES!$I$6:$I$3006=$C11)*(RES!$J$6:$J$3006=$D11)),\"\"),\"\")","v":1},{"$f":"IFERROR(IF(AND($C11<>\"\",$D11<>\"\"),1-SUMPRODUCT((RES!$D$6:$D$3006<=Q$7)*(RES!$E$6:$E$3006>=Q$7+1)*(RES!$I$6:$I$3006=$C11)*(RES!$J$6:$J$3006=$D11)),\"\"),\"\")","v":1},{"$f":"IFERROR(IF(AND($C11<>\"\",$D11<>\"\"),1-SUMPRODUCT((RES!$D$6:$D$3006<=R$7)*(RES!$E$6:$E$3006>=R$7+1)*(RES!$I$6:$I$3006=$C11)*(RES!$J$6:$J$3006=$D11)),\"\"),\"\")","v":1},{"$f":"IFERROR(IF(AND($C11<>\"\",$D11<>\"\"),1-SUMPRODUCT((RES!$D$6:$D$3006<=S$7)*(RES!$E$6:$E$3006>=S$7+1)*(RES!$I$6:$I$3006=$C11)*(RES!$J$6:$J$3006=$D11)),\"\"),\"\")","v":1},{"$f":"IFERROR(IF(AND($C11<>\"\",$D11<>\"\"),1-SUMPRODUCT((RES!$D$6:$D$3006<=T$7)*(RES!$E$6:$E$3006>=T$7+1)*(RES!$I$6:$I$3006=$C11)*(RES!$J$6:$J$3006=$D11)),\"\"),\"\")","v":1}]
[null,null,{"$f":"CAD_Q!C10","v":5},{"$f":"IFERROR(IF(VLOOKUP(C12,CAD_Q!$C$6:$D$105,2,FALSE)=0,\"\",VLOOKUP(C12,CAD_Q!$C$6:$D$105,2,FALSE)),\"\")","v":"sencillo"},null,{"$f":"IFERROR(IF(AND($C12<>\"\",$D12<>\"\"),1-SUMPRODUCT((RES!$D$6:$D$3006<=F$7)*(RES!$E$6:$E$3006>=F$7+1)*(RES!$I$6:$I$3006=$C12)*(RES!$J$6:$J$3006=$D12)),\"\"),\"\")","v":1},{"$f":"IFERROR(IF(AND($C12<>\"\",$D12<>\"\"),1-SUMPRODUCT((RES!$D$6:$D$3006<=G$7)*(RES!$E$6:$E$3006>=G$7+1)*(RES!$I$6:$I$3006=$C12)*(RES!$J$6:$J$3006=$D12)),\"\"),\"\")","v":1},{"$f":"IFERROR(IF(AND($C12<>\"\",$D12<>\"\"),1-SUMPRODUCT((RES!$D$6:$D$3006<=H$7)*(RES!$E$6:$E$3006>=H$7+1)*(RES!$I$6:$I$3006=$C12)*(RES!$J$6:$J$3006=$D12)),\"\"),\"\")","v":1},{"$f":"IFERROR(IF(AND($C12<>\"\",$D12<>\"\"),1-SUMPRODUCT((RES!$D$6:$D$3006<=I$7)*(RES!$E$6:$E$3006>=I$7+1)*(RES!$I$6:$I$3006=$C12)*(RES!$J$6:$J$3006=$D12)),\"\"),\"\")","v":1},{"$f":"IFERROR(IF(AND($C12<>\"\",$D12<>\"\"),1-SUMPRODUCT((RES!$D$6:$D$3006<=J$7)*(RES!$E$6:$E$3006>=J$7+1)*(RES!$I$6:$I$3006=$C12)*(RES!$J$6:$J$3006=$D12)),\"\"),\"\")","v":1},{"$f":"IFERROR(IF(AND($C12<>\"\",$D12<>\"\"),1-SUMPRODUCT((RES!$D$6:$D$3006<=K$7)*(RES!$E$6:$E$3006>=K$7+1)*(RES!$I$6:$I$3006=$C12)*(RES!$J$6:$J$3006=$D12)),\"\"),\"\")","v":1},{"$f":"IFERROR(IF(AND($C12<>\"\",$D12<>\"\"),1-SUMPRODUCT((RES!$D$6:$D$3006<=L$7)*(RES!$E$6:$E$3006>=L$7+1)*(RES!$I$6:$I$3006=$C12)*(RES!$J$6:$J$3006=$D12)),\"\"),\"\")","v":1},{"$f":"IFERROR(IF(AND($C12<>\"\",$D12<>\"\"),1-SUMPRODUCT((RES!$D$6:$D$3006<=M$7)*(RES!$E$6:$E$3006>=M$7+1)*(RES!$I$6:$I$3006=$C12)*(RES!$J$6:$J$3006=$D12)),\"\"),\"\")","v":1},{"$f":"IFERROR(IF(AND($C12<>\"\",$D12<>\"\"),1-SUMPRODUCT((RES!$D$6:$D$3006<=N$7)*(RES!$E$6:$E$3006>=N$7+1)*(RES!$I$6:$I$3006=$C12)*(RES!$J$6:$J$3006=$D12)),\"\"),\"\")","v":1},{"$f":"IFERROR(IF(AND($C12<>\"\",$D12<>\"\"),1-SUMPRODUCT((RES!$D$6:$D$3006<=O$7)*(RES!$E$6:$E$3006>=O$7+1)*(RES!$I$6:$I$3006=$C12)*(RES!$J$6:$J$3006=$D12)),\"\"),\"\")","v":1},{"$f":"IFERROR(IF(AND($C12<>\"\",$D12<>\"\"),1-SUMPRODUCT((RES!$D$6:$D$3006<=P$7)*(RES!$E$6:$E$3006>=P$7+1)*(RES!$I$6:$I$3006=$C12)*(RES!$J$6:$J$3006=$D12)),\"\"),\"\")","v":1},{"$f":"IFERROR(IF(AND($C12<>\"\",$D12<>\"\"),1-SUMPRODUCT((RES!$D$6:$D$3006<=Q$7)*(RES!$E$6:$E$3006>=Q$7+1)*(RES!$I$6:$I$3006=$C12)*(RES!$J$6:$J$3006=$D12)),\"\"),\"\")","v":1},{"$f":"IFERROR(IF(AND($C12<>\"\",$D12<>\"\"),1-SUMPRODUCT((RES!$D$6:$D$3006<=R$7)*(RES!$E$6:$E$3006>=R$7+1)*(RES!$I$6:$I$3006=$C12)*(RES!$J$6:$J$3006=$D12)),\"\"),\"\")","v":1},{"$f":"IFERROR(IF(AND($C12<>\"\",$D12<>\"\"),1-SUMPRODUCT((RES!$D$6:$D$3006<=S$7)*(RES!$E$6:$E$3006>=S$7+1)*(RES!$I$6:$I$3006=$C12)*(RES!$J$6:$J$3006=$D12)),\"\"),\"\")","v":1},{"$f":"IFERROR(IF(AND($C12<>\"\",$D12<>\"\"),1-SUMPRODUCT((RES!$D$6:$D$3006<=T$7)*(RES!$E$6:$E$3006>=T$7+1)*(RES!$I$6:$I$3006=$C12)*(RES!$J$6:$J$3006=$D12)),\"\"),\"\")","v":1}]
[null,null,{"$f":"CAD_Q!C11","v":6},{"$f":"IFERROR(IF(VLOOKUP(C13,CAD_Q!$C$6:$D$105,2,FALSE)=0,\"\",VLOOKUP(C13,CAD_Q!$C$6:$D$105,2,FALSE)),\"\")","v":"Estándar"},null,{"$f":"IFERROR(IF(AND($C13<>\"\",$D13<>\"\"),1-SUMPRODUCT((RES!$D$6:$D$3006<=F$7)*(RES!$E$6:$E$3006>=F$7+1)*(RES!$I$6:$I$3006=$C13)*(RES!$J$6:$J$3006=$D13)),\"\"),\"\")","v":1},{"$f":"IFERROR(IF(AND($C13<>\"\",$D13<>\"\"),1-SUMPRODUCT((RES!$D$6:$D$3006<=G$7)*(RES!$E$6:$E$3006>=G$7+1)*(RES!$I$6:$I$3006=$C13)*(RES!$J$6:$J$3006=$D13)),\"\"),\"\")","v":1},{"$f":"IFERROR(IF(AND($C13<>\"\",$D13<>\"\"),1-SUMPRODUCT((RES!$D$6:$D$3006<=H$7)*(RES!$E$6:$E$3006>=H$7+1)*(RES!$I$6:$I$3006=$C13)*(RES!$J$6:$J$3006=$D13)),\"\"),\"\")","v":1},{"$f":"IFERROR(IF(AND($C13<>\"\",$D13<>\"\"),1-SUMPRODUCT((RES!$D$6:$D$3006<=I$7)*(RES!$E$6:$E$3006>=I$7+1)*(RES!$I$6:$I$3006=$C13)*(RES!$J$6:$J$3006=$D13)),\"\"),\"\")","v":1},{"$f":"IFERROR(IF(AND($C13<>\"\",$D13<>\"\"),1-SUMPRODUCT((RES!$D$6:$D$3006<=J$7)*(RES!$E$6:$E$3006>=J$7+1)*(RES!$I$6:$I$3006=$C13)*(RES!$J$6:$J$3006=$D13)),\"\"),\"\")","v":1},{"$f":"IFERROR(IF(AND($C13<>\"\",$D13<>\"\"),1-SUMPRODUCT((RES!$D$6:$D$3006<=K$7)*(RES!$E$6:$E$3006>=K$7+1)*(RES!$I$6:$I$3006=$C13)*(RES!$J$6:$J$3006=$D13)),\"\"),\"\")","v":1},{"$f":"IFERROR(IF(AND($C13<>\"\",$D13<>\"\"),1-SUMPRODUCT((RES!$D$6:$D$3006<=L$7)*(RES!$E$6:$E$3006>=L$7+1)*(RES!$I$6:$I$3006=$C13)*(RES!$J$6:$J$3006=$D13)),\"\"),\"\")","v":1},{"$f":"IFERROR(IF(AND($C13<>\"\",$D13<>\"\"),1-SUMPRODUCT((RES!$D$6:$D$3006<=M$7)*(RES!$E$6:$E$3006>=M$7+1)*(RES!$I$6:$I$3006=$C13)*(RES!$J$6:$J$3006=$D13)),\"\"),\"\")","v":1},{"$f":"IFERROR(IF(AND($C13<>\"\",$D13<>\"\"),1-SUMPRODUCT((RES!$D$6:$D$3006<=N$7)*(RES!$E$6:$E$3006>=N$7+1)*(RES!$I$6:$I$3006=$C13)*(RES!$J$6:$J$3006=$D13)),\"\"),\"\")","v":1},{"$f":"IFERROR(IF(AND($C13<>\"\",$D13<>\"\"),1-SUMPRODUCT((RES!$D$6:$D$3006<=O$7)*(RES!$E$6:$E$3006>=O$7+1)*(RES!$I$6:$I$3006=$C13)*(RES!$J$6:$J$3006=$D13)),\"\"),\"\")","v":1},{"$f":"IFERROR(IF(AND($C13<>\"\",$D13<>\"\"),1-SUMPRODUCT((RES!$D$6:$D$3006<=P$7)*(RES!$E$6:$E$3006>=P$7+1)*(RES!$I$6:$I$3006=$C13)*(RES!$J$6:$J$3006=$D13)),\"\"),\"\")","v":1},{"$f":"IFERROR(IF(AND($C13<>\"\",$D13<>\"\"),1-SUMPRODUCT((RES!$D$6:$D$3006<=Q$7)*(RES!$E$6:$E$3006>=Q$7+1)*(RES!$I$6:$I$3006=$C13)*(RES!$J$6:$J$3006=$D13)),\"\"),\"\")","v":1},{"$f":"IFERROR(IF(AND($C13<>\"\",$D13<>\"\"),1-SUMPRODUCT((RES!$D$6:$D$3006<=R$7)*(RES!$E$6:$E$3006>=R$7+1)*(RES!$I$6:$I$3006=$C13)*(RES!$J$6:$J$3006=$D13)),\"\"),\"\")","v":1},{"$f":"IFERROR(IF(AND($C13<>\"\",$D13<>\"\"),1-SUMPRODUCT((RES!$D$6:$D$3006<=S$7)*(RES!$E$6:$E$3006>=S$7+1)*(RES!$I$6:$I$3006=$C13)*(RES!$J$6:$J$3006=$D13)),\"\"),\"\")","v":1},{"$f":"IFERROR(IF(AND($C13<>\"\",$D13<>\"\"),1-SUMPRODUCT((RES!$D$6:$D$3006<=T$7)*(RES!$E$6:$E$3006>=T$7+1)*(RES!$I$6:$I$3006=$C13)*(RES!$J$6:$J$3006=$D13)),\"\"),\"\")","v":1}]
[null,null,{"$f":"CAD_Q!C12","v":7},{"$f":"IFERROR(IF(VLOOKUP(C14,CAD_Q!$C$6:$D$105,2,FALSE)=0,\"\",VLOOKUP(C14,CAD_Q!$C$6:$D$105,2,FALSE)),\"\")","v":"Estándar"},null,{"$f":"IFERROR(IF(AND($C14<>\"\",$D14<>\"\"),1-SUMPRODUCT((RES!$D$6:$D$3006<=F$7)*(RES!$E$6:$E$3006>=F$7+1)*(RES!$I$6:$I$3006=$C14)*(RES!$J$6:$J$3006=$D14)),\"\"),\"\")","v":1},{"$f":"IFERROR(IF(AND($C14<>\"\",$D14<>\"\"),1-SUMPRODUCT((RES!$D$6:$D$3006<=G$7)*(RES!$E$6:$E$3006>=G$7+1)*(RES!$I$6:$I$3006=$C14)*(RES!$J$6:$J$3006=$D14)),\"\"),\"\")","v":1},{"$f":"IFERROR(IF(AND($C14<>\"\",$D14<>\"\"),1-SUMPRODUCT((RES!$D$6:$D$3006<=H$7)*(RES!$E$6:$E$3006>=H$7+1)*(RES!$I$6:$I$3006=$C14)*(RES!$J$6:$J$3006=$D14)),\"\"),\"\")","v":1},{"$f":"IFERROR(IF(AND($C14<>\"\",$D14<>\"\"),1-SUMPRODUCT((RES!$D$6:$D$3006<=I$7)*(RES!$E$6:$E$3006>=I$7+1)*(RES!$I$6:$I$3006=$C14)*(RES!$J$6:$J$3006=$D14)),\"\"),\"\")","v":1},{"$f":"IFERROR(IF(AND($C14<>\"\",$D14<>\"\"),1-SUMPRODUCT((RES!$D$6:$D$3006<=J$7)*(RES!$E$6:$E$3006>=J$7+1)*(RES!$I$6:$I$3006=$C14)*(RES!$J$6:$J$3006=$D14)),\"\"),\"\")","v":1},{"$f":"IFERROR(IF(AND($C14<>\"\",$D14<>\"\"),1-SUMPRODUCT((RES!$D$6:$D$3006<=K$7)*(RES!$E$6:$E$3006>=K$7+1)*(RES!$I$6:$I$3006=$C14)*(RES!$J$6:$J$3006=$D14)),\"\"),\"\")","v":1},{"$f":"IFERROR(IF(AND($C14<>\"\",$D14<>\"\"),1-SUMPRODUCT((RES!$D$6:$D$3006<=L$7)*(RES!$E$6:$E$3006>=L$7+1)*(RES!$I$6:$I$3006=$C14)*(RES!$J$6:$J$3006=$D14)),\"\"),\"\")","v":1},{"$f":"IFERROR(IF(AND($C14<>\"\",$D14<>\"\"),1-SUMPRODUCT((RES!$D$6:$D$3006<=M$7)*(RES!$E$6:$E$3006>=M$7+1)*(RES!$I$6:$I$3006=$C14)*(RES!$J$6:$J$3006=$D14)),\"\"),\"\")","v":1},{"$f":"IFERROR(IF(AND($C14<>\"\",$D14<>\"\"),1-SUMPRODUCT((RES!$D$6:$D$3006<=N$7)*(RES!$E$6:$E$3006>=N$7+1)*(RES!$I$6:$I$3006=$C14)*(RES!$J$6:$J$3006=$D14)),\"\"),\"\")","v":1},{"$f":"IFERROR(IF(AND($C14<>\"\",$D14<>\"\"),1-SUMPRODUCT((RES!$D$6:$D$3006<=O$7)*(RES!$E$6:$E$3006>=O$7+1)*(RES!$I$6:$I$3006=$C14)*(RES!$J$6:$J$3006=$D14)),\"\"),\"\")","v":1},{"$f":"IFERROR(IF(AND($C14<>\"\",$D14<>\"\"),1-SUMPRODUCT((RES!$D$6:$D$3006<=P$7)*(RES!$E$6:$E$3006>=P$7+1)*(RES!$I$6:$I$3006=$C14)*(RES!$J$6:$J$3006=$D14)),\"\"),\"\")","v":1},{"$f":"IFERROR(IF(AND($C14<>\"\",$D14<>\"\"),1-SUMPRODUCT((RES!$D$6:$D$3006<=Q$7)*(RES!$E$6:$E$3006>=Q$7+1)*(RES!$I$6:$I$3006=$C14)*(RES!$J$6:$J$3006=$D14)),\"\"),\"\")","v":1},{"$f":"IFERROR(IF(AND($C14<>\"\",$D14<>\"\"),1-SUMPRODUCT((RES!$D$6:$D$3006<=R$7)*(RES!$E$6:$E$3006>=R$7+1)*(RES!$I$6:$I$3006=$C14)*(RES!$J$6:$J$3006=$D14)),\"\"),\"\")","v":1},{"$f":"IFERROR(IF(AND($C14<>\"\",$D14<>\"\"),1-SUMPRODUCT((RES!$D$6:$D$3006<=S$7)*(RES!$E$6:$E$3006>=S$7+1)*(RES!$I$6:$I$3006=$C14)*(RES!$J$6:$J$3006=$D14)),\"\"),\"\")","v":1},{"$f":"IFERROR(IF(AND($C14<>\"\",$D14<>\"\"),1-SUMPRODUCT((RES!$D$6:$D$3006<=T$7)*(RES!$E$6:$E$3006>=T$7+1)*(RES!$I$6:$I$3006=$C14)*(RES!$J$6:$J$3006=$D14)),\"\"),\"\")","v":1}]
[null,null,{"$f":"CAD_Q!C13","v":8},{"$f":"IFERROR(IF(VLOOKUP(C15,CAD_Q!$C$6:$D$105,2,FALSE)=0,\"\",VLOOKUP(C15,CAD_Q!$C$6:$D$105,2,FALSE)),\"\")","v":"Estándar"},null,{"$f":"IFERROR(IF(AND($C15<>\"\",$D15<>\"\"),1-SUMPRODUCT((RES!$D$6:$D$3006<=F$7)*(RES!$E$6:$E$3006>=F$7+1)*(RES!$I$6:$I$3006=$C15)*(RES!$J$6:$J$3006=$D15)),\"\"),\"\")","v":1},{"$f":"IFERROR(IF(AND($C15<>\"\",$D15<>\"\"),1-SUMPRODUCT((RES!$D$6:$D$3006<=G$7)*(RES!$E$6:$E$3006>=G$7+1)*(RES!$I$6:$I$3006=$C15)*(RES!$J$6:$J$3006=$D15)),\"\"),\"\")","v":1},{"$f":"IFERROR(IF(AND($C15<>\"\",$D15<>\"\"),1-SUMPRODUCT((RES!$D$6:$D$3006<=H$7)*(RES!$E$6:$E$3006>=H$7+1)*(RES!$I$6:$I$3006=$C15)*(RES!$J$6:$J$3006=$D15)),\"\"),\"\")","v":1},{"$f":"IFERROR(IF(AND($C15<>\"\",$D15<>\"\"),1-SUMPRODUCT((RES!$D$6:$D$3006<=I$7)*(RES!$E$6:$E$3006>=I$7+1)*(RES!$I$6:$I$3006=$C15)*(RES!$J$6:$J$3006=$D15)),\"\"),\"\")","v":1},{"$f":"IFERROR(IF(AND($C15<>\"\",$D15<>\"\"),1-SUMPRODUCT((RES!$D$6:$D$3006<=J$7)*(RES!$E$6:$E$3006>=J$7+1)*(RES!$I$6:$I$3006=$C15)*(RES!$J$6:$J$3006=$D15)),\"\"),\"\")","v":-1},{"$f":"IFERROR(IF(AND($C15<>\"\",$D15<>\"\"),1-SUMPRODUCT((RES!$D$6:$D$3006<=K$7)*(RES!$E$6:$E$3006>=K$7+1)*(RES!$I$6:$I$3006=$C15)*(RES!$J$6:$J$3006=$D15)),\"\"),\"\")","v":-1},{"$f":"IFERROR(IF(AND($C15<>\"\",$D15<>\"\"),1-SUMPRODUCT((RES!$D$6:$D$3006<=L$7)*(RES!$E$6:$E$3006>=L$7+1)*(RES!$I$6:$I$3006=$C15)*(RES!$J$6:$J$3006=$D15)),\"\"),\"\")","v":-1},{"$f":"IFERROR(IF(AND($C15<>\"\",$D15<>\"\"),1-SUMPRODUCT((RES!$D$6:$D$3006<=M$7)*(RES!$E$6:$E$3006>=M$7+1)*(RES!$I$6:$I$3006=$C15)*(RES!$J$6:$J$3006=$D15)),\"\"),\"\")","v":-1},{"$f":"IFERROR(IF(AND($C15<>\"\",$D15<>\"\"),1-SUMPRODUCT((RES!$D$6:$D$3006<=N$7)*(RES!$E$6:$E$3006>=N$7+1)*(RES!$I$6:$I$3006=$C15)*(RES!$J$6:$J$3006=$D15)),\"\"),\"\")","v":0},{"$f":"IFERROR(IF(AND($C15<>\"\",$D15<>\"\"),1-SUMPRODUCT((RES!$D$6:$D$3006<=O$7)*(RES!$E$6:$E$3006>=O$7+1)*(RES!$I$6:$I$3006=$C15)*(RES!$J$6:$J$3006=$D15)),\"\"),\"\")","v":0},{"$f":"IFERROR(IF(AND($C15<>\"\",$D15<>\"\"),1-SUMPRODUCT((RES!$D$6:$D$3006<=P$7)*(RES!$E$6:$E$3006>=P$7+1)*(RES!$I$6:$I$3006=$C15)*(RES!$J$6:$J$3006=$D15)),\"\"),\"\")","v":1},{"$f":"IFERROR(IF(AND($C15<>\"\",$D15<>\"\"),1-SUMPRODUCT((RES!$D$6:$D$3006<=Q$7)*(RES!$E$6:$E$3006>=Q$7+1)*(RES!$I$6:$I$3006=$C15)*(RES!$J$6:$J$3006=$D15)),\"\"),\"\")","v":1},{"$f":"IFERROR(IF(AND($C15<>\"\",$D15<>\"\"),1-SUMPRODUCT((RES!$D$6:$D$3006<=R$7)*(RES!$E$6:$E$3006>=R$7+1)*(RES!$I$6:$I$3006=$C15)*(RES!$J$6:$J$3006=$D15)),\"\"),\"\")","v":1},{"$f":"IFERROR(IF(AND($C15<>\"\",$D15<>\"\"),1-SUMPRODUCT((RES!$D$6:$D$3006<=S$7)*(RES!$E$6:$E$3006>=S$7+1)*(RES!$I$6:$I$3006=$C15)*(RES!$J$6:$J$3006=$D15)),\"\"),\"\")","v":1},{"$f":"IFERROR(IF(AND($C15<>\"\",$D15<>\"\"),1-SUMPRODUCT((RES!$D$6:$D$3006<=T$7)*(RES!$E$6:$E$3006>=T$7+1)*(RES!$I$6:$I$3006=$C15)*(RES!$J$6:$J$3006=$D15)),\"\"),\"\")","v":1}]
[null,null,{"$f":"CAD_Q!C14","v":9},{"$f":"IFERROR(IF(VLOOKUP(C16,CAD_Q!$C$6:$D$105,2,FALSE)=0,\"\",VLOOKUP(C16,CAD_Q!$C$6:$D$105,2,FALSE)),\"\")","v":"Estándar"},null,{"$f":"IFERROR(IF(AND($C16<>\"\",$D16<>\"\"),1-SUMPRODUCT((RES!$D$6:$D$3006<=F$7)*(RES!$E$6:$E$3006>=F$7+1)*(RES!$I$6:$I$3006=$C16)*(RES!$J$6:$J$3006=$D16)),\"\"),\"\")","v":1},{"$f":"IFERROR(IF(AND($C16<>\"\",$D16<>\"\"),1-SUMPRODUCT((RES!$D$6:$D$3006<=G$7)*(RES!$E$6:$E$3006>=G$7+1)*(RES!$I$6:$I$3006=$C16)*(RES!$J$6:$J$3006=$D16)),\"\"),\"\")","v":1},{"$f":"IFERROR(IF(AND($C16<>\"\",$D16<>\"\"),1-SUMPRODUCT((RES!$D$6:$D$3006<=H$7)*(RES!$E$6:$E$3006>=H$7+1)*(RES!$I$6:$I$3006=$C16)*(RES!$J$6:$J$3006=$D16)),\"\"),\"\")","v":1},{"$f":"IFERROR(IF(AND($C16<>\"\",$D16<>\"\"),1-SUMPRODUCT((RES!$D$6:$D$3006<=I$7)*(RES!$E$6:$E$3006>=I$7+1)*(RES!$I$6:$I$3006=$C16)*(RES!$J$6:$J$3006=$D16)),\"\"),\"\")","v":1},{"$f":"IFERROR(IF(AND($C16<>\"\",$D16<>\"\"),1-SUMPRODUCT((RES!$D$6:$D$3006<=J$7)*(RES!$E$6:$E$3006>=J$7+1)*(RES!$I$6:$I$3006=$C16)*(RES!$J$6:$J$3006=$D16)),\"\"),\"\")","v":1},{"$f":"IFERROR(IF(AND($C16<>\"\",$D16<>\"\"),1-SUMPRODUCT((RES!$D$6:$D$3006<=K$7)*(RES!$E$6:$E$3006>=K$7+1)*(RES!$I$6:$I$3006=$C16)*(RES!$J$6:$J$3006=$D16)),\"\"),\"\")","v":1},{"$f":"IFERROR(IF(AND($C16<>\"\",$D16<>\"\"),1-SUMPRODUCT((RES!$D$6:$D$3006<=L$7)*(RES!$E$6:$E$3006>=L$7+1)*(RES!$I$6:$I$3006=$C16)*(RES!$J$6:$J$3006=$D16)),\"\"),\"\")","v":1},{"$f":"IFERROR(IF(AND($C16<>\"\",$D16<>\"\"),1-SUMPRODUCT((RES!$D$6:$D$3006<=M$7)*(RES!$E$6:$E$3006>=M$7+1)*(RES!$I$6:$I$3006=$C16)*(RES!$J$6:$J$3006=$D16)),\"\"),\"\")","v":1},{"$f":"IFERROR(IF(AND($C16<>\"\",$D16<>\"\"),1-SUMPRODUCT((RES!$D$6:$D$3006<=N$7)*(RES!$E$6:$E$3006>=N$7+1)*(RES!$I$6:$I$3006=$C16)*(RES!$J$6:$J$3006=$D16)),\"\"),\"\")","v":1},{"$f":"IFERROR(IF(AND($C16<>\"\",$D16<>\"\"),1-SUMPRODUCT((RES!$D$6:$D$3006<=O$7)*(RES!$E$6:$E$3006>=O$7+1)*(RES!$I$6:$I$3006=$C16)*(RES!$J$6:$J$3006=$D16)),\"\"),\"\")","v":1},{"$f":"IFERROR(IF(AND($C16<>\"\",$D16<>\"\"),1-SUMPRODUCT((RES!$D$6:$D$3006<=P$7)*(RES!$E$6:$E$3006>=P$7+1)*(RES!$I$6:$I$3006=$C16)*(RES!$J$6:$J$3006=$D16)),\"\"),\"\")","v":1},{"$f":"IFERROR(IF(AND($C16<>\"\",$D16<>\"\"),1-SUMPRODUCT((RES!$D$6:$D$3006<=Q$7)*(RES!$E$6:$E$3006>=Q$7+1)*(RES!$I$6:$I$3006=$C16)*(RES!$J$6:$J$3006=$D16)),\"\"),\"\")","v":1},{"$f":"IFERROR(IF(AND($C16<>\"\",$D16<>\"\"),1-SUMPRODUCT((RES!$D$6:$D$3006<=R$7)*(RES!$E$6:$E$3006>=R$7+1)*(RES!$I$6:$I$3006=$C16)*(RES!$J$6:$J$3006=$D16)),\"\"),\"\")","v":1},{"$f":"IFERROR(IF(AND($C16<>\"\",$D16<>\"\"),1-SUMPRODUCT((RES!$D$6:$D$3006<=S$7)*(RES!$E$6:$E$3006>=S$7+1)*(RES!$I$6:$I$3006=$C16)*(RES!$J$6:$J$3006=$D16)),\"\"),\"\")","v":1},{"$f":"IFERROR(IF(AND($C16<>\"\",$D16<>\"\"),1-SUMPRODUCT((RES!$D$6:$D$3006<=T$7)*(RES!$E$6:$E$3006>=T$7+1)*(RES!$I$6:$I$3006=$C16)*(RES!$J$6:$J$3006=$D16)),\"\"),\"\")","v":1}]
[null,null,{"$f":"CAD_Q!C15","v":10},{"$f":"IFERROR(IF(VLOOKUP(C17,CAD_Q!$C$6:$D$105,2,FALSE)=0,\"\",VLOOKUP(C17,CAD_Q!$C$6:$D$105,2,FALSE)),\"\")","v":"presidencial"},null,{"$f":"IFERROR(IF(AND($C17<>\"\",$D17<>\"\"),1-SUMPRODUCT((RES!$D$6:$D$3006<=F$7)*(RES!$E$6:$E$3006>=F$7+1)*(RES!$I$6:$I$3006=$C17)*(RES!$J$6:$J$3006=$D17)),\"\"),\"\")","v":1},{"$f":"IFERROR(IF(AND($C17<>\"\",$D17<>\"\"),1-SUMPRODUCT((RES!$D$6:$D$3006<=G$7)*(RES!$E$6:$E$3006>=G$7+1)*(RES!$I$6:$I$3006=$C17)*(RES!$J$6:$J$3006=$D17)),\"\"),\"\")","v":1},{"$f":"IFERROR(IF(AND($C17<>\"\",$D17<>\"\"),1-SUMPRODUCT((RES!$D$6:$D$3006<=H$7)*(RES!$E$6:$E$3006>=H$7+1)*(RES!$I$6:$I$3006=$C17)*(RES!$J$6:$J$3006=$D17)),\"\"),\"\")","v":1},{"$f":"IFERROR(IF(AND($C17<>\"\",$D17<>\"\"),1-SUMPRODUCT((RES!$D$6:$D$3006<=I$7)*(RES!$E$6:$E$3006>=I$7+1)*(RES!$I$6:$I$3006=$C17)*(RES!$J$6:$J$3006=$D17)),\"\"),\"\")","v":1},{"$f":"IFERROR(IF(AND($C17<>\"\",$D17<>\"\"),1-SUMPRODUCT((RES!$D$6:$D$3006<=J$7)*(RES!$E$6:$E$3006>=J$7+1)*(RES!$I$6:$I$3006=$C17)*(RES!$J$6:$J$3006=$D17)),\"\"),\"\")","v":1},{"$f":"IFERROR(IF(AND($C17<>\"\",$D17<>\"\"),1-SUMPRODUCT((RES!$D$6:$D$3006<=K$7)*(RES!$E$6:$E$3006>=K$7+1)*(RES!$I$6:$I$3006=$C17)*(RES!$J$6:$J$3006=$D17)),\"\"),\"\")","v":1},{"$f":"IFERROR(IF(AND($C17<>\"\",$D17<>\"\"),1-SUMPRODUCT((RES!$D$6:$D$3006<=L$7)*(RES!$E$6:$E$3006>=L$7+1)*(RES!$I$6:$I$3006=$C17)*(RES!$J$6:$J$3006=$D17)),\"\"),\"\")","v":1},{"$f":"IFERROR(IF(AND($C17<>\"\",$D17<>\"\"),1-SUMPRODUCT((RES!$D$6:$D$3006<=M$7)*(RES!$E$6:$E$3006>=M$7+1)*(RES!$I$6:$I$3006=$C17)*(RES!$J$6:$J$3006=$D17)),\"\"),\"\")","v":1},{"$f":"IFERROR(IF(AND($C17<>\"\",$D17<>\"\"),1-SUMPRODUCT((RES!$D$6:$D$3006<=N$7)*(RES!$E$6:$E$3006>=N$7+1)*(RES!$I$6:$I$3006=$C17)*(RES!$J$6:$J$3006=$D17)),\"\"),\"\")","v":1},{"$f":"IFERROR(IF(AND($C17<>\"\",$D17<>\"\"),1-SUMPRODUCT((RES!$D$6:$D$3006<=O$7)*(RES!$E$6:$E$3006>=O$7+1)*(RES!$I$6:$I$3006=$C17)*(RES!$J$6:$J$3006=$D17)),\"\"),\"\")","v":1},{"$f":"IFERROR(IF(AND($C17<>\"\",$D17<>\"\"),1-SUMPRODUCT((RES!$D$6:$D$3006<=P$7)*(RES!$E$6:$E$3006>=P$7+1)*(RES!$I$6:$I$3006=$C17)*(RES!$J$6:$J$3006=$D17)),\"\"),\"\")","v":1},{"$f":"IFERROR(IF(AND($C17<>\"\",$D17<>\"\"),1-SUMPRODUCT((RES!$D$6:$D$3006<=Q$7)*(RES!$E$6:$E$3006>=Q$7+1)*(RES!$I$6:$I$3006=$C17)*(RES!$J$6:$J$3006=$D17)),\"\"),\"\")","v":1},{"$f":"IFERROR(IF(AND($C17<>\"\",$D17<>\"\"),1-SUMPRODUCT((RES!$D$6:$D$3006<=R$7)*(RES!$E$6:$E$3006>=R$7+1)*(RES!$I$6:$I$3006=$C17)*(RES!$J$6:$J$3006=$D17)),\"\"),\"\")","v":1},{"$f":"IFERROR(IF(AND($C17<>\"\",$D17<>\"\"),1-SUMPRODUCT((RES!$D$6:$D$3006<=S$7)*(RES!$E$6:$E$3006>=S$7+1)*(RES!$I$6:$I$3006=$C17)*(RES!$J$6:$J$3006=$D17)),\"\"),\"\")","v":1},{"$f":"IFERROR(IF(AND($C17<>\"\",$D17<>\"\"),1-SUMPRODUCT((RES!$D$6:$D$3006<=T$7)*(RES!$E$6:$E$3006>=T$7+1)*(RES!$I$6:$I$3006=$C17)*(RES!$J$6:$J$3006=$D17)),\"\"),\"\")","v":1}]
[null,null,{"$f":"CAD_Q!C16","v":11},{"$f":"IFERROR(IF(VLOOKUP(C18,CAD_Q!$C$6:$D$105,2,FALSE)=0,\"\",VLOOKUP(C18,CAD_Q!$C$6:$D$105,2,FALSE)),\"\")","v":"Estándar"},null,{"$f":"IFERROR(IF(AND($C18<>\"\",$D18<>\"\"),1-SUMPRODUCT((RES!$D$6:$D$3006<=F$7)*(RES!$E$6:$E$3006>=F$7+1)*(RES!$I$6:$I$3006=$C18)*(RES!$J$6:$J$3006=$D18)),\"\"),\"\")","v":1},{"$f":"IFERROR(IF(AND($C18<>\"\",$D18<>\"\"),1-SUMPRODUCT((RES!$D$6:$D$3006<=G$7)*(RES!$E$6:$E$3006>=G$7+1)*(RES!$I$6:$I$3006=$C18)*(RES!$J$6:$J$3006=$D18)),\"\"),\"\")","v":1},{"$f":"IFERROR(IF(AND($C18<>\"\",$D18<>\"\"),1-SUMPRODUCT((RES!$D$6:$D$3006<=H$7)*(RES!$E$6:$E$3006>=H$7+1)*(RES!$I$6:$I$3006=$C18)*(RES!$J$6:$J$3006=$D18)),\"\"),\"\")","v":1},{"$f":"IFERROR(IF(AND($C18<>\"\",$D18<>\"\"),1-SUMPRODUCT((RES!$D$6:$D$3006<=I$7)*(RES!$E$6:$E$3006>=I$7+1)*(RES!$I$6:$I$3006=$C18)*(RES!$J$6:$J$3006=$D18)),\"\"),\"\")","v":1},{"$f":"IFERROR(IF(AND($C18<>\"\",$D18<>\"\"),1-SUMPRODUCT((RES!$D$6:$D$3006<=J$7)*(RES!$E$6:$E$3006>=J$7+1)*(RES!$I$6:$I$3006=$C18)*(RES!$J$6:$J$3006=$D18)),\"\"),\"\")","v":0},{"$f":"IFERROR(IF(AND($C18<>\"\",$D18<>\"\"),1-SUMPRODUCT((RES!$D$6:$D$3006<=K$7)*(RES!$E$6:$E$3006>=K$7+1)*(RES!$I$6:$I$3006=$C18)*(RES!$J$6:$J$3006=$D18)),\"\"),\"\")","v":0},{"$f":"IFERROR(IF(AND($C18<>\"\",$D18<>\"\"),1-SUMPRODUCT((RES!$D$6:$D$3006<=L$7)*(RES!$E$6:$E$3006>=L$7+1)*(RES!$I$6:$I$3006=$C18)*(RES!$J$6:$J$3006=$D18)),\"\"),\"\")","v":0},{"$f":"IFERROR(IF(AND($C18<>\"\",$D18<>\"\"),1-SUMPRODUCT((RES!$D$6:$D$3006<=M$7)*(RES!$E$6:$E$3006>=M$7+1)*(RES!$I$6:$I$3006=$C18)*(RES!$J$6:$J$3006=$D18)),\"\"),\"\")","v":0},{"$f":"IFERROR(IF(AND($C18<>\"\",$D18<>\"\"),1-SUMPRODUCT((RES!$D$6:$D$3006<=N$7)*(RES!$E$6:$E$3006>=N$7+1)*(RES!$I$6:$I$3006=$C18)*(RES!$J$6:$J$3006=$D18)),\"\"),\"\")","v":0},{"$f":"IFERROR(IF(AND($C18<>\"\",$D18<>\"\"),1-SUMPRODUCT((RES!$D$6:$D$3006<=O$7)*(RES!$E$6:$E$3006>=O$7+1)*(RES!$I$6:$I$3006=$C18)*(RES!$J$6:$J$3006=$D18)),\"\"),\"\")","v":1},{"$f":"IFERROR(IF(AND($C18<>\"\",$D18<>\"\"),1-SUMPRODUCT((RES!$D$6:$D$3006<=P$7)*(RES!$E$6:$E$3006>=P$7+1)*(RES!$I$6:$I$3006=$C18)*(RES!$J$6:$J$3006=$D18)),\"\"),\"\")","v":1},{"$f":"IFERROR(IF(AND($C18<>\"\",$D18<>\"\"),1-SUMPRODUCT((RES!$D$6:$D$3006<=Q$7)*(RES!$E$6:$E$3006>=Q$7+1)*(RES!$I$6:$I$3006=$C18)*(RES!$J$6:$J$3006=$D18)),\"\"),\"\")","v":1},{"$f":"IFERROR(IF(AND($C18<>\"\",$D18<>\"\"),1-SUMPRODUCT((RES!$D$6:$D$3006<=R$7)*(RES!$E$6:$E$3006>=R$7+1)*(RES!$I$6:$I$3006=$C18)*(RES!$J$6:$J$3006=$D18)),\"\"),\"\")","v":1},{"$f":"IFERROR(IF(AND($C18<>\"\",$D18<>\"\"),1-SUMPRODUCT((RES!$D$6:$D$3006<=S$7)*(RES!$E$6:$E$3006>=S$7+1)*(RES!$I$6:$I$3006=$C18)*(RES!$J$6:$J$3006=$D18)),\"\"),\"\")","v":1},{"$f":"IFERROR(IF(AND($C18<>\"\",$D18<>\"\"),1-SUMPRODUCT((RES!$D$6:$D$3006<=T$7)*(RES!$E$6:$E$3006>=T$7+1)*(RES!$I$6:$I$3006=$C18)*(RES!$J$6:$J$3006=$D18)),\"\"),\"\")","v":1}]
[null,null,{"$f":"CAD_Q!C17","v":12},{"$f":"IFERROR(IF(VLOOKUP(C19,CAD_Q!$C$6:$D$105,2,FALSE)=0,\"\",VLOOKUP(C19,CAD_Q!$C$6:$D$105,2,FALSE)),\"\")","v":"Estándar"},null,{"$f":"IFERROR(IF(AND($C19<>\"\",$D19<>\"\"),1-SUMPRODUCT((RES!$D$6:$D$3006<=F$7)*(RES!$E$6:$E$3006>=F$7+1)*(RES!$I$6:$I$3006=$C19)*(RES!$J$6:$J$3006=$D19)),\"\"),\"\")","v":1},{"$f":"IFERROR(IF(AND($C19<>\"\",$D19<>\"\"),1-SUMPRODUCT((RES!$D$6:$D$3006<=G$7)*(RES!$E$6:$E$3006>=G$7+1)*(RES!$I$6:$I$3006=$C19)*(RES!$J$6:$J$3006=$D19)),\"\"),\"\")","v":1},{"$f":"IFERROR(IF(AND($C19<>\"\",$D19<>\"\"),1-SUMPRODUCT((RES!$D$6:$D$3006<=H$7)*(RES!$E$6:$E$3006>=H$7+1)*(RES!$I$6:$I$3006=$C19)*(RES!$J$6:$J$3006=$D19)),\"\"),\"\")","v":1},{"$f":"IFERROR(IF(AND($C19<>\"\",$D19<>\"\"),1-SUMPRODUCT((RES!$D$6:$D$3006<=I$7)*(RES!$E$6:$E$3006>=I$7+1)*(RES!$I$6:$I$3006=$C19)*(RES!$J$6:$J$3006=$D19)),\"\"),\"\")","v":1},{"$f":"IFERROR(IF(AND($C19<>\"\",$D19<>\"\"),1-SUMPRODUCT((RES!$D$6:$D$3006<=J$7)*(RES!$E$6:$E$3006>=J$7+1)*(RES!$I$6:$I$3006=$C19)*(RES!$J$6:$J$3006=$D19)),\"\"),\"\")","v":0},{"$f":"IFERROR(IF(AND($C19<>\"\",$D19<>\"\"),1-SUMPRODUCT((RES!$D$6:$D$3006<=K$7)*(RES!$E$6:$E$3006>=K$7+1)*(RES!$I$6:$I$3006=$C19)*(RES!$J$6:$J$3006=$D19)),\"\"),\"\")","v":0},{"$f":"IFERROR(IF(AND($C19<>\"\",$D19<>\"\"),1-SUMPRODUCT((RES!$D$6:$D$3006<=L$7)*(RES!$E$6:$E$3006>=L$7+1)*(RES!$I$6:$I$3006=$C19)*(RES!$J$6:$J$3006=$D19)),\"\"),\"\")","v":0},{"$f":"IFERROR(IF(AND($C19<>\"\",$D19<>\"\"),1-SUMPRODUCT((RES!$D$6:$D$3006<=M$7)*(RES!$E$6:$E$3006>=M$7+1)*(RES!$I$6:$I$3006=$C19)*(RES!$J$6:$J$3006=$D19)),\"\"),\"\")","v":0},{"$f":"IFERROR(IF(AND($C19<>\"\",$D19<>\"\"),1-SUMPRODUCT((RES!$D$6:$D$3006<=N$7)*(RES!$E$6:$E$3006>=N$7+1)*(RES!$I$6:$I$3006=$C19)*(RES!$J$6:$J$3006=$D19)),\"\"),\"\")","v":0},{"$f":"IFERROR(IF(AND($C19<>\"\",$D19<>\"\"),1-SUMPRODUCT((RES!$D$6:$D$3006<=O$7)*(RES!$E$6:$E$3006>=O$7+1)*(RES!$I$6:$I$3006=$C19)*(RES!$J$6:$J$3006=$D19)),\"\"),\"\")","v":0},{"$f":"IFERROR(IF(AND($C19<>\"\",$D19<>\"\"),1-SUMPRODUCT((RES!$D$6:$D$3006<=P$7)*(RES!$E$6:$E$3006>=P$7+1)*(RES!$I$6:$I$3006=$C19)*(RES!$J$6:$J$3006=$D19)),\"\"),\"\")","v":0},{"$f":"IFERROR(IF(AND($C19<>\"\",$D19<>\"\"),1-SUMPRODUCT((RES!$D$6:$D$3006<=Q$7)*(RES!$E$6:$E$3006>=Q$7+1)*(RES!$I$6:$I$3006=$C19)*(RES!$J$6:$J$3006=$D19)),\"\"),\"\")","v":1},{"$f":"IFERROR(IF(AND($C19<>\"\",$D19<>\"\"),1-SUMPRODUCT((RES!$D$6:$D$3006<=R$7)*(RES!$E$6:$E$3006>=R$7+1)*(RES!$I$6:$I$3006=$C19)*(RES!$J$6:$J$3006=$D19)),\"\"),\"\")","v":1},{"$f":"IFERROR(IF(AND($C19<>\"\",$D19<>\"\"),1-SUMPRODUCT((RES!$D$6:$D$3006<=S$7)*(RES!$E$6:$E$3006>=S$7+1)*(RES!$I$6:$I$3006=$C19)*(RES!$J$6:$J$3006=$D19)),\"\"),\"\")","v":1},{"$f":"IFERROR(IF(AND($C19<>\"\",$D19<>\"\"),1-SUMPRODUCT((RES!$D$6:$D$3006<=T$7)*(RES!$E$6:$E$3006>=T$7+1)*(RES!$I$6:$I$3006=$C19)*(RES!$J$6:$J$3006=$D19)),\"\"),\"\")","v":1}]
[null,null,{"$f":"CAD_Q!C18","v":13},{"$f":"IFERROR(IF(VLOOKUP(C20,CAD_Q!$C$6:$D$105,2,FALSE)=0,\"\",VLOOKUP(C20,CAD_Q!$C$6:$D$105,2,FALSE)),\"\")","v":"Estándar"},null,{"$f":"IFERROR(IF(AND($C20<>\"\",$D20<>\"\"),1-SUMPRODUCT((RES!$D$6:$D$3006<=F$7)*(RES!$E$6:$E$3006>=F$7+1)*(RES!$I$6:$I$3006=$C20)*(RES!$J$6:$J$3006=$D20)),\"\"),\"\")","v":1},{"$f":"IFERROR(IF(AND($C20<>\"\",$D20<>\"\"),1-SUMPRODUCT((RES!$D$6:$D$3006<=G$7)*(RES!$E$6:$E$3006>=G$7+1)*(RES!$I$6:$I$3006=$C20)*(RES!$J$6:$J$3006=$D20)),\"\"),\"\")","v":1},{"$f":"IFERROR(IF(AND($C20<>\"\",$D20<>\"\"),1-SUMPRODUCT((RES!$D$6:$D$3006<=H$7)*(RES!$E$6:$E$3006>=H$7+1)*(RES!$I$6:$I$3006=$C20)*(RES!$J$6:$J$3006=$D20)),\"\"),\"\")","v":1},{"$f":"IFERROR(IF(AND($C20<>\"\",$D20<>\"\"),1-SUMPRODUCT((RES!$D$6:$D$3006<=I$7)*(RES!$E$6:$E$3006>=I$7+1)*(RES!$I$6:$I$3006=$C20)*(RES!$J$6:$J$3006=$D20)),\"\"),\"\")","v":1},{"$f":"IFERROR(IF(AND($C20<>\"\",$D20<>\"\"),1-SUMPRODUCT((RES!$D$6:$D$3006<=J$7)*(RES!$E$6:$E$3006>=J$7+1)*(RES!$I$6:$I$3006=$C20)*(RES!$J$6:$J$3006=$D20)),\"\"),\"\")","v":1},{"$f":"IFERROR(IF(AND($C20<>\"\",$D20<>\"\"),1-SUMPRODUCT((RES!$D$6:$D$3006<=K$7)*(RES!$E$6:$E$3006>=K$7+1)*(RES!$I$6:$I$3006=$C20)*(RES!$J$6:$J$3006=$D20)),\"\"),\"\")","v":1},{"$f":"IFERROR(IF(AND($C20<>\"\",$D20<>\"\"),1-SUMPRODUCT((RES!$D$6:$D$3006<=L$7)*(RES!$E$6:$E$3006>=L$7+1)*(RES!$I$6:$I$3006=$C20)*(RES!$J$6:$J$3006=$D20)),\"\"),\"\")","v":1},{"$f":"IFERROR(IF(AND($C20<>\"\",$D20<>\"\"),1-SUMPRODUCT((RES!$D$6:$D$3006<=M$7)*(RES!$E$6:$E$3006>=M$7+1)*(RES!$I$6:$I$3006=$C20)*(RES!$J$6:$J$3006=$D20)),\"\"),\"\")","v":1},{"$f":"IFERROR(IF(AND($C20<>\"\",$D20<>\"\"),1-SUMPRODUCT((RES!$D$6:$D$3006<=N$7)*(RES!$E$6:$E$3006>=N$7+1)*(RES!$I$6:$I$3006=$C20)*(RES!$J$6:$J$3006=$D20)),\"\"),\"\")","v":1},{"$f":"IFERROR(IF(AND($C20<>\"\",$D20<>\"\"),1-SUMPRODUCT((RES!$D$6:$D$3006<=O$7)*(RES!$E$6:$E$3006>=O$7+1)*(RES!$I$6:$I$3006=$C20)*(RES!$J$6:$J$3006=$D20)),\"\"),\"\")","v":1},{"$f":"IFERROR(IF(AND($C20<>\"\",$D20<>\"\"),1-SUMPRODUCT((RES!$D$6:$D$3006<=P$7)*(RES!$E$6:$E$3006>=P$7+1)*(RES!$I$6:$I$3006=$C20)*(RES!$J$6:$J$3006=$D20)),\"\"),\"\")","v":1},{"$f":"IFERROR(IF(AND($C20<>\"\",$D20<>\"\"),1-SUMPRODUCT((RES!$D$6:$D$3006<=Q$7)*(RES!$E$6:$E$3006>=Q$7+1)*(RES!$I$6:$I$3006=$C20)*(RES!$J$6:$J$3006=$D20)),\"\"),\"\")","v":1},{"$f":"IFERROR(IF(AND($C20<>\"\",$D20<>\"\"),1-SUMPRODUCT((RES!$D$6:$D$3006<=R$7)*(RES!$E$6:$E$3006>=R$7+1)*(RES!$I$6:$I$3006=$C20)*(RES!$J$6:$J$3006=$D20)),\"\"),\"\")","v":1},{"$f":"IFERROR(IF(AND($C20<>\"\",$D20<>\"\"),1-SUMPRODUCT((RES!$D$6:$D$3006<=S$7)*(RES!$E$6:$E$3006>=S$7+1)*(RES!$I$6:$I$3006=$C20)*(RES!$J$6:$J$3006=$D20)),\"\"),\"\")","v":1},{"$f":"IFERROR(IF(AND($C20<>\"\",$D20<>\"\"),1-SUMPRODUCT((RES!$D$6:$D$3006<=T$7)*(RES!$E$6:$E$3006>=T$7+1)*(RES!$I$6:$I$3006=$C20)*(RES!$J$6:$J$3006=$D20)),\"\"),\"\")","v":1}]
[null,null,{"$f":"CAD_Q!C19","v":14},{"$f":"IFERROR(IF(VLOOKUP(C21,CAD_Q!$C$6:$D$105,2,FALSE)=0,\"\",VLOOKUP(C21,CAD_Q!$C$6:$D$105,2,FALSE)),\"\")","v":"Estándar"},null,{"$f":"IFERROR(IF(AND($C21<>\"\",$D21<>\"\"),1-SUMPRODUCT((RES!$D$6:$D$3006<=F$7)*(RES!$E$6:$E$3006>=F$7+1)*(RES!$I$6:$I$3006=$C21)*(RES!$J$6:$J$3006=$D21)),\"\"),\"\")","v":1},{"$f":"IFERROR(IF(AND($C21<>\"\",$D21<>\"\"),1-SUMPRODUCT((RES!$D$6:$D$3006<=G$7)*(RES!$E$6:$E$3006>=G$7+1)*(RES!$I$6:$I$3006=$C21)*(RES!$J$6:$J$3006=$D21)),\"\"),\"\")","v":1},{"$f":"IFERROR(IF(AND($C21<>\"\",$D21<>\"\"),1-SUMPRODUCT((RES!$D$6:$D$3006<=H$7)*(RES!$E$6:$E$3006>=H$7+1)*(RES!$I$6:$I$3006=$C21)*(RES!$J$6:$J$3006=$D21)),\"\"),\"\")","v":1},{"$f":"IFERROR(IF(AND($C21<>\"\",$D21<>\"\"),1-SUMPRODUCT((RES!$D$6:$D$3006<=I$7)*(RES!$E$6:$E$3006>=I$7+1)*(RES!$I$6:$I$3006=$C21)*(RES!$J$6:$J$3006=$D21)),\"\"),\"\")","v":1},{"$f":"IFERROR(IF(AND($C21<>\"\",$D21<>\"\"),1-SUMPRODUCT((RES!$D$6:$D$3006<=J$7)*(RES!$E$6:$E$3006>=J$7+1)*(RES!$I$6:$I$3006=$C21)*(RES!$J$6:$J$3006=$D21)),\"\"),\"\")","v":1},{"$f":"IFERROR(IF(AND($C21<>\"\",$D21<>\"\"),1-SUMPRODUCT((RES!$D$6:$D$3006<=K$7)*(RES!$E$6:$E$3006>=K$7+1)*(RES!$I$6:$I$3006=$C21)*(RES!$J$6:$J$3006=$D21)),\"\"),\"\")","v":1},{"$f":"IFERROR(IF(AND($C21<>\"\",$D21<>\"\"),1-SUMPRODUCT((RES!$D$6:$D$3006<=L$7)*(RES!$E$6:$E$3006>=L$7+1)*(RES!$I$6:$I$3006=$C21)*(RES!$J$6:$J$3006=$D21)),\"\"),\"\")","v":1},{"$f":"IFERROR(IF(AND($C21<>\"\",$D21<>\"\"),1-SUMPRODUCT((RES!$D$6:$D$3006<=M$7)*(RES!$E$6:$E$3006>=M$7+1)*(RES!$I$6:$I$3006=$C21)*(RES!$J$6:$J$3006=$D21)),\"\"),\"\")","v":1},{"$f":"IFERROR(IF(AND($C21<>\"\",$D21<>\"\"),1-SUMPRODUCT((RES!$D$6:$D$3006<=N$7)*(RES!$E$6:$E$3006>=N$7+1)*(RES!$I$6:$I$3006=$C21)*(RES!$J$6:$J$3006=$D21)),\"\"),\"\")","v":1},{"$f":"IFERROR(IF(AND($C21<>\"\",$D21<>\"\"),1-SUMPRODUCT((RES!$D$6:$D$3006<=O$7)*(RES!$E$6:$E$3006>=O$7+1)*(RES!$I$6:$I$3006=$C21)*(RES!$J$6:$J$3006=$D21)),\"\"),\"\")","v":1},{"$f":"IFERROR(IF(AND($C21<>\"\",$D21<>\"\"),1-SUMPRODUCT((RES!$D$6:$D$3006<=P$7)*(RES!$E$6:$E$3006>=P$7+1)*(RES!$I$6:$I$3006=$C21)*(RES!$J$6:$J$3006=$D21)),\"\"),\"\")","v":1},{"$f":"IFERROR(IF(AND($C21<>\"\",$D21<>\"\"),1-SUMPRODUCT((RES!$D$6:$D$3006<=Q$7)*(RES!$E$6:$E$3006>=Q$7+1)*(RES!$I$6:$I$3006=$C21)*(RES!$J$6:$J$3006=$D21)),\"\"),\"\")","v":1},{"$f":"IFERROR(IF(AND($C21<>\"\",$D21<>\"\"),1-SUMPRODUCT((RES!$D$6:$D$3006<=R$7)*(RES!$E$6:$E$3006>=R$7+1)*(RES!$I$6:$I$3006=$C21)*(RES!$J$6:$J$3006=$D21)),\"\"),\"\")","v":1},{"$f":"IFERROR(IF(AND($C21<>\"\",$D21<>\"\"),1-SUMPRODUCT((RES!$D$6:$D$3006<=S$7)*(RES!$E$6:$E$3006>=S$7+1)*(RES!$I$6:$I$3006=$C21)*(RES!$J$6:$J$3006=$D21)),\"\"),\"\")","v":1},{"$f":"IFERROR(IF(AND($C21<>\"\",$D21<>\"\"),1-SUMPRODUCT((RES!$D$6:$D$3006<=T$7)*(RES!$E$6:$E$3006>=T$7+1)*(RES!$I$6:$I$3006=$C21)*(RES!$J$6:$J$3006=$D21)),\"\"),\"\")","v":1}]
[null,null,{"$f":"CAD_Q!C20","v":15},{"$f":"IFERROR(IF(VLOOKUP(C22,CAD_Q!$C$6:$D$105,2,FALSE)=0,\"\",VLOOKUP(C22,CAD_Q!$C$6:$D$105,2,FALSE)),\"\")","v":"Estándar"},null,{"$f":"IFERROR(IF(AND($C22<>\"\",$D22<>\"\"),1-SUMPRODUCT((RES!$D$6:$D$3006<=F$7)*(RES!$E$6:$E$3006>=F$7+1)*(RES!$I$6:$I$3006=$C22)*(RES!$J$6:$J$3006=$D22)),\"\"),\"\")","v":1},{"$f":"IFERROR(IF(AND($C22<>\"\",$D22<>\"\"),1-SUMPRODUCT((RES!$D$6:$D$3006<=G$7)*(RES!$E$6:$E$3006>=G$7+1)*(RES!$I$6:$I$3006=$C22)*(RES!$J$6:$J$3006=$D22)),\"\"),\"\")","v":1},{"$f":"IFERROR(IF(AND($C22<>\"\",$D22<>\"\"),1-SUMPRODUCT((RES!$D$6:$D$3006<=H$7)*(RES!$E$6:$E$3006>=H$7+1)*(RES!$I$6:$I$3006=$C22)*(RES!$J$6:$J$3006=$D22)),\"\"),\"\")","v":1},{"$f":"IFERROR(IF(AND($C22<>\"\",$D22<>\"\"),1-SUMPRODUCT((RES!$D$6:$D$3006<=I$7)*(RES!$E$6:$E$3006>=I$7+1)*(RES!$I$6:$I$3006=$C22)*(RES!$J$6:$J$3006=$D22)),\"\"),\"\")","v":1},{"$f":"IFERROR(IF(AND($C22<>\"\",$D22<>\"\"),1-SUMPRODUCT((RES!$D$6:$D$3006<=J$7)*(RES!$E$6:$E$3006>=J$7+1)*(RES!$I$6:$I$3006=$C22)*(RES!$J$6:$J$3006=$D22)),\"\"),\"\")","v":1},{"$f":"IFERROR(IF(AND($C22<>\"\",$D22<>\"\"),1-SUMPRODUCT((RES!$D$6:$D$3006<=K$7)*(RES!$E$6:$E$3006>=K$7+1)*(RES!$I$6:$I$3006=$C22)*(RES!$J$6:$J$3006=$D22)),\"\"),\"\")","v":1},{"$f":"IFERROR(IF(AND($C22<>\"\",$D22<>\"\"),1-SUMPRODUCT((RES!$D$6:$D$3006<=L$7)*(RES!$E$6:$E$3006>=L$7+1)*(RES!$I$6:$I$3006=$C22)*(RES!$J$6:$J$3006=$D22)),\"\"),\"\")","v":1},{"$f":"IFERROR(IF(AND($C22<>\"\",$D22<>\"\"),1-SUMPRODUCT((RES!$D$6:$D$3006<=M$7)*(RES!$E$6:$E$3006>=M$7+1)*(RES!$I$6:$I$3006=$C22)*(RES!$J$6:$J$3006=$D22)),\"\"),\"\")","v":1},{"$f":"IFERROR(IF(AND($C22<>\"\",$D22<>\"\"),1-SUMPRODUCT((RES!$D$6:$D$3006<=N$7)*(RES!$E$6:$E$3006>=N$7+1)*(RES!$I$6:$I$3006=$C22)*(RES!$J$6:$J$3006=$D22)),\"\"),\"\")","v":1},{"$f":"IFERROR(IF(AND($C22<>\"\",$D22<>\"\"),1-SUMPRODUCT((RES!$D$6:$D$3006<=O$7)*(RES!$E$6:$E$3006>=O$7+1)*(RES!$I$6:$I$3006=$C22)*(RES!$J$6:$J$3006=$D22)),\"\"),\"\")","v":1},{"$f":"IFERROR(IF(AND($C22<>\"\",$D22<>\"\"),1-SUMPRODUCT((RES!$D$6:$D$3006<=P$7)*(RES!$E$6:$E$3006>=P$7+1)*(RES!$I$6:$I$3006=$C22)*(RES!$J$6:$J$3006=$D22)),\"\"),\"\")","v":1},{"$f":"IFERROR(IF(AND($C22<>\"\",$D22<>\"\"),1-SUMPRODUCT((RES!$D$6:$D$3006<=Q$7)*(RES!$E$6:$E$3006>=Q$7+1)*(RES!$I$6:$I$3006=$C22)*(RES!$J$6:$J$3006=$D22)),\"\"),\"\")","v":1},{"$f":"IFERROR(IF(AND($C22<>\"\",$D22<>\"\"),1-SUMPRODUCT((RES!$D$6:$D$3006<=R$7)*(RES!$E$6:$E$3006>=R$7+1)*(RES!$I$6:$I$3006=$C22)*(RES!$J$6:$J$3006=$D22)),\"\"),\"\")","v":1},{"$f":"IFERROR(IF(AND($C22<>\"\",$D22<>\"\"),1-SUMPRODUCT((RES!$D$6:$D$3006<=S$7)*(RES!$E$6:$E$3006>=S$7+1)*(RES!$I$6:$I$3006=$C22)*(RES!$J$6:$J$3006=$D22)),\"\"),\"\")","v":1},{"$f":"IFERROR(IF(AND($C22<>\"\",$D22<>\"\"),1-SUMPRODUCT((RES!$D$6:$D$3006<=T$7)*(RES!$E$6:$E$3006>=T$7+1)*(RES!$I$6:$I$3006=$C22)*(RES!$J$6:$J$3006=$D22)),\"\"),\"\")","v":1}]
[null,null,{"$f":"CAD_Q!C21","v":16},{"$f":"IFERROR(IF(VLOOKUP(C23,CAD_Q!$C$6:$D$105,2,FALSE)=0,\"\",VLOOKUP(C23,CAD_Q!$C$6:$D$105,2,FALSE)),\"\")","v":"Estándar"},null,{"$f":"IFERROR(IF(AND($C23<>\"\",$D23<>\"\"),1-SUMPRODUCT((RES!$D$6:$D$3006<=F$7)*(RES!$E$6:$E$3006>=F$7+1)*(RES!$I$6:$I$3006=$C23)*(RES!$J$6:$J$3006=$D23)),\"\"),\"\")","v":1},{"$f":"IFERROR(IF(AND($C23<>\"\",$D23<>\"\"),1-SUMPRODUCT((RES!$D$6:$D$3006<=G$7)*(RES!$E$6:$E$3006>=G$7+1)*(RES!$I$6:$I$3006=$C23)*(RES!$J$6:$J$3006=$D23)),\"\"),\"\")","v":1},{"$f":"IFERROR(IF(AND($C23<>\"\",$D23<>\"\"),1-SUMPRODUCT((RES!$D$6:$D$3006<=H$7)*(RES!$E$6:$E$3006>=H$7+1)*(RES!$I$6:$I$3006=$C23)*(RES!$J$6:$J$3006=$D23)),\"\"),\"\")","v":1},{"$f":"IFERROR(IF(AND($C23<>\"\",$D23<>\"\"),1-SUMPRODUCT((RES!$D$6:$D$3006<=I$7)*(RES!$E$6:$E$3006>=I$7+1)*(RES!$I$6:$I$3006=$C23)*(RES!$J$6:$J$3006=$D23)),\"\"),\"\")","v":1},{"$f":"IFERROR(IF(AND($C23<>\"\",$D23<>\"\"),1-SUMPRODUCT((RES!$D$6:$D$3006<=J$7)*(RES!$E$6:$E$3006>=J$7+1)*(RES!$I$6:$I$3006=$C23)*(RES!$J$6:$J$3006=$D23)),\"\"),\"\")","v":1},{"$f":"IFERROR(IF(AND($C23<>\"\",$D23<>\"\"),1-SUMPRODUCT((RES!$D$6:$D$3006<=K$7)*(RES!$E$6:$E$3006>=K$7+1)*(RES!$I$6:$I$3006=$C23)*(RES!$J$6:$J$3006=$D23)),\"\"),\"\")","v":1},{"$f":"IFERROR(IF(AND($C23<>\"\",$D23<>\"\"),1-SUMPRODUCT((RES!$D$6:$D$3006<=L$7)*(RES!$E$6:$E$3006>=L$7+1)*(RES!$I$6:$I$3006=$C23)*(RES!$J$6:$J$3006=$D23)),\"\"),\"\")","v":1},{"$f":"IFERROR(IF(AND($C23<>\"\",$D23<>\"\"),1-SUMPRODUCT((RES!$D$6:$D$3006<=M$7)*(RES!$E$6:$E$3006>=M$7+1)*(RES!$I$6:$I$3006=$C23)*(RES!$J$6:$J$3006=$D23)),\"\"),\"\")","v":1},{"$f":"IFERROR(IF(AND($C23<>\"\",$D23<>\"\"),1-SUMPRODUCT((RES!$D$6:$D$3006<=N$7)*(RES!$E$6:$E$3006>=N$7+1)*(RES!$I$6:$I$3006=$C23)*(RES!$J$6:$J$3006=$D23)),\"\"),\"\")","v":1},{"$f":"IFERROR(IF(AND($C23<>\"\",$D23<>\"\"),1-SUMPRODUCT((RES!$D$6:$D$3006<=O$7)*(RES!$E$6:$E$3006>=O$7+1)*(RES!$I$6:$I$3006=$C23)*(RES!$J$6:$J$3006=$D23)),\"\"),\"\")","v":1},{"$f":"IFERROR(IF(AND($C23<>\"\",$D23<>\"\"),1-SUMPRODUCT((RES!$D$6:$D$3006<=P$7)*(RES!$E$6:$E$3006>=P$7+1)*(RES!$I$6:$I$3006=$C23)*(RES!$J$6:$J$3006=$D23)),\"\"),\"\")","v":1},{"$f":"IFERROR(IF(AND($C23<>\"\",$D23<>\"\"),1-SUMPRODUCT((RES!$D$6:$D$3006<=Q$7)*(RES!$E$6:$E$3006>=Q$7+1)*(RES!$I$6:$I$3006=$C23)*(RES!$J$6:$J$3006=$D23)),\"\"),\"\")","v":1},{"$f":"IFERROR(IF(AND($C23<>\"\",$D23<>\"\"),1-SUMPRODUCT((RES!$D$6:$D$3006<=R$7)*(RES!$E$6:$E$3006>=R$7+1)*(RES!$I$6:$I$3006=$C23)*(RES!$J$6:$J$3006=$D23)),\"\"),\"\")","v":1},{"$f":"IFERROR(IF(AND($C23<>\"\",$D23<>\"\"),1-SUMPRODUCT((RES!$D$6:$D$3006<=S$7)*(RES!$E$6:$E$3006>=S$7+1)*(RES!$I$6:$I$3006=$C23)*(RES!$J$6:$J$3006=$D23)),\"\"),\"\")","v":1},{"$f":"IFERROR(IF(AND($C23<>\"\",$D23<>\"\"),1-SUMPRODUCT((RES!$D$6:$D$3006<=T$7)*(RES!$E$6:$E$3006>=T$7+1)*(RES!$I$6:$I$3006=$C23)*(RES!$J$6:$J$3006=$D23)),\"\"),\"\")","v":1}]
[null,null,{"$f":"CAD_Q!C22","v":17},{"$f":"IFERROR(IF(VLOOKUP(C24,CAD_Q!$C$6:$D$105,2,FALSE)=0,\"\",VLOOKUP(C24,CAD_Q!$C$6:$D$105,2,FALSE)),\"\")","v":"Estándar"},null,{"$f":"IFERROR(IF(AND($C24<>\"\",$D24<>\"\"),1-SUMPRODUCT((RES!$D$6:$D$3006<=F$7)*(RES!$E$6:$E$3006>=F$7+1)*(RES!$I$6:$I$3006=$C24)*(RES!$J$6:$J$3006=$D24)),\"\"),\"\")","v":1},{"$f":"IFERROR(IF(AND($C24<>\"\",$D24<>\"\"),1-SUMPRODUCT((RES!$D$6:$D$3006<=G$7)*(RES!$E$6:$E$3006>=G$7+1)*(RES!$I$6:$I$3006=$C24)*(RES!$J$6:$J$3006=$D24)),\"\"),\"\")","v":1},{"$f":"IFERROR(IF(AND($C24<>\"\",$D24<>\"\"),1-SUMPRODUCT((RES!$D$6:$D$3006<=H$7)*(RES!$E$6:$E$3006>=H$7+1)*(RES!$I$6:$I$3006=$C24)*(RES!$J$6:$J$3006=$D24)),\"\"),\"\")","v":1},{"$f":"IFERROR(IF(AND($C24<>\"\",$D24<>\"\"),1-SUMPRODUCT((RES!$D$6:$D$3006<=I$7)*(RES!$E$6:$E$3006>=I$7+1)*(RES!$I$6:$I$3006=$C24)*(RES!$J$6:$J$3006=$D24)),\"\"),\"\")","v":1},{"$f":"IFERROR(IF(AND($C24<>\"\",$D24<>\"\"),1-SUMPRODUCT((RES!$D$6:$D$3006<=J$7)*(RES!$E$6:$E$3006>=J$7+1)*(RES!$I$6:$I$3006=$C24)*(RES!$J$6:$J$3006=$D24)),\"\"),\"\")","v":1},{"$f":"IFERROR(IF(AND($C24<>\"\",$D24<>\"\"),1-SUMPRODUCT((RES!$D$6:$D$3006<=K$7)*(RES!$E$6:$E$3006>=K$7+1)*(RES!$I$6:$I$3006=$C24)*(RES!$J$6:$J$3006=$D24)),\"\"),\"\")","v":1},{"$f":"IFERROR(IF(AND($C24<>\"\",$D24<>\"\"),1-SUMPRODUCT((RES!$D$6:$D$3006<=L$7)*(RES!$E$6:$E$3006>=L$7+1)*(RES!$I$6:$I$3006=$C24)*(RES!$J$6:$J$3006=$D24)),\"\"),\"\")","v":1},{"$f":"IFERROR(IF(AND($C24<>\"\",$D24<>\"\"),1-SUMPRODUCT((RES!$D$6:$D$3006<=M$7)*(RES!$E$6:$E$3006>=M$7+1)*(RES!$I$6:$I$3006=$C24)*(RES!$J$6:$J$3006=$D24)),\"\"),\"\")","v":1},{"$f":"IFERROR(IF(AND($C24<>\"\",$D24<>\"\"),1-SUMPRODUCT((RES!$D$6:$D$3006<=N$7)*(RES!$E$6:$E$3006>=N$7+1)*(RES!$I$6:$I$3006=$C24)*(RES!$J$6:$J$3006=$D24)),\"\"),\"\")","v":1},{"$f":"IFERROR(IF(AND($C24<>\"\",$D24<>\"\"),1-SUMPRODUCT((RES!$D$6:$D$3006<=O$7)*(RES!$E$6:$E$3006>=O$7+1)*(RES!$I$6:$I$3006=$C24)*(RES!$J$6:$J$3006=$D24)),\"\"),\"\")","v":1},{"$f":"IFERROR(IF(AND($C24<>\"\",$D24<>\"\"),1-SUMPRODUCT((RES!$D$6:$D$3006<=P$7)*(RES!$E$6:$E$3006>=P$7+1)*(RES!$I$6:$I$3006=$C24)*(RES!$J$6:$J$3006=$D24)),\"\"),\"\")","v":1},{"$f":"IFERROR(IF(AND($C24<>\"\",$D24<>\"\"),1-SUMPRODUCT((RES!$D$6:$D$3006<=Q$7)*(RES!$E$6:$E$3006>=Q$7+1)*(RES!$I$6:$I$3006=$C24)*(RES!$J$6:$J$3006=$D24)),\"\"),\"\")","v":1},{"$f":"IFERROR(IF(AND($C24<>\"\",$D24<>\"\"),1-SUMPRODUCT((RES!$D$6:$D$3006<=R$7)*(RES!$E$6:$E$3006>=R$7+1)*(RES!$I$6:$I$3006=$C24)*(RES!$J$6:$J$3006=$D24)),\"\"),\"\")","v":1},{"$f":"IFERROR(IF(AND($C24<>\"\",$D24<>\"\"),1-SUMPRODUCT((RES!$D$6:$D$3006<=S$7)*(RES!$E$6:$E$3006>=S$7+1)*(RES!$I$6:$I$3006=$C24)*(RES!$J$6:$J$3006=$D24)),\"\"),\"\")","v":1},{"$f":"IFERROR(IF(AND($C24<>\"\",$D24<>\"\"),1-SUMPRODUCT((RES!$D$6:$D$3006<=T$7)*(RES!$E$6:$E$3006>=T$7+1)*(RES!$I$6:$I$3006=$C24)*(RES!$J$6:$J$3006=$D24)),\"\"),\"\")","v":1}]
[null,null,{"$f":"CAD_Q!C23","v":18},{"$f":"IFERROR(IF(VLOOKUP(C25,CAD_Q!$C$6:$D$105,2,FALSE)=0,\"\",VLOOKUP(C25,CAD_Q!$C$6:$D$105,2,FALSE)),\"\")","v":"Estándar"},null,{"$f":"IFERROR(IF(AND($C25<>\"\",$D25<>\"\"),1-SUMPRODUCT((RES!$D$6:$D$3006<=F$7)*(RES!$E$6:$E$3006>=F$7+1)*(RES!$I$6:$I$3006=$C25)*(RES!$J$6:$J$3006=$D25)),\"\"),\"\")","v":1},{"$f":"IFERROR(IF(AND($C25<>\"\",$D25<>\"\"),1-SUMPRODUCT((RES!$D$6:$D$3006<=G$7)*(RES!$E$6:$E$3006>=G$7+1)*(RES!$I$6:$I$3006=$C25)*(RES!$J$6:$J$3006=$D25)),\"\"),\"\")","v":1},{"$f":"IFERROR(IF(AND($C25<>\"\",$D25<>\"\"),1-SUMPRODUCT((RES!$D$6:$D$3006<=H$7)*(RES!$E$6:$E$3006>=H$7+1)*(RES!$I$6:$I$3006=$C25)*(RES!$J$6:$J$3006=$D25)),\"\"),\"\")","v":1},{"$f":"IFERROR(IF(AND($C25<>\"\",$D25<>\"\"),1-SUMPRODUCT((RES!$D$6:$D$3006<=I$7)*(RES!$E$6:$E$3006>=I$7+1)*(RES!$I$6:$I$3006=$C25)*(RES!$J$6:$J$3006=$D25)),\"\"),\"\")","v":1},{"$f":"IFERROR(IF(AND($C25<>\"\",$D25<>\"\"),1-SUMPRODUCT((RES!$D$6:$D$3006<=J$7)*(RES!$E$6:$E$3006>=J$7+1)*(RES!$I$6:$I$3006=$C25)*(RES!$J$6:$J$3006=$D25)),\"\"),\"\")","v":1},{"$f":"IFERROR(IF(AND($C25<>\"\",$D25<>\"\"),1-SUMPRODUCT((RES!$D$6:$D$3006<=K$7)*(RES!$E$6:$E$3006>=K$7+1)*(RES!$I$6:$I$3006=$C25)*(RES!$J$6:$J$3006=$D25)),\"\"),\"\")","v":1},{"$f":"IFERROR(IF(AND($C25<>\"\",$D25<>\"\"),1-SUMPRODUCT((RES!$D$6:$D$3006<=L$7)*(RES!$E$6:$E$3006>=L$7+1)*(RES!$I$6:$I$3006=$C25)*(RES!$J$6:$J$3006=$D25)),\"\"),\"\")","v":1},{"$f":"IFERROR(IF(AND($C25<>\"\",$D25<>\"\"),1-SUMPRODUCT((RES!$D$6:$D$3006<=M$7)*(RES!$E$6:$E$3006>=M$7+1)*(RES!$I$6:$I$3006=$C25)*(RES!$J$6:$J$3006=$D25)),\"\"),\"\")","v":1},{"$f":"IFERROR(IF(AND($C25<>\"\",$D25<>\"\"),1-SUMPRODUCT((RES!$D$6:$D$3006<=N$7)*(RES!$E$6:$E$3006>=N$7+1)*(RES!$I$6:$I$3006=$C25)*(RES!$J$6:$J$3006=$D25)),\"\"),\"\")","v":1},{"$f":"IFERROR(IF(AND($C25<>\"\",$D25<>\"\"),1-SUMPRODUCT((RES!$D$6:$D$3006<=O$7)*(RES!$E$6:$E$3006>=O$7+1)*(RES!$I$6:$I$3006=$C25)*(RES!$J$6:$J$3006=$D25)),\"\"),\"\")","v":1},{"$f":"IFERROR(IF(AND($C25<>\"\",$D25<>\"\"),1-SUMPRODUCT((RES!$D$6:$D$3006<=P$7)*(RES!$E$6:$E$3006>=P$7+1)*(RES!$I$6:$I$3006=$C25)*(RES!$J$6:$J$3006=$D25)),\"\"),\"\")","v":1},{"$f":"IFERROR(IF(AND($C25<>\"\",$D25<>\"\"),1-SUMPRODUCT((RES!$D$6:$D$3006<=Q$7)*(RES!$E$6:$E$3006>=Q$7+1)*(RES!$I$6:$I$3006=$C25)*(RES!$J$6:$J$3006=$D25)),\"\"),\"\")","v":1},{"$f":"IFERROR(IF(AND($C25<>\"\",$D25<>\"\"),1-SUMPRODUCT((RES!$D$6:$D$3006<=R$7)*(RES!$E$6:$E$3006>=R$7+1)*(RES!$I$6:$I$3006=$C25)*(RES!$J$6:$J$3006=$D25)),\"\"),\"\")","v":1},{"$f":"IFERROR(IF(AND($C25<>\"\",$D25<>\"\"),1-SUMPRODUCT((RES!$D$6:$D$3006<=S$7)*(RES!$E$6:$E$3006>=S$7+1)*(RES!$I$6:$I$3006=$C25)*(RES!$J$6:$J$3006=$D25)),\"\"),\"\")","v":1},{"$f":"IFERROR(IF(AND($C25<>\"\",$D25<>\"\"),1-SUMPRODUCT((RES!$D$6:$D$3006<=T$7)*(RES!$E$6:$E$3006>=T$7+1)*(RES!$I$6:$I$3006=$C25)*(RES!$J$6:$J$3006=$D25)),\"\"),\"\")","v":1}]
[null,null,{"$f":"CAD_Q!C24","v":19},{"$f":"IFERROR(IF(VLOOKUP(C26,CAD_Q!$C$6:$D$105,2,FALSE)=0,\"\",VLOOKUP(C26,CAD_Q!$C$6:$D$105,2,FALSE)),\"\")","v":"Estándar"},null,{"$f":"IFERROR(IF(AND($C26<>\"\",$D26<>\"\"),1-SUMPRODUCT((RES!$D$6:$D$3006<=F$7)*(RES!$E$6:$E$3006>=F$7+1)*(RES!$I$6:$I$3006=$C26)*(RES!$J$6:$J$3006=$D26)),\"\"),\"\")","v":1},{"$f":"IFERROR(IF(AND($C26<>\"\",$D26<>\"\"),1-SUMPRODUCT((RES!$D$6:$D$3006<=G$7)*(RES!$E$6:$E$3006>=G$7+1)*(RES!$I$6:$I$3006=$C26)*(RES!$J$6:$J$3006=$D26)),\"\"),\"\")","v":1},{"$f":"IFERROR(IF(AND($C26<>\"\",$D26<>\"\"),1-SUMPRODUCT((RES!$D$6:$D$3006<=H$7)*(RES!$E$6:$E$3006>=H$7+1)*(RES!$I$6:$I$3006=$C26)*(RES!$J$6:$J$3006=$D26)),\"\"),\"\")","v":1},{"$f":"IFERROR(IF(AND($C26<>\"\",$D26<>\"\"),1-SUMPRODUCT((RES!$D$6:$D$3006<=I$7)*(RES!$E$6:$E$3006>=I$7+1)*(RES!$I$6:$I$3006=$C26)*(RES!$J$6:$J$3006=$D26)),\"\"),\"\")","v":1},{"$f":"IFERROR(IF(AND($C26<>\"\",$D26<>\"\"),1-SUMPRODUCT((RES!$D$6:$D$3006<=J$7)*(RES!$E$6:$E$3006>=J$7+1)*(RES!$I$6:$I$3006=$C26)*(RES!$J$6:$J$3006=$D26)),\"\"),\"\")","v":1},{"$f":"IFERROR(IF(AND($C26<>\"\",$D26<>\"\"),1-SUMPRODUCT((RES!$D$6:$D$3006<=K$7)*(RES!$E$6:$E$3006>=K$7+1)*(RES!$I$6:$I$3006=$C26)*(RES!$J$6:$J$3006=$D26)),\"\"),\"\")","v":1},{"$f":"IFERROR(IF(AND($C26<>\"\",$D26<>\"\"),1-SUMPRODUCT((RES!$D$6:$D$3006<=L$7)*(RES!$E$6:$E$3006>=L$7+1)*(RES!$I$6:$I$3006=$C26)*(RES!$J$6:$J$3006=$D26)),\"\"),\"\")","v":1},{"$f":"IFERROR(IF(AND($C26<>\"\",$D26<>\"\"),1-SUMPRODUCT((RES!$D$6:$D$3006<=M$7)*(RES!$E$6:$E$3006>=M$7+1)*(RES!$I$6:$I$3006=$C26)*(RES!$J$6:$J$3006=$D26)),\"\"),\"\")","v":1},{"$f":"IFERROR(IF(AND($C26<>\"\",$D26<>\"\"),1-SUMPRODUCT((RES!$D$6:$D$3006<=N$7)*(RES!$E$6:$E$3006>=N$7+1)*(RES!$I$6:$I$3006=$C26)*(RES!$J$6:$J$3006=$D26)),\"\"),\"\")","v":1},{"$f":"IFERROR(IF(AND($C26<>\"\",$D26<>\"\"),1-SUMPRODUCT((RES!$D$6:$D$3006<=O$7)*(RES!$E$6:$E$3006>=O$7+1)*(RES!$I$6:$I$3006=$C26)*(RES!$J$6:$J$3006=$D26)),\"\"),\"\")","v":1},{"$f":"IFERROR(IF(AND($C26<>\"\",$D26<>\"\"),1-SUMPRODUCT((RES!$D$6:$D$3006<=P$7)*(RES!$E$6:$E$3006>=P$7+1)*(RES!$I$6:$I$3006=$C26)*(RES!$J$6:$J$3006=$D26)),\"\"),\"\")","v":1},{"$f":"IFERROR(IF(AND($C26<>\"\",$D26<>\"\"),1-SUMPRODUCT((RES!$D$6:$D$3006<=Q$7)*(RES!$E$6:$E$3006>=Q$7+1)*(RES!$I$6:$I$3006=$C26)*(RES!$J$6:$J$3006=$D26)),\"\"),\"\")","v":1},{"$f":"IFERROR(IF(AND($C26<>\"\",$D26<>\"\"),1-SUMPRODUCT((RES!$D$6:$D$3006<=R$7)*(RES!$E$6:$E$3006>=R$7+1)*(RES!$I$6:$I$3006=$C26)*(RES!$J$6:$J$3006=$D26)),\"\"),\"\")","v":1},{"$f":"IFERROR(IF(AND($C26<>\"\",$D26<>\"\"),1-SUMPRODUCT((RES!$D$6:$D$3006<=S$7)*(RES!$E$6:$E$3006>=S$7+1)*(RES!$I$6:$I$3006=$C26)*(RES!$J$6:$J$3006=$D26)),\"\"),\"\")","v":1},{"$f":"IFERROR(IF(AND($C26<>\"\",$D26<>\"\"),1-SUMPRODUCT((RES!$D$6:$D$3006<=T$7)*(RES!$E$6:$E$3006>=T$7+1)*(RES!$I$6:$I$3006=$C26)*(RES!$J$6:$J$3006=$D26)),\"\"),\"\")","v":1}]
[null,null,{"$f":"CAD_Q!C25","v":20},{"$f":"IFERROR(IF(VLOOKUP(C27,CAD_Q!$C$6:$D$105,2,FALSE)=0,\"\",VLOOKUP(C27,CAD_Q!$C$6:$D$105,2,FALSE)),\"\")","v":"Estándar"},null,{"$f":"IFERROR(IF(AND($C27<>\"\",$D27<>\"\"),1-SUMPRODUCT((RES!$D$6:$D$3006<=F$7)*(RES!$E$6:$E$3006>=F$7+1)*(RES!$I$6:$I$3006=$C27)*(RES!$J$6:$J$3006=$D27)),\"\"),\"\")","v":1},{"$f":"IFERROR(IF(AND($C27<>\"\",$D27<>\"\"),1-SUMPRODUCT((RES!$D$6:$D$3006<=G$7)*(RES!$E$6:$E$3006>=G$7+1)*(RES!$I$6:$I$3006=$C27)*(RES!$J$6:$J$3006=$D27)),\"\"),\"\")","v":1},{"$f":"IFERROR(IF(AND($C27<>\"\",$D27<>\"\"),1-SUMPRODUCT((RES!$D$6:$D$3006<=H$7)*(RES!$E$6:$E$3006>=H$7+1)*(RES!$I$6:$I$3006=$C27)*(RES!$J$6:$J$3006=$D27)),\"\"),\"\")","v":1},{"$f":"IFERROR(IF(AND($C27<>\"\",$D27<>\"\"),1-SUMPRODUCT((RES!$D$6:$D$3006<=I$7)*(RES!$E$6:$E$3006>=I$7+1)*(RES!$I$6:$I$3006=$C27)*(RES!$J$6:$J$3006=$D27)),\"\"),\"\")","v":1},{"$f":"IFERROR(IF(AND($C27<>\"\",$D27<>\"\"),1-SUMPRODUCT((RES!$D$6:$D$3006<=J$7)*(RES!$E$6:$E$3006>=J$7+1)*(RES!$I$6:$I$3006=$C27)*(RES!$J$6:$J$3006=$D27)),\"\"),\"\")","v":1},{"$f":"IFERROR(IF(AND($C27<>\"\",$D27<>\"\"),1-SUMPRODUCT((RES!$D$6:$D$3006<=K$7)*(RES!$E$6:$E$3006>=K$7+1)*(RES!$I$6:$I$3006=$C27)*(RES!$J$6:$J$3006=$D27)),\"\"),\"\")","v":1},{"$f":"IFERROR(IF(AND($C27<>\"\",$D27<>\"\"),1-SUMPRODUCT((RES!$D$6:$D$3006<=L$7)*(RES!$E$6:$E$3006>=L$7+1)*(RES!$I$6:$I$3006=$C27)*(RES!$J$6:$J$3006=$D27)),\"\"),\"\")","v":1},{"$f":"IFERROR(IF(AND($C27<>\"\",$D27<>\"\"),1-SUMPRODUCT((RES!$D$6:$D$3006<=M$7)*(RES!$E$6:$E$3006>=M$7+1)*(RES!$I$6:$I$3006=$C27)*(RES!$J$6:$J$3006=$D27)),\"\"),\"\")","v":1},{"$f":"IFERROR(IF(AND($C27<>\"\",$D27<>\"\"),1-SUMPRODUCT((RES!$D$6:$D$3006<=N$7)*(RES!$E$6:$E$3006>=N$7+1)*(RES!$I$6:$I$3006=$C27)*(RES!$J$6:$J$3006=$D27)),\"\"),\"\")","v":1},{"$f":"IFERROR(IF(AND($C27<>\"\",$D27<>\"\"),1-SUMPRODUCT((RES!$D$6:$D$3006<=O$7)*(RES!$E$6:$E$3006>=O$7+1)*(RES!$I$6:$I$3006=$C27)*(RES!$J$6:$J$3006=$D27)),\"\"),\"\")","v":1},{"$f":"IFERROR(IF(AND($C27<>\"\",$D27<>\"\"),1-SUMPRODUCT((RES!$D$6:$D$3006<=P$7)*(RES!$E$6:$E$3006>=P$7+1)*(RES!$I$6:$I$3006=$C27)*(RES!$J$6:$J$3006=$D27)),\"\"),\"\")","v":1},{"$f":"IFERROR(IF(AND($C27<>\"\",$D27<>\"\"),1-SUMPRODUCT((RES!$D$6:$D$3006<=Q$7)*(RES!$E$6:$E$3006>=Q$7+1)*(RES!$I$6:$I$3006=$C27)*(RES!$J$6:$J$3006=$D27)),\"\"),\"\")","v":1},{"$f":"IFERROR(IF(AND($C27<>\"\",$D27<>\"\"),1-SUMPRODUCT((RES!$D$6:$D$3006<=R$7)*(RES!$E$6:$E$3006>=R$7+1)*(RES!$I$6:$I$3006=$C27)*(RES!$J$6:$J$3006=$D27)),\"\"),\"\")","v":1},{"$f":"IFERROR(IF(AND($C27<>\"\",$D27<>\"\"),1-SUMPRODUCT((RES!$D$6:$D$3006<=S$7)*(RES!$E$6:$E$3006>=S$7+1)*(RES!$I$6:$I$3006=$C27)*(RES!$J$6:$J$3006=$D27)),\"\"),\"\")","v":1},{"$f":"IFERROR(IF(AND($C27<>\"\",$D27<>\"\"),1-SUMPRODUCT((RES!$D$6:$D$3006<=T$7)*(RES!$E$6:$E$3006>=T$7+1)*(RES!$I$6:$I$3006=$C27)*(RES!$J$6:$J$3006=$D27)),\"\"),\"\")","v":1}]
[null,null,{"$f":"CAD_Q!C26","v":21},{"$f":"IFERROR(IF(VLOOKUP(C28,CAD_Q!$C$6:$D$105,2,FALSE)=0,\"\",VLOOKUP(C28,CAD_Q!$C$6:$D$105,2,FALSE)),\"\")","v":"Estándar"},null,{"$f":"IFERROR(IF(AND($C28<>\"\",$D28<>\"\"),1-SUMPRODUCT((RES!$D$6:$D$3006<=F$7)*(RES!$E$6:$E$3006>=F$7+1)*(RES!$I$6:$I$3006=$C28)*(RES!$J$6:$J$3006=$D28)),\"\"),\"\")","v":1},{"$f":"IFERROR(IF(AND($C28<>\"\",$D28<>\"\"),1-SUMPRODUCT((RES!$D$6:$D$3006<=G$7)*(RES!$E$6:$E$3006>=G$7+1)*(RES!$I$6:$I$3006=$C28)*(RES!$J$6:$J$3006=$D28)),\"\"),\"\")","v":1},{"$f":"IFERROR(IF(AND($C28<>\"\",$D28<>\"\"),1-SUMPRODUCT((RES!$D$6:$D$3006<=H$7)*(RES!$E$6:$E$3006>=H$7+1)*(RES!$I$6:$I$3006=$C28)*(RES!$J$6:$J$3006=$D28)),\"\"),\"\")","v":1},{"$f":"IFERROR(IF(AND($C28<>\"\",$D28<>\"\"),1-SUMPRODUCT((RES!$D$6:$D$3006<=I$7)*(RES!$E$6:$E$3006>=I$7+1)*(RES!$I$6:$I$3006=$C28)*(RES!$J$6:$J$3006=$D28)),\"\"),\"\")","v":1},{"$f":"IFERROR(IF(AND($C28<>\"\",$D28<>\"\"),1-SUMPRODUCT((RES!$D$6:$D$3006<=J$7)*(RES!$E$6:$E$3006>=J$7+1)*(RES!$I$6:$I$3006=$C28)*(RES!$J$6:$J$3006=$D28)),\"\"),\"\")","v":1},{"$f":"IFERROR(IF(AND($C28<>\"\",$D28<>\"\"),1-SUMPRODUCT((RES!$D$6:$D$3006<=K$7)*(RES!$E$6:$E$3006>=K$7+1)*(RES!$I$6:$I$3006=$C28)*(RES!$J$6:$J$3006=$D28)),\"\"),\"\")","v":1},{"$f":"IFERROR(IF(AND($C28<>\"\",$D28<>\"\"),1-SUMPRODUCT((RES!$D$6:$D$3006<=L$7)*(RES!$E$6:$E$3006>=L$7+1)*(RES!$I$6:$I$3006=$C28)*(RES!$J$6:$J$3006=$D28)),\"\"),\"\")","v":1},{"$f":"IFERROR(IF(AND($C28<>\"\",$D28<>\"\"),1-SUMPRODUCT((RES!$D$6:$D$3006<=M$7)*(RES!$E$6:$E$3006>=M$7+1)*(RES!$I$6:$I$3006=$C28)*(RES!$J$6:$J$3006=$D28)),\"\"),\"\")","v":1},{"$f":"IFERROR(IF(AND($C28<>\"\",$D28<>\"\"),1-SUMPRODUCT((RES!$D$6:$D$3006<=N$7)*(RES!$E$6:$E$3006>=N$7+1)*(RES!$I$6:$I$3006=$C28)*(RES!$J$6:$J$3006=$D28)),\"\"),\"\")","v":1},{"$f":"IFERROR(IF(AND($C28<>\"\",$D28<>\"\"),1-SUMPRODUCT((RES!$D$6:$D$3006<=O$7)*(RES!$E$6:$E$3006>=O$7+1)*(RES!$I$6:$I$3006=$C28)*(RES!$J$6:$J$3006=$D28)),\"\"),\"\")","v":1},{"$f":"IFERROR(IF(AND($C28<>\"\",$D28<>\"\"),1-SUMPRODUCT((RES!$D$6:$D$3006<=P$7)*(RES!$E$6:$E$3006>=P$7+1)*(RES!$I$6:$I$3006=$C28)*(RES!$J$6:$J$3006=$D28)),\"\"),\"\")","v":1},{"$f":"IFERROR(IF(AND($C28<>\"\",$D28<>\"\"),1-SUMPRODUCT((RES!$D$6:$D$3006<=Q$7)*(RES!$E$6:$E$3006>=Q$7+1)*(RES!$I$6:$I$3006=$C28)*(RES!$J$6:$J$3006=$D28)),\"\"),\"\")","v":1},{"$f":"IFERROR(IF(AND($C28<>\"\",$D28<>\"\"),1-SUMPRODUCT((RES!$D$6:$D$3006<=R$7)*(RES!$E$6:$E$3006>=R$7+1)*(RES!$I$6:$I$3006=$C28)*(RES!$J$6:$J$3006=$D28)),\"\"),\"\")","v":1},{"$f":"IFERROR(IF(AND($C28<>\"\",$D28<>\"\"),1-SUMPRODUCT((RES!$D$6:$D$3006<=S$7)*(RES!$E$6:$E$3006>=S$7+1)*(RES!$I$6:$I$3006=$C28)*(RES!$J$6:$J$3006=$D28)),\"\"),\"\")","v":1},{"$f":"IFERROR(IF(AND($C28<>\"\",$D28<>\"\"),1-SUMPRODUCT((RES!$D$6:$D$3006<=T$7)*(RES!$E$6:$E$3006>=T$7+1)*(RES!$I$6:$I$3006=$C28)*(RES!$J$6:$J$3006=$D28)),\"\"),\"\")","v":1}]
[null,null,{"$f":"CAD_Q!C27","v":22},{"$f":"IFERROR(IF(VLOOKUP(C29,CAD_Q!$C$6:$D$105,2,FALSE)=0,\"\",VLOOKUP(C29,CAD_Q!$C$6:$D$105,2,FALSE)),\"\")","v":"Estándar"},null,{"$f":"IFERROR(IF(AND($C29<>\"\",$D29<>\"\"),1-SUMPRODUCT((RES!$D$6:$D$3006<=F$7)*(RES!$E$6:$E$3006>=F$7+1)*(RES!$I$6:$I$3006=$C29)*(RES!$J$6:$J$3006=$D29)),\"\"),\"\")","v":1},{"$f":"IFERROR(IF(AND($C29<>\"\",$D29<>\"\"),1-SUMPRODUCT((RES!$D$6:$D$3006<=G$7)*(RES!$E$6:$E$3006>=G$7+1)*(RES!$I$6:$I$3006=$C29)*(RES!$J$6:$J$3006=$D29)),\"\"),\"\")","v":1},{"$f":"IFERROR(IF(AND($C29<>\"\",$D29<>\"\"),1-SUMPRODUCT((RES!$D$6:$D$3006<=H$7)*(RES!$E$6:$E$3006>=H$7+1)*(RES!$I$6:$I$3006=$C29)*(RES!$J$6:$J$3006=$D29)),\"\"),\"\")","v":1},{"$f":"IFERROR(IF(AND($C29<>\"\",$D29<>\"\"),1-SUMPRODUCT((RES!$D$6:$D$3006<=I$7)*(RES!$E$6:$E$3006>=I$7+1)*(RES!$I$6:$I$3006=$C29)*(RES!$J$6:$J$3006=$D29)),\"\"),\"\")","v":1},{"$f":"IFERROR(IF(AND($C29<>\"\",$D29<>\"\"),1-SUMPRODUCT((RES!$D$6:$D$3006<=J$7)*(RES!$E$6:$E$3006>=J$7+1)*(RES!$I$6:$I$3006=$C29)*(RES!$J$6:$J$3006=$D29)),\"\"),\"\")","v":1},{"$f":"IFERROR(IF(AND($C29<>\"\",$D29<>\"\"),1-SUMPRODUCT((RES!$D$6:$D$3006<=K$7)*(RES!$E$6:$E$3006>=K$7+1)*(RES!$I$6:$I$3006=$C29)*(RES!$J$6:$J$3006=$D29)),\"\"),\"\")","v":1},{"$f":"IFERROR(IF(AND($C29<>\"\",$D29<>\"\"),1-SUMPRODUCT((RES!$D$6:$D$3006<=L$7)*(RES!$E$6:$E$3006>=L$7+1)*(RES!$I$6:$I$3006=$C29)*(RES!$J$6:$J$3006=$D29)),\"\"),\"\")","v":1},{"$f":"IFERROR(IF(AND($C29<>\"\",$D29<>\"\"),1-SUMPRODUCT((RES!$D$6:$D$3006<=M$7)*(RES!$E$6:$E$3006>=M$7+1)*(RES!$I$6:$I$3006=$C29)*(RES!$J$6:$J$3006=$D29)),\"\"),\"\")","v":1},{"$f":"IFERROR(IF(AND($C29<>\"\",$D29<>\"\"),1-SUMPRODUCT((RES!$D$6:$D$3006<=N$7)*(RES!$E$6:$E$3006>=N$7+1)*(RES!$I$6:$I$3006=$C29)*(RES!$J$6:$J$3006=$D29)),\"\"),\"\")","v":1},{"$f":"IFERROR(IF(AND($C29<>\"\",$D29<>\"\"),1-SUMPRODUCT((RES!$D$6:$D$3006<=O$7)*(RES!$E$6:$E$3006>=O$7+1)*(RES!$I$6:$I$3006=$C29)*(RES!$J$6:$J$3006=$D29)),\"\"),\"\")","v":1},{"$f":"IFERROR(IF(AND($C29<>\"\",$D29<>\"\"),1-SUMPRODUCT((RES!$D$6:$D$3006<=P$7)*(RES!$E$6:$E$3006>=P$7+1)*(RES!$I$6:$I$3006=$C29)*(RES!$J$6:$J$3006=$D29)),\"\"),\"\")","v":1},{"$f":"IFERROR(IF(AND($C29<>\"\",$D29<>\"\"),1-SUMPRODUCT((RES!$D$6:$D$3006<=Q$7)*(RES!$E$6:$E$3006>=Q$7+1)*(RES!$I$6:$I$3006=$C29)*(RES!$J$6:$J$3006=$D29)),\"\"),\"\")","v":1},{"$f":"IFERROR(IF(AND($C29<>\"\",$D29<>\"\"),1-SUMPRODUCT((RES!$D$6:$D$3006<=R$7)*(RES!$E$6:$E$3006>=R$7+1)*(RES!$I$6:$I$3006=$C29)*(RES!$J$6:$J$3006=$D29)),\"\"),\"\")","v":1},{"$f":"IFERROR(IF(AND($C29<>\"\",$D29<>\"\"),1-SUMPRODUCT((RES!$D$6:$D$3006<=S$7)*(RES!$E$6:$E$3006>=S$7+1)*(RES!$I$6:$I$3006=$C29)*(RES!$J$6:$J$3006=$D29)),\"\"),\"\")","v":1},{"$f":"IFERROR(IF(AND($C29<>\"\",$D29<>\"\"),1-SUMPRODUCT((RES!$D$6:$D$3006<=T$7)*(RES!$E$6:$E$3006>=T$7+1)*(RES!$I$6:$I$3006=$C29)*(RES!$J$6:$J$3006=$D29)),\"\"),\"\")","v":1}]
[null,null,{"$f":"CAD_Q!C28","v":23},{"$f":"IFERROR(IF(VLOOKUP(C30,CAD_Q!$C$6:$D$105,2,FALSE)=0,\"\",VLOOKUP(C30,CAD_Q!$C$6:$D$105,2,FALSE)),\"\")","v":"Estándar"},null,{"$f":"IFERROR(IF(AND($C30<>\"\",$D30<>\"\"),1-SUMPRODUCT((RES!$D$6:$D$3006<=F$7)*(RES!$E$6:$E$3006>=F$7+1)*(RES!$I$6:$I$3006=$C30)*(RES!$J$6:$J$3006=$D30)),\"\"),\"\")","v":1},{"$f":"IFERROR(IF(AND($C30<>\"\",$D30<>\"\"),1-SUMPRODUCT((RES!$D$6:$D$3006<=G$7)*(RES!$E$6:$E$3006>=G$7+1)*(RES!$I$6:$I$3006=$C30)*(RES!$J$6:$J$3006=$D30)),\"\"),\"\")","v":1},{"$f":"IFERROR(IF(AND($C30<>\"\",$D30<>\"\"),1-SUMPRODUCT((RES!$D$6:$D$3006<=H$7)*(RES!$E$6:$E$3006>=H$7+1)*(RES!$I$6:$I$3006=$C30)*(RES!$J$6:$J$3006=$D30)),\"\"),\"\")","v":1},{"$f":"IFERROR(IF(AND($C30<>\"\",$D30<>\"\"),1-SUMPRODUCT((RES!$D$6:$D$3006<=I$7)*(RES!$E$6:$E$3006>=I$7+1)*(RES!$I$6:$I$3006=$C30)*(RES!$J$6:$J$3006=$D30)),\"\"),\"\")","v":1},{"$f":"IFERROR(IF(AND($C30<>\"\",$D30<>\"\"),1-SUMPRODUCT((RES!$D$6:$D$3006<=J$7)*(RES!$E$6:$E$3006>=J$7+1)*(RES!$I$6:$I$3006=$C30)*(RES!$J$6:$J$3006=$D30)),\"\"),\"\")","v":1},{"$f":"IFERROR(IF(AND($C30<>\"\",$D30<>\"\"),1-SUMPRODUCT((RES!$D$6:$D$3006<=K$7)*(RES!$E$6:$E$3006>=K$7+1)*(RES!$I$6:$I$3006=$C30)*(RES!$J$6:$J$3006=$D30)),\"\"),\"\")","v":1},{"$f":"IFERROR(IF(AND($C30<>\"\",$D30<>\"\"),1-SUMPRODUCT((RES!$D$6:$D$3006<=L$7)*(RES!$E$6:$E$3006>=L$7+1)*(RES!$I$6:$I$3006=$C30)*(RES!$J$6:$J$3006=$D30)),\"\"),\"\")","v":1},{"$f":"IFERROR(IF(AND($C30<>\"\",$D30<>\"\"),1-SUMPRODUCT((RES!$D$6:$D$3006<=M$7)*(RES!$E$6:$E$3006>=M$7+1)*(RES!$I$6:$I$3006=$C30)*(RES!$J$6:$J$3006=$D30)),\"\"),\"\")","v":1},{"$f":"IFERROR(IF(AND($C30<>\"\",$D30<>\"\"),1-SUMPRODUCT((RES!$D$6:$D$3006<=N$7)*(RES!$E$6:$E$3006>=N$7+1)*(RES!$I$6:$I$3006=$C30)*(RES!$J$6:$J$3006=$D30)),\"\"),\"\")","v":1},{"$f":"IFERROR(IF(AND($C30<>\"\",$D30<>\"\"),1-SUMPRODUCT((RES!$D$6:$D$3006<=O$7)*(RES!$E$6:$E$3006>=O$7+1)*(RES!$I$6:$I$3006=$C30)*(RES!$J$6:$J$3006=$D30)),\"\"),\"\")","v":1},{"$f":"IFERROR(IF(AND($C30<>\"\",$D30<>\"\"),1-SUMPRODUCT((RES!$D$6:$D$3006<=P$7)*(RES!$E$6:$E$3006>=P$7+1)*(RES!$I$6:$I$3006=$C30)*(RES!$J$6:$J$3006=$D30)),\"\"),\"\")","v":1},{"$f":"IFERROR(IF(AND($C30<>\"\",$D30<>\"\"),1-SUMPRODUCT((RES!$D$6:$D$3006<=Q$7)*(RES!$E$6:$E$3006>=Q$7+1)*(RES!$I$6:$I$3006=$C30)*(RES!$J$6:$J$3006=$D30)),\"\"),\"\")","v":1},{"$f":"IFERROR(IF(AND($C30<>\"\",$D30<>\"\"),1-SUMPRODUCT((RES!$D$6:$D$3006<=R$7)*(RES!$E$6:$E$3006>=R$7+1)*(RES!$I$6:$I$3006=$C30)*(RES!$J$6:$J$3006=$D30)),\"\"),\"\")","v":1},{"$f":"IFERROR(IF(AND($C30<>\"\",$D30<>\"\"),1-SUMPRODUCT((RES!$D$6:$D$3006<=S$7)*(RES!$E$6:$E$3006>=S$7+1)*(RES!$I$6:$I$3006=$C30)*(RES!$J$6:$J$3006=$D30)),\"\"),\"\")","v":1},{"$f":"IFERROR(IF(AND($C30<>\"\",$D30<>\"\"),1-SUMPRODUCT((RES!$D$6:$D$3006<=T$7)*(RES!$E$6:$E$3006>=T$7+1)*(RES!$I$6:$I$3006=$C30)*(RES!$J$6:$J$3006=$D30)),\"\"),\"\")","v":1}]
[null,null,{"$f":"CAD_Q!C29","v":24},{"$f":"IFERROR(IF(VLOOKUP(C31,CAD_Q!$C$6:$D$105,2,FALSE)=0,\"\",VLOOKUP(C31,CAD_Q!$C$6:$D$105,2,FALSE)),\"\")","v":"Estándar"},null,{"$f":"IFERROR(IF(AND($C31<>\"\",$D31<>\"\"),1-SUMPRODUCT((RES!$D$6:$D$3006<=F$7)*(RES!$E$6:$E$3006>=F$7+1)*(RES!$I$6:$I$3006=$C31)*(RES!$J$6:$J$3006=$D31)),\"\"),\"\")","v":1},{"$f":"IFERROR(IF(AND($C31<>\"\",$D31<>\"\"),1-SUMPRODUCT((RES!$D$6:$D$3006<=G$7)*(RES!$E$6:$E$3006>=G$7+1)*(RES!$I$6:$I$3006=$C31)*(RES!$J$6:$J$3006=$D31)),\"\"),\"\")","v":1},{"$f":"IFERROR(IF(AND($C31<>\"\",$D31<>\"\"),1-SUMPRODUCT((RES!$D$6:$D$3006<=H$7)*(RES!$E$6:$E$3006>=H$7+1)*(RES!$I$6:$I$3006=$C31)*(RES!$J$6:$J$3006=$D31)),\"\"),\"\")","v":1},{"$f":"IFERROR(IF(AND($C31<>\"\",$D31<>\"\"),1-SUMPRODUCT((RES!$D$6:$D$3006<=I$7)*(RES!$E$6:$E$3006>=I$7+1)*(RES!$I$6:$I$3006=$C31)*(RES!$J$6:$J$3006=$D31)),\"\"),\"\")","v":1},{"$f":"IFERROR(IF(AND($C31<>\"\",$D31<>\"\"),1-SUMPRODUCT((RES!$D$6:$D$3006<=J$7)*(RES!$E$6:$E$3006>=J$7+1)*(RES!$I$6:$I$3006=$C31)*(RES!$J$6:$J$3006=$D31)),\"\"),\"\")","v":1},{"$f":"IFERROR(IF(AND($C31<>\"\",$D31<>\"\"),1-SUMPRODUCT((RES!$D$6:$D$3006<=K$7)*(RES!$E$6:$E$3006>=K$7+1)*(RES!$I$6:$I$3006=$C31)*(RES!$J$6:$J$3006=$D31)),\"\"),\"\")","v":1},{"$f":"IFERROR(IF(AND($C31<>\"\",$D31<>\"\"),1-SUMPRODUCT((RES!$D$6:$D$3006<=L$7)*(RES!$E$6:$E$3006>=L$7+1)*(RES!$I$6:$I$3006=$C31)*(RES!$J$6:$J$3006=$D31)),\"\"),\"\")","v":1},{"$f":"IFERROR(IF(AND($C31<>\"\",$D31<>\"\"),1-SUMPRODUCT((RES!$D$6:$D$3006<=M$7)*(RES!$E$6:$E$3006>=M$7+1)*(RES!$I$6:$I$3006=$C31)*(RES!$J$6:$J$3006=$D31)),\"\"),\"\")","v":1},{"$f":"IFERROR(IF(AND($C31<>\"\",$D31<>\"\"),1-SUMPRODUCT((RES!$D$6:$D$3006<=N$7)*(RES!$E$6:$E$3006>=N$7+1)*(RES!$I$6:$I$3006=$C31)*(RES!$J$6:$J$3006=$D31)),\"\"),\"\")","v":1},{"$f":"IFERROR(IF(AND($C31<>\"\",$D31<>\"\"),1-SUMPRODUCT((RES!$D$6:$D$3006<=O$7)*(RES!$E$6:$E$3006>=O$7+1)*(RES!$I$6:$I$3006=$C31)*(RES!$J$6:$J$3006=$D31)),\"\"),\"\")","v":1},{"$f":"IFERROR(IF(AND($C31<>\"\",$D31<>\"\"),1-SUMPRODUCT((RES!$D$6:$D$3006<=P$7)*(RES!$E$6:$E$3006>=P$7+1)*(RES!$I$6:$I$3006=$C31)*(RES!$J$6:$J$3006=$D31)),\"\"),\"\")","v":1},{"$f":"IFERROR(IF(AND($C31<>\"\",$D31<>\"\"),1-SUMPRODUCT((RES!$D$6:$D$3006<=Q$7)*(RES!$E$6:$E$3006>=Q$7+1)*(RES!$I$6:$I$3006=$C31)*(RES!$J$6:$J$3006=$D31)),\"\"),\"\")","v":1},{"$f":"IFERROR(IF(AND($C31<>\"\",$D31<>\"\"),1-SUMPRODUCT((RES!$D$6:$D$3006<=R$7)*(RES!$E$6:$E$3006>=R$7+1)*(RES!$I$6:$I$3006=$C31)*(RES!$J$6:$J$3006=$D31)),\"\"),\"\")","v":1},{"$f":"IFERROR(IF(AND($C31<>\"\",$D31<>\"\"),1-SUMPRODUCT((RES!$D$6:$D$3006<=S$7)*(RES!$E$6:$E$3006>=S$7+1)*(RES!$I$6:$I$3006=$C31)*(RES!$J$6:$J$3006=$D31)),\"\"),\"\")","v":1},{"$f":"IFERROR(IF(AND($C31<>\"\",$D31<>\"\"),1-SUMPRODUCT((RES!$D$6:$D$3006<=T$7)*(RES!$E$6:$E$3006>=T$7+1)*(RES!$I$6:$I$3006=$C31)*(RES!$J$6:$J$3006=$D31)),\"\"),\"\")","v":1}]
[null,null,{"$f":"CAD_Q!C30","v":25},{"$f":"IFERROR(IF(VLOOKUP(C32,CAD_Q!$C$6:$D$105,2,FALSE)=0,\"\",VLOOKUP(C32,CAD_Q!$C$6:$D$105,2,FALSE)),\"\")","v":"Estándar"},null,{"$f":"IFERROR(IF(AND($C32<>\"\",$D32<>\"\"),1-SUMPRODUCT((RES!$D$6:$D$3006<=F$7)*(RES!$E$6:$E$3006>=F$7+1)*(RES!$I$6:$I$3006=$C32)*(RES!$J$6:$J$3006=$D32)),\"\"),\"\")","v":1},{"$f":"IFERROR(IF(AND($C32<>\"\",$D32<>\"\"),1-SUMPRODUCT((RES!$D$6:$D$3006<=G$7)*(RES!$E$6:$E$3006>=G$7+1)*(RES!$I$6:$I$3006=$C32)*(RES!$J$6:$J$3006=$D32)),\"\"),\"\")","v":1},{"$f":"IFERROR(IF(AND($C32<>\"\",$D32<>\"\"),1-SUMPRODUCT((RES!$D$6:$D$3006<=H$7)*(RES!$E$6:$E$3006>=H$7+1)*(RES!$I$6:$I$3006=$C32)*(RES!$J$6:$J$3006=$D32)),\"\"),\"\")","v":1},{"$f":"IFERROR(IF(AND($C32<>\"\",$D32<>\"\"),1-SUMPRODUCT((RES!$D$6:$D$3006<=I$7)*(RES!$E$6:$E$3006>=I$7+1)*(RES!$I$6:$I$3006=$C32)*(RES!$J$6:$J$3006=$D32)),\"\"),\"\")","v":1},{"$f":"IFERROR(IF(AND($C32<>\"\",$D32<>\"\"),1-SUMPRODUCT((RES!$D$6:$D$3006<=J$7)*(RES!$E$6:$E$3006>=J$7+1)*(RES!$I$6:$I$3006=$C32)*(RES!$J$6:$J$3006=$D32)),\"\"),\"\")","v":1},{"$f":"IFERROR(IF(AND($C32<>\"\",$D32<>\"\"),1-SUMPRODUCT((RES!$D$6:$D$3006<=K$7)*(RES!$E$6:$E$3006>=K$7+1)*(RES!$I$6:$I$3006=$C32)*(RES!$J$6:$J$3006=$D32)),\"\"),\"\")","v":1},{"$f":"IFERROR(IF(AND($C32<>\"\",$D32<>\"\"),1-SUMPRODUCT((RES!$D$6:$D$3006<=L$7)*(RES!$E$6:$E$3006>=L$7+1)*(RES!$I$6:$I$3006=$C32)*(RES!$J$6:$J$3006=$D32)),\"\"),\"\")","v":1},{"$f":"IFERROR(IF(AND($C32<>\"\",$D32<>\"\"),1-SUMPRODUCT((RES!$D$6:$D$3006<=M$7)*(RES!$E$6:$E$3006>=M$7+1)*(RES!$I$6:$I$3006=$C32)*(RES!$J$6:$J$3006=$D32)),\"\"),\"\")","v":1},{"$f":"IFERROR(IF(AND($C32<>\"\",$D32<>\"\"),1-SUMPRODUCT((RES!$D$6:$D$3006<=N$7)*(RES!$E$6:$E$3006>=N$7+1)*(RES!$I$6:$I$3006=$C32)*(RES!$J$6:$J$3006=$D32)),\"\"),\"\")","v":1},{"$f":"IFERROR(IF(AND($C32<>\"\",$D32<>\"\"),1-SUMPRODUCT((RES!$D$6:$D$3006<=O$7)*(RES!$E$6:$E$3006>=O$7+1)*(RES!$I$6:$I$3006=$C32)*(RES!$J$6:$J$3006=$D32)),\"\"),\"\")","v":1},{"$f":"IFERROR(IF(AND($C32<>\"\",$D32<>\"\"),1-SUMPRODUCT((RES!$D$6:$D$3006<=P$7)*(RES!$E$6:$E$3006>=P$7+1)*(RES!$I$6:$I$3006=$C32)*(RES!$J$6:$J$3006=$D32)),\"\"),\"\")","v":1},{"$f":"IFERROR(IF(AND($C32<>\"\",$D32<>\"\"),1-SUMPRODUCT((RES!$D$6:$D$3006<=Q$7)*(RES!$E$6:$E$3006>=Q$7+1)*(RES!$I$6:$I$3006=$C32)*(RES!$J$6:$J$3006=$D32)),\"\"),\"\")","v":1},{"$f":"IFERROR(IF(AND($C32<>\"\",$D32<>\"\"),1-SUMPRODUCT((RES!$D$6:$D$3006<=R$7)*(RES!$E$6:$E$3006>=R$7+1)*(RES!$I$6:$I$3006=$C32)*(RES!$J$6:$J$3006=$D32)),\"\"),\"\")","v":1},{"$f":"IFERROR(IF(AND($C32<>\"\",$D32<>\"\"),1-SUMPRODUCT((RES!$D$6:$D$3006<=S$7)*(RES!$E$6:$E$3006>=S$7+1)*(RES!$I$6:$I$3006=$C32)*(RES!$J$6:$J$3006=$D32)),\"\"),\"\")","v":1},{"$f":"IFERROR(IF(AND($C32<>\"\",$D32<>\"\"),1-SUMPRODUCT((RES!$D$6:$D$3006<=T$7)*(RES!$E$6:$E$3006>=T$7+1)*(RES!$I$6:$I$3006=$C32)*(RES!$J$6:$J$3006=$D32)),\"\"),\"\")","v":1}]
[null,null,{"$f":"CAD_Q!C31","v":26},{"$f":"IFERROR(IF(VLOOKUP(C33,CAD_Q!$C$6:$D$105,2,FALSE)=0,\"\",VLOOKUP(C33,CAD_Q!$C$6:$D$105,2,FALSE)),\"\")","v":"Estándar"},null,{"$f":"IFERROR(IF(AND($C33<>\"\",$D33<>\"\"),1-SUMPRODUCT((RES!$D$6:$D$3006<=F$7)*(RES!$E$6:$E$3006>=F$7+1)*(RES!$I$6:$I$3006=$C33)*(RES!$J$6:$J$3006=$D33)),\"\"),\"\")","v":1},{"$f":"IFERROR(IF(AND($C33<>\"\",$D33<>\"\"),1-SUMPRODUCT((RES!$D$6:$D$3006<=G$7)*(RES!$E$6:$E$3006>=G$7+1)*(RES!$I$6:$I$3006=$C33)*(RES!$J$6:$J$3006=$D33)),\"\"),\"\")","v":1},{"$f":"IFERROR(IF(AND($C33<>\"\",$D33<>\"\"),1-SUMPRODUCT((RES!$D$6:$D$3006<=H$7)*(RES!$E$6:$E$3006>=H$7+1)*(RES!$I$6:$I$3006=$C33)*(RES!$J$6:$J$3006=$D33)),\"\"),\"\")","v":1},{"$f":"IFERROR(IF(AND($C33<>\"\",$D33<>\"\"),1-SUMPRODUCT((RES!$D$6:$D$3006<=I$7)*(RES!$E$6:$E$3006>=I$7+1)*(RES!$I$6:$I$3006=$C33)*(RES!$J$6:$J$3006=$D33)),\"\"),\"\")","v":1},{"$f":"IFERROR(IF(AND($C33<>\"\",$D33<>\"\"),1-SUMPRODUCT((RES!$D$6:$D$3006<=J$7)*(RES!$E$6:$E$3006>=J$7+1)*(RES!$I$6:$I$3006=$C33)*(RES!$J$6:$J$3006=$D33)),\"\"),\"\")","v":1},{"$f":"IFERROR(IF(AND($C33<>\"\",$D33<>\"\"),1-SUMPRODUCT((RES!$D$6:$D$3006<=K$7)*(RES!$E$6:$E$3006>=K$7+1)*(RES!$I$6:$I$3006=$C33)*(RES!$J$6:$J$3006=$D33)),\"\"),\"\")","v":1},{"$f":"IFERROR(IF(AND($C33<>\"\",$D33<>\"\"),1-SUMPRODUCT((RES!$D$6:$D$3006<=L$7)*(RES!$E$6:$E$3006>=L$7+1)*(RES!$I$6:$I$3006=$C33)*(RES!$J$6:$J$3006=$D33)),\"\"),\"\")","v":1},{"$f":"IFERROR(IF(AND($C33<>\"\",$D33<>\"\"),1-SUMPRODUCT((RES!$D$6:$D$3006<=M$7)*(RES!$E$6:$E$3006>=M$7+1)*(RES!$I$6:$I$3006=$C33)*(RES!$J$6:$J$3006=$D33)),\"\"),\"\")","v":1},{"$f":"IFERROR(IF(AND($C33<>\"\",$D33<>\"\"),1-SUMPRODUCT((RES!$D$6:$D$3006<=N$7)*(RES!$E$6:$E$3006>=N$7+1)*(RES!$I$6:$I$3006=$C33)*(RES!$J$6:$J$3006=$D33)),\"\"),\"\")","v":1},{"$f":"IFERROR(IF(AND($C33<>\"\",$D33<>\"\"),1-SUMPRODUCT((RES!$D$6:$D$3006<=O$7)*(RES!$E$6:$E$3006>=O$7+1)*(RES!$I$6:$I$3006=$C33)*(RES!$J$6:$J$3006=$D33)),\"\"),\"\")","v":1},{"$f":"IFERROR(IF(AND($C33<>\"\",$D33<>\"\"),1-SUMPRODUCT((RES!$D$6:$D$3006<=P$7)*(RES!$E$6:$E$3006>=P$7+1)*(RES!$I$6:$I$3006=$C33)*(RES!$J$6:$J$3006=$D33)),\"\"),\"\")","v":1},{"$f":"IFERROR(IF(AND($C33<>\"\",$D33<>\"\"),1-SUMPRODUCT((RES!$D$6:$D$3006<=Q$7)*(RES!$E$6:$E$3006>=Q$7+1)*(RES!$I$6:$I$3006=$C33)*(RES!$J$6:$J$3006=$D33)),\"\"),\"\")","v":1},{"$f":"IFERROR(IF(AND($C33<>\"\",$D33<>\"\"),1-SUMPRODUCT((RES!$D$6:$D$3006<=R$7)*(RES!$E$6:$E$3006>=R$7+1)*(RES!$I$6:$I$3006=$C33)*(RES!$J$6:$J$3006=$D33)),\"\"),\"\")","v":1},{"$f":"IFERROR(IF(AND($C33<>\"\",$D33<>\"\"),1-SUMPRODUCT((RES!$D$6:$D$3006<=S$7)*(RES!$E$6:$E$3006>=S$7+1)*(RES!$I$6:$I$3006=$C33)*(RES!$J$6:$J$3006=$D33)),\"\"),\"\")","v":1},{"$f":"IFERROR(IF(AND($C33<>\"\",$D33<>\"\"),1-SUMPRODUCT((RES!$D$6:$D$3006<=T$7)*(RES!$E$6:$E$3006>=T$7+1)*(RES!$I$6:$I$3006=$C33)*(RES!$J$6:$J$3006=$D33)),\"\"),\"\")","v":1}]
[null,null,{"$f":"CAD_Q!C32","v":27},{"$f":"IFERROR(IF(VLOOKUP(C34,CAD_Q!$C$6:$D$105,2,FALSE)=0,\"\",VLOOKUP(C34,CAD_Q!$C$6:$D$105,2,FALSE)),\"\")","v":"Estándar"},null,{"$f":"IFERROR(IF(AND($C34<>\"\",$D34<>\"\"),1-SUMPRODUCT((RES!$D$6:$D$3006<=F$7)*(RES!$E$6:$E$3006>=F$7+1)*(RES!$I$6:$I$3006=$C34)*(RES!$J$6:$J$3006=$D34)),\"\"),\"\")","v":1},{"$f":"IFERROR(IF(AND($C34<>\"\",$D34<>\"\"),1-SUMPRODUCT((RES!$D$6:$D$3006<=G$7)*(RES!$E$6:$E$3006>=G$7+1)*(RES!$I$6:$I$3006=$C34)*(RES!$J$6:$J$3006=$D34)),\"\"),\"\")","v":1},{"$f":"IFERROR(IF(AND($C34<>\"\",$D34<>\"\"),1-SUMPRODUCT((RES!$D$6:$D$3006<=H$7)*(RES!$E$6:$E$3006>=H$7+1)*(RES!$I$6:$I$3006=$C34)*(RES!$J$6:$J$3006=$D34)),\"\"),\"\")","v":1},{"$f":"IFERROR(IF(AND($C34<>\"\",$D34<>\"\"),1-SUMPRODUCT((RES!$D$6:$D$3006<=I$7)*(RES!$E$6:$E$3006>=I$7+1)*(RES!$I$6:$I$3006=$C34)*(RES!$J$6:$J$3006=$D34)),\"\"),\"\")","v":1},{"$f":"IFERROR(IF(AND($C34<>\"\",$D34<>\"\"),1-SUMPRODUCT((RES!$D$6:$D$3006<=J$7)*(RES!$E$6:$E$3006>=J$7+1)*(RES!$I$6:$I$3006=$C34)*(RES!$J$6:$J$3006=$D34)),\"\"),\"\")","v":1},{"$f":"IFERROR(IF(AND($C34<>\"\",$D34<>\"\"),1-SUMPRODUCT((RES!$D$6:$D$3006<=K$7)*(RES!$E$6:$E$3006>=K$7+1)*(RES!$I$6:$I$3006=$C34)*(RES!$J$6:$J$3006=$D34)),\"\"),\"\")","v":1},{"$f":"IFERROR(IF(AND($C34<>\"\",$D34<>\"\"),1-SUMPRODUCT((RES!$D$6:$D$3006<=L$7)*(RES!$E$6:$E$3006>=L$7+1)*(RES!$I$6:$I$3006=$C34)*(RES!$J$6:$J$3006=$D34)),\"\"),\"\")","v":1},{"$f":"IFERROR(IF(AND($C34<>\"\",$D34<>\"\"),1-SUMPRODUCT((RES!$D$6:$D$3006<=M$7)*(RES!$E$6:$E$3006>=M$7+1)*(RES!$I$6:$I$3006=$C34)*(RES!$J$6:$J$3006=$D34)),\"\"),\"\")","v":1},{"$f":"IFERROR(IF(AND($C34<>\"\",$D34<>\"\"),1-SUMPRODUCT((RES!$D$6:$D$3006<=N$7)*(RES!$E$6:$E$3006>=N$7+1)*(RES!$I$6:$I$3006=$C34)*(RES!$J$6:$J$3006=$D34)),\"\"),\"\")","v":1},{"$f":"IFERROR(IF(AND($C34<>\"\",$D34<>\"\"),1-SUMPRODUCT((RES!$D$6:$D$3006<=O$7)*(RES!$E$6:$E$3006>=O$7+1)*(RES!$I$6:$I$3006=$C34)*(RES!$J$6:$J$3006=$D34)),\"\"),\"\")","v":1},{"$f":"IFERROR(IF(AND($C34<>\"\",$D34<>\"\"),1-SUMPRODUCT((RES!$D$6:$D$3006<=P$7)*(RES!$E$6:$E$3006>=P$7+1)*(RES!$I$6:$I$3006=$C34)*(RES!$J$6:$J$3006=$D34)),\"\"),\"\")","v":1},{"$f":"IFERROR(IF(AND($C34<>\"\",$D34<>\"\"),1-SUMPRODUCT((RES!$D$6:$D$3006<=Q$7)*(RES!$E$6:$E$3006>=Q$7+1)*(RES!$I$6:$I$3006=$C34)*(RES!$J$6:$J$3006=$D34)),\"\"),\"\")","v":1},{"$f":"IFERROR(IF(AND($C34<>\"\",$D34<>\"\"),1-SUMPRODUCT((RES!$D$6:$D$3006<=R$7)*(RES!$E$6:$E$3006>=R$7+1)*(RES!$I$6:$I$3006=$C34)*(RES!$J$6:$J$3006=$D34)),\"\"),\"\")","v":1},{"$f":"IFERROR(IF(AND($C34<>\"\",$D34<>\"\"),1-SUMPRODUCT((RES!$D$6:$D$3006<=S$7)*(RES!$E$6:$E$3006>=S$7+1)*(RES!$I$6:$I$3006=$C34)*(RES!$J$6:$J$3006=$D34)),\"\"),\"\")","v":1},{"$f":"IFERROR(IF(AND($C34<>\"\",$D34<>\"\"),1-SUMPRODUCT((RES!$D$6:$D$3006<=T$7)*(RES!$E$6:$E$3006>=T$7+1)*(RES!$I$6:$I$3006=$C34)*(RES!$J$6:$J$3006=$D34)),\"\"),\"\")","v":1}]
[null,null,{"$f":"CAD_Q!C33","v":28},{"$f":"IFERROR(IF(VLOOKUP(C35,CAD_Q!$C$6:$D$105,2,FALSE)=0,\"\",VLOOKUP(C35,CAD_Q!$C$6:$D$105,2,FALSE)),\"\")","v":"Estándar"},null,{"$f":"IFERROR(IF(AND($C35<>\"\",$D35<>\"\"),1-SUMPRODUCT((RES!$D$6:$D$3006<=F$7)*(RES!$E$6:$E$3006>=F$7+1)*(RES!$I$6:$I$3006=$C35)*(RES!$J$6:$J$3006=$D35)),\"\"),\"\")","v":1},{"$f":"IFERROR(IF(AND($C35<>\"\",$D35<>\"\"),1-SUMPRODUCT((RES!$D$6:$D$3006<=G$7)*(RES!$E$6:$E$3006>=G$7+1)*(RES!$I$6:$I$3006=$C35)*(RES!$J$6:$J$3006=$D35)),\"\"),\"\")","v":1},{"$f":"IFERROR(IF(AND($C35<>\"\",$D35<>\"\"),1-SUMPRODUCT((RES!$D$6:$D$3006<=H$7)*(RES!$E$6:$E$3006>=H$7+1)*(RES!$I$6:$I$3006=$C35)*(RES!$J$6:$J$3006=$D35)),\"\"),\"\")","v":1},{"$f":"IFERROR(IF(AND($C35<>\"\",$D35<>\"\"),1-SUMPRODUCT((RES!$D$6:$D$3006<=I$7)*(RES!$E$6:$E$3006>=I$7+1)*(RES!$I$6:$I$3006=$C35)*(RES!$J$6:$J$3006=$D35)),\"\"),\"\")","v":1},{"$f":"IFERROR(IF(AND($C35<>\"\",$D35<>\"\"),1-SUMPRODUCT((RES!$D$6:$D$3006<=J$7)*(RES!$E$6:$E$3006>=J$7+1)*(RES!$I$6:$I$3006=$C35)*(RES!$J$6:$J$3006=$D35)),\"\"),\"\")","v":1},{"$f":"IFERROR(IF(AND($C35<>\"\",$D35<>\"\"),1-SUMPRODUCT((RES!$D$6:$D$3006<=K$7)*(RES!$E$6:$E$3006>=K$7+1)*(RES!$I$6:$I$3006=$C35)*(RES!$J$6:$J$3006=$D35)),\"\"),\"\")","v":1},{"$f":"IFERROR(IF(AND($C35<>\"\",$D35<>\"\"),1-SUMPRODUCT((RES!$D$6:$D$3006<=L$7)*(RES!$E$6:$E$3006>=L$7+1)*(RES!$I$6:$I$3006=$C35)*(RES!$J$6:$J$3006=$D35)),\"\"),\"\")","v":1},{"$f":"IFERROR(IF(AND($C35<>\"\",$D35<>\"\"),1-SUMPRODUCT((RES!$D$6:$D$3006<=M$7)*(RES!$E$6:$E$3006>=M$7+1)*(RES!$I$6:$I$3006=$C35)*(RES!$J$6:$J$3006=$D35)),\"\"),\"\")","v":1},{"$f":"IFERROR(IF(AND($C35<>\"\",$D35<>\"\"),1-SUMPRODUCT((RES!$D$6:$D$3006<=N$7)*(RES!$E$6:$E$3006>=N$7+1)*(RES!$I$6:$I$3006=$C35)*(RES!$J$6:$J$3006=$D35)),\"\"),\"\")","v":1},{"$f":"IFERROR(IF(AND($C35<>\"\",$D35<>\"\"),1-SUMPRODUCT((RES!$D$6:$D$3006<=O$7)*(RES!$E$6:$E$3006>=O$7+1)*(RES!$I$6:$I$3006=$C35)*(RES!$J$6:$J$3006=$D35)),\"\"),\"\")","v":1},{"$f":"IFERROR(IF(AND($C35<>\"\",$D35<>\"\"),1-SUMPRODUCT((RES!$D$6:$D$3006<=P$7)*(RES!$E$6:$E$3006>=P$7+1)*(RES!$I$6:$I$3006=$C35)*(RES!$J$6:$J$3006=$D35)),\"\"),\"\")","v":1},{"$f":"IFERROR(IF(AND($C35<>\"\",$D35<>\"\"),1-SUMPRODUCT((RES!$D$6:$D$3006<=Q$7)*(RES!$E$6:$E$3006>=Q$7+1)*(RES!$I$6:$I$3006=$C35)*(RES!$J$6:$J$3006=$D35)),\"\"),\"\")","v":1},{"$f":"IFERROR(IF(AND($C35<>\"\",$D35<>\"\"),1-SUMPRODUCT((RES!$D$6:$D$3006<=R$7)*(RES!$E$6:$E$3006>=R$7+1)*(RES!$I$6:$I$3006=$C35)*(RES!$J$6:$J$3006=$D35)),\"\"),\"\")","v":1},{"$f":"IFERROR(IF(AND($C35<>\"\",$D35<>\"\"),1-SUMPRODUCT((RES!$D$6:$D$3006<=S$7)*(RES!$E$6:$E$3006>=S$7+1)*(RES!$I$6:$I$3006=$C35)*(RES!$J$6:$J$3006=$D35)),\"\"),\"\")","v":1},{"$f":"IFERROR(IF(AND($C35<>\"\",$D35<>\"\"),1-SUMPRODUCT((RES!$D$6:$D$3006<=T$7)*(RES!$E$6:$E$3006>=T$7+1)*(RES!$I$6:$I$3006=$C35)*(RES!$J$6:$J$3006=$D35)),\"\"),\"\")","v":1}]
[null,null,{"$f":"CAD_Q!C34","v":29},{"$f":"IFERROR(IF(VLOOKUP(C36,CAD_Q!$C$6:$D$105,2,FALSE)=0,\"\",VLOOKUP(C36,CAD_Q!$C$6:$D$105,2,FALSE)),\"\")","v":"Estándar"},null,{"$f":"IFERROR(IF(AND($C36<>\"\",$D36<>\"\"),1-SUMPRODUCT((RES!$D$6:$D$3006<=F$7)*(RES!$E$6:$E$3006>=F$7+1)*(RES!$I$6:$I$3006=$C36)*(RES!$J$6:$J$3006=$D36)),\"\"),\"\")","v":1},{"$f":"IFERROR(IF(AND($C36<>\"\",$D36<>\"\"),1-SUMPRODUCT((RES!$D$6:$D$3006<=G$7)*(RES!$E$6:$E$3006>=G$7+1)*(RES!$I$6:$I$3006=$C36)*(RES!$J$6:$J$3006=$D36)),\"\"),\"\")","v":1},{"$f":"IFERROR(IF(AND($C36<>\"\",$D36<>\"\"),1-SUMPRODUCT((RES!$D$6:$D$3006<=H$7)*(RES!$E$6:$E$3006>=H$7+1)*(RES!$I$6:$I$3006=$C36)*(RES!$J$6:$J$3006=$D36)),\"\"),\"\")","v":1},{"$f":"IFERROR(IF(AND($C36<>\"\",$D36<>\"\"),1-SUMPRODUCT((RES!$D$6:$D$3006<=I$7)*(RES!$E$6:$E$3006>=I$7+1)*(RES!$I$6:$I$3006=$C36)*(RES!$J$6:$J$3006=$D36)),\"\"),\"\")","v":1},{"$f":"IFERROR(IF(AND($C36<>\"\",$D36<>\"\"),1-SUMPRODUCT((RES!$D$6:$D$3006<=J$7)*(RES!$E$6:$E$3006>=J$7+1)*(RES!$I$6:$I$3006=$C36)*(RES!$J$6:$J$3006=$D36)),\"\"),\"\")","v":1},{"$f":"IFERROR(IF(AND($C36<>\"\",$D36<>\"\"),1-SUMPRODUCT((RES!$D$6:$D$3006<=K$7)*(RES!$E$6:$E$3006>=K$7+1)*(RES!$I$6:$I$3006=$C36)*(RES!$J$6:$J$3006=$D36)),\"\"),\"\")","v":1},{"$f":"IFERROR(IF(AND($C36<>\"\",$D36<>\"\"),1-SUMPRODUCT((RES!$D$6:$D$3006<=L$7)*(RES!$E$6:$E$3006>=L$7+1)*(RES!$I$6:$I$3006=$C36)*(RES!$J$6:$J$3006=$D36)),\"\"),\"\")","v":1},{"$f":"IFERROR(IF(AND($C36<>\"\",$D36<>\"\"),1-SUMPRODUCT((RES!$D$6:$D$3006<=M$7)*(RES!$E$6:$E$3006>=M$7+1)*(RES!$I$6:$I$3006=$C36)*(RES!$J$6:$J$3006=$D36)),\"\"),\"\")","v":1},{"$f":"IFERROR(IF(AND($C36<>\"\",$D36<>\"\"),1-SUMPRODUCT((RES!$D$6:$D$3006<=N$7)*(RES!$E$6:$E$3006>=N$7+1)*(RES!$I$6:$I$3006=$C36)*(RES!$J$6:$J$3006=$D36)),\"\"),\"\")","v":1},{"$f":"IFERROR(IF(AND($C36<>\"\",$D36<>\"\"),1-SUMPRODUCT((RES!$D$6:$D$3006<=O$7)*(RES!$E$6:$E$3006>=O$7+1)*(RES!$I$6:$I$3006=$C36)*(RES!$J$6:$J$3006=$D36)),\"\"),\"\")","v":1},{"$f":"IFERROR(IF(AND($C36<>\"\",$D36<>\"\"),1-SUMPRODUCT((RES!$D$6:$D$3006<=P$7)*(RES!$E$6:$E$3006>=P$7+1)*(RES!$I$6:$I$3006=$C36)*(RES!$J$6:$J$3006=$D36)),\"\"),\"\")","v":1},{"$f":"IFERROR(IF(AND($C36<>\"\",$D36<>\"\"),1-SUMPRODUCT((RES!$D$6:$D$3006<=Q$7)*(RES!$E$6:$E$3006>=Q$7+1)*(RES!$I$6:$I$3006=$C36)*(RES!$J$6:$J$3006=$D36)),\"\"),\"\")","v":1},{"$f":"IFERROR(IF(AND($C36<>\"\",$D36<>\"\"),1-SUMPRODUCT((RES!$D$6:$D$3006<=R$7)*(RES!$E$6:$E$3006>=R$7+1)*(RES!$I$6:$I$3006=$C36)*(RES!$J$6:$J$3006=$D36)),\"\"),\"\")","v":1},{"$f":"IFERROR(IF(AND($C36<>\"\",$D36<>\"\"),1-SUMPRODUCT((RES!$D$6:$D$3006<=S$7)*(RES!$E$6:$E$3006>=S$7+1)*(RES!$I$6:$I$3006=$C36)*(RES!$J$6:$J$3006=$D36)),\"\"),\"\")","v":1},{"$f":"IFERROR(IF(AND($C36<>\"\",$D36<>\"\"),1-SUMPRODUCT((RES!$D$6:$D$3006<=T$7)*(RES!$E$6:$E$3006>=T$7+1)*(RES!$I$6:$I$3006=$C36)*(RES!$J$6:$J$3006=$D36)),\"\"),\"\")","v":1}]
[null,null,{"$f":"CAD_Q!C35","v":30},{"$f":"IFERROR(IF(VLOOKUP(C37,CAD_Q!$C$6:$D$105,2,FALSE)=0,\"\",VLOOKUP(C37,CAD_Q!$C$6:$D$105,2,FALSE)),\"\")","v":"Estándar"},null,{"$f":"IFERROR(IF(AND($C37<>\"\",$D37<>\"\"),1-SUMPRODUCT((RES!$D$6:$D$3006<=F$7)*(RES!$E$6:$E$3006>=F$7+1)*(RES!$I$6:$I$3006=$C37)*(RES!$J$6:$J$3006=$D37)),\"\"),\"\")","v":1},{"$f":"IFERROR(IF(AND($C37<>\"\",$D37<>\"\"),1-SUMPRODUCT((RES!$D$6:$D$3006<=G$7)*(RES!$E$6:$E$3006>=G$7+1)*(RES!$I$6:$I$3006=$C37)*(RES!$J$6:$J$3006=$D37)),\"\"),\"\")","v":1},{"$f":"IFERROR(IF(AND($C37<>\"\",$D37<>\"\"),1-SUMPRODUCT((RES!$D$6:$D$3006<=H$7)*(RES!$E$6:$E$3006>=H$7+1)*(RES!$I$6:$I$3006=$C37)*(RES!$J$6:$J$3006=$D37)),\"\"),\"\")","v":1},{"$f":"IFERROR(IF(AND($C37<>\"\",$D37<>\"\"),1-SUMPRODUCT((RES!$D$6:$D$3006<=I$7)*(RES!$E$6:$E$3006>=I$7+1)*(RES!$I$6:$I$3006=$C37)*(RES!$J$6:$J$3006=$D37)),\"\"),\"\")","v":1},{"$f":"IFERROR(IF(AND($C37<>\"\",$D37<>\"\"),1-SUMPRODUCT((RES!$D$6:$D$3006<=J$7)*(RES!$E$6:$E$3006>=J$7+1)*(RES!$I$6:$I$3006=$C37)*(RES!$J$6:$J$3006=$D37)),\"\"),\"\")","v":1},{"$f":"IFERROR(IF(AND($C37<>\"\",$D37<>\"\"),1-SUMPRODUCT((RES!$D$6:$D$3006<=K$7)*(RES!$E$6:$E$3006>=K$7+1)*(RES!$I$6:$I$3006=$C37)*(RES!$J$6:$J$3006=$D37)),\"\"),\"\")","v":1},{"$f":"IFERROR(IF(AND($C37<>\"\",$D37<>\"\"),1-SUMPRODUCT((RES!$D$6:$D$3006<=L$7)*(RES!$E$6:$E$3006>=L$7+1)*(RES!$I$6:$I$3006=$C37)*(RES!$J$6:$J$3006=$D37)),\"\"),\"\")","v":1},{"$f":"IFERROR(IF(AND($C37<>\"\",$D37<>\"\"),1-SUMPRODUCT((RES!$D$6:$D$3006<=M$7)*(RES!$E$6:$E$3006>=M$7+1)*(RES!$I$6:$I$3006=$C37)*(RES!$J$6:$J$3006=$D37)),\"\"),\"\")","v":1},{"$f":"IFERROR(IF(AND($C37<>\"\",$D37<>\"\"),1-SUMPRODUCT((RES!$D$6:$D$3006<=N$7)*(RES!$E$6:$E$3006>=N$7+1)*(RES!$I$6:$I$3006=$C37)*(RES!$J$6:$J$3006=$D37)),\"\"),\"\")","v":1},{"$f":"IFERROR(IF(AND($C37<>\"\",$D37<>\"\"),1-SUMPRODUCT((RES!$D$6:$D$3006<=O$7)*(RES!$E$6:$E$3006>=O$7+1)*(RES!$I$6:$I$3006=$C37)*(RES!$J$6:$J$3006=$D37)),\"\"),\"\")","v":1},{"$f":"IFERROR(IF(AND($C37<>\"\",$D37<>\"\"),1-SUMPRODUCT((RES!$D$6:$D$3006<=P$7)*(RES!$E$6:$E$3006>=P$7+1)*(RES!$I$6:$I$3006=$C37)*(RES!$J$6:$J$3006=$D37)),\"\"),\"\")","v":1},{"$f":"IFERROR(IF(AND($C37<>\"\",$D37<>\"\"),1-SUMPRODUCT((RES!$D$6:$D$3006<=Q$7)*(RES!$E$6:$E$3006>=Q$7+1)*(RES!$I$6:$I$3006=$C37)*(RES!$J$6:$J$3006=$D37)),\"\"),\"\")","v":1},{"$f":"IFERROR(IF(AND($C37<>\"\",$D37<>\"\"),1-SUMPRODUCT((RES!$D$6:$D$3006<=R$7)*(RES!$E$6:$E$3006>=R$7+1)*(RES!$I$6:$I$3006=$C37)*(RES!$J$6:$J$3006=$D37)),\"\"),\"\")","v":1},{"$f":"IFERROR(IF(AND($C37<>\"\",$D37<>\"\"),1-SUMPRODUCT((RES!$D$6:$D$3006<=S$7)*(RES!$E$6:$E$3006>=S$7+1)*(RES!$I$6:$I$3006=$C37)*(RES!$J$6:$J$3006=$D37)),\"\"),\"\")","v":1},{"$f":"IFERROR(IF(AND($C37<>\"\",$D37<>\"\"),1-SUMPRODUCT((RES!$D$6:$D$3006<=T$7)*(RES!$E$6:$E$3006>=T$7+1)*(RES!$I$6:$I$3006=$C37)*(RES!$J$6:$J$3006=$D37)),\"\"),\"\")","v":1}]
[null,null,{"$f":"CAD_Q!C36","v":31},{"$f":"IFERROR(IF(VLOOKUP(C38,CAD_Q!$C$6:$D$105,2,FALSE)=0,\"\",VLOOKUP(C38,CAD_Q!$C$6:$D$105,2,FALSE)),\"\")","v":"Estándar"},null,{"$f":"IFERROR(IF(AND($C38<>\"\",$D38<>\"\"),1-SUMPRODUCT((RES!$D$6:$D$3006<=F$7)*(RES!$E$6:$E$3006>=F$7+1)*(RES!$I$6:$I$3006=$C38)*(RES!$J$6:$J$3006=$D38)),\"\"),\"\")","v":1},{"$f":"IFERROR(IF(AND($C38<>\"\",$D38<>\"\"),1-SUMPRODUCT((RES!$D$6:$D$3006<=G$7)*(RES!$E$6:$E$3006>=G$7+1)*(RES!$I$6:$I$3006=$C38)*(RES!$J$6:$J$3006=$D38)),\"\"),\"\")","v":1},{"$f":"IFERROR(IF(AND($C38<>\"\",$D38<>\"\"),1-SUMPRODUCT((RES!$D$6:$D$3006<=H$7)*(RES!$E$6:$E$3006>=H$7+1)*(RES!$I$6:$I$3006=$C38)*(RES!$J$6:$J$3006=$D38)),\"\"),\"\")","v":1},{"$f":"IFERROR(IF(AND($C38<>\"\",$D38<>\"\"),1-SUMPRODUCT((RES!$D$6:$D$3006<=I$7)*(RES!$E$6:$E$3006>=I$7+1)*(RES!$I$6:$I$3006=$C38)*(RES!$J$6:$J$3006=$D38)),\"\"),\"\")","v":1},{"$f":"IFERROR(IF(AND($C38<>\"\",$D38<>\"\"),1-SUMPRODUCT((RES!$D$6:$D$3006<=J$7)*(RES!$E$6:$E$3006>=J$7+1)*(RES!$I$6:$I$3006=$C38)*(RES!$J$6:$J$3006=$D38)),\"\"),\"\")","v":1},{"$f":"IFERROR(IF(AND($C38<>\"\",$D38<>\"\"),1-SUMPRODUCT((RES!$D$6:$D$3006<=K$7)*(RES!$E$6:$E$3006>=K$7+1)*(RES!$I$6:$I$3006=$C38)*(RES!$J$6:$J$3006=$D38)),\"\"),\"\")","v":1},{"$f":"IFERROR(IF(AND($C38<>\"\",$D38<>\"\"),1-SUMPRODUCT((RES!$D$6:$D$3006<=L$7)*(RES!$E$6:$E$3006>=L$7+1)*(RES!$I$6:$I$3006=$C38)*(RES!$J$6:$J$3006=$D38)),\"\"),\"\")","v":1},{"$f":"IFERROR(IF(AND($C38<>\"\",$D38<>\"\"),1-SUMPRODUCT((RES!$D$6:$D$3006<=M$7)*(RES!$E$6:$E$3006>=M$7+1)*(RES!$I$6:$I$3006=$C38)*(RES!$J$6:$J$3006=$D38)),\"\"),\"\")","v":1},{"$f":"IFERROR(IF(AND($C38<>\"\",$D38<>\"\"),1-SUMPRODUCT((RES!$D$6:$D$3006<=N$7)*(RES!$E$6:$E$3006>=N$7+1)*(RES!$I$6:$I$3006=$C38)*(RES!$J$6:$J$3006=$D38)),\"\"),\"\")","v":1},{"$f":"IFERROR(IF(AND($C38<>\"\",$D38<>\"\"),1-SUMPRODUCT((RES!$D$6:$D$3006<=O$7)*(RES!$E$6:$E$3006>=O$7+1)*(RES!$I$6:$I$3006=$C38)*(RES!$J$6:$J$3006=$D38)),\"\"),\"\")","v":1},{"$f":"IFERROR(IF(AND($C38<>\"\",$D38<>\"\"),1-SUMPRODUCT((RES!$D$6:$D$3006<=P$7)*(RES!$E$6:$E$3006>=P$7+1)*(RES!$I$6:$I$3006=$C38)*(RES!$J$6:$J$3006=$D38)),\"\"),\"\")","v":1},{"$f":"IFERROR(IF(AND($C38<>\"\",$D38<>\"\"),1-SUMPRODUCT((RES!$D$6:$D$3006<=Q$7)*(RES!$E$6:$E$3006>=Q$7+1)*(RES!$I$6:$I$3006=$C38)*(RES!$J$6:$J$3006=$D38)),\"\"),\"\")","v":1},{"$f":"IFERROR(IF(AND($C38<>\"\",$D38<>\"\"),1-SUMPRODUCT((RES!$D$6:$D$3006<=R$7)*(RES!$E$6:$E$3006>=R$7+1)*(RES!$I$6:$I$3006=$C38)*(RES!$J$6:$J$3006=$D38)),\"\"),\"\")","v":1},{"$f":"IFERROR(IF(AND($C38<>\"\",$D38<>\"\"),1-SUMPRODUCT((RES!$D$6:$D$3006<=S$7)*(RES!$E$6:$E$3006>=S$7+1)*(RES!$I$6:$I$3006=$C38)*(RES!$J$6:$J$3006=$D38)),\"\"),\"\")","v":1},{"$f":"IFERROR(IF(AND($C38<>\"\",$D38<>\"\"),1-SUMPRODUCT((RES!$D$6:$D$3006<=T$7)*(RES!$E$6:$E$3006>=T$7+1)*(RES!$I$6:$I$3006=$C38)*(RES!$J$6:$J$3006=$D38)),\"\"),\"\")","v":1}]
[null,null,{"$f":"CAD_Q!C37","v":32},{"$f":"IFERROR(IF(VLOOKUP(C39,CAD_Q!$C$6:$D$105,2,FALSE)=0,\"\",VLOOKUP(C39,CAD_Q!$C$6:$D$105,2,FALSE)),\"\")","v":"Estándar"},null,{"$f":"IFERROR(IF(AND($C39<>\"\",$D39<>\"\"),1-SUMPRODUCT((RES!$D$6:$D$3006<=F$7)*(RES!$E$6:$E$3006>=F$7+1)*(RES!$I$6:$I$3006=$C39)*(RES!$J$6:$J$3006=$D39)),\"\"),\"\")","v":1},{"$f":"IFERROR(IF(AND($C39<>\"\",$D39<>\"\"),1-SUMPRODUCT((RES!$D$6:$D$3006<=G$7)*(RES!$E$6:$E$3006>=G$7+1)*(RES!$I$6:$I$3006=$C39)*(RES!$J$6:$J$3006=$D39)),\"\"),\"\")","v":1},{"$f":"IFERROR(IF(AND($C39<>\"\",$D39<>\"\"),1-SUMPRODUCT((RES!$D$6:$D$3006<=H$7)*(RES!$E$6:$E$3006>=H$7+1)*(RES!$I$6:$I$3006=$C39)*(RES!$J$6:$J$3006=$D39)),\"\"),\"\")","v":1},{"$f":"IFERROR(IF(AND($C39<>\"\",$D39<>\"\"),1-SUMPRODUCT((RES!$D$6:$D$3006<=I$7)*(RES!$E$6:$E$3006>=I$7+1)*(RES!$I$6:$I$3006=$C39)*(RES!$J$6:$J$3006=$D39)),\"\"),\"\")","v":1},{"$f":"IFERROR(IF(AND($C39<>\"\",$D39<>\"\"),1-SUMPRODUCT((RES!$D$6:$D$3006<=J$7)*(RES!$E$6:$E$3006>=J$7+1)*(RES!$I$6:$I$3006=$C39)*(RES!$J$6:$J$3006=$D39)),\"\"),\"\")","v":1},{"$f":"IFERROR(IF(AND($C39<>\"\",$D39<>\"\"),1-SUMPRODUCT((RES!$D$6:$D$3006<=K$7)*(RES!$E$6:$E$3006>=K$7+1)*(RES!$I$6:$I$3006=$C39)*(RES!$J$6:$J$3006=$D39)),\"\"),\"\")","v":1},{"$f":"IFERROR(IF(AND($C39<>\"\",$D39<>\"\"),1-SUMPRODUCT((RES!$D$6:$D$3006<=L$7)*(RES!$E$6:$E$3006>=L$7+1)*(RES!$I$6:$I$3006=$C39)*(RES!$J$6:$J$3006=$D39)),\"\"),\"\")","v":1},{"$f":"IFERROR(IF(AND($C39<>\"\",$D39<>\"\"),1-SUMPRODUCT((RES!$D$6:$D$3006<=M$7)*(RES!$E$6:$E$3006>=M$7+1)*(RES!$I$6:$I$3006=$C39)*(RES!$J$6:$J$3006=$D39)),\"\"),\"\")","v":1},{"$f":"IFERROR(IF(AND($C39<>\"\",$D39<>\"\"),1-SUMPRODUCT((RES!$D$6:$D$3006<=N$7)*(RES!$E$6:$E$3006>=N$7+1)*(RES!$I$6:$I$3006=$C39)*(RES!$J$6:$J$3006=$D39)),\"\"),\"\")","v":1},{"$f":"IFERROR(IF(AND($C39<>\"\",$D39<>\"\"),1-SUMPRODUCT((RES!$D$6:$D$3006<=O$7)*(RES!$E$6:$E$3006>=O$7+1)*(RES!$I$6:$I$3006=$C39)*(RES!$J$6:$J$3006=$D39)),\"\"),\"\")","v":1},{"$f":"IFERROR(IF(AND($C39<>\"\",$D39<>\"\"),1-SUMPRODUCT((RES!$D$6:$D$3006<=P$7)*(RES!$E$6:$E$3006>=P$7+1)*(RES!$I$6:$I$3006=$C39)*(RES!$J$6:$J$3006=$D39)),\"\"),\"\")","v":1},{"$f":"IFERROR(IF(AND($C39<>\"\",$D39<>\"\"),1-SUMPRODUCT((RES!$D$6:$D$3006<=Q$7)*(RES!$E$6:$E$3006>=Q$7+1)*(RES!$I$6:$I$3006=$C39)*(RES!$J$6:$J$3006=$D39)),\"\"),\"\")","v":1},{"$f":"IFERROR(IF(AND($C39<>\"\",$D39<>\"\"),1-SUMPRODUCT((RES!$D$6:$D$3006<=R$7)*(RES!$E$6:$E$3006>=R$7+1)*(RES!$I$6:$I$3006=$C39)*(RES!$J$6:$J$3006=$D39)),\"\"),\"\")","v":1},{"$f":"IFERROR(IF(AND($C39<>\"\",$D39<>\"\"),1-SUMPRODUCT((RES!$D$6:$D$3006<=S$7)*(RES!$E$6:$E$3006>=S$7+1)*(RES!$I$6:$I$3006=$C39)*(RES!$J$6:$J$3006=$D39)),\"\"),\"\")","v":1},{"$f":"IFERROR(IF(AND($C39<>\"\",$D39<>\"\"),1-SUMPRODUCT((RES!$D$6:$D$3006<=T$7)*(RES!$E$6:$E$3006>=T$7+1)*(RES!$I$6:$I$3006=$C39)*(RES!$J$6:$J$3006=$D39)),\"\"),\"\")","v":1}]
[null,null,{"$f":"CAD_Q!C38","v":33},{"$f":"IFERROR(IF(VLOOKUP(C40,CAD_Q!$C$6:$D$105,2,FALSE)=0,\"\",VLOOKUP(C40,CAD_Q!$C$6:$D$105,2,FALSE)),\"\")","v":"Estándar"},null,{"$f":"IFERROR(IF(AND($C40<>\"\",$D40<>\"\"),1-SUMPRODUCT((RES!$D$6:$D$3006<=F$7)*(RES!$E$6:$E$3006>=F$7+1)*(RES!$I$6:$I$3006=$C40)*(RES!$J$6:$J$3006=$D40)),\"\"),\"\")","v":1},{"$f":"IFERROR(IF(AND($C40<>\"\",$D40<>\"\"),1-SUMPRODUCT((RES!$D$6:$D$3006<=G$7)*(RES!$E$6:$E$3006>=G$7+1)*(RES!$I$6:$I$3006=$C40)*(RES!$J$6:$J$3006=$D40)),\"\"),\"\")","v":1},{"$f":"IFERROR(IF(AND($C40<>\"\",$D40<>\"\"),1-SUMPRODUCT((RES!$D$6:$D$3006<=H$7)*(RES!$E$6:$E$3006>=H$7+1)*(RES!$I$6:$I$3006=$C40)*(RES!$J$6:$J$3006=$D40)),\"\"),\"\")","v":1},{"$f":"IFERROR(IF(AND($C40<>\"\",$D40<>\"\"),1-SUMPRODUCT((RES!$D$6:$D$3006<=I$7)*(RES!$E$6:$E$3006>=I$7+1)*(RES!$I$6:$I$3006=$C40)*(RES!$J$6:$J$3006=$D40)),\"\"),\"\")","v":1},{"$f":"IFERROR(IF(AND($C40<>\"\",$D40<>\"\"),1-SUMPRODUCT((RES!$D$6:$D$3006<=J$7)*(RES!$E$6:$E$3006>=J$7+1)*(RES!$I$6:$I$3006=$C40)*(RES!$J$6:$J$3006=$D40)),\"\"),\"\")","v":1},{"$f":"IFERROR(IF(AND($C40<>\"\",$D40<>\"\"),1-SUMPRODUCT((RES!$D$6:$D$3006<=K$7)*(RES!$E$6:$E$3006>=K$7+1)*(RES!$I$6:$I$3006=$C40)*(RES!$J$6:$J$3006=$D40)),\"\"),\"\")","v":1},{"$f":"IFERROR(IF(AND($C40<>\"\",$D40<>\"\"),1-SUMPRODUCT((RES!$D$6:$D$3006<=L$7)*(RES!$E$6:$E$3006>=L$7+1)*(RES!$I$6:$I$3006=$C40)*(RES!$J$6:$J$3006=$D40)),\"\"),\"\")","v":1},{"$f":"IFERROR(IF(AND($C40<>\"\",$D40<>\"\"),1-SUMPRODUCT((RES!$D$6:$D$3006<=M$7)*(RES!$E$6:$E$3006>=M$7+1)*(RES!$I$6:$I$3006=$C40)*(RES!$J$6:$J$3006=$D40)),\"\"),\"\")","v":1},{"$f":"IFERROR(IF(AND($C40<>\"\",$D40<>\"\"),1-SUMPRODUCT((RES!$D$6:$D$3006<=N$7)*(RES!$E$6:$E$3006>=N$7+1)*(RES!$I$6:$I$3006=$C40)*(RES!$J$6:$J$3006=$D40)),\"\"),\"\")","v":1},{"$f":"IFERROR(IF(AND($C40<>\"\",$D40<>\"\"),1-SUMPRODUCT((RES!$D$6:$D$3006<=O$7)*(RES!$E$6:$E$3006>=O$7+1)*(RES!$I$6:$I$3006=$C40)*(RES!$J$6:$J$3006=$D40)),\"\"),\"\")","v":1},{"$f":"IFERROR(IF(AND($C40<>\"\",$D40<>\"\"),1-SUMPRODUCT((RES!$D$6:$D$3006<=P$7)*(RES!$E$6:$E$3006>=P$7+1)*(RES!$I$6:$I$3006=$C40)*(RES!$J$6:$J$3006=$D40)),\"\"),\"\")","v":1},{"$f":"IFERROR(IF(AND($C40<>\"\",$D40<>\"\"),1-SUMPRODUCT((RES!$D$6:$D$3006<=Q$7)*(RES!$E$6:$E$3006>=Q$7+1)*(RES!$I$6:$I$3006=$C40)*(RES!$J$6:$J$3006=$D40)),\"\"),\"\")","v":1},{"$f":"IFERROR(IF(AND($C40<>\"\",$D40<>\"\"),1-SUMPRODUCT((RES!$D$6:$D$3006<=R$7)*(RES!$E$6:$E$3006>=R$7+1)*(RES!$I$6:$I$3006=$C40)*(RES!$J$6:$J$3006=$D40)),\"\"),\"\")","v":1},{"$f":"IFERROR(IF(AND($C40<>\"\",$D40<>\"\"),1-SUMPRODUCT((RES!$D$6:$D$3006<=S$7)*(RES!$E$6:$E$3006>=S$7+1)*(RES!$I$6:$I$3006=$C40)*(RES!$J$6:$J$3006=$D40)),\"\"),\"\")","v":1},{"$f":"IFERROR(IF(AND($C40<>\"\",$D40<>\"\"),1-SUMPRODUCT((RES!$D$6:$D$3006<=T$7)*(RES!$E$6:$E$3006>=T$7+1)*(RES!$I$6:$I$3006=$C40)*(RES!$J$6:$J$3006=$D40)),\"\"),\"\")","v":1}]
[null,null,{"$f":"CAD_Q!C39","v":34},{"$f":"IFERROR(IF(VLOOKUP(C41,CAD_Q!$C$6:$D$105,2,FALSE)=0,\"\",VLOOKUP(C41,CAD_Q!$C$6:$D$105,2,FALSE)),\"\")","v":"Estándar"},null,{"$f":"IFERROR(IF(AND($C41<>\"\",$D41<>\"\"),1-SUMPRODUCT((RES!$D$6:$D$3006<=F$7)*(RES!$E$6:$E$3006>=F$7+1)*(RES!$I$6:$I$3006=$C41)*(RES!$J$6:$J$3006=$D41)),\"\"),\"\")","v":1},{"$f":"IFERROR(IF(AND($C41<>\"\",$D41<>\"\"),1-SUMPRODUCT((RES!$D$6:$D$3006<=G$7)*(RES!$E$6:$E$3006>=G$7+1)*(RES!$I$6:$I$3006=$C41)*(RES!$J$6:$J$3006=$D41)),\"\"),\"\")","v":1},{"$f":"IFERROR(IF(AND($C41<>\"\",$D41<>\"\"),1-SUMPRODUCT((RES!$D$6:$D$3006<=H$7)*(RES!$E$6:$E$3006>=H$7+1)*(RES!$I$6:$I$3006=$C41)*(RES!$J$6:$J$3006=$D41)),\"\"),\"\")","v":1},{"$f":"IFERROR(IF(AND($C41<>\"\",$D41<>\"\"),1-SUMPRODUCT((RES!$D$6:$D$3006<=I$7)*(RES!$E$6:$E$3006>=I$7+1)*(RES!$I$6:$I$3006=$C41)*(RES!$J$6:$J$3006=$D41)),\"\"),\"\")","v":1},{"$f":"IFERROR(IF(AND($C41<>\"\",$D41<>\"\"),1-SUMPRODUCT((RES!$D$6:$D$3006<=J$7)*(RES!$E$6:$E$3006>=J$7+1)*(RES!$I$6:$I$3006=$C41)*(RES!$J$6:$J$3006=$D41)),\"\"),\"\")","v":1},{"$f":"IFERROR(IF(AND($C41<>\"\",$D41<>\"\"),1-SUMPRODUCT((RES!$D$6:$D$3006<=K$7)*(RES!$E$6:$E$3006>=K$7+1)*(RES!$I$6:$I$3006=$C41)*(RES!$J$6:$J$3006=$D41)),\"\"),\"\")","v":1},{"$f":"IFERROR(IF(AND($C41<>\"\",$D41<>\"\"),1-SUMPRODUCT((RES!$D$6:$D$3006<=L$7)*(RES!$E$6:$E$3006>=L$7+1)*(RES!$I$6:$I$3006=$C41)*(RES!$J$6:$J$3006=$D41)),\"\"),\"\")","v":1},{"$f":"IFERROR(IF(AND($C41<>\"\",$D41<>\"\"),1-SUMPRODUCT((RES!$D$6:$D$3006<=M$7)*(RES!$E$6:$E$3006>=M$7+1)*(RES!$I$6:$I$3006=$C41)*(RES!$J$6:$J$3006=$D41)),\"\"),\"\")","v":1},{"$f":"IFERROR(IF(AND($C41<>\"\",$D41<>\"\"),1-SUMPRODUCT((RES!$D$6:$D$3006<=N$7)*(RES!$E$6:$E$3006>=N$7+1)*(RES!$I$6:$I$3006=$C41)*(RES!$J$6:$J$3006=$D41)),\"\"),\"\")","v":1},{"$f":"IFERROR(IF(AND($C41<>\"\",$D41<>\"\"),1-SUMPRODUCT((RES!$D$6:$D$3006<=O$7)*(RES!$E$6:$E$3006>=O$7+1)*(RES!$I$6:$I$3006=$C41)*(RES!$J$6:$J$3006=$D41)),\"\"),\"\")","v":1},{"$f":"IFERROR(IF(AND($C41<>\"\",$D41<>\"\"),1-SUMPRODUCT((RES!$D$6:$D$3006<=P$7)*(RES!$E$6:$E$3006>=P$7+1)*(RES!$I$6:$I$3006=$C41)*(RES!$J$6:$J$3006=$D41)),\"\"),\"\")","v":1},{"$f":"IFERROR(IF(AND($C41<>\"\",$D41<>\"\"),1-SUMPRODUCT((RES!$D$6:$D$3006<=Q$7)*(RES!$E$6:$E$3006>=Q$7+1)*(RES!$I$6:$I$3006=$C41)*(RES!$J$6:$J$3006=$D41)),\"\"),\"\")","v":1},{"$f":"IFERROR(IF(AND($C41<>\"\",$D41<>\"\"),1-SUMPRODUCT((RES!$D$6:$D$3006<=R$7)*(RES!$E$6:$E$3006>=R$7+1)*(RES!$I$6:$I$3006=$C41)*(RES!$J$6:$J$3006=$D41)),\"\"),\"\")","v":1},{"$f":"IFERROR(IF(AND($C41<>\"\",$D41<>\"\"),1-SUMPRODUCT((RES!$D$6:$D$3006<=S$7)*(RES!$E$6:$E$3006>=S$7+1)*(RES!$I$6:$I$3006=$C41)*(RES!$J$6:$J$3006=$D41)),\"\"),\"\")","v":1},{"$f":"IFERROR(IF(AND($C41<>\"\",$D41<>\"\"),1-SUMPRODUCT((RES!$D$6:$D$3006<=T$7)*(RES!$E$6:$E$3006>=T$7+1)*(RES!$I$6:$I$3006=$C41)*(RES!$J$6:$J$3006=$D41)),\"\"),\"\")","v":1}]
[null,null,{"$f":"CAD_Q!C40","v":35},{"$f":"IFERROR(IF(VLOOKUP(C42,CAD_Q!$C$6:$D$105,2,FALSE)=0,\"\",VLOOKUP(C42,CAD_Q!$C$6:$D$105,2,FALSE)),\"\")","v":"Estándar"},null,{"$f":"IFERROR(IF(AND($C42<>\"\",$D42<>\"\"),1-SUMPRODUCT((RES!$D$6:$D$3006<=F$7)*(RES!$E$6:$E$3006>=F$7+1)*(RES!$I$6:$I$3006=$C42)*(RES!$J$6:$J$3006=$D42)),\"\"),\"\")","v":1},{"$f":"IFERROR(IF(AND($C42<>\"\",$D42<>\"\"),1-SUMPRODUCT((RES!$D$6:$D$3006<=G$7)*(RES!$E$6:$E$3006>=G$7+1)*(RES!$I$6:$I$3006=$C42)*(RES!$J$6:$J$3006=$D42)),\"\"),\"\")","v":1},{"$f":"IFERROR(IF(AND($C42<>\"\",$D42<>\"\"),1-SUMPRODUCT((RES!$D$6:$D$3006<=H$7)*(RES!$E$6:$E$3006>=H$7+1)*(RES!$I$6:$I$3006=$C42)*(RES!$J$6:$J$3006=$D42)),\"\"),\"\")","v":1},{"$f":"IFERROR(IF(AND($C42<>\"\",$D42<>\"\"),1-SUMPRODUCT((RES!$D$6:$D$3006<=I$7)*(RES!$E$6:$E$3006>=I$7+1)*(RES!$I$6:$I$3006=$C42)*(RES!$J$6:$J$3006=$D42)),\"\"),\"\")","v":1},{"$f":"IFERROR(IF(AND($C42<>\"\",$D42<>\"\"),1-SUMPRODUCT((RES!$D$6:$D$3006<=J$7)*(RES!$E$6:$E$3006>=J$7+1)*(RES!$I$6:$I$3006=$C42)*(RES!$J$6:$J$3006=$D42)),\"\"),\"\")","v":1},{"$f":"IFERROR(IF(AND($C42<>\"\",$D42<>\"\"),1-SUMPRODUCT((RES!$D$6:$D$3006<=K$7)*(RES!$E$6:$E$3006>=K$7+1)*(RES!$I$6:$I$3006=$C42)*(RES!$J$6:$J$3006=$D42)),\"\"),\"\")","v":1},{"$f":"IFERROR(IF(AND($C42<>\"\",$D42<>\"\"),1-SUMPRODUCT((RES!$D$6:$D$3006<=L$7)*(RES!$E$6:$E$3006>=L$7+1)*(RES!$I$6:$I$3006=$C42)*(RES!$J$6:$J$3006=$D42)),\"\"),\"\")","v":1},{"$f":"IFERROR(IF(AND($C42<>\"\",$D42<>\"\"),1-SUMPRODUCT((RES!$D$6:$D$3006<=M$7)*(RES!$E$6:$E$3006>=M$7+1)*(RES!$I$6:$I$3006=$C42)*(RES!$J$6:$J$3006=$D42)),\"\"),\"\")","v":1},{"$f":"IFERROR(IF(AND($C42<>\"\",$D42<>\"\"),1-SUMPRODUCT((RES!$D$6:$D$3006<=N$7)*(RES!$E$6:$E$3006>=N$7+1)*(RES!$I$6:$I$3006=$C42)*(RES!$J$6:$J$3006=$D42)),\"\"),\"\")","v":1},{"$f":"IFERROR(IF(AND($C42<>\"\",$D42<>\"\"),1-SUMPRODUCT((RES!$D$6:$D$3006<=O$7)*(RES!$E$6:$E$3006>=O$7+1)*(RES!$I$6:$I$3006=$C42)*(RES!$J$6:$J$3006=$D42)),\"\"),\"\")","v":1},{"$f":"IFERROR(IF(AND($C42<>\"\",$D42<>\"\"),1-SUMPRODUCT((RES!$D$6:$D$3006<=P$7)*(RES!$E$6:$E$3006>=P$7+1)*(RES!$I$6:$I$3006=$C42)*(RES!$J$6:$J$3006=$D42)),\"\"),\"\")","v":1},{"$f":"IFERROR(IF(AND($C42<>\"\",$D42<>\"\"),1-SUMPRODUCT((RES!$D$6:$D$3006<=Q$7)*(RES!$E$6:$E$3006>=Q$7+1)*(RES!$I$6:$I$3006=$C42)*(RES!$J$6:$J$3006=$D42)),\"\"),\"\")","v":1},{"$f":"IFERROR(IF(AND($C42<>\"\",$D42<>\"\"),1-SUMPRODUCT((RES!$D$6:$D$3006<=R$7)*(RES!$E$6:$E$3006>=R$7+1)*(RES!$I$6:$I$3006=$C42)*(RES!$J$6:$J$3006=$D42)),\"\"),\"\")","v":1},{"$f":"IFERROR(IF(AND($C42<>\"\",$D42<>\"\"),1-SUMPRODUCT((RES!$D$6:$D$3006<=S$7)*(RES!$E$6:$E$3006>=S$7+1)*(RES!$I$6:$I$3006=$C42)*(RES!$J$6:$J$3006=$D42)),\"\"),\"\")","v":1},{"$f":"IFERROR(IF(AND($C42<>\"\",$D42<>\"\"),1-SUMPRODUCT((RES!$D$6:$D$3006<=T$7)*(RES!$E$6:$E$3006>=T$7+1)*(RES!$I$6:$I$3006=$C42)*(RES!$J$6:$J$3006=$D42)),\"\"),\"\")","v":1}]
[null,null,{"$f":"CAD_Q!C41","v":36},{"$f":"IFERROR(IF(VLOOKUP(C43,CAD_Q!$C$6:$D$105,2,FALSE)=0,\"\",VLOOKUP(C43,CAD_Q!$C$6:$D$105,2,FALSE)),\"\")","v":"Estándar"},null,{"$f":"IFERROR(IF(AND($C43<>\"\",$D43<>\"\"),1-SUMPRODUCT((RES!$D$6:$D$3006<=F$7)*(RES!$E$6:$E$3006>=F$7+1)*(RES!$I$6:$I$3006=$C43)*(RES!$J$6:$J$3006=$D43)),\"\"),\"\")","v":1},{"$f":"IFERROR(IF(AND($C43<>\"\",$D43<>\"\"),1-SUMPRODUCT((RES!$D$6:$D$3006<=G$7)*(RES!$E$6:$E$3006>=G$7+1)*(RES!$I$6:$I$3006=$C43)*(RES!$J$6:$J$3006=$D43)),\"\"),\"\")","v":1},{"$f":"IFERROR(IF(AND($C43<>\"\",$D43<>\"\"),1-SUMPRODUCT((RES!$D$6:$D$3006<=H$7)*(RES!$E$6:$E$3006>=H$7+1)*(RES!$I$6:$I$3006=$C43)*(RES!$J$6:$J$3006=$D43)),\"\"),\"\")","v":1},{"$f":"IFERROR(IF(AND($C43<>\"\",$D43<>\"\"),1-SUMPRODUCT((RES!$D$6:$D$3006<=I$7)*(RES!$E$6:$E$3006>=I$7+1)*(RES!$I$6:$I$3006=$C43)*(RES!$J$6:$J$3006=$D43)),\"\"),\"\")","v":1},{"$f":"IFERROR(IF(AND($C43<>\"\",$D43<>\"\"),1-SUMPRODUCT((RES!$D$6:$D$3006<=J$7)*(RES!$E$6:$E$3006>=J$7+1)*(RES!$I$6:$I$3006=$C43)*(RES!$J$6:$J$3006=$D43)),\"\"),\"\")","v":1},{"$f":"IFERROR(IF(AND($C43<>\"\",$D43<>\"\"),1-SUMPRODUCT((RES!$D$6:$D$3006<=K$7)*(RES!$E$6:$E$3006>=K$7+1)*(RES!$I$6:$I$3006=$C43)*(RES!$J$6:$J$3006=$D43)),\"\"),\"\")","v":1},{"$f":"IFERROR(IF(AND($C43<>\"\",$D43<>\"\"),1-SUMPRODUCT((RES!$D$6:$D$3006<=L$7)*(RES!$E$6:$E$3006>=L$7+1)*(RES!$I$6:$I$3006=$C43)*(RES!$J$6:$J$3006=$D43)),\"\"),\"\")","v":1},{"$f":"IFERROR(IF(AND($C43<>\"\",$D43<>\"\"),1-SUMPRODUCT((RES!$D$6:$D$3006<=M$7)*(RES!$E$6:$E$3006>=M$7+1)*(RES!$I$6:$I$3006=$C43)*(RES!$J$6:$J$3006=$D43)),\"\"),\"\")","v":1},{"$f":"IFERROR(IF(AND($C43<>\"\",$D43<>\"\"),1-SUMPRODUCT((RES!$D$6:$D$3006<=N$7)*(RES!$E$6:$E$3006>=N$7+1)*(RES!$I$6:$I$3006=$C43)*(RES!$J$6:$J$3006=$D43)),\"\"),\"\")","v":1},{"$f":"IFERROR(IF(AND($C43<>\"\",$D43<>\"\"),1-SUMPRODUCT((RES!$D$6:$D$3006<=O$7)*(RES!$E$6:$E$3006>=O$7+1)*(RES!$I$6:$I$3006=$C43)*(RES!$J$6:$J$3006=$D43)),\"\"),\"\")","v":1},{"$f":"IFERROR(IF(AND($C43<>\"\",$D43<>\"\"),1-SUMPRODUCT((RES!$D$6:$D$3006<=P$7)*(RES!$E$6:$E$3006>=P$7+1)*(RES!$I$6:$I$3006=$C43)*(RES!$J$6:$J$3006=$D43)),\"\"),\"\")","v":1},{"$f":"IFERROR(IF(AND($C43<>\"\",$D43<>\"\"),1-SUMPRODUCT((RES!$D$6:$D$3006<=Q$7)*(RES!$E$6:$E$3006>=Q$7+1)*(RES!$I$6:$I$3006=$C43)*(RES!$J$6:$J$3006=$D43)),\"\"),\"\")","v":1},{"$f":"IFERROR(IF(AND($C43<>\"\",$D43<>\"\"),1-SUMPRODUCT((RES!$D$6:$D$3006<=R$7)*(RES!$E$6:$E$3006>=R$7+1)*(RES!$I$6:$I$3006=$C43)*(RES!$J$6:$J$3006=$D43)),\"\"),\"\")","v":1},{"$f":"IFERROR(IF(AND($C43<>\"\",$D43<>\"\"),1-SUMPRODUCT((RES!$D$6:$D$3006<=S$7)*(RES!$E$6:$E$3006>=S$7+1)*(RES!$I$6:$I$3006=$C43)*(RES!$J$6:$J$3006=$D43)),\"\"),\"\")","v":1},{"$f":"IFERROR(IF(AND($C43<>\"\",$D43<>\"\"),1-SUMPRODUCT((RES!$D$6:$D$3006<=T$7)*(RES!$E$6:$E$3006>=T$7+1)*(RES!$I$6:$I$3006=$C43)*(RES!$J$6:$J$3006=$D43)),\"\"),\"\")","v":1}]
[null,null,{"$f":"CAD_Q!C42","v":37},{"$f":"IFERROR(IF(VLOOKUP(C44,CAD_Q!$C$6:$D$105,2,FALSE)=0,\"\",VLOOKUP(C44,CAD_Q!$C$6:$D$105,2,FALSE)),\"\")","v":"Estándar"},null,{"$f":"IFERROR(IF(AND($C44<>\"\",$D44<>\"\"),1-SUMPRODUCT((RES!$D$6:$D$3006<=F$7)*(RES!$E$6:$E$3006>=F$7+1)*(RES!$I$6:$I$3006=$C44)*(RES!$J$6:$J$3006=$D44)),\"\"),\"\")","v":1},{"$f":"IFERROR(IF(AND($C44<>\"\",$D44<>\"\"),1-SUMPRODUCT((RES!$D$6:$D$3006<=G$7)*(RES!$E$6:$E$3006>=G$7+1)*(RES!$I$6:$I$3006=$C44)*(RES!$J$6:$J$3006=$D44)),\"\"),\"\")","v":1},{"$f":"IFERROR(IF(AND($C44<>\"\",$D44<>\"\"),1-SUMPRODUCT((RES!$D$6:$D$3006<=H$7)*(RES!$E$6:$E$3006>=H$7+1)*(RES!$I$6:$I$3006=$C44)*(RES!$J$6:$J$3006=$D44)),\"\"),\"\")","v":1},{"$f":"IFERROR(IF(AND($C44<>\"\",$D44<>\"\"),1-SUMPRODUCT((RES!$D$6:$D$3006<=I$7)*(RES!$E$6:$E$3006>=I$7+1)*(RES!$I$6:$I$3006=$C44)*(RES!$J$6:$J$3006=$D44)),\"\"),\"\")","v":1},{"$f":"IFERROR(IF(AND($C44<>\"\",$D44<>\"\"),1-SUMPRODUCT((RES!$D$6:$D$3006<=J$7)*(RES!$E$6:$E$3006>=J$7+1)*(RES!$I$6:$I$3006=$C44)*(RES!$J$6:$J$3006=$D44)),\"\"),\"\")","v":1},{"$f":"IFERROR(IF(AND($C44<>\"\",$D44<>\"\"),1-SUMPRODUCT((RES!$D$6:$D$3006<=K$7)*(RES!$E$6:$E$3006>=K$7+1)*(RES!$I$6:$I$3006=$C44)*(RES!$J$6:$J$3006=$D44)),\"\"),\"\")","v":1},{"$f":"IFERROR(IF(AND($C44<>\"\",$D44<>\"\"),1-SUMPRODUCT((RES!$D$6:$D$3006<=L$7)*(RES!$E$6:$E$3006>=L$7+1)*(RES!$I$6:$I$3006=$C44)*(RES!$J$6:$J$3006=$D44)),\"\"),\"\")","v":1},{"$f":"IFERROR(IF(AND($C44<>\"\",$D44<>\"\"),1-SUMPRODUCT((RES!$D$6:$D$3006<=M$7)*(RES!$E$6:$E$3006>=M$7+1)*(RES!$I$6:$I$3006=$C44)*(RES!$J$6:$J$3006=$D44)),\"\"),\"\")","v":1},{"$f":"IFERROR(IF(AND($C44<>\"\",$D44<>\"\"),1-SUMPRODUCT((RES!$D$6:$D$3006<=N$7)*(RES!$E$6:$E$3006>=N$7+1)*(RES!$I$6:$I$3006=$C44)*(RES!$J$6:$J$3006=$D44)),\"\"),\"\")","v":1},{"$f":"IFERROR(IF(AND($C44<>\"\",$D44<>\"\"),1-SUMPRODUCT((RES!$D$6:$D$3006<=O$7)*(RES!$E$6:$E$3006>=O$7+1)*(RES!$I$6:$I$3006=$C44)*(RES!$J$6:$J$3006=$D44)),\"\"),\"\")","v":1},{"$f":"IFERROR(IF(AND($C44<>\"\",$D44<>\"\"),1-SUMPRODUCT((RES!$D$6:$D$3006<=P$7)*(RES!$E$6:$E$3006>=P$7+1)*(RES!$I$6:$I$3006=$C44)*(RES!$J$6:$J$3006=$D44)),\"\"),\"\")","v":1},{"$f":"IFERROR(IF(AND($C44<>\"\",$D44<>\"\"),1-SUMPRODUCT((RES!$D$6:$D$3006<=Q$7)*(RES!$E$6:$E$3006>=Q$7+1)*(RES!$I$6:$I$3006=$C44)*(RES!$J$6:$J$3006=$D44)),\"\"),\"\")","v":1},{"$f":"IFERROR(IF(AND($C44<>\"\",$D44<>\"\"),1-SUMPRODUCT((RES!$D$6:$D$3006<=R$7)*(RES!$E$6:$E$3006>=R$7+1)*(RES!$I$6:$I$3006=$C44)*(RES!$J$6:$J$3006=$D44)),\"\"),\"\")","v":1},{"$f":"IFERROR(IF(AND($C44<>\"\",$D44<>\"\"),1-SUMPRODUCT((RES!$D$6:$D$3006<=S$7)*(RES!$E$6:$E$3006>=S$7+1)*(RES!$I$6:$I$3006=$C44)*(RES!$J$6:$J$3006=$D44)),\"\"),\"\")","v":1},{"$f":"IFERROR(IF(AND($C44<>\"\",$D44<>\"\"),1-SUMPRODUCT((RES!$D$6:$D$3006<=T$7)*(RES!$E$6:$E$3006>=T$7+1)*(RES!$I$6:$I$3006=$C44)*(RES!$J$6:$J$3006=$D44)),\"\"),\"\")","v":1}]
[null,null,{"$f":"CAD_Q!C43","v":38},{"$f":"IFERROR(IF(VLOOKUP(C45,CAD_Q!$C$6:$D$105,2,FALSE)=0,\"\",VLOOKUP(C45,CAD_Q!$C$6:$D$105,2,FALSE)),\"\")","v":"Estándar"},null,{"$f":"IFERROR(IF(AND($C45<>\"\",$D45<>\"\"),1-SUMPRODUCT((RES!$D$6:$D$3006<=F$7)*(RES!$E$6:$E$3006>=F$7+1)*(RES!$I$6:$I$3006=$C45)*(RES!$J$6:$J$3006=$D45)),\"\"),\"\")","v":1},{"$f":"IFERROR(IF(AND($C45<>\"\",$D45<>\"\"),1-SUMPRODUCT((RES!$D$6:$D$3006<=G$7)*(RES!$E$6:$E$3006>=G$7+1)*(RES!$I$6:$I$3006=$C45)*(RES!$J$6:$J$3006=$D45)),\"\"),\"\")","v":1},{"$f":"IFERROR(IF(AND($C45<>\"\",$D45<>\"\"),1-SUMPRODUCT((RES!$D$6:$D$3006<=H$7)*(RES!$E$6:$E$3006>=H$7+1)*(RES!$I$6:$I$3006=$C45)*(RES!$J$6:$J$3006=$D45)),\"\"),\"\")","v":1},{"$f":"IFERROR(IF(AND($C45<>\"\",$D45<>\"\"),1-SUMPRODUCT((RES!$D$6:$D$3006<=I$7)*(RES!$E$6:$E$3006>=I$7+1)*(RES!$I$6:$I$3006=$C45)*(RES!$J$6:$J$3006=$D45)),\"\"),\"\")","v":1},{"$f":"IFERROR(IF(AND($C45<>\"\",$D45<>\"\"),1-SUMPRODUCT((RES!$D$6:$D$3006<=J$7)*(RES!$E$6:$E$3006>=J$7+1)*(RES!$I$6:$I$3006=$C45)*(RES!$J$6:$J$3006=$D45)),\"\"),\"\")","v":1},{"$f":"IFERROR(IF(AND($C45<>\"\",$D45<>\"\"),1-SUMPRODUCT((RES!$D$6:$D$3006<=K$7)*(RES!$E$6:$E$3006>=K$7+1)*(RES!$I$6:$I$3006=$C45)*(RES!$J$6:$J$3006=$D45)),\"\"),\"\")","v":1},{"$f":"IFERROR(IF(AND($C45<>\"\",$D45<>\"\"),1-SUMPRODUCT((RES!$D$6:$D$3006<=L$7)*(RES!$E$6:$E$3006>=L$7+1)*(RES!$I$6:$I$3006=$C45)*(RES!$J$6:$J$3006=$D45)),\"\"),\"\")","v":1},{"$f":"IFERROR(IF(AND($C45<>\"\",$D45<>\"\"),1-SUMPRODUCT((RES!$D$6:$D$3006<=M$7)*(RES!$E$6:$E$3006>=M$7+1)*(RES!$I$6:$I$3006=$C45)*(RES!$J$6:$J$3006=$D45)),\"\"),\"\")","v":1},{"$f":"IFERROR(IF(AND($C45<>\"\",$D45<>\"\"),1-SUMPRODUCT((RES!$D$6:$D$3006<=N$7)*(RES!$E$6:$E$3006>=N$7+1)*(RES!$I$6:$I$3006=$C45)*(RES!$J$6:$J$3006=$D45)),\"\"),\"\")","v":1},{"$f":"IFERROR(IF(AND($C45<>\"\",$D45<>\"\"),1-SUMPRODUCT((RES!$D$6:$D$3006<=O$7)*(RES!$E$6:$E$3006>=O$7+1)*(RES!$I$6:$I$3006=$C45)*(RES!$J$6:$J$3006=$D45)),\"\"),\"\")","v":1},{"$f":"IFERROR(IF(AND($C45<>\"\",$D45<>\"\"),1-SUMPRODUCT((RES!$D$6:$D$3006<=P$7)*(RES!$E$6:$E$3006>=P$7+1)*(RES!$I$6:$I$3006=$C45)*(RES!$J$6:$J$3006=$D45)),\"\"),\"\")","v":1},{"$f":"IFERROR(IF(AND($C45<>\"\",$D45<>\"\"),1-SUMPRODUCT((RES!$D$6:$D$3006<=Q$7)*(RES!$E$6:$E$3006>=Q$7+1)*(RES!$I$6:$I$3006=$C45)*(RES!$J$6:$J$3006=$D45)),\"\"),\"\")","v":1},{"$f":"IFERROR(IF(AND($C45<>\"\",$D45<>\"\"),1-SUMPRODUCT((RES!$D$6:$D$3006<=R$7)*(RES!$E$6:$E$3006>=R$7+1)*(RES!$I$6:$I$3006=$C45)*(RES!$J$6:$J$3006=$D45)),\"\"),\"\")","v":1},{"$f":"IFERROR(IF(AND($C45<>\"\",$D45<>\"\"),1-SUMPRODUCT((RES!$D$6:$D$3006<=S$7)*(RES!$E$6:$E$3006>=S$7+1)*(RES!$I$6:$I$3006=$C45)*(RES!$J$6:$J$3006=$D45)),\"\"),\"\")","v":1},{"$f":"IFERROR(IF(AND($C45<>\"\",$D45<>\"\"),1-SUMPRODUCT((RES!$D$6:$D$3006<=T$7)*(RES!$E$6:$E$3006>=T$7+1)*(RES!$I$6:$I$3006=$C45)*(RES!$J$6:$J$3006=$D45)),\"\"),\"\")","v":1}]
[null,null,{"$f":"CAD_Q!C44","v":39},{"$f":"IFERROR(IF(VLOOKUP(C46,CAD_Q!$C$6:$D$105,2,FALSE)=0,\"\",VLOOKUP(C46,CAD_Q!$C$6:$D$105,2,FALSE)),\"\")","v":"Estándar"},null,{"$f":"IFERROR(IF(AND($C46<>\"\",$D46<>\"\"),1-SUMPRODUCT((RES!$D$6:$D$3006<=F$7)*(RES!$E$6:$E$3006>=F$7+1)*(RES!$I$6:$I$3006=$C46)*(RES!$J$6:$J$3006=$D46)),\"\"),\"\")","v":1},{"$f":"IFERROR(IF(AND($C46<>\"\",$D46<>\"\"),1-SUMPRODUCT((RES!$D$6:$D$3006<=G$7)*(RES!$E$6:$E$3006>=G$7+1)*(RES!$I$6:$I$3006=$C46)*(RES!$J$6:$J$3006=$D46)),\"\"),\"\")","v":1},{"$f":"IFERROR(IF(AND($C46<>\"\",$D46<>\"\"),1-SUMPRODUCT((RES!$D$6:$D$3006<=H$7)*(RES!$E$6:$E$3006>=H$7+1)*(RES!$I$6:$I$3006=$C46)*(RES!$J$6:$J$3006=$D46)),\"\"),\"\")","v":1},{"$f":"IFERROR(IF(AND($C46<>\"\",$D46<>\"\"),1-SUMPRODUCT((RES!$D$6:$D$3006<=I$7)*(RES!$E$6:$E$3006>=I$7+1)*(RES!$I$6:$I$3006=$C46)*(RES!$J$6:$J$3006=$D46)),\"\"),\"\")","v":1},{"$f":"IFERROR(IF(AND($C46<>\"\",$D46<>\"\"),1-SUMPRODUCT((RES!$D$6:$D$3006<=J$7)*(RES!$E$6:$E$3006>=J$7+1)*(RES!$I$6:$I$3006=$C46)*(RES!$J$6:$J$3006=$D46)),\"\"),\"\")","v":1},{"$f":"IFERROR(IF(AND($C46<>\"\",$D46<>\"\"),1-SUMPRODUCT((RES!$D$6:$D$3006<=K$7)*(RES!$E$6:$E$3006>=K$7+1)*(RES!$I$6:$I$3006=$C46)*(RES!$J$6:$J$3006=$D46)),\"\"),\"\")","v":1},{"$f":"IFERROR(IF(AND($C46<>\"\",$D46<>\"\"),1-SUMPRODUCT((RES!$D$6:$D$3006<=L$7)*(RES!$E$6:$E$3006>=L$7+1)*(RES!$I$6:$I$3006=$C46)*(RES!$J$6:$J$3006=$D46)),\"\"),\"\")","v":1},{"$f":"IFERROR(IF(AND($C46<>\"\",$D46<>\"\"),1-SUMPRODUCT((RES!$D$6:$D$3006<=M$7)*(RES!$E$6:$E$3006>=M$7+1)*(RES!$I$6:$I$3006=$C46)*(RES!$J$6:$J$3006=$D46)),\"\"),\"\")","v":1},{"$f":"IFERROR(IF(AND($C46<>\"\",$D46<>\"\"),1-SUMPRODUCT((RES!$D$6:$D$3006<=N$7)*(RES!$E$6:$E$3006>=N$7+1)*(RES!$I$6:$I$3006=$C46)*(RES!$J$6:$J$3006=$D46)),\"\"),\"\")","v":1},{"$f":"IFERROR(IF(AND($C46<>\"\",$D46<>\"\"),1-SUMPRODUCT((RES!$D$6:$D$3006<=O$7)*(RES!$E$6:$E$3006>=O$7+1)*(RES!$I$6:$I$3006=$C46)*(RES!$J$6:$J$3006=$D46)),\"\"),\"\")","v":1},{"$f":"IFERROR(IF(AND($C46<>\"\",$D46<>\"\"),1-SUMPRODUCT((RES!$D$6:$D$3006<=P$7)*(RES!$E$6:$E$3006>=P$7+1)*(RES!$I$6:$I$3006=$C46)*(RES!$J$6:$J$3006=$D46)),\"\"),\"\")","v":1},{"$f":"IFERROR(IF(AND($C46<>\"\",$D46<>\"\"),1-SUMPRODUCT((RES!$D$6:$D$3006<=Q$7)*(RES!$E$6:$E$3006>=Q$7+1)*(RES!$I$6:$I$3006=$C46)*(RES!$J$6:$J$3006=$D46)),\"\"),\"\")","v":1},{"$f":"IFERROR(IF(AND($C46<>\"\",$D46<>\"\"),1-SUMPRODUCT((RES!$D$6:$D$3006<=R$7)*(RES!$E$6:$E$3006>=R$7+1)*(RES!$I$6:$I$3006=$C46)*(RES!$J$6:$J$3006=$D46)),\"\"),\"\")","v":1},{"$f":"IFERROR(IF(AND($C46<>\"\",$D46<>\"\"),1-SUMPRODUCT((RES!$D$6:$D$3006<=S$7)*(RES!$E$6:$E$3006>=S$7+1)*(RES!$I$6:$I$3006=$C46)*(RES!$J$6:$J$3006=$D46)),\"\"),\"\")","v":1},{"$f":"IFERROR(IF(AND($C46<>\"\",$D46<>\"\"),1-SUMPRODUCT((RES!$D$6:$D$3006<=T$7)*(RES!$E$6:$E$3006>=T$7+1)*(RES!$I$6:$I$3006=$C46)*(RES!$J$6:$J$3006=$D46)),\"\"),\"\")","v":1}]
[null,null,{"$f":"CAD_Q!C45","v":40},{"$f":"IFERROR(IF(VLOOKUP(C47,CAD_Q!$C$6:$D$105,2,FALSE)=0,\"\",VLOOKUP(C47,CAD_Q!$C$6:$D$105,2,FALSE)),\"\")","v":"Estándar"},null,{"$f":"IFERROR(IF(AND($C47<>\"\",$D47<>\"\"),1-SUMPRODUCT((RES!$D$6:$D$3006<=F$7)*(RES!$E$6:$E$3006>=F$7+1)*(RES!$I$6:$I$3006=$C47)*(RES!$J$6:$J$3006=$D47)),\"\"),\"\")","v":1},{"$f":"IFERROR(IF(AND($C47<>\"\",$D47<>\"\"),1-SUMPRODUCT((RES!$D$6:$D$3006<=G$7)*(RES!$E$6:$E$3006>=G$7+1)*(RES!$I$6:$I$3006=$C47)*(RES!$J$6:$J$3006=$D47)),\"\"),\"\")","v":1},{"$f":"IFERROR(IF(AND($C47<>\"\",$D47<>\"\"),1-SUMPRODUCT((RES!$D$6:$D$3006<=H$7)*(RES!$E$6:$E$3006>=H$7+1)*(RES!$I$6:$I$3006=$C47)*(RES!$J$6:$J$3006=$D47)),\"\"),\"\")","v":1},{"$f":"IFERROR(IF(AND($C47<>\"\",$D47<>\"\"),1-SUMPRODUCT((RES!$D$6:$D$3006<=I$7)*(RES!$E$6:$E$3006>=I$7+1)*(RES!$I$6:$I$3006=$C47)*(RES!$J$6:$J$3006=$D47)),\"\"),\"\")","v":1},{"$f":"IFERROR(IF(AND($C47<>\"\",$D47<>\"\"),1-SUMPRODUCT((RES!$D$6:$D$3006<=J$7)*(RES!$E$6:$E$3006>=J$7+1)*(RES!$I$6:$I$3006=$C47)*(RES!$J$6:$J$3006=$D47)),\"\"),\"\")","v":1},{"$f":"IFERROR(IF(AND($C47<>\"\",$D47<>\"\"),1-SUMPRODUCT((RES!$D$6:$D$3006<=K$7)*(RES!$E$6:$E$3006>=K$7+1)*(RES!$I$6:$I$3006=$C47)*(RES!$J$6:$J$3006=$D47)),\"\"),\"\")","v":1},{"$f":"IFERROR(IF(AND($C47<>\"\",$D47<>\"\"),1-SUMPRODUCT((RES!$D$6:$D$3006<=L$7)*(RES!$E$6:$E$3006>=L$7+1)*(RES!$I$6:$I$3006=$C47)*(RES!$J$6:$J$3006=$D47)),\"\"),\"\")","v":1},{"$f":"IFERROR(IF(AND($C47<>\"\",$D47<>\"\"),1-SUMPRODUCT((RES!$D$6:$D$3006<=M$7)*(RES!$E$6:$E$3006>=M$7+1)*(RES!$I$6:$I$3006=$C47)*(RES!$J$6:$J$3006=$D47)),\"\"),\"\")","v":1},{"$f":"IFERROR(IF(AND($C47<>\"\",$D47<>\"\"),1-SUMPRODUCT((RES!$D$6:$D$3006<=N$7)*(RES!$E$6:$E$3006>=N$7+1)*(RES!$I$6:$I$3006=$C47)*(RES!$J$6:$J$3006=$D47)),\"\"),\"\")","v":1},{"$f":"IFERROR(IF(AND($C47<>\"\",$D47<>\"\"),1-SUMPRODUCT((RES!$D$6:$D$3006<=O$7)*(RES!$E$6:$E$3006>=O$7+1)*(RES!$I$6:$I$3006=$C47)*(RES!$J$6:$J$3006=$D47)),\"\"),\"\")","v":1},{"$f":"IFERROR(IF(AND($C47<>\"\",$D47<>\"\"),1-SUMPRODUCT((RES!$D$6:$D$3006<=P$7)*(RES!$E$6:$E$3006>=P$7+1)*(RES!$I$6:$I$3006=$C47)*(RES!$J$6:$J$3006=$D47)),\"\"),\"\")","v":1},{"$f":"IFERROR(IF(AND($C47<>\"\",$D47<>\"\"),1-SUMPRODUCT((RES!$D$6:$D$3006<=Q$7)*(RES!$E$6:$E$3006>=Q$7+1)*(RES!$I$6:$I$3006=$C47)*(RES!$J$6:$J$3006=$D47)),\"\"),\"\")","v":1},{"$f":"IFERROR(IF(AND($C47<>\"\",$D47<>\"\"),1-SUMPRODUCT((RES!$D$6:$D$3006<=R$7)*(RES!$E$6:$E$3006>=R$7+1)*(RES!$I$6:$I$3006=$C47)*(RES!$J$6:$J$3006=$D47)),\"\"),\"\")","v":1},{"$f":"IFERROR(IF(AND($C47<>\"\",$D47<>\"\"),1-SUMPRODUCT((RES!$D$6:$D$3006<=S$7)*(RES!$E$6:$E$3006>=S$7+1)*(RES!$I$6:$I$3006=$C47)*(RES!$J$6:$J$3006=$D47)),\"\"),\"\")","v":1},{"$f":"IFERROR(IF(AND($C47<>\"\",$D47<>\"\"),1-SUMPRODUCT((RES!$D$6:$D$3006<=T$7)*(RES!$E$6:$E$3006>=T$7+1)*(RES!$I$6:$I$3006=$C47)*(RES!$J$6:$J$3006=$D47)),\"\"),\"\")","v":1}]
[null,null,{"$f":"CAD_Q!C46","v":41},{"$f":"IFERROR(IF(VLOOKUP(C48,CAD_Q!$C$6:$D$105,2,FALSE)=0,\"\",VLOOKUP(C48,CAD_Q!$C$6:$D$105,2,FALSE)),\"\")","v":"Estándar"},null,{"$f":"IFERROR(IF(AND($C48<>\"\",$D48<>\"\"),1-SUMPRODUCT((RES!$D$6:$D$3006<=F$7)*(RES!$E$6:$E$3006>=F$7+1)*(RES!$I$6:$I$3006=$C48)*(RES!$J$6:$J$3006=$D48)),\"\"),\"\")","v":1},{"$f":"IFERROR(IF(AND($C48<>\"\",$D48<>\"\"),1-SUMPRODUCT((RES!$D$6:$D$3006<=G$7)*(RES!$E$6:$E$3006>=G$7+1)*(RES!$I$6:$I$3006=$C48)*(RES!$J$6:$J$3006=$D48)),\"\"),\"\")","v":1},{"$f":"IFERROR(IF(AND($C48<>\"\",$D48<>\"\"),1-SUMPRODUCT((RES!$D$6:$D$3006<=H$7)*(RES!$E$6:$E$3006>=H$7+1)*(RES!$I$6:$I$3006=$C48)*(RES!$J$6:$J$3006=$D48)),\"\"),\"\")","v":1},{"$f":"IFERROR(IF(AND($C48<>\"\",$D48<>\"\"),1-SUMPRODUCT((RES!$D$6:$D$3006<=I$7)*(RES!$E$6:$E$3006>=I$7+1)*(RES!$I$6:$I$3006=$C48)*(RES!$J$6:$J$3006=$D48)),\"\"),\"\")","v":1},{"$f":"IFERROR(IF(AND($C48<>\"\",$D48<>\"\"),1-SUMPRODUCT((RES!$D$6:$D$3006<=J$7)*(RES!$E$6:$E$3006>=J$7+1)*(RES!$I$6:$I$3006=$C48)*(RES!$J$6:$J$3006=$D48)),\"\"),\"\")","v":1},{"$f":"IFERROR(IF(AND($C48<>\"\",$D48<>\"\"),1-SUMPRODUCT((RES!$D$6:$D$3006<=K$7)*(RES!$E$6:$E$3006>=K$7+1)*(RES!$I$6:$I$3006=$C48)*(RES!$J$6:$J$3006=$D48)),\"\"),\"\")","v":1},{"$f":"IFERROR(IF(AND($C48<>\"\",$D48<>\"\"),1-SUMPRODUCT((RES!$D$6:$D$3006<=L$7)*(RES!$E$6:$E$3006>=L$7+1)*(RES!$I$6:$I$3006=$C48)*(RES!$J$6:$J$3006=$D48)),\"\"),\"\")","v":1},{"$f":"IFERROR(IF(AND($C48<>\"\",$D48<>\"\"),1-SUMPRODUCT((RES!$D$6:$D$3006<=M$7)*(RES!$E$6:$E$3006>=M$7+1)*(RES!$I$6:$I$3006=$C48)*(RES!$J$6:$J$3006=$D48)),\"\"),\"\")","v":1},{"$f":"IFERROR(IF(AND($C48<>\"\",$D48<>\"\"),1-SUMPRODUCT((RES!$D$6:$D$3006<=N$7)*(RES!$E$6:$E$3006>=N$7+1)*(RES!$I$6:$I$3006=$C48)*(RES!$J$6:$J$3006=$D48)),\"\"),\"\")","v":1},{"$f":"IFERROR(IF(AND($C48<>\"\",$D48<>\"\"),1-SUMPRODUCT((RES!$D$6:$D$3006<=O$7)*(RES!$E$6:$E$3006>=O$7+1)*(RES!$I$6:$I$3006=$C48)*(RES!$J$6:$J$3006=$D48)),\"\"),\"\")","v":1},{"$f":"IFERROR(IF(AND($C48<>\"\",$D48<>\"\"),1-SUMPRODUCT((RES!$D$6:$D$3006<=P$7)*(RES!$E$6:$E$3006>=P$7+1)*(RES!$I$6:$I$3006=$C48)*(RES!$J$6:$J$3006=$D48)),\"\"),\"\")","v":1},{"$f":"IFERROR(IF(AND($C48<>\"\",$D48<>\"\"),1-SUMPRODUCT((RES!$D$6:$D$3006<=Q$7)*(RES!$E$6:$E$3006>=Q$7+1)*(RES!$I$6:$I$3006=$C48)*(RES!$J$6:$J$3006=$D48)),\"\"),\"\")","v":1},{"$f":"IFERROR(IF(AND($C48<>\"\",$D48<>\"\"),1-SUMPRODUCT((RES!$D$6:$D$3006<=R$7)*(RES!$E$6:$E$3006>=R$7+1)*(RES!$I$6:$I$3006=$C48)*(RES!$J$6:$J$3006=$D48)),\"\"),\"\")","v":1},{"$f":"IFERROR(IF(AND($C48<>\"\",$D48<>\"\"),1-SUMPRODUCT((RES!$D$6:$D$3006<=S$7)*(RES!$E$6:$E$3006>=S$7+1)*(RES!$I$6:$I$3006=$C48)*(RES!$J$6:$J$3006=$D48)),\"\"),\"\")","v":1},{"$f":"IFERROR(IF(AND($C48<>\"\",$D48<>\"\"),1-SUMPRODUCT((RES!$D$6:$D$3006<=T$7)*(RES!$E$6:$E$3006>=T$7+1)*(RES!$I$6:$I$3006=$C48)*(RES!$J$6:$J$3006=$D48)),\"\"),\"\")","v":1}]
[null,null,{"$f":"CAD_Q!C47","v":42},{"$f":"IFERROR(IF(VLOOKUP(C49,CAD_Q!$C$6:$D$105,2,FALSE)=0,\"\",VLOOKUP(C49,CAD_Q!$C$6:$D$105,2,FALSE)),\"\")","v":"Estándar"},null,{"$f":"IFERROR(IF(AND($C49<>\"\",$D49<>\"\"),1-SUMPRODUCT((RES!$D$6:$D$3006<=F$7)*(RES!$E$6:$E$3006>=F$7+1)*(RES!$I$6:$I$3006=$C49)*(RES!$J$6:$J$3006=$D49)),\"\"),\"\")","v":1},{"$f":"IFERROR(IF(AND($C49<>\"\",$D49<>\"\"),1-SUMPRODUCT((RES!$D$6:$D$3006<=G$7)*(RES!$E$6:$E$3006>=G$7+1)*(RES!$I$6:$I$3006=$C49)*(RES!$J$6:$J$3006=$D49)),\"\"),\"\")","v":1},{"$f":"IFERROR(IF(AND($C49<>\"\",$D49<>\"\"),1-SUMPRODUCT((RES!$D$6:$D$3006<=H$7)*(RES!$E$6:$E$3006>=H$7+1)*(RES!$I$6:$I$3006=$C49)*(RES!$J$6:$J$3006=$D49)),\"\"),\"\")","v":1},{"$f":"IFERROR(IF(AND($C49<>\"\",$D49<>\"\"),1-SUMPRODUCT((RES!$D$6:$D$3006<=I$7)*(RES!$E$6:$E$3006>=I$7+1)*(RES!$I$6:$I$3006=$C49)*(RES!$J$6:$J$3006=$D49)),\"\"),\"\")","v":1},{"$f":"IFERROR(IF(AND($C49<>\"\",$D49<>\"\"),1-SUMPRODUCT((RES!$D$6:$D$3006<=J$7)*(RES!$E$6:$E$3006>=J$7+1)*(RES!$I$6:$I$3006=$C49)*(RES!$J$6:$J$3006=$D49)),\"\"),\"\")","v":1},{"$f":"IFERROR(IF(AND($C49<>\"\",$D49<>\"\"),1-SUMPRODUCT((RES!$D$6:$D$3006<=K$7)*(RES!$E$6:$E$3006>=K$7+1)*(RES!$I$6:$I$3006=$C49)*(RES!$J$6:$J$3006=$D49)),\"\"),\"\")","v":1},{"$f":"IFERROR(IF(AND($C49<>\"\",$D49<>\"\"),1-SUMPRODUCT((RES!$D$6:$D$3006<=L$7)*(RES!$E$6:$E$3006>=L$7+1)*(RES!$I$6:$I$3006=$C49)*(RES!$J$6:$J$3006=$D49)),\"\"),\"\")","v":1},{"$f":"IFERROR(IF(AND($C49<>\"\",$D49<>\"\"),1-SUMPRODUCT((RES!$D$6:$D$3006<=M$7)*(RES!$E$6:$E$3006>=M$7+1)*(RES!$I$6:$I$3006=$C49)*(RES!$J$6:$J$3006=$D49)),\"\"),\"\")","v":1},{"$f":"IFERROR(IF(AND($C49<>\"\",$D49<>\"\"),1-SUMPRODUCT((RES!$D$6:$D$3006<=N$7)*(RES!$E$6:$E$3006>=N$7+1)*(RES!$I$6:$I$3006=$C49)*(RES!$J$6:$J$3006=$D49)),\"\"),\"\")","v":1},{"$f":"IFERROR(IF(AND($C49<>\"\",$D49<>\"\"),1-SUMPRODUCT((RES!$D$6:$D$3006<=O$7)*(RES!$E$6:$E$3006>=O$7+1)*(RES!$I$6:$I$3006=$C49)*(RES!$J$6:$J$3006=$D49)),\"\"),\"\")","v":1},{"$f":"IFERROR(IF(AND($C49<>\"\",$D49<>\"\"),1-SUMPRODUCT((RES!$D$6:$D$3006<=P$7)*(RES!$E$6:$E$3006>=P$7+1)*(RES!$I$6:$I$3006=$C49)*(RES!$J$6:$J$3006=$D49)),\"\"),\"\")","v":1},{"$f":"IFERROR(IF(AND($C49<>\"\",$D49<>\"\"),1-SUMPRODUCT((RES!$D$6:$D$3006<=Q$7)*(RES!$E$6:$E$3006>=Q$7+1)*(RES!$I$6:$I$3006=$C49)*(RES!$J$6:$J$3006=$D49)),\"\"),\"\")","v":1},{"$f":"IFERROR(IF(AND($C49<>\"\",$D49<>\"\"),1-SUMPRODUCT((RES!$D$6:$D$3006<=R$7)*(RES!$E$6:$E$3006>=R$7+1)*(RES!$I$6:$I$3006=$C49)*(RES!$J$6:$J$3006=$D49)),\"\"),\"\")","v":1},{"$f":"IFERROR(IF(AND($C49<>\"\",$D49<>\"\"),1-SUMPRODUCT((RES!$D$6:$D$3006<=S$7)*(RES!$E$6:$E$3006>=S$7+1)*(RES!$I$6:$I$3006=$C49)*(RES!$J$6:$J$3006=$D49)),\"\"),\"\")","v":1},{"$f":"IFERROR(IF(AND($C49<>\"\",$D49<>\"\"),1-SUMPRODUCT((RES!$D$6:$D$3006<=T$7)*(RES!$E$6:$E$3006>=T$7+1)*(RES!$I$6:$I$3006=$C49)*(RES!$J$6:$J$3006=$D49)),\"\"),\"\")","v":1}]
[null,null,{"$f":"CAD_Q!C48","v":43},{"$f":"IFERROR(IF(VLOOKUP(C50,CAD_Q!$C$6:$D$105,2,FALSE)=0,\"\",VLOOKUP(C50,CAD_Q!$C$6:$D$105,2,FALSE)),\"\")","v":"Estándar"},null,{"$f":"IFERROR(IF(AND($C50<>\"\",$D50<>\"\"),1-SUMPRODUCT((RES!$D$6:$D$3006<=F$7)*(RES!$E$6:$E$3006>=F$7+1)*(RES!$I$6:$I$3006=$C50)*(RES!$J$6:$J$3006=$D50)),\"\"),\"\")","v":1},{"$f":"IFERROR(IF(AND($C50<>\"\",$D50<>\"\"),1-SUMPRODUCT((RES!$D$6:$D$3006<=G$7)*(RES!$E$6:$E$3006>=G$7+1)*(RES!$I$6:$I$3006=$C50)*(RES!$J$6:$J$3006=$D50)),\"\"),\"\")","v":1},{"$f":"IFERROR(IF(AND($C50<>\"\",$D50<>\"\"),1-SUMPRODUCT((RES!$D$6:$D$3006<=H$7)*(RES!$E$6:$E$3006>=H$7+1)*(RES!$I$6:$I$3006=$C50)*(RES!$J$6:$J$3006=$D50)),\"\"),\"\")","v":1},{"$f":"IFERROR(IF(AND($C50<>\"\",$D50<>\"\"),1-SUMPRODUCT((RES!$D$6:$D$3006<=I$7)*(RES!$E$6:$E$3006>=I$7+1)*(RES!$I$6:$I$3006=$C50)*(RES!$J$6:$J$3006=$D50)),\"\"),\"\")","v":1},{"$f":"IFERROR(IF(AND($C50<>\"\",$D50<>\"\"),1-SUMPRODUCT((RES!$D$6:$D$3006<=J$7)*(RES!$E$6:$E$3006>=J$7+1)*(RES!$I$6:$I$3006=$C50)*(RES!$J$6:$J$3006=$D50)),\"\"),\"\")","v":1},{"$f":"IFERROR(IF(AND($C50<>\"\",$D50<>\"\"),1-SUMPRODUCT((RES!$D$6:$D$3006<=K$7)*(RES!$E$6:$E$3006>=K$7+1)*(RES!$I$6:$I$3006=$C50)*(RES!$J$6:$J$3006=$D50)),\"\"),\"\")","v":1},{"$f":"IFERROR(IF(AND($C50<>\"\",$D50<>\"\"),1-SUMPRODUCT((RES!$D$6:$D$3006<=L$7)*(RES!$E$6:$E$3006>=L$7+1)*(RES!$I$6:$I$3006=$C50)*(RES!$J$6:$J$3006=$D50)),\"\"),\"\")","v":1},{"$f":"IFERROR(IF(AND($C50<>\"\",$D50<>\"\"),1-SUMPRODUCT((RES!$D$6:$D$3006<=M$7)*(RES!$E$6:$E$3006>=M$7+1)*(RES!$I$6:$I$3006=$C50)*(RES!$J$6:$J$3006=$D50)),\"\"),\"\")","v":1},{"$f":"IFERROR(IF(AND($C50<>\"\",$D50<>\"\"),1-SUMPRODUCT((RES!$D$6:$D$3006<=N$7)*(RES!$E$6:$E$3006>=N$7+1)*(RES!$I$6:$I$3006=$C50)*(RES!$J$6:$J$3006=$D50)),\"\"),\"\")","v":1},{"$f":"IFERROR(IF(AND($C50<>\"\",$D50<>\"\"),1-SUMPRODUCT((RES!$D$6:$D$3006<=O$7)*(RES!$E$6:$E$3006>=O$7+1)*(RES!$I$6:$I$3006=$C50)*(RES!$J$6:$J$3006=$D50)),\"\"),\"\")","v":1},{"$f":"IFERROR(IF(AND($C50<>\"\",$D50<>\"\"),1-SUMPRODUCT((RES!$D$6:$D$3006<=P$7)*(RES!$E$6:$E$3006>=P$7+1)*(RES!$I$6:$I$3006=$C50)*(RES!$J$6:$J$3006=$D50)),\"\"),\"\")","v":1},{"$f":"IFERROR(IF(AND($C50<>\"\",$D50<>\"\"),1-SUMPRODUCT((RES!$D$6:$D$3006<=Q$7)*(RES!$E$6:$E$3006>=Q$7+1)*(RES!$I$6:$I$3006=$C50)*(RES!$J$6:$J$3006=$D50)),\"\"),\"\")","v":1},{"$f":"IFERROR(IF(AND($C50<>\"\",$D50<>\"\"),1-SUMPRODUCT((RES!$D$6:$D$3006<=R$7)*(RES!$E$6:$E$3006>=R$7+1)*(RES!$I$6:$I$3006=$C50)*(RES!$J$6:$J$3006=$D50)),\"\"),\"\")","v":1},{"$f":"IFERROR(IF(AND($C50<>\"\",$D50<>\"\"),1-SUMPRODUCT((RES!$D$6:$D$3006<=S$7)*(RES!$E$6:$E$3006>=S$7+1)*(RES!$I$6:$I$3006=$C50)*(RES!$J$6:$J$3006=$D50)),\"\"),\"\")","v":1},{"$f":"IFERROR(IF(AND($C50<>\"\",$D50<>\"\"),1-SUMPRODUCT((RES!$D$6:$D$3006<=T$7)*(RES!$E$6:$E$3006>=T$7+1)*(RES!$I$6:$I$3006=$C50)*(RES!$J$6:$J$3006=$D50)),\"\"),\"\")","v":1}]
[null,null,{"$f":"CAD_Q!C49","v":44},{"$f":"IFERROR(IF(VLOOKUP(C51,CAD_Q!$C$6:$D$105,2,FALSE)=0,\"\",VLOOKUP(C51,CAD_Q!$C$6:$D$105,2,FALSE)),\"\")","v":"Estándar"},null,{"$f":"IFERROR(IF(AND($C51<>\"\",$D51<>\"\"),1-SUMPRODUCT((RES!$D$6:$D$3006<=F$7)*(RES!$E$6:$E$3006>=F$7+1)*(RES!$I$6:$I$3006=$C51)*(RES!$J$6:$J$3006=$D51)),\"\"),\"\")","v":1},{"$f":"IFERROR(IF(AND($C51<>\"\",$D51<>\"\"),1-SUMPRODUCT((RES!$D$6:$D$3006<=G$7)*(RES!$E$6:$E$3006>=G$7+1)*(RES!$I$6:$I$3006=$C51)*(RES!$J$6:$J$3006=$D51)),\"\"),\"\")","v":1},{"$f":"IFERROR(IF(AND($C51<>\"\",$D51<>\"\"),1-SUMPRODUCT((RES!$D$6:$D$3006<=H$7)*(RES!$E$6:$E$3006>=H$7+1)*(RES!$I$6:$I$3006=$C51)*(RES!$J$6:$J$3006=$D51)),\"\"),\"\")","v":1},{"$f":"IFERROR(IF(AND($C51<>\"\",$D51<>\"\"),1-SUMPRODUCT((RES!$D$6:$D$3006<=I$7)*(RES!$E$6:$E$3006>=I$7+1)*(RES!$I$6:$I$3006=$C51)*(RES!$J$6:$J$3006=$D51)),\"\"),\"\")","v":1},{"$f":"IFERROR(IF(AND($C51<>\"\",$D51<>\"\"),1-SUMPRODUCT((RES!$D$6:$D$3006<=J$7)*(RES!$E$6:$E$3006>=J$7+1)*(RES!$I$6:$I$3006=$C51)*(RES!$J$6:$J$3006=$D51)),\"\"),\"\")","v":1},{"$f":"IFERROR(IF(AND($C51<>\"\",$D51<>\"\"),1-SUMPRODUCT((RES!$D$6:$D$3006<=K$7)*(RES!$E$6:$E$3006>=K$7+1)*(RES!$I$6:$I$3006=$C51)*(RES!$J$6:$J$3006=$D51)),\"\"),\"\")","v":1},{"$f":"IFERROR(IF(AND($C51<>\"\",$D51<>\"\"),1-SUMPRODUCT((RES!$D$6:$D$3006<=L$7)*(RES!$E$6:$E$3006>=L$7+1)*(RES!$I$6:$I$3006=$C51)*(RES!$J$6:$J$3006=$D51)),\"\"),\"\")","v":1},{"$f":"IFERROR(IF(AND($C51<>\"\",$D51<>\"\"),1-SUMPRODUCT((RES!$D$6:$D$3006<=M$7)*(RES!$E$6:$E$3006>=M$7+1)*(RES!$I$6:$I$3006=$C51)*(RES!$J$6:$J$3006=$D51)),\"\"),\"\")","v":1},{"$f":"IFERROR(IF(AND($C51<>\"\",$D51<>\"\"),1-SUMPRODUCT((RES!$D$6:$D$3006<=N$7)*(RES!$E$6:$E$3006>=N$7+1)*(RES!$I$6:$I$3006=$C51)*(RES!$J$6:$J$3006=$D51)),\"\"),\"\")","v":1},{"$f":"IFERROR(IF(AND($C51<>\"\",$D51<>\"\"),1-SUMPRODUCT((RES!$D$6:$D$3006<=O$7)*(RES!$E$6:$E$3006>=O$7+1)*(RES!$I$6:$I$3006=$C51)*(RES!$J$6:$J$3006=$D51)),\"\"),\"\")","v":1},{"$f":"IFERROR(IF(AND($C51<>\"\",$D51<>\"\"),1-SUMPRODUCT((RES!$D$6:$D$3006<=P$7)*(RES!$E$6:$E$3006>=P$7+1)*(RES!$I$6:$I$3006=$C51)*(RES!$J$6:$J$3006=$D51)),\"\"),\"\")","v":1},{"$f":"IFERROR(IF(AND($C51<>\"\",$D51<>\"\"),1-SUMPRODUCT((RES!$D$6:$D$3006<=Q$7)*(RES!$E$6:$E$3006>=Q$7+1)*(RES!$I$6:$I$3006=$C51)*(RES!$J$6:$J$3006=$D51)),\"\"),\"\")","v":1},{"$f":"IFERROR(IF(AND($C51<>\"\",$D51<>\"\"),1-SUMPRODUCT((RES!$D$6:$D$3006<=R$7)*(RES!$E$6:$E$3006>=R$7+1)*(RES!$I$6:$I$3006=$C51)*(RES!$J$6:$J$3006=$D51)),\"\"),\"\")","v":1},{"$f":"IFERROR(IF(AND($C51<>\"\",$D51<>\"\"),1-SUMPRODUCT((RES!$D$6:$D$3006<=S$7)*(RES!$E$6:$E$3006>=S$7+1)*(RES!$I$6:$I$3006=$C51)*(RES!$J$6:$J$3006=$D51)),\"\"),\"\")","v":1},{"$f":"IFERROR(IF(AND($C51<>\"\",$D51<>\"\"),1-SUMPRODUCT((RES!$D$6:$D$3006<=T$7)*(RES!$E$6:$E$3006>=T$7+1)*(RES!$I$6:$I$3006=$C51)*(RES!$J$6:$J$3006=$D51)),\"\"),\"\")","v":1}]
[null,null,{"$f":"CAD_Q!C50","v":45},{"$f":"IFERROR(IF(VLOOKUP(C52,CAD_Q!$C$6:$D$105,2,FALSE)=0,\"\",VLOOKUP(C52,CAD_Q!$C$6:$D$105,2,FALSE)),\"\")","v":"Estándar"},null,{"$f":"IFERROR(IF(AND($C52<>\"\",$D52<>\"\"),1-SUMPRODUCT((RES!$D$6:$D$3006<=F$7)*(RES!$E$6:$E$3006>=F$7+1)*(RES!$I$6:$I$3006=$C52)*(RES!$J$6:$J$3006=$D52)),\"\"),\"\")","v":1},{"$f":"IFERROR(IF(AND($C52<>\"\",$D52<>\"\"),1-SUMPRODUCT((RES!$D$6:$D$3006<=G$7)*(RES!$E$6:$E$3006>=G$7+1)*(RES!$I$6:$I$3006=$C52)*(RES!$J$6:$J$3006=$D52)),\"\"),\"\")","v":1},{"$f":"IFERROR(IF(AND($C52<>\"\",$D52<>\"\"),1-SUMPRODUCT((RES!$D$6:$D$3006<=H$7)*(RES!$E$6:$E$3006>=H$7+1)*(RES!$I$6:$I$3006=$C52)*(RES!$J$6:$J$3006=$D52)),\"\"),\"\")","v":1},{"$f":"IFERROR(IF(AND($C52<>\"\",$D52<>\"\"),1-SUMPRODUCT((RES!$D$6:$D$3006<=I$7)*(RES!$E$6:$E$3006>=I$7+1)*(RES!$I$6:$I$3006=$C52)*(RES!$J$6:$J$3006=$D52)),\"\"),\"\")","v":1},{"$f":"IFERROR(IF(AND($C52<>\"\",$D52<>\"\"),1-SUMPRODUCT((RES!$D$6:$D$3006<=J$7)*(RES!$E$6:$E$3006>=J$7+1)*(RES!$I$6:$I$3006=$C52)*(RES!$J$6:$J$3006=$D52)),\"\"),\"\")","v":1},{"$f":"IFERROR(IF(AND($C52<>\"\",$D52<>\"\"),1-SUMPRODUCT((RES!$D$6:$D$3006<=K$7)*(RES!$E$6:$E$3006>=K$7+1)*(RES!$I$6:$I$3006=$C52)*(RES!$J$6:$J$3006=$D52)),\"\"),\"\")","v":1},{"$f":"IFERROR(IF(AND($C52<>\"\",$D52<>\"\"),1-SUMPRODUCT((RES!$D$6:$D$3006<=L$7)*(RES!$E$6:$E$3006>=L$7+1)*(RES!$I$6:$I$3006=$C52)*(RES!$J$6:$J$3006=$D52)),\"\"),\"\")","v":1},{"$f":"IFERROR(IF(AND($C52<>\"\",$D52<>\"\"),1-SUMPRODUCT((RES!$D$6:$D$3006<=M$7)*(RES!$E$6:$E$3006>=M$7+1)*(RES!$I$6:$I$3006=$C52)*(RES!$J$6:$J$3006=$D52)),\"\"),\"\")","v":1},{"$f":"IFERROR(IF(AND($C52<>\"\",$D52<>\"\"),1-SUMPRODUCT((RES!$D$6:$D$3006<=N$7)*(RES!$E$6:$E$3006>=N$7+1)*(RES!$I$6:$I$3006=$C52)*(RES!$J$6:$J$3006=$D52)),\"\"),\"\")","v":1},{"$f":"IFERROR(IF(AND($C52<>\"\",$D52<>\"\"),1-SUMPRODUCT((RES!$D$6:$D$3006<=O$7)*(RES!$E$6:$E$3006>=O$7+1)*(RES!$I$6:$I$3006=$C52)*(RES!$J$6:$J$3006=$D52)),\"\"),\"\")","v":1},{"$f":"IFERROR(IF(AND($C52<>\"\",$D52<>\"\"),1-SUMPRODUCT((RES!$D$6:$D$3006<=P$7)*(RES!$E$6:$E$3006>=P$7+1)*(RES!$I$6:$I$3006=$C52)*(RES!$J$6:$J$3006=$D52)),\"\"),\"\")","v":1},{"$f":"IFERROR(IF(AND($C52<>\"\",$D52<>\"\"),1-SUMPRODUCT((RES!$D$6:$D$3006<=Q$7)*(RES!$E$6:$E$3006>=Q$7+1)*(RES!$I$6:$I$3006=$C52)*(RES!$J$6:$J$3006=$D52)),\"\"),\"\")","v":1},{"$f":"IFERROR(IF(AND($C52<>\"\",$D52<>\"\"),1-SUMPRODUCT((RES!$D$6:$D$3006<=R$7)*(RES!$E$6:$E$3006>=R$7+1)*(RES!$I$6:$I$3006=$C52)*(RES!$J$6:$J$3006=$D52)),\"\"),\"\")","v":1},{"$f":"IFERROR(IF(AND($C52<>\"\",$D52<>\"\"),1-SUMPRODUCT((RES!$D$6:$D$3006<=S$7)*(RES!$E$6:$E$3006>=S$7+1)*(RES!$I$6:$I$3006=$C52)*(RES!$J$6:$J$3006=$D52)),\"\"),\"\")","v":1},{"$f":"IFERROR(IF(AND($C52<>\"\",$D52<>\"\"),1-SUMPRODUCT((RES!$D$6:$D$3006<=T$7)*(RES!$E$6:$E$3006>=T$7+1)*(RES!$I$6:$I$3006=$C52)*(RES!$J$6:$J$3006=$D52)),\"\"),\"\")","v":1}]
[null,null,{"$f":"CAD_Q!C51","v":46},{"$f":"IFERROR(IF(VLOOKUP(C53,CAD_Q!$C$6:$D$105,2,FALSE)=0,\"\",VLOOKUP(C53,CAD_Q!$C$6:$D$105,2,FALSE)),\"\")","v":"Estándar"},null,{"$f":"IFERROR(IF(AND($C53<>\"\",$D53<>\"\"),1-SUMPRODUCT((RES!$D$6:$D$3006<=F$7)*(RES!$E$6:$E$3006>=F$7+1)*(RES!$I$6:$I$3006=$C53)*(RES!$J$6:$J$3006=$D53)),\"\"),\"\")","v":1},{"$f":"IFERROR(IF(AND($C53<>\"\",$D53<>\"\"),1-SUMPRODUCT((RES!$D$6:$D$3006<=G$7)*(RES!$E$6:$E$3006>=G$7+1)*(RES!$I$6:$I$3006=$C53)*(RES!$J$6:$J$3006=$D53)),\"\"),\"\")","v":1},{"$f":"IFERROR(IF(AND($C53<>\"\",$D53<>\"\"),1-SUMPRODUCT((RES!$D$6:$D$3006<=H$7)*(RES!$E$6:$E$3006>=H$7+1)*(RES!$I$6:$I$3006=$C53)*(RES!$J$6:$J$3006=$D53)),\"\"),\"\")","v":1},{"$f":"IFERROR(IF(AND($C53<>\"\",$D53<>\"\"),1-SUMPRODUCT((RES!$D$6:$D$3006<=I$7)*(RES!$E$6:$E$3006>=I$7+1)*(RES!$I$6:$I$3006=$C53)*(RES!$J$6:$J$3006=$D53)),\"\"),\"\")","v":1},{"$f":"IFERROR(IF(AND($C53<>\"\",$D53<>\"\"),1-SUMPRODUCT((RES!$D$6:$D$3006<=J$7)*(RES!$E$6:$E$3006>=J$7+1)*(RES!$I$6:$I$3006=$C53)*(RES!$J$6:$J$3006=$D53)),\"\"),\"\")","v":1},{"$f":"IFERROR(IF(AND($C53<>\"\",$D53<>\"\"),1-SUMPRODUCT((RES!$D$6:$D$3006<=K$7)*(RES!$E$6:$E$3006>=K$7+1)*(RES!$I$6:$I$3006=$C53)*(RES!$J$6:$J$3006=$D53)),\"\"),\"\")","v":1},{"$f":"IFERROR(IF(AND($C53<>\"\",$D53<>\"\"),1-SUMPRODUCT((RES!$D$6:$D$3006<=L$7)*(RES!$E$6:$E$3006>=L$7+1)*(RES!$I$6:$I$3006=$C53)*(RES!$J$6:$J$3006=$D53)),\"\"),\"\")","v":1},{"$f":"IFERROR(IF(AND($C53<>\"\",$D53<>\"\"),1-SUMPRODUCT((RES!$D$6:$D$3006<=M$7)*(RES!$E$6:$E$3006>=M$7+1)*(RES!$I$6:$I$3006=$C53)*(RES!$J$6:$J$3006=$D53)),\"\"),\"\")","v":1},{"$f":"IFERROR(IF(AND($C53<>\"\",$D53<>\"\"),1-SUMPRODUCT((RES!$D$6:$D$3006<=N$7)*(RES!$E$6:$E$3006>=N$7+1)*(RES!$I$6:$I$3006=$C53)*(RES!$J$6:$J$3006=$D53)),\"\"),\"\")","v":1},{"$f":"IFERROR(IF(AND($C53<>\"\",$D53<>\"\"),1-SUMPRODUCT((RES!$D$6:$D$3006<=O$7)*(RES!$E$6:$E$3006>=O$7+1)*(RES!$I$6:$I$3006=$C53)*(RES!$J$6:$J$3006=$D53)),\"\"),\"\")","v":1},{"$f":"IFERROR(IF(AND($C53<>\"\",$D53<>\"\"),1-SUMPRODUCT((RES!$D$6:$D$3006<=P$7)*(RES!$E$6:$E$3006>=P$7+1)*(RES!$I$6:$I$3006=$C53)*(RES!$J$6:$J$3006=$D53)),\"\"),\"\")","v":1},{"$f":"IFERROR(IF(AND($C53<>\"\",$D53<>\"\"),1-SUMPRODUCT((RES!$D$6:$D$3006<=Q$7)*(RES!$E$6:$E$3006>=Q$7+1)*(RES!$I$6:$I$3006=$C53)*(RES!$J$6:$J$3006=$D53)),\"\"),\"\")","v":1},{"$f":"IFERROR(IF(AND($C53<>\"\",$D53<>\"\"),1-SUMPRODUCT((RES!$D$6:$D$3006<=R$7)*(RES!$E$6:$E$3006>=R$7+1)*(RES!$I$6:$I$3006=$C53)*(RES!$J$6:$J$3006=$D53)),\"\"),\"\")","v":1},{"$f":"IFERROR(IF(AND($C53<>\"\",$D53<>\"\"),1-SUMPRODUCT((RES!$D$6:$D$3006<=S$7)*(RES!$E$6:$E$3006>=S$7+1)*(RES!$I$6:$I$3006=$C53)*(RES!$J$6:$J$3006=$D53)),\"\"),\"\")","v":1},{"$f":"IFERROR(IF(AND($C53<>\"\",$D53<>\"\"),1-SUMPRODUCT((RES!$D$6:$D$3006<=T$7)*(RES!$E$6:$E$3006>=T$7+1)*(RES!$I$6:$I$3006=$C53)*(RES!$J$6:$J$3006=$D53)),\"\"),\"\")","v":1}]
[null,null,{"$f":"CAD_Q!C52","v":47},{"$f":"IFERROR(IF(VLOOKUP(C54,CAD_Q!$C$6:$D$105,2,FALSE)=0,\"\",VLOOKUP(C54,CAD_Q!$C$6:$D$105,2,FALSE)),\"\")","v":"Estándar"},null,{"$f":"IFERROR(IF(AND($C54<>\"\",$D54<>\"\"),1-SUMPRODUCT((RES!$D$6:$D$3006<=F$7)*(RES!$E$6:$E$3006>=F$7+1)*(RES!$I$6:$I$3006=$C54)*(RES!$J$6:$J$3006=$D54)),\"\"),\"\")","v":1},{"$f":"IFERROR(IF(AND($C54<>\"\",$D54<>\"\"),1-SUMPRODUCT((RES!$D$6:$D$3006<=G$7)*(RES!$E$6:$E$3006>=G$7+1)*(RES!$I$6:$I$3006=$C54)*(RES!$J$6:$J$3006=$D54)),\"\"),\"\")","v":1},{"$f":"IFERROR(IF(AND($C54<>\"\",$D54<>\"\"),1-SUMPRODUCT((RES!$D$6:$D$3006<=H$7)*(RES!$E$6:$E$3006>=H$7+1)*(RES!$I$6:$I$3006=$C54)*(RES!$J$6:$J$3006=$D54)),\"\"),\"\")","v":1},{"$f":"IFERROR(IF(AND($C54<>\"\",$D54<>\"\"),1-SUMPRODUCT((RES!$D$6:$D$3006<=I$7)*(RES!$E$6:$E$3006>=I$7+1)*(RES!$I$6:$I$3006=$C54)*(RES!$J$6:$J$3006=$D54)),\"\"),\"\")","v":1},{"$f":"IFERROR(IF(AND($C54<>\"\",$D54<>\"\"),1-SUMPRODUCT((RES!$D$6:$D$3006<=J$7)*(RES!$E$6:$E$3006>=J$7+1)*(RES!$I$6:$I$3006=$C54)*(RES!$J$6:$J$3006=$D54)),\"\"),\"\")","v":1},{"$f":"IFERROR(IF(AND($C54<>\"\",$D54<>\"\"),1-SUMPRODUCT((RES!$D$6:$D$3006<=K$7)*(RES!$E$6:$E$3006>=K$7+1)*(RES!$I$6:$I$3006=$C54)*(RES!$J$6:$J$3006=$D54)),\"\"),\"\")","v":1},{"$f":"IFERROR(IF(AND($C54<>\"\",$D54<>\"\"),1-SUMPRODUCT((RES!$D$6:$D$3006<=L$7)*(RES!$E$6:$E$3006>=L$7+1)*(RES!$I$6:$I$3006=$C54)*(RES!$J$6:$J$3006=$D54)),\"\"),\"\")","v":1},{"$f":"IFERROR(IF(AND($C54<>\"\",$D54<>\"\"),1-SUMPRODUCT((RES!$D$6:$D$3006<=M$7)*(RES!$E$6:$E$3006>=M$7+1)*(RES!$I$6:$I$3006=$C54)*(RES!$J$6:$J$3006=$D54)),\"\"),\"\")","v":1},{"$f":"IFERROR(IF(AND($C54<>\"\",$D54<>\"\"),1-SUMPRODUCT((RES!$D$6:$D$3006<=N$7)*(RES!$E$6:$E$3006>=N$7+1)*(RES!$I$6:$I$3006=$C54)*(RES!$J$6:$J$3006=$D54)),\"\"),\"\")","v":1},{"$f":"IFERROR(IF(AND($C54<>\"\",$D54<>\"\"),1-SUMPRODUCT((RES!$D$6:$D$3006<=O$7)*(RES!$E$6:$E$3006>=O$7+1)*(RES!$I$6:$I$3006=$C54)*(RES!$J$6:$J$3006=$D54)),\"\"),\"\")","v":1},{"$f":"IFERROR(IF(AND($C54<>\"\",$D54<>\"\"),1-SUMPRODUCT((RES!$D$6:$D$3006<=P$7)*(RES!$E$6:$E$3006>=P$7+1)*(RES!$I$6:$I$3006=$C54)*(RES!$J$6:$J$3006=$D54)),\"\"),\"\")","v":1},{"$f":"IFERROR(IF(AND($C54<>\"\",$D54<>\"\"),1-SUMPRODUCT((RES!$D$6:$D$3006<=Q$7)*(RES!$E$6:$E$3006>=Q$7+1)*(RES!$I$6:$I$3006=$C54)*(RES!$J$6:$J$3006=$D54)),\"\"),\"\")","v":1},{"$f":"IFERROR(IF(AND($C54<>\"\",$D54<>\"\"),1-SUMPRODUCT((RES!$D$6:$D$3006<=R$7)*(RES!$E$6:$E$3006>=R$7+1)*(RES!$I$6:$I$3006=$C54)*(RES!$J$6:$J$3006=$D54)),\"\"),\"\")","v":1},{"$f":"IFERROR(IF(AND($C54<>\"\",$D54<>\"\"),1-SUMPRODUCT((RES!$D$6:$D$3006<=S$7)*(RES!$E$6:$E$3006>=S$7+1)*(RES!$I$6:$I$3006=$C54)*(RES!$J$6:$J$3006=$D54)),\"\"),\"\")","v":1},{"$f":"IFERROR(IF(AND($C54<>\"\",$D54<>\"\"),1-SUMPRODUCT((RES!$D$6:$D$3006<=T$7)*(RES!$E$6:$E$3006>=T$7+1)*(RES!$I$6:$I$3006=$C54)*(RES!$J$6:$J$3006=$D54)),\"\"),\"\")","v":1}]
[null,null,{"$f":"CAD_Q!C53","v":48},{"$f":"IFERROR(IF(VLOOKUP(C55,CAD_Q!$C$6:$D$105,2,FALSE)=0,\"\",VLOOKUP(C55,CAD_Q!$C$6:$D$105,2,FALSE)),\"\")","v":"Estándar"},null,{"$f":"IFERROR(IF(AND($C55<>\"\",$D55<>\"\"),1-SUMPRODUCT((RES!$D$6:$D$3006<=F$7)*(RES!$E$6:$E$3006>=F$7+1)*(RES!$I$6:$I$3006=$C55)*(RES!$J$6:$J$3006=$D55)),\"\"),\"\")","v":1},{"$f":"IFERROR(IF(AND($C55<>\"\",$D55<>\"\"),1-SUMPRODUCT((RES!$D$6:$D$3006<=G$7)*(RES!$E$6:$E$3006>=G$7+1)*(RES!$I$6:$I$3006=$C55)*(RES!$J$6:$J$3006=$D55)),\"\"),\"\")","v":1},{"$f":"IFERROR(IF(AND($C55<>\"\",$D55<>\"\"),1-SUMPRODUCT((RES!$D$6:$D$3006<=H$7)*(RES!$E$6:$E$3006>=H$7+1)*(RES!$I$6:$I$3006=$C55)*(RES!$J$6:$J$3006=$D55)),\"\"),\"\")","v":1},{"$f":"IFERROR(IF(AND($C55<>\"\",$D55<>\"\"),1-SUMPRODUCT((RES!$D$6:$D$3006<=I$7)*(RES!$E$6:$E$3006>=I$7+1)*(RES!$I$6:$I$3006=$C55)*(RES!$J$6:$J$3006=$D55)),\"\"),\"\")","v":1},{"$f":"IFERROR(IF(AND($C55<>\"\",$D55<>\"\"),1-SUMPRODUCT((RES!$D$6:$D$3006<=J$7)*(RES!$E$6:$E$3006>=J$7+1)*(RES!$I$6:$I$3006=$C55)*(RES!$J$6:$J$3006=$D55)),\"\"),\"\")","v":1},{"$f":"IFERROR(IF(AND($C55<>\"\",$D55<>\"\"),1-SUMPRODUCT((RES!$D$6:$D$3006<=K$7)*(RES!$E$6:$E$3006>=K$7+1)*(RES!$I$6:$I$3006=$C55)*(RES!$J$6:$J$3006=$D55)),\"\"),\"\")","v":1},{"$f":"IFERROR(IF(AND($C55<>\"\",$D55<>\"\"),1-SUMPRODUCT((RES!$D$6:$D$3006<=L$7)*(RES!$E$6:$E$3006>=L$7+1)*(RES!$I$6:$I$3006=$C55)*(RES!$J$6:$J$3006=$D55)),\"\"),\"\")","v":1},{"$f":"IFERROR(IF(AND($C55<>\"\",$D55<>\"\"),1-SUMPRODUCT((RES!$D$6:$D$3006<=M$7)*(RES!$E$6:$E$3006>=M$7+1)*(RES!$I$6:$I$3006=$C55)*(RES!$J$6:$J$3006=$D55)),\"\"),\"\")","v":1},{"$f":"IFERROR(IF(AND($C55<>\"\",$D55<>\"\"),1-SUMPRODUCT((RES!$D$6:$D$3006<=N$7)*(RES!$E$6:$E$3006>=N$7+1)*(RES!$I$6:$I$3006=$C55)*(RES!$J$6:$J$3006=$D55)),\"\"),\"\")","v":1},{"$f":"IFERROR(IF(AND($C55<>\"\",$D55<>\"\"),1-SUMPRODUCT((RES!$D$6:$D$3006<=O$7)*(RES!$E$6:$E$3006>=O$7+1)*(RES!$I$6:$I$3006=$C55)*(RES!$J$6:$J$3006=$D55)),\"\"),\"\")","v":1},{"$f":"IFERROR(IF(AND($C55<>\"\",$D55<>\"\"),1-SUMPRODUCT((RES!$D$6:$D$3006<=P$7)*(RES!$E$6:$E$3006>=P$7+1)*(RES!$I$6:$I$3006=$C55)*(RES!$J$6:$J$3006=$D55)),\"\"),\"\")","v":1},{"$f":"IFERROR(IF(AND($C55<>\"\",$D55<>\"\"),1-SUMPRODUCT((RES!$D$6:$D$3006<=Q$7)*(RES!$E$6:$E$3006>=Q$7+1)*(RES!$I$6:$I$3006=$C55)*(RES!$J$6:$J$3006=$D55)),\"\"),\"\")","v":1},{"$f":"IFERROR(IF(AND($C55<>\"\",$D55<>\"\"),1-SUMPRODUCT((RES!$D$6:$D$3006<=R$7)*(RES!$E$6:$E$3006>=R$7+1)*(RES!$I$6:$I$3006=$C55)*(RES!$J$6:$J$3006=$D55)),\"\"),\"\")","v":1},{"$f":"IFERROR(IF(AND($C55<>\"\",$D55<>\"\"),1-SUMPRODUCT((RES!$D$6:$D$3006<=S$7)*(RES!$E$6:$E$3006>=S$7+1)*(RES!$I$6:$I$3006=$C55)*(RES!$J$6:$J$3006=$D55)),\"\"),\"\")","v":1},{"$f":"IFERROR(IF(AND($C55<>\"\",$D55<>\"\"),1-SUMPRODUCT((RES!$D$6:$D$3006<=T$7)*(RES!$E$6:$E$3006>=T$7+1)*(RES!$I$6:$I$3006=$C55)*(RES!$J$6:$J$3006=$D55)),\"\"),\"\")","v":1}]
[null,null,{"$f":"CAD_Q!C54","v":49},{"$f":"IFERROR(IF(VLOOKUP(C56,CAD_Q!$C$6:$D$105,2,FALSE)=0,\"\",VLOOKUP(C56,CAD_Q!$C$6:$D$105,2,FALSE)),\"\")","v":"Estándar"},null,{"$f":"IFERROR(IF(AND($C56<>\"\",$D56<>\"\"),1-SUMPRODUCT((RES!$D$6:$D$3006<=F$7)*(RES!$E$6:$E$3006>=F$7+1)*(RES!$I$6:$I$3006=$C56)*(RES!$J$6:$J$3006=$D56)),\"\"),\"\")","v":1},{"$f":"IFERROR(IF(AND($C56<>\"\",$D56<>\"\"),1-SUMPRODUCT((RES!$D$6:$D$3006<=G$7)*(RES!$E$6:$E$3006>=G$7+1)*(RES!$I$6:$I$3006=$C56)*(RES!$J$6:$J$3006=$D56)),\"\"),\"\")","v":1},{"$f":"IFERROR(IF(AND($C56<>\"\",$D56<>\"\"),1-SUMPRODUCT((RES!$D$6:$D$3006<=H$7)*(RES!$E$6:$E$3006>=H$7+1)*(RES!$I$6:$I$3006=$C56)*(RES!$J$6:$J$3006=$D56)),\"\"),\"\")","v":1},{"$f":"IFERROR(IF(AND($C56<>\"\",$D56<>\"\"),1-SUMPRODUCT((RES!$D$6:$D$3006<=I$7)*(RES!$E$6:$E$3006>=I$7+1)*(RES!$I$6:$I$3006=$C56)*(RES!$J$6:$J$3006=$D56)),\"\"),\"\")","v":1},{"$f":"IFERROR(IF(AND($C56<>\"\",$D56<>\"\"),1-SUMPRODUCT((RES!$D$6:$D$3006<=J$7)*(RES!$E$6:$E$3006>=J$7+1)*(RES!$I$6:$I$3006=$C56)*(RES!$J$6:$J$3006=$D56)),\"\"),\"\")","v":1},{"$f":"IFERROR(IF(AND($C56<>\"\",$D56<>\"\"),1-SUMPRODUCT((RES!$D$6:$D$3006<=K$7)*(RES!$E$6:$E$3006>=K$7+1)*(RES!$I$6:$I$3006=$C56)*(RES!$J$6:$J$3006=$D56)),\"\"),\"\")","v":1},{"$f":"IFERROR(IF(AND($C56<>\"\",$D56<>\"\"),1-SUMPRODUCT((RES!$D$6:$D$3006<=L$7)*(RES!$E$6:$E$3006>=L$7+1)*(RES!$I$6:$I$3006=$C56)*(RES!$J$6:$J$3006=$D56)),\"\"),\"\")","v":1},{"$f":"IFERROR(IF(AND($C56<>\"\",$D56<>\"\"),1-SUMPRODUCT((RES!$D$6:$D$3006<=M$7)*(RES!$E$6:$E$3006>=M$7+1)*(RES!$I$6:$I$3006=$C56)*(RES!$J$6:$J$3006=$D56)),\"\"),\"\")","v":1},{"$f":"IFERROR(IF(AND($C56<>\"\",$D56<>\"\"),1-SUMPRODUCT((RES!$D$6:$D$3006<=N$7)*(RES!$E$6:$E$3006>=N$7+1)*(RES!$I$6:$I$3006=$C56)*(RES!$J$6:$J$3006=$D56)),\"\"),\"\")","v":1},{"$f":"IFERROR(IF(AND($C56<>\"\",$D56<>\"\"),1-SUMPRODUCT((RES!$D$6:$D$3006<=O$7)*(RES!$E$6:$E$3006>=O$7+1)*(RES!$I$6:$I$3006=$C56)*(RES!$J$6:$J$3006=$D56)),\"\"),\"\")","v":1},{"$f":"IFERROR(IF(AND($C56<>\"\",$D56<>\"\"),1-SUMPRODUCT((RES!$D$6:$D$3006<=P$7)*(RES!$E$6:$E$3006>=P$7+1)*(RES!$I$6:$I$3006=$C56)*(RES!$J$6:$J$3006=$D56)),\"\"),\"\")","v":1},{"$f":"IFERROR(IF(AND($C56<>\"\",$D56<>\"\"),1-SUMPRODUCT((RES!$D$6:$D$3006<=Q$7)*(RES!$E$6:$E$3006>=Q$7+1)*(RES!$I$6:$I$3006=$C56)*(RES!$J$6:$J$3006=$D56)),\"\"),\"\")","v":1},{"$f":"IFERROR(IF(AND($C56<>\"\",$D56<>\"\"),1-SUMPRODUCT((RES!$D$6:$D$3006<=R$7)*(RES!$E$6:$E$3006>=R$7+1)*(RES!$I$6:$I$3006=$C56)*(RES!$J$6:$J$3006=$D56)),\"\"),\"\")","v":1},{"$f":"IFERROR(IF(AND($C56<>\"\",$D56<>\"\"),1-SUMPRODUCT((RES!$D$6:$D$3006<=S$7)*(RES!$E$6:$E$3006>=S$7+1)*(RES!$I$6:$I$3006=$C56)*(RES!$J$6:$J$3006=$D56)),\"\"),\"\")","v":1},{"$f":"IFERROR(IF(AND($C56<>\"\",$D56<>\"\"),1-SUMPRODUCT((RES!$D$6:$D$3006<=T$7)*(RES!$E$6:$E$3006>=T$7+1)*(RES!$I$6:$I$3006=$C56)*(RES!$J$6:$J$3006=$D56)),\"\"),\"\")","v":1}]
[null,null,{"$f":"CAD_Q!C55","v":50},{"$f":"IFERROR(IF(VLOOKUP(C57,CAD_Q!$C$6:$D$105,2,FALSE)=0,\"\",VLOOKUP(C57,CAD_Q!$C$6:$D$105,2,FALSE)),\"\")","v":"Estándar"},null,{"$f":"IFERROR(IF(AND($C57<>\"\",$D57<>\"\"),1-SUMPRODUCT((RES!$D$6:$D$3006<=F$7)*(RES!$E$6:$E$3006>=F$7+1)*(RES!$I$6:$I$3006=$C57)*(RES!$J$6:$J$3006=$D57)),\"\"),\"\")","v":1},{"$f":"IFERROR(IF(AND($C57<>\"\",$D57<>\"\"),1-SUMPRODUCT((RES!$D$6:$D$3006<=G$7)*(RES!$E$6:$E$3006>=G$7+1)*(RES!$I$6:$I$3006=$C57)*(RES!$J$6:$J$3006=$D57)),\"\"),\"\")","v":1},{"$f":"IFERROR(IF(AND($C57<>\"\",$D57<>\"\"),1-SUMPRODUCT((RES!$D$6:$D$3006<=H$7)*(RES!$E$6:$E$3006>=H$7+1)*(RES!$I$6:$I$3006=$C57)*(RES!$J$6:$J$3006=$D57)),\"\"),\"\")","v":1},{"$f":"IFERROR(IF(AND($C57<>\"\",$D57<>\"\"),1-SUMPRODUCT((RES!$D$6:$D$3006<=I$7)*(RES!$E$6:$E$3006>=I$7+1)*(RES!$I$6:$I$3006=$C57)*(RES!$J$6:$J$3006=$D57)),\"\"),\"\")","v":1},{"$f":"IFERROR(IF(AND($C57<>\"\",$D57<>\"\"),1-SUMPRODUCT((RES!$D$6:$D$3006<=J$7)*(RES!$E$6:$E$3006>=J$7+1)*(RES!$I$6:$I$3006=$C57)*(RES!$J$6:$J$3006=$D57)),\"\"),\"\")","v":1},{"$f":"IFERROR(IF(AND($C57<>\"\",$D57<>\"\"),1-SUMPRODUCT((RES!$D$6:$D$3006<=K$7)*(RES!$E$6:$E$3006>=K$7+1)*(RES!$I$6:$I$3006=$C57)*(RES!$J$6:$J$3006=$D57)),\"\"),\"\")","v":1},{"$f":"IFERROR(IF(AND($C57<>\"\",$D57<>\"\"),1-SUMPRODUCT((RES!$D$6:$D$3006<=L$7)*(RES!$E$6:$E$3006>=L$7+1)*(RES!$I$6:$I$3006=$C57)*(RES!$J$6:$J$3006=$D57)),\"\"),\"\")","v":1},{"$f":"IFERROR(IF(AND($C57<>\"\",$D57<>\"\"),1-SUMPRODUCT((RES!$D$6:$D$3006<=M$7)*(RES!$E$6:$E$3006>=M$7+1)*(RES!$I$6:$I$3006=$C57)*(RES!$J$6:$J$3006=$D57)),\"\"),\"\")","v":1},{"$f":"IFERROR(IF(AND($C57<>\"\",$D57<>\"\"),1-SUMPRODUCT((RES!$D$6:$D$3006<=N$7)*(RES!$E$6:$E$3006>=N$7+1)*(RES!$I$6:$I$3006=$C57)*(RES!$J$6:$J$3006=$D57)),\"\"),\"\")","v":1},{"$f":"IFERROR(IF(AND($C57<>\"\",$D57<>\"\"),1-SUMPRODUCT((RES!$D$6:$D$3006<=O$7)*(RES!$E$6:$E$3006>=O$7+1)*(RES!$I$6:$I$3006=$C57)*(RES!$J$6:$J$3006=$D57)),\"\"),\"\")","v":1},{"$f":"IFERROR(IF(AND($C57<>\"\",$D57<>\"\"),1-SUMPRODUCT((RES!$D$6:$D$3006<=P$7)*(RES!$E$6:$E$3006>=P$7+1)*(RES!$I$6:$I$3006=$C57)*(RES!$J$6:$J$3006=$D57)),\"\"),\"\")","v":1},{"$f":"IFERROR(IF(AND($C57<>\"\",$D57<>\"\"),1-SUMPRODUCT((RES!$D$6:$D$3006<=Q$7)*(RES!$E$6:$E$3006>=Q$7+1)*(RES!$I$6:$I$3006=$C57)*(RES!$J$6:$J$3006=$D57)),\"\"),\"\")","v":1},{"$f":"IFERROR(IF(AND($C57<>\"\",$D57<>\"\"),1-SUMPRODUCT((RES!$D$6:$D$3006<=R$7)*(RES!$E$6:$E$3006>=R$7+1)*(RES!$I$6:$I$3006=$C57)*(RES!$J$6:$J$3006=$D57)),\"\"),\"\")","v":1},{"$f":"IFERROR(IF(AND($C57<>\"\",$D57<>\"\"),1-SUMPRODUCT((RES!$D$6:$D$3006<=S$7)*(RES!$E$6:$E$3006>=S$7+1)*(RES!$I$6:$I$3006=$C57)*(RES!$J$6:$J$3006=$D57)),\"\"),\"\")","v":1},{"$f":"IFERROR(IF(AND($C57<>\"\",$D57<>\"\"),1-SUMPRODUCT((RES!$D$6:$D$3006<=T$7)*(RES!$E$6:$E$3006>=T$7+1)*(RES!$I$6:$I$3006=$C57)*(RES!$J$6:$J$3006=$D57)),\"\"),\"\")","v":1}]
[null,null,{"$f":"CAD_Q!C56","v":51},{"$f":"IFERROR(IF(VLOOKUP(C58,CAD_Q!$C$6:$D$105,2,FALSE)=0,\"\",VLOOKUP(C58,CAD_Q!$C$6:$D$105,2,FALSE)),\"\")","v":"Estándar"},null,{"$f":"IFERROR(IF(AND($C58<>\"\",$D58<>\"\"),1-SUMPRODUCT((RES!$D$6:$D$3006<=F$7)*(RES!$E$6:$E$3006>=F$7+1)*(RES!$I$6:$I$3006=$C58)*(RES!$J$6:$J$3006=$D58)),\"\"),\"\")","v":1},{"$f":"IFERROR(IF(AND($C58<>\"\",$D58<>\"\"),1-SUMPRODUCT((RES!$D$6:$D$3006<=G$7)*(RES!$E$6:$E$3006>=G$7+1)*(RES!$I$6:$I$3006=$C58)*(RES!$J$6:$J$3006=$D58)),\"\"),\"\")","v":1},{"$f":"IFERROR(IF(AND($C58<>\"\",$D58<>\"\"),1-SUMPRODUCT((RES!$D$6:$D$3006<=H$7)*(RES!$E$6:$E$3006>=H$7+1)*(RES!$I$6:$I$3006=$C58)*(RES!$J$6:$J$3006=$D58)),\"\"),\"\")","v":1},{"$f":"IFERROR(IF(AND($C58<>\"\",$D58<>\"\"),1-SUMPRODUCT((RES!$D$6:$D$3006<=I$7)*(RES!$E$6:$E$3006>=I$7+1)*(RES!$I$6:$I$3006=$C58)*(RES!$J$6:$J$3006=$D58)),\"\"),\"\")","v":1},{"$f":"IFERROR(IF(AND($C58<>\"\",$D58<>\"\"),1-SUMPRODUCT((RES!$D$6:$D$3006<=J$7)*(RES!$E$6:$E$3006>=J$7+1)*(RES!$I$6:$I$3006=$C58)*(RES!$J$6:$J$3006=$D58)),\"\"),\"\")","v":1},{"$f":"IFERROR(IF(AND($C58<>\"\",$D58<>\"\"),1-SUMPRODUCT((RES!$D$6:$D$3006<=K$7)*(RES!$E$6:$E$3006>=K$7+1)*(RES!$I$6:$I$3006=$C58)*(RES!$J$6:$J$3006=$D58)),\"\"),\"\")","v":1},{"$f":"IFERROR(IF(AND($C58<>\"\",$D58<>\"\"),1-SUMPRODUCT((RES!$D$6:$D$3006<=L$7)*(RES!$E$6:$E$3006>=L$7+1)*(RES!$I$6:$I$3006=$C58)*(RES!$J$6:$J$3006=$D58)),\"\"),\"\")","v":1},{"$f":"IFERROR(IF(AND($C58<>\"\",$D58<>\"\"),1-SUMPRODUCT((RES!$D$6:$D$3006<=M$7)*(RES!$E$6:$E$3006>=M$7+1)*(RES!$I$6:$I$3006=$C58)*(RES!$J$6:$J$3006=$D58)),\"\"),\"\")","v":1},{"$f":"IFERROR(IF(AND($C58<>\"\",$D58<>\"\"),1-SUMPRODUCT((RES!$D$6:$D$3006<=N$7)*(RES!$E$6:$E$3006>=N$7+1)*(RES!$I$6:$I$3006=$C58)*(RES!$J$6:$J$3006=$D58)),\"\"),\"\")","v":1},{"$f":"IFERROR(IF(AND($C58<>\"\",$D58<>\"\"),1-SUMPRODUCT((RES!$D$6:$D$3006<=O$7)*(RES!$E$6:$E$3006>=O$7+1)*(RES!$I$6:$I$3006=$C58)*(RES!$J$6:$J$3006=$D58)),\"\"),\"\")","v":1},{"$f":"IFERROR(IF(AND($C58<>\"\",$D58<>\"\"),1-SUMPRODUCT((RES!$D$6:$D$3006<=P$7)*(RES!$E$6:$E$3006>=P$7+1)*(RES!$I$6:$I$3006=$C58)*(RES!$J$6:$J$3006=$D58)),\"\"),\"\")","v":1},{"$f":"IFERROR(IF(AND($C58<>\"\",$D58<>\"\"),1-SUMPRODUCT((RES!$D$6:$D$3006<=Q$7)*(RES!$E$6:$E$3006>=Q$7+1)*(RES!$I$6:$I$3006=$C58)*(RES!$J$6:$J$3006=$D58)),\"\"),\"\")","v":1},{"$f":"IFERROR(IF(AND($C58<>\"\",$D58<>\"\"),1-SUMPRODUCT((RES!$D$6:$D$3006<=R$7)*(RES!$E$6:$E$3006>=R$7+1)*(RES!$I$6:$I$3006=$C58)*(RES!$J$6:$J$3006=$D58)),\"\"),\"\")","v":1},{"$f":"IFERROR(IF(AND($C58<>\"\",$D58<>\"\"),1-SUMPRODUCT((RES!$D$6:$D$3006<=S$7)*(RES!$E$6:$E$3006>=S$7+1)*(RES!$I$6:$I$3006=$C58)*(RES!$J$6:$J$3006=$D58)),\"\"),\"\")","v":1},{"$f":"IFERROR(IF(AND($C58<>\"\",$D58<>\"\"),1-SUMPRODUCT((RES!$D$6:$D$3006<=T$7)*(RES!$E$6:$E$3006>=T$7+1)*(RES!$I$6:$I$3006=$C58)*(RES!$J$6:$J$3006=$D58)),\"\"),\"\")","v":1}]
[null,null,{"$f":"CAD_Q!C57","v":52},{"$f":"IFERROR(IF(VLOOKUP(C59,CAD_Q!$C$6:$D$105,2,FALSE)=0,\"\",VLOOKUP(C59,CAD_Q!$C$6:$D$105,2,FALSE)),\"\")","v":"Estándar"},null,{"$f":"IFERROR(IF(AND($C59<>\"\",$D59<>\"\"),1-SUMPRODUCT((RES!$D$6:$D$3006<=F$7)*(RES!$E$6:$E$3006>=F$7+1)*(RES!$I$6:$I$3006=$C59)*(RES!$J$6:$J$3006=$D59)),\"\"),\"\")","v":1},{"$f":"IFERROR(IF(AND($C59<>\"\",$D59<>\"\"),1-SUMPRODUCT((RES!$D$6:$D$3006<=G$7)*(RES!$E$6:$E$3006>=G$7+1)*(RES!$I$6:$I$3006=$C59)*(RES!$J$6:$J$3006=$D59)),\"\"),\"\")","v":1},{"$f":"IFERROR(IF(AND($C59<>\"\",$D59<>\"\"),1-SUMPRODUCT((RES!$D$6:$D$3006<=H$7)*(RES!$E$6:$E$3006>=H$7+1)*(RES!$I$6:$I$3006=$C59)*(RES!$J$6:$J$3006=$D59)),\"\"),\"\")","v":1},{"$f":"IFERROR(IF(AND($C59<>\"\",$D59<>\"\"),1-SUMPRODUCT((RES!$D$6:$D$3006<=I$7)*(RES!$E$6:$E$3006>=I$7+1)*(RES!$I$6:$I$3006=$C59)*(RES!$J$6:$J$3006=$D59)),\"\"),\"\")","v":1},{"$f":"IFERROR(IF(AND($C59<>\"\",$D59<>\"\"),1-SUMPRODUCT((RES!$D$6:$D$3006<=J$7)*(RES!$E$6:$E$3006>=J$7+1)*(RES!$I$6:$I$3006=$C59)*(RES!$J$6:$J$3006=$D59)),\"\"),\"\")","v":1},{"$f":"IFERROR(IF(AND($C59<>\"\",$D59<>\"\"),1-SUMPRODUCT((RES!$D$6:$D$3006<=K$7)*(RES!$E$6:$E$3006>=K$7+1)*(RES!$I$6:$I$3006=$C59)*(RES!$J$6:$J$3006=$D59)),\"\"),\"\")","v":1},{"$f":"IFERROR(IF(AND($C59<>\"\",$D59<>\"\"),1-SUMPRODUCT((RES!$D$6:$D$3006<=L$7)*(RES!$E$6:$E$3006>=L$7+1)*(RES!$I$6:$I$3006=$C59)*(RES!$J$6:$J$3006=$D59)),\"\"),\"\")","v":1},{"$f":"IFERROR(IF(AND($C59<>\"\",$D59<>\"\"),1-SUMPRODUCT((RES!$D$6:$D$3006<=M$7)*(RES!$E$6:$E$3006>=M$7+1)*(RES!$I$6:$I$3006=$C59)*(RES!$J$6:$J$3006=$D59)),\"\"),\"\")","v":1},{"$f":"IFERROR(IF(AND($C59<>\"\",$D59<>\"\"),1-SUMPRODUCT((RES!$D$6:$D$3006<=N$7)*(RES!$E$6:$E$3006>=N$7+1)*(RES!$I$6:$I$3006=$C59)*(RES!$J$6:$J$3006=$D59)),\"\"),\"\")","v":1},{"$f":"IFERROR(IF(AND($C59<>\"\",$D59<>\"\"),1-SUMPRODUCT((RES!$D$6:$D$3006<=O$7)*(RES!$E$6:$E$3006>=O$7+1)*(RES!$I$6:$I$3006=$C59)*(RES!$J$6:$J$3006=$D59)),\"\"),\"\")","v":1},{"$f":"IFERROR(IF(AND($C59<>\"\",$D59<>\"\"),1-SUMPRODUCT((RES!$D$6:$D$3006<=P$7)*(RES!$E$6:$E$3006>=P$7+1)*(RES!$I$6:$I$3006=$C59)*(RES!$J$6:$J$3006=$D59)),\"\"),\"\")","v":1},{"$f":"IFERROR(IF(AND($C59<>\"\",$D59<>\"\"),1-SUMPRODUCT((RES!$D$6:$D$3006<=Q$7)*(RES!$E$6:$E$3006>=Q$7+1)*(RES!$I$6:$I$3006=$C59)*(RES!$J$6:$J$3006=$D59)),\"\"),\"\")","v":1},{"$f":"IFERROR(IF(AND($C59<>\"\",$D59<>\"\"),1-SUMPRODUCT((RES!$D$6:$D$3006<=R$7)*(RES!$E$6:$E$3006>=R$7+1)*(RES!$I$6:$I$3006=$C59)*(RES!$J$6:$J$3006=$D59)),\"\"),\"\")","v":1},{"$f":"IFERROR(IF(AND($C59<>\"\",$D59<>\"\"),1-SUMPRODUCT((RES!$D$6:$D$3006<=S$7)*(RES!$E$6:$E$3006>=S$7+1)*(RES!$I$6:$I$3006=$C59)*(RES!$J$6:$J$3006=$D59)),\"\"),\"\")","v":1},{"$f":"IFERROR(IF(AND($C59<>\"\",$D59<>\"\"),1-SUMPRODUCT((RES!$D$6:$D$3006<=T$7)*(RES!$E$6:$E$3006>=T$7+1)*(RES!$I$6:$I$3006=$C59)*(RES!$J$6:$J$3006=$D59)),\"\"),\"\")","v":1}]
[null,null,{"$f":"CAD_Q!C58","v":53},{"$f":"IFERROR(IF(VLOOKUP(C60,CAD_Q!$C$6:$D$105,2,FALSE)=0,\"\",VLOOKUP(C60,CAD_Q!$C$6:$D$105,2,FALSE)),\"\")","v":"Estándar"},null,{"$f":"IFERROR(IF(AND($C60<>\"\",$D60<>\"\"),1-SUMPRODUCT((RES!$D$6:$D$3006<=F$7)*(RES!$E$6:$E$3006>=F$7+1)*(RES!$I$6:$I$3006=$C60)*(RES!$J$6:$J$3006=$D60)),\"\"),\"\")","v":1},{"$f":"IFERROR(IF(AND($C60<>\"\",$D60<>\"\"),1-SUMPRODUCT((RES!$D$6:$D$3006<=G$7)*(RES!$E$6:$E$3006>=G$7+1)*(RES!$I$6:$I$3006=$C60)*(RES!$J$6:$J$3006=$D60)),\"\"),\"\")","v":1},{"$f":"IFERROR(IF(AND($C60<>\"\",$D60<>\"\"),1-SUMPRODUCT((RES!$D$6:$D$3006<=H$7)*(RES!$E$6:$E$3006>=H$7+1)*(RES!$I$6:$I$3006=$C60)*(RES!$J$6:$J$3006=$D60)),\"\"),\"\")","v":1},{"$f":"IFERROR(IF(AND($C60<>\"\",$D60<>\"\"),1-SUMPRODUCT((RES!$D$6:$D$3006<=I$7)*(RES!$E$6:$E$3006>=I$7+1)*(RES!$I$6:$I$3006=$C60)*(RES!$J$6:$J$3006=$D60)),\"\"),\"\")","v":1},{"$f":"IFERROR(IF(AND($C60<>\"\",$D60<>\"\"),1-SUMPRODUCT((RES!$D$6:$D$3006<=J$7)*(RES!$E$6:$E$3006>=J$7+1)*(RES!$I$6:$I$3006=$C60)*(RES!$J$6:$J$3006=$D60)),\"\"),\"\")","v":1},{"$f":"IFERROR(IF(AND($C60<>\"\",$D60<>\"\"),1-SUMPRODUCT((RES!$D$6:$D$3006<=K$7)*(RES!$E$6:$E$3006>=K$7+1)*(RES!$I$6:$I$3006=$C60)*(RES!$J$6:$J$3006=$D60)),\"\"),\"\")","v":1},{"$f":"IFERROR(IF(AND($C60<>\"\",$D60<>\"\"),1-SUMPRODUCT((RES!$D$6:$D$3006<=L$7)*(RES!$E$6:$E$3006>=L$7+1)*(RES!$I$6:$I$3006=$C60)*(RES!$J$6:$J$3006=$D60)),\"\"),\"\")","v":1},{"$f":"IFERROR(IF(AND($C60<>\"\",$D60<>\"\"),1-SUMPRODUCT((RES!$D$6:$D$3006<=M$7)*(RES!$E$6:$E$3006>=M$7+1)*(RES!$I$6:$I$3006=$C60)*(RES!$J$6:$J$3006=$D60)),\"\"),\"\")","v":1},{"$f":"IFERROR(IF(AND($C60<>\"\",$D60<>\"\"),1-SUMPRODUCT((RES!$D$6:$D$3006<=N$7)*(RES!$E$6:$E$3006>=N$7+1)*(RES!$I$6:$I$3006=$C60)*(RES!$J$6:$J$3006=$D60)),\"\"),\"\")","v":1},{"$f":"IFERROR(IF(AND($C60<>\"\",$D60<>\"\"),1-SUMPRODUCT((RES!$D$6:$D$3006<=O$7)*(RES!$E$6:$E$3006>=O$7+1)*(RES!$I$6:$I$3006=$C60)*(RES!$J$6:$J$3006=$D60)),\"\"),\"\")","v":1},{"$f":"IFERROR(IF(AND($C60<>\"\",$D60<>\"\"),1-SUMPRODUCT((RES!$D$6:$D$3006<=P$7)*(RES!$E$6:$E$3006>=P$7+1)*(RES!$I$6:$I$3006=$C60)*(RES!$J$6:$J$3006=$D60)),\"\"),\"\")","v":1},{"$f":"IFERROR(IF(AND($C60<>\"\",$D60<>\"\"),1-SUMPRODUCT((RES!$D$6:$D$3006<=Q$7)*(RES!$E$6:$E$3006>=Q$7+1)*(RES!$I$6:$I$3006=$C60)*(RES!$J$6:$J$3006=$D60)),\"\"),\"\")","v":1},{"$f":"IFERROR(IF(AND($C60<>\"\",$D60<>\"\"),1-SUMPRODUCT((RES!$D$6:$D$3006<=R$7)*(RES!$E$6:$E$3006>=R$7+1)*(RES!$I$6:$I$3006=$C60)*(RES!$J$6:$J$3006=$D60)),\"\"),\"\")","v":1},{"$f":"IFERROR(IF(AND($C60<>\"\",$D60<>\"\"),1-SUMPRODUCT((RES!$D$6:$D$3006<=S$7)*(RES!$E$6:$E$3006>=S$7+1)*(RES!$I$6:$I$3006=$C60)*(RES!$J$6:$J$3006=$D60)),\"\"),\"\")","v":1},{"$f":"IFERROR(IF(AND($C60<>\"\",$D60<>\"\"),1-SUMPRODUCT((RES!$D$6:$D$3006<=T$7)*(RES!$E$6:$E$3006>=T$7+1)*(RES!$I$6:$I$3006=$C60)*(RES!$J$6:$J$3006=$D60)),\"\"),\"\")","v":1}]
[null,null,{"$f":"CAD_Q!C59","v":54},{"$f":"IFERROR(IF(VLOOKUP(C61,CAD_Q!$C$6:$D$105,2,FALSE)=0,\"\",VLOOKUP(C61,CAD_Q!$C$6:$D$105,2,FALSE)),\"\")","v":"Estándar"},null,{"$f":"IFERROR(IF(AND($C61<>\"\",$D61<>\"\"),1-SUMPRODUCT((RES!$D$6:$D$3006<=F$7)*(RES!$E$6:$E$3006>=F$7+1)*(RES!$I$6:$I$3006=$C61)*(RES!$J$6:$J$3006=$D61)),\"\"),\"\")","v":1},{"$f":"IFERROR(IF(AND($C61<>\"\",$D61<>\"\"),1-SUMPRODUCT((RES!$D$6:$D$3006<=G$7)*(RES!$E$6:$E$3006>=G$7+1)*(RES!$I$6:$I$3006=$C61)*(RES!$J$6:$J$3006=$D61)),\"\"),\"\")","v":1},{"$f":"IFERROR(IF(AND($C61<>\"\",$D61<>\"\"),1-SUMPRODUCT((RES!$D$6:$D$3006<=H$7)*(RES!$E$6:$E$3006>=H$7+1)*(RES!$I$6:$I$3006=$C61)*(RES!$J$6:$J$3006=$D61)),\"\"),\"\")","v":1},{"$f":"IFERROR(IF(AND($C61<>\"\",$D61<>\"\"),1-SUMPRODUCT((RES!$D$6:$D$3006<=I$7)*(RES!$E$6:$E$3006>=I$7+1)*(RES!$I$6:$I$3006=$C61)*(RES!$J$6:$J$3006=$D61)),\"\"),\"\")","v":1},{"$f":"IFERROR(IF(AND($C61<>\"\",$D61<>\"\"),1-SUMPRODUCT((RES!$D$6:$D$3006<=J$7)*(RES!$E$6:$E$3006>=J$7+1)*(RES!$I$6:$I$3006=$C61)*(RES!$J$6:$J$3006=$D61)),\"\"),\"\")","v":1},{"$f":"IFERROR(IF(AND($C61<>\"\",$D61<>\"\"),1-SUMPRODUCT((RES!$D$6:$D$3006<=K$7)*(RES!$E$6:$E$3006>=K$7+1)*(RES!$I$6:$I$3006=$C61)*(RES!$J$6:$J$3006=$D61)),\"\"),\"\")","v":1},{"$f":"IFERROR(IF(AND($C61<>\"\",$D61<>\"\"),1-SUMPRODUCT((RES!$D$6:$D$3006<=L$7)*(RES!$E$6:$E$3006>=L$7+1)*(RES!$I$6:$I$3006=$C61)*(RES!$J$6:$J$3006=$D61)),\"\"),\"\")","v":1},{"$f":"IFERROR(IF(AND($C61<>\"\",$D61<>\"\"),1-SUMPRODUCT((RES!$D$6:$D$3006<=M$7)*(RES!$E$6:$E$3006>=M$7+1)*(RES!$I$6:$I$3006=$C61)*(RES!$J$6:$J$3006=$D61)),\"\"),\"\")","v":1},{"$f":"IFERROR(IF(AND($C61<>\"\",$D61<>\"\"),1-SUMPRODUCT((RES!$D$6:$D$3006<=N$7)*(RES!$E$6:$E$3006>=N$7+1)*(RES!$I$6:$I$3006=$C61)*(RES!$J$6:$J$3006=$D61)),\"\"),\"\")","v":1},{"$f":"IFERROR(IF(AND($C61<>\"\",$D61<>\"\"),1-SUMPRODUCT((RES!$D$6:$D$3006<=O$7)*(RES!$E$6:$E$3006>=O$7+1)*(RES!$I$6:$I$3006=$C61)*(RES!$J$6:$J$3006=$D61)),\"\"),\"\")","v":1},{"$f":"IFERROR(IF(AND($C61<>\"\",$D61<>\"\"),1-SUMPRODUCT((RES!$D$6:$D$3006<=P$7)*(RES!$E$6:$E$3006>=P$7+1)*(RES!$I$6:$I$3006=$C61)*(RES!$J$6:$J$3006=$D61)),\"\"),\"\")","v":1},{"$f":"IFERROR(IF(AND($C61<>\"\",$D61<>\"\"),1-SUMPRODUCT((RES!$D$6:$D$3006<=Q$7)*(RES!$E$6:$E$3006>=Q$7+1)*(RES!$I$6:$I$3006=$C61)*(RES!$J$6:$J$3006=$D61)),\"\"),\"\")","v":1},{"$f":"IFERROR(IF(AND($C61<>\"\",$D61<>\"\"),1-SUMPRODUCT((RES!$D$6:$D$3006<=R$7)*(RES!$E$6:$E$3006>=R$7+1)*(RES!$I$6:$I$3006=$C61)*(RES!$J$6:$J$3006=$D61)),\"\"),\"\")","v":1},{"$f":"IFERROR(IF(AND($C61<>\"\",$D61<>\"\"),1-SUMPRODUCT((RES!$D$6:$D$3006<=S$7)*(RES!$E$6:$E$3006>=S$7+1)*(RES!$I$6:$I$3006=$C61)*(RES!$J$6:$J$3006=$D61)),\"\"),\"\")","v":1},{"$f":"IFERROR(IF(AND($C61<>\"\",$D61<>\"\"),1-SUMPRODUCT((RES!$D$6:$D$3006<=T$7)*(RES!$E$6:$E$3006>=T$7+1)*(RES!$I$6:$I$3006=$C61)*(RES!$J$6:$J$3006=$D61)),\"\"),\"\")","v":1}]
[null,null,{"$f":"CAD_Q!C60","v":55},{"$f":"IFERROR(IF(VLOOKUP(C62,CAD_Q!$C$6:$D$105,2,FALSE)=0,\"\",VLOOKUP(C62,CAD_Q!$C$6:$D$105,2,FALSE)),\"\")","v":"Estándar"},null,{"$f":"IFERROR(IF(AND($C62<>\"\",$D62<>\"\"),1-SUMPRODUCT((RES!$D$6:$D$3006<=F$7)*(RES!$E$6:$E$3006>=F$7+1)*(RES!$I$6:$I$3006=$C62)*(RES!$J$6:$J$3006=$D62)),\"\"),\"\")","v":1},{"$f":"IFERROR(IF(AND($C62<>\"\",$D62<>\"\"),1-SUMPRODUCT((RES!$D$6:$D$3006<=G$7)*(RES!$E$6:$E$3006>=G$7+1)*(RES!$I$6:$I$3006=$C62)*(RES!$J$6:$J$3006=$D62)),\"\"),\"\")","v":1},{"$f":"IFERROR(IF(AND($C62<>\"\",$D62<>\"\"),1-SUMPRODUCT((RES!$D$6:$D$3006<=H$7)*(RES!$E$6:$E$3006>=H$7+1)*(RES!$I$6:$I$3006=$C62)*(RES!$J$6:$J$3006=$D62)),\"\"),\"\")","v":1},{"$f":"IFERROR(IF(AND($C62<>\"\",$D62<>\"\"),1-SUMPRODUCT((RES!$D$6:$D$3006<=I$7)*(RES!$E$6:$E$3006>=I$7+1)*(RES!$I$6:$I$3006=$C62)*(RES!$J$6:$J$3006=$D62)),\"\"),\"\")","v":1},{"$f":"IFERROR(IF(AND($C62<>\"\",$D62<>\"\"),1-SUMPRODUCT((RES!$D$6:$D$3006<=J$7)*(RES!$E$6:$E$3006>=J$7+1)*(RES!$I$6:$I$3006=$C62)*(RES!$J$6:$J$3006=$D62)),\"\"),\"\")","v":1},{"$f":"IFERROR(IF(AND($C62<>\"\",$D62<>\"\"),1-SUMPRODUCT((RES!$D$6:$D$3006<=K$7)*(RES!$E$6:$E$3006>=K$7+1)*(RES!$I$6:$I$3006=$C62)*(RES!$J$6:$J$3006=$D62)),\"\"),\"\")","v":1},{"$f":"IFERROR(IF(AND($C62<>\"\",$D62<>\"\"),1-SUMPRODUCT((RES!$D$6:$D$3006<=L$7)*(RES!$E$6:$E$3006>=L$7+1)*(RES!$I$6:$I$3006=$C62)*(RES!$J$6:$J$3006=$D62)),\"\"),\"\")","v":1},{"$f":"IFERROR(IF(AND($C62<>\"\",$D62<>\"\"),1-SUMPRODUCT((RES!$D$6:$D$3006<=M$7)*(RES!$E$6:$E$3006>=M$7+1)*(RES!$I$6:$I$3006=$C62)*(RES!$J$6:$J$3006=$D62)),\"\"),\"\")","v":1},{"$f":"IFERROR(IF(AND($C62<>\"\",$D62<>\"\"),1-SUMPRODUCT((RES!$D$6:$D$3006<=N$7)*(RES!$E$6:$E$3006>=N$7+1)*(RES!$I$6:$I$3006=$C62)*(RES!$J$6:$J$3006=$D62)),\"\"),\"\")","v":1},{"$f":"IFERROR(IF(AND($C62<>\"\",$D62<>\"\"),1-SUMPRODUCT((RES!$D$6:$D$3006<=O$7)*(RES!$E$6:$E$3006>=O$7+1)*(RES!$I$6:$I$3006=$C62)*(RES!$J$6:$J$3006=$D62)),\"\"),\"\")","v":1},{"$f":"IFERROR(IF(AND($C62<>\"\",$D62<>\"\"),1-SUMPRODUCT((RES!$D$6:$D$3006<=P$7)*(RES!$E$6:$E$3006>=P$7+1)*(RES!$I$6:$I$3006=$C62)*(RES!$J$6:$J$3006=$D62)),\"\"),\"\")","v":1},{"$f":"IFERROR(IF(AND($C62<>\"\",$D62<>\"\"),1-SUMPRODUCT((RES!$D$6:$D$3006<=Q$7)*(RES!$E$6:$E$3006>=Q$7+1)*(RES!$I$6:$I$3006=$C62)*(RES!$J$6:$J$3006=$D62)),\"\"),\"\")","v":1},{"$f":"IFERROR(IF(AND($C62<>\"\",$D62<>\"\"),1-SUMPRODUCT((RES!$D$6:$D$3006<=R$7)*(RES!$E$6:$E$3006>=R$7+1)*(RES!$I$6:$I$3006=$C62)*(RES!$J$6:$J$3006=$D62)),\"\"),\"\")","v":1},{"$f":"IFERROR(IF(AND($C62<>\"\",$D62<>\"\"),1-SUMPRODUCT((RES!$D$6:$D$3006<=S$7)*(RES!$E$6:$E$3006>=S$7+1)*(RES!$I$6:$I$3006=$C62)*(RES!$J$6:$J$3006=$D62)),\"\"),\"\")","v":1},{"$f":"IFERROR(IF(AND($C62<>\"\",$D62<>\"\"),1-SUMPRODUCT((RES!$D$6:$D$3006<=T$7)*(RES!$E$6:$E$3006>=T$7+1)*(RES!$I$6:$I$3006=$C62)*(RES!$J$6:$J$3006=$D62)),\"\"),\"\")","v":1}]
[null,null,{"$f":"CAD_Q!C61","v":56},{"$f":"IFERROR(IF(VLOOKUP(C63,CAD_Q!$C$6:$D$105,2,FALSE)=0,\"\",VLOOKUP(C63,CAD_Q!$C$6:$D$105,2,FALSE)),\"\")","v":"Estándar"},null,{"$f":"IFERROR(IF(AND($C63<>\"\",$D63<>\"\"),1-SUMPRODUCT((RES!$D$6:$D$3006<=F$7)*(RES!$E$6:$E$3006>=F$7+1)*(RES!$I$6:$I$3006=$C63)*(RES!$J$6:$J$3006=$D63)),\"\"),\"\")","v":1},{"$f":"IFERROR(IF(AND($C63<>\"\",$D63<>\"\"),1-SUMPRODUCT((RES!$D$6:$D$3006<=G$7)*(RES!$E$6:$E$3006>=G$7+1)*(RES!$I$6:$I$3006=$C63)*(RES!$J$6:$J$3006=$D63)),\"\"),\"\")","v":1},{"$f":"IFERROR(IF(AND($C63<>\"\",$D63<>\"\"),1-SUMPRODUCT((RES!$D$6:$D$3006<=H$7)*(RES!$E$6:$E$3006>=H$7+1)*(RES!$I$6:$I$3006=$C63)*(RES!$J$6:$J$3006=$D63)),\"\"),\"\")","v":1},{"$f":"IFERROR(IF(AND($C63<>\"\",$D63<>\"\"),1-SUMPRODUCT((RES!$D$6:$D$3006<=I$7)*(RES!$E$6:$E$3006>=I$7+1)*(RES!$I$6:$I$3006=$C63)*(RES!$J$6:$J$3006=$D63)),\"\"),\"\")","v":1},{"$f":"IFERROR(IF(AND($C63<>\"\",$D63<>\"\"),1-SUMPRODUCT((RES!$D$6:$D$3006<=J$7)*(RES!$E$6:$E$3006>=J$7+1)*(RES!$I$6:$I$3006=$C63)*(RES!$J$6:$J$3006=$D63)),\"\"),\"\")","v":1},{"$f":"IFERROR(IF(AND($C63<>\"\",$D63<>\"\"),1-SUMPRODUCT((RES!$D$6:$D$3006<=K$7)*(RES!$E$6:$E$3006>=K$7+1)*(RES!$I$6:$I$3006=$C63)*(RES!$J$6:$J$3006=$D63)),\"\"),\"\")","v":1},{"$f":"IFERROR(IF(AND($C63<>\"\",$D63<>\"\"),1-SUMPRODUCT((RES!$D$6:$D$3006<=L$7)*(RES!$E$6:$E$3006>=L$7+1)*(RES!$I$6:$I$3006=$C63)*(RES!$J$6:$J$3006=$D63)),\"\"),\"\")","v":1},{"$f":"IFERROR(IF(AND($C63<>\"\",$D63<>\"\"),1-SUMPRODUCT((RES!$D$6:$D$3006<=M$7)*(RES!$E$6:$E$3006>=M$7+1)*(RES!$I$6:$I$3006=$C63)*(RES!$J$6:$J$3006=$D63)),\"\"),\"\")","v":1},{"$f":"IFERROR(IF(AND($C63<>\"\",$D63<>\"\"),1-SUMPRODUCT((RES!$D$6:$D$3006<=N$7)*(RES!$E$6:$E$3006>=N$7+1)*(RES!$I$6:$I$3006=$C63)*(RES!$J$6:$J$3006=$D63)),\"\"),\"\")","v":1},{"$f":"IFERROR(IF(AND($C63<>\"\",$D63<>\"\"),1-SUMPRODUCT((RES!$D$6:$D$3006<=O$7)*(RES!$E$6:$E$3006>=O$7+1)*(RES!$I$6:$I$3006=$C63)*(RES!$J$6:$J$3006=$D63)),\"\"),\"\")","v":1},{"$f":"IFERROR(IF(AND($C63<>\"\",$D63<>\"\"),1-SUMPRODUCT((RES!$D$6:$D$3006<=P$7)*(RES!$E$6:$E$3006>=P$7+1)*(RES!$I$6:$I$3006=$C63)*(RES!$J$6:$J$3006=$D63)),\"\"),\"\")","v":1},{"$f":"IFERROR(IF(AND($C63<>\"\",$D63<>\"\"),1-SUMPRODUCT((RES!$D$6:$D$3006<=Q$7)*(RES!$E$6:$E$3006>=Q$7+1)*(RES!$I$6:$I$3006=$C63)*(RES!$J$6:$J$3006=$D63)),\"\"),\"\")","v":1},{"$f":"IFERROR(IF(AND($C63<>\"\",$D63<>\"\"),1-SUMPRODUCT((RES!$D$6:$D$3006<=R$7)*(RES!$E$6:$E$3006>=R$7+1)*(RES!$I$6:$I$3006=$C63)*(RES!$J$6:$J$3006=$D63)),\"\"),\"\")","v":1},{"$f":"IFERROR(IF(AND($C63<>\"\",$D63<>\"\"),1-SUMPRODUCT((RES!$D$6:$D$3006<=S$7)*(RES!$E$6:$E$3006>=S$7+1)*(RES!$I$6:$I$3006=$C63)*(RES!$J$6:$J$3006=$D63)),\"\"),\"\")","v":1},{"$f":"IFERROR(IF(AND($C63<>\"\",$D63<>\"\"),1-SUMPRODUCT((RES!$D$6:$D$3006<=T$7)*(RES!$E$6:$E$3006>=T$7+1)*(RES!$I$6:$I$3006=$C63)*(RES!$J$6:$J$3006=$D63)),\"\"),\"\")","v":1}]
[null,null,{"$f":"CAD_Q!C62","v":57},{"$f":"IFERROR(IF(VLOOKUP(C64,CAD_Q!$C$6:$D$105,2,FALSE)=0,\"\",VLOOKUP(C64,CAD_Q!$C$6:$D$105,2,FALSE)),\"\")","v":"Estándar"},null,{"$f":"IFERROR(IF(AND($C64<>\"\",$D64<>\"\"),1-SUMPRODUCT((RES!$D$6:$D$3006<=F$7)*(RES!$E$6:$E$3006>=F$7+1)*(RES!$I$6:$I$3006=$C64)*(RES!$J$6:$J$3006=$D64)),\"\"),\"\")","v":1},{"$f":"IFERROR(IF(AND($C64<>\"\",$D64<>\"\"),1-SUMPRODUCT((RES!$D$6:$D$3006<=G$7)*(RES!$E$6:$E$3006>=G$7+1)*(RES!$I$6:$I$3006=$C64)*(RES!$J$6:$J$3006=$D64)),\"\"),\"\")","v":1},{"$f":"IFERROR(IF(AND($C64<>\"\",$D64<>\"\"),1-SUMPRODUCT((RES!$D$6:$D$3006<=H$7)*(RES!$E$6:$E$3006>=H$7+1)*(RES!$I$6:$I$3006=$C64)*(RES!$J$6:$J$3006=$D64)),\"\"),\"\")","v":1},{"$f":"IFERROR(IF(AND($C64<>\"\",$D64<>\"\"),1-SUMPRODUCT((RES!$D$6:$D$3006<=I$7)*(RES!$E$6:$E$3006>=I$7+1)*(RES!$I$6:$I$3006=$C64)*(RES!$J$6:$J$3006=$D64)),\"\"),\"\")","v":1},{"$f":"IFERROR(IF(AND($C64<>\"\",$D64<>\"\"),1-SUMPRODUCT((RES!$D$6:$D$3006<=J$7)*(RES!$E$6:$E$3006>=J$7+1)*(RES!$I$6:$I$3006=$C64)*(RES!$J$6:$J$3006=$D64)),\"\"),\"\")","v":1},{"$f":"IFERROR(IF(AND($C64<>\"\",$D64<>\"\"),1-SUMPRODUCT((RES!$D$6:$D$3006<=K$7)*(RES!$E$6:$E$3006>=K$7+1)*(RES!$I$6:$I$3006=$C64)*(RES!$J$6:$J$3006=$D64)),\"\"),\"\")","v":1},{"$f":"IFERROR(IF(AND($C64<>\"\",$D64<>\"\"),1-SUMPRODUCT((RES!$D$6:$D$3006<=L$7)*(RES!$E$6:$E$3006>=L$7+1)*(RES!$I$6:$I$3006=$C64)*(RES!$J$6:$J$3006=$D64)),\"\"),\"\")","v":1},{"$f":"IFERROR(IF(AND($C64<>\"\",$D64<>\"\"),1-SUMPRODUCT((RES!$D$6:$D$3006<=M$7)*(RES!$E$6:$E$3006>=M$7+1)*(RES!$I$6:$I$3006=$C64)*(RES!$J$6:$J$3006=$D64)),\"\"),\"\")","v":1},{"$f":"IFERROR(IF(AND($C64<>\"\",$D64<>\"\"),1-SUMPRODUCT((RES!$D$6:$D$3006<=N$7)*(RES!$E$6:$E$3006>=N$7+1)*(RES!$I$6:$I$3006=$C64)*(RES!$J$6:$J$3006=$D64)),\"\"),\"\")","v":1},{"$f":"IFERROR(IF(AND($C64<>\"\",$D64<>\"\"),1-SUMPRODUCT((RES!$D$6:$D$3006<=O$7)*(RES!$E$6:$E$3006>=O$7+1)*(RES!$I$6:$I$3006=$C64)*(RES!$J$6:$J$3006=$D64)),\"\"),\"\")","v":1},{"$f":"IFERROR(IF(AND($C64<>\"\",$D64<>\"\"),1-SUMPRODUCT((RES!$D$6:$D$3006<=P$7)*(RES!$E$6:$E$3006>=P$7+1)*(RES!$I$6:$I$3006=$C64)*(RES!$J$6:$J$3006=$D64)),\"\"),\"\")","v":1},{"$f":"IFERROR(IF(AND($C64<>\"\",$D64<>\"\"),1-SUMPRODUCT((RES!$D$6:$D$3006<=Q$7)*(RES!$E$6:$E$3006>=Q$7+1)*(RES!$I$6:$I$3006=$C64)*(RES!$J$6:$J$3006=$D64)),\"\"),\"\")","v":1},{"$f":"IFERROR(IF(AND($C64<>\"\",$D64<>\"\"),1-SUMPRODUCT((RES!$D$6:$D$3006<=R$7)*(RES!$E$6:$E$3006>=R$7+1)*(RES!$I$6:$I$3006=$C64)*(RES!$J$6:$J$3006=$D64)),\"\"),\"\")","v":1},{"$f":"IFERROR(IF(AND($C64<>\"\",$D64<>\"\"),1-SUMPRODUCT((RES!$D$6:$D$3006<=S$7)*(RES!$E$6:$E$3006>=S$7+1)*(RES!$I$6:$I$3006=$C64)*(RES!$J$6:$J$3006=$D64)),\"\"),\"\")","v":1},{"$f":"IFERROR(IF(AND($C64<>\"\",$D64<>\"\"),1-SUMPRODUCT((RES!$D$6:$D$3006<=T$7)*(RES!$E$6:$E$3006>=T$7+1)*(RES!$I$6:$I$3006=$C64)*(RES!$J$6:$J$3006=$D64)),\"\"),\"\")","v":1}]
[null,null,{"$f":"CAD_Q!C63","v":58},{"$f":"IFERROR(IF(VLOOKUP(C65,CAD_Q!$C$6:$D$105,2,FALSE)=0,\"\",VLOOKUP(C65,CAD_Q!$C$6:$D$105,2,FALSE)),\"\")","v":"Estándar"},null,{"$f":"IFERROR(IF(AND($C65<>\"\",$D65<>\"\"),1-SUMPRODUCT((RES!$D$6:$D$3006<=F$7)*(RES!$E$6:$E$3006>=F$7+1)*(RES!$I$6:$I$3006=$C65)*(RES!$J$6:$J$3006=$D65)),\"\"),\"\")","v":1},{"$f":"IFERROR(IF(AND($C65<>\"\",$D65<>\"\"),1-SUMPRODUCT((RES!$D$6:$D$3006<=G$7)*(RES!$E$6:$E$3006>=G$7+1)*(RES!$I$6:$I$3006=$C65)*(RES!$J$6:$J$3006=$D65)),\"\"),\"\")","v":1},{"$f":"IFERROR(IF(AND($C65<>\"\",$D65<>\"\"),1-SUMPRODUCT((RES!$D$6:$D$3006<=H$7)*(RES!$E$6:$E$3006>=H$7+1)*(RES!$I$6:$I$3006=$C65)*(RES!$J$6:$J$3006=$D65)),\"\"),\"\")","v":1},{"$f":"IFERROR(IF(AND($C65<>\"\",$D65<>\"\"),1-SUMPRODUCT((RES!$D$6:$D$3006<=I$7)*(RES!$E$6:$E$3006>=I$7+1)*(RES!$I$6:$I$3006=$C65)*(RES!$J$6:$J$3006=$D65)),\"\"),\"\")","v":1},{"$f":"IFERROR(IF(AND($C65<>\"\",$D65<>\"\"),1-SUMPRODUCT((RES!$D$6:$D$3006<=J$7)*(RES!$E$6:$E$3006>=J$7+1)*(RES!$I$6:$I$3006=$C65)*(RES!$J$6:$J$3006=$D65)),\"\"),\"\")","v":1},{"$f":"IFERROR(IF(AND($C65<>\"\",$D65<>\"\"),1-SUMPRODUCT((RES!$D$6:$D$3006<=K$7)*(RES!$E$6:$E$3006>=K$7+1)*(RES!$I$6:$I$3006=$C65)*(RES!$J$6:$J$3006=$D65)),\"\"),\"\")","v":1},{"$f":"IFERROR(IF(AND($C65<>\"\",$D65<>\"\"),1-SUMPRODUCT((RES!$D$6:$D$3006<=L$7)*(RES!$E$6:$E$3006>=L$7+1)*(RES!$I$6:$I$3006=$C65)*(RES!$J$6:$J$3006=$D65)),\"\"),\"\")","v":1},{"$f":"IFERROR(IF(AND($C65<>\"\",$D65<>\"\"),1-SUMPRODUCT((RES!$D$6:$D$3006<=M$7)*(RES!$E$6:$E$3006>=M$7+1)*(RES!$I$6:$I$3006=$C65)*(RES!$J$6:$J$3006=$D65)),\"\"),\"\")","v":1},{"$f":"IFERROR(IF(AND($C65<>\"\",$D65<>\"\"),1-SUMPRODUCT((RES!$D$6:$D$3006<=N$7)*(RES!$E$6:$E$3006>=N$7+1)*(RES!$I$6:$I$3006=$C65)*(RES!$J$6:$J$3006=$D65)),\"\"),\"\")","v":1},{"$f":"IFERROR(IF(AND($C65<>\"\",$D65<>\"\"),1-SUMPRODUCT((RES!$D$6:$D$3006<=O$7)*(RES!$E$6:$E$3006>=O$7+1)*(RES!$I$6:$I$3006=$C65)*(RES!$J$6:$J$3006=$D65)),\"\"),\"\")","v":1},{"$f":"IFERROR(IF(AND($C65<>\"\",$D65<>\"\"),1-SUMPRODUCT((RES!$D$6:$D$3006<=P$7)*(RES!$E$6:$E$3006>=P$7+1)*(RES!$I$6:$I$3006=$C65)*(RES!$J$6:$J$3006=$D65)),\"\"),\"\")","v":1},{"$f":"IFERROR(IF(AND($C65<>\"\",$D65<>\"\"),1-SUMPRODUCT((RES!$D$6:$D$3006<=Q$7)*(RES!$E$6:$E$3006>=Q$7+1)*(RES!$I$6:$I$3006=$C65)*(RES!$J$6:$J$3006=$D65)),\"\"),\"\")","v":1},{"$f":"IFERROR(IF(AND($C65<>\"\",$D65<>\"\"),1-SUMPRODUCT((RES!$D$6:$D$3006<=R$7)*(RES!$E$6:$E$3006>=R$7+1)*(RES!$I$6:$I$3006=$C65)*(RES!$J$6:$J$3006=$D65)),\"\"),\"\")","v":1},{"$f":"IFERROR(IF(AND($C65<>\"\",$D65<>\"\"),1-SUMPRODUCT((RES!$D$6:$D$3006<=S$7)*(RES!$E$6:$E$3006>=S$7+1)*(RES!$I$6:$I$3006=$C65)*(RES!$J$6:$J$3006=$D65)),\"\"),\"\")","v":1},{"$f":"IFERROR(IF(AND($C65<>\"\",$D65<>\"\"),1-SUMPRODUCT((RES!$D$6:$D$3006<=T$7)*(RES!$E$6:$E$3006>=T$7+1)*(RES!$I$6:$I$3006=$C65)*(RES!$J$6:$J$3006=$D65)),\"\"),\"\")","v":1}]
[null,null,{"$f":"CAD_Q!C64","v":59},{"$f":"IFERROR(IF(VLOOKUP(C66,CAD_Q!$C$6:$D$105,2,FALSE)=0,\"\",VLOOKUP(C66,CAD_Q!$C$6:$D$105,2,FALSE)),\"\")","v":"Estándar"},null,{"$f":"IFERROR(IF(AND($C66<>\"\",$D66<>\"\"),1-SUMPRODUCT((RES!$D$6:$D$3006<=F$7)*(RES!$E$6:$E$3006>=F$7+1)*(RES!$I$6:$I$3006=$C66)*(RES!$J$6:$J$3006=$D66)),\"\"),\"\")","v":1},{"$f":"IFERROR(IF(AND($C66<>\"\",$D66<>\"\"),1-SUMPRODUCT((RES!$D$6:$D$3006<=G$7)*(RES!$E$6:$E$3006>=G$7+1)*(RES!$I$6:$I$3006=$C66)*(RES!$J$6:$J$3006=$D66)),\"\"),\"\")","v":1},{"$f":"IFERROR(IF(AND($C66<>\"\",$D66<>\"\"),1-SUMPRODUCT((RES!$D$6:$D$3006<=H$7)*(RES!$E$6:$E$3006>=H$7+1)*(RES!$I$6:$I$3006=$C66)*(RES!$J$6:$J$3006=$D66)),\"\"),\"\")","v":1},{"$f":"IFERROR(IF(AND($C66<>\"\",$D66<>\"\"),1-SUMPRODUCT((RES!$D$6:$D$3006<=I$7)*(RES!$E$6:$E$3006>=I$7+1)*(RES!$I$6:$I$3006=$C66)*(RES!$J$6:$J$3006=$D66)),\"\"),\"\")","v":1},{"$f":"IFERROR(IF(AND($C66<>\"\",$D66<>\"\"),1-SUMPRODUCT((RES!$D$6:$D$3006<=J$7)*(RES!$E$6:$E$3006>=J$7+1)*(RES!$I$6:$I$3006=$C66)*(RES!$J$6:$J$3006=$D66)),\"\"),\"\")","v":1},{"$f":"IFERROR(IF(AND($C66<>\"\",$D66<>\"\"),1-SUMPRODUCT((RES!$D$6:$D$3006<=K$7)*(RES!$E$6:$E$3006>=K$7+1)*(RES!$I$6:$I$3006=$C66)*(RES!$J$6:$J$3006=$D66)),\"\"),\"\")","v":1},{"$f":"IFERROR(IF(AND($C66<>\"\",$D66<>\"\"),1-SUMPRODUCT((RES!$D$6:$D$3006<=L$7)*(RES!$E$6:$E$3006>=L$7+1)*(RES!$I$6:$I$3006=$C66)*(RES!$J$6:$J$3006=$D66)),\"\"),\"\")","v":1},{"$f":"IFERROR(IF(AND($C66<>\"\",$D66<>\"\"),1-SUMPRODUCT((RES!$D$6:$D$3006<=M$7)*(RES!$E$6:$E$3006>=M$7+1)*(RES!$I$6:$I$3006=$C66)*(RES!$J$6:$J$3006=$D66)),\"\"),\"\")","v":1},{"$f":"IFERROR(IF(AND($C66<>\"\",$D66<>\"\"),1-SUMPRODUCT((RES!$D$6:$D$3006<=N$7)*(RES!$E$6:$E$3006>=N$7+1)*(RES!$I$6:$I$3006=$C66)*(RES!$J$6:$J$3006=$D66)),\"\"),\"\")","v":1},{"$f":"IFERROR(IF(AND($C66<>\"\",$D66<>\"\"),1-SUMPRODUCT((RES!$D$6:$D$3006<=O$7)*(RES!$E$6:$E$3006>=O$7+1)*(RES!$I$6:$I$3006=$C66)*(RES!$J$6:$J$3006=$D66)),\"\"),\"\")","v":1},{"$f":"IFERROR(IF(AND($C66<>\"\",$D66<>\"\"),1-SUMPRODUCT((RES!$D$6:$D$3006<=P$7)*(RES!$E$6:$E$3006>=P$7+1)*(RES!$I$6:$I$3006=$C66)*(RES!$J$6:$J$3006=$D66)),\"\"),\"\")","v":1},{"$f":"IFERROR(IF(AND($C66<>\"\",$D66<>\"\"),1-SUMPRODUCT((RES!$D$6:$D$3006<=Q$7)*(RES!$E$6:$E$3006>=Q$7+1)*(RES!$I$6:$I$3006=$C66)*(RES!$J$6:$J$3006=$D66)),\"\"),\"\")","v":1},{"$f":"IFERROR(IF(AND($C66<>\"\",$D66<>\"\"),1-SUMPRODUCT((RES!$D$6:$D$3006<=R$7)*(RES!$E$6:$E$3006>=R$7+1)*(RES!$I$6:$I$3006=$C66)*(RES!$J$6:$J$3006=$D66)),\"\"),\"\")","v":1},{"$f":"IFERROR(IF(AND($C66<>\"\",$D66<>\"\"),1-SUMPRODUCT((RES!$D$6:$D$3006<=S$7)*(RES!$E$6:$E$3006>=S$7+1)*(RES!$I$6:$I$3006=$C66)*(RES!$J$6:$J$3006=$D66)),\"\"),\"\")","v":1},{"$f":"IFERROR(IF(AND($C66<>\"\",$D66<>\"\"),1-SUMPRODUCT((RES!$D$6:$D$3006<=T$7)*(RES!$E$6:$E$3006>=T$7+1)*(RES!$I$6:$I$3006=$C66)*(RES!$J$6:$J$3006=$D66)),\"\"),\"\")","v":1}]
[null,null,{"$f":"CAD_Q!C65","v":60},{"$f":"IFERROR(IF(VLOOKUP(C67,CAD_Q!$C$6:$D$105,2,FALSE)=0,\"\",VLOOKUP(C67,CAD_Q!$C$6:$D$105,2,FALSE)),\"\")","v":"Estándar"},null,{"$f":"IFERROR(IF(AND($C67<>\"\",$D67<>\"\"),1-SUMPRODUCT((RES!$D$6:$D$3006<=F$7)*(RES!$E$6:$E$3006>=F$7+1)*(RES!$I$6:$I$3006=$C67)*(RES!$J$6:$J$3006=$D67)),\"\"),\"\")","v":1},{"$f":"IFERROR(IF(AND($C67<>\"\",$D67<>\"\"),1-SUMPRODUCT((RES!$D$6:$D$3006<=G$7)*(RES!$E$6:$E$3006>=G$7+1)*(RES!$I$6:$I$3006=$C67)*(RES!$J$6:$J$3006=$D67)),\"\"),\"\")","v":1},{"$f":"IFERROR(IF(AND($C67<>\"\",$D67<>\"\"),1-SUMPRODUCT((RES!$D$6:$D$3006<=H$7)*(RES!$E$6:$E$3006>=H$7+1)*(RES!$I$6:$I$3006=$C67)*(RES!$J$6:$J$3006=$D67)),\"\"),\"\")","v":1},{"$f":"IFERROR(IF(AND($C67<>\"\",$D67<>\"\"),1-SUMPRODUCT((RES!$D$6:$D$3006<=I$7)*(RES!$E$6:$E$3006>=I$7+1)*(RES!$I$6:$I$3006=$C67)*(RES!$J$6:$J$3006=$D67)),\"\"),\"\")","v":1},{"$f":"IFERROR(IF(AND($C67<>\"\",$D67<>\"\"),1-SUMPRODUCT((RES!$D$6:$D$3006<=J$7)*(RES!$E$6:$E$3006>=J$7+1)*(RES!$I$6:$I$3006=$C67)*(RES!$J$6:$J$3006=$D67)),\"\"),\"\")","v":1},{"$f":"IFERROR(IF(AND($C67<>\"\",$D67<>\"\"),1-SUMPRODUCT((RES!$D$6:$D$3006<=K$7)*(RES!$E$6:$E$3006>=K$7+1)*(RES!$I$6:$I$3006=$C67)*(RES!$J$6:$J$3006=$D67)),\"\"),\"\")","v":1},{"$f":"IFERROR(IF(AND($C67<>\"\",$D67<>\"\"),1-SUMPRODUCT((RES!$D$6:$D$3006<=L$7)*(RES!$E$6:$E$3006>=L$7+1)*(RES!$I$6:$I$3006=$C67)*(RES!$J$6:$J$3006=$D67)),\"\"),\"\")","v":1},{"$f":"IFERROR(IF(AND($C67<>\"\",$D67<>\"\"),1-SUMPRODUCT((RES!$D$6:$D$3006<=M$7)*(RES!$E$6:$E$3006>=M$7+1)*(RES!$I$6:$I$3006=$C67)*(RES!$J$6:$J$3006=$D67)),\"\"),\"\")","v":1},{"$f":"IFERROR(IF(AND($C67<>\"\",$D67<>\"\"),1-SUMPRODUCT((RES!$D$6:$D$3006<=N$7)*(RES!$E$6:$E$3006>=N$7+1)*(RES!$I$6:$I$3006=$C67)*(RES!$J$6:$J$3006=$D67)),\"\"),\"\")","v":1},{"$f":"IFERROR(IF(AND($C67<>\"\",$D67<>\"\"),1-SUMPRODUCT((RES!$D$6:$D$3006<=O$7)*(RES!$E$6:$E$3006>=O$7+1)*(RES!$I$6:$I$3006=$C67)*(RES!$J$6:$J$3006=$D67)),\"\"),\"\")","v":1},{"$f":"IFERROR(IF(AND($C67<>\"\",$D67<>\"\"),1-SUMPRODUCT((RES!$D$6:$D$3006<=P$7)*(RES!$E$6:$E$3006>=P$7+1)*(RES!$I$6:$I$3006=$C67)*(RES!$J$6:$J$3006=$D67)),\"\"),\"\")","v":1},{"$f":"IFERROR(IF(AND($C67<>\"\",$D67<>\"\"),1-SUMPRODUCT((RES!$D$6:$D$3006<=Q$7)*(RES!$E$6:$E$3006>=Q$7+1)*(RES!$I$6:$I$3006=$C67)*(RES!$J$6:$J$3006=$D67)),\"\"),\"\")","v":1},{"$f":"IFERROR(IF(AND($C67<>\"\",$D67<>\"\"),1-SUMPRODUCT((RES!$D$6:$D$3006<=R$7)*(RES!$E$6:$E$3006>=R$7+1)*(RES!$I$6:$I$3006=$C67)*(RES!$J$6:$J$3006=$D67)),\"\"),\"\")","v":1},{"$f":"IFERROR(IF(AND($C67<>\"\",$D67<>\"\"),1-SUMPRODUCT((RES!$D$6:$D$3006<=S$7)*(RES!$E$6:$E$3006>=S$7+1)*(RES!$I$6:$I$3006=$C67)*(RES!$J$6:$J$3006=$D67)),\"\"),\"\")","v":1},{"$f":"IFERROR(IF(AND($C67<>\"\",$D67<>\"\"),1-SUMPRODUCT((RES!$D$6:$D$3006<=T$7)*(RES!$E$6:$E$3006>=T$7+1)*(RES!$I$6:$I$3006=$C67)*(RES!$J$6:$J$3006=$D67)),\"\"),\"\")","v":1}]
[null,null,{"$f":"CAD_Q!C66","v":61},{"$f":"IFERROR(IF(VLOOKUP(C68,CAD_Q!$C$6:$D$105,2,FALSE)=0,\"\",VLOOKUP(C68,CAD_Q!$C$6:$D$105,2,FALSE)),\"\")","v":"Estándar"},null,{"$f":"IFERROR(IF(AND($C68<>\"\",$D68<>\"\"),1-SUMPRODUCT((RES!$D$6:$D$3006<=F$7)*(RES!$E$6:$E$3006>=F$7+1)*(RES!$I$6:$I$3006=$C68)*(RES!$J$6:$J$3006=$D68)),\"\"),\"\")","v":1},{"$f":"IFERROR(IF(AND($C68<>\"\",$D68<>\"\"),1-SUMPRODUCT((RES!$D$6:$D$3006<=G$7)*(RES!$E$6:$E$3006>=G$7+1)*(RES!$I$6:$I$3006=$C68)*(RES!$J$6:$J$3006=$D68)),\"\"),\"\")","v":1},{"$f":"IFERROR(IF(AND($C68<>\"\",$D68<>\"\"),1-SUMPRODUCT((RES!$D$6:$D$3006<=H$7)*(RES!$E$6:$E$3006>=H$7+1)*(RES!$I$6:$I$3006=$C68)*(RES!$J$6:$J$3006=$D68)),\"\"),\"\")","v":1},{"$f":"IFERROR(IF(AND($C68<>\"\",$D68<>\"\"),1-SUMPRODUCT((RES!$D$6:$D$3006<=I$7)*(RES!$E$6:$E$3006>=I$7+1)*(RES!$I$6:$I$3006=$C68)*(RES!$J$6:$J$3006=$D68)),\"\"),\"\")","v":1},{"$f":"IFERROR(IF(AND($C68<>\"\",$D68<>\"\"),1-SUMPRODUCT((RES!$D$6:$D$3006<=J$7)*(RES!$E$6:$E$3006>=J$7+1)*(RES!$I$6:$I$3006=$C68)*(RES!$J$6:$J$3006=$D68)),\"\"),\"\")","v":1},{"$f":"IFERROR(IF(AND($C68<>\"\",$D68<>\"\"),1-SUMPRODUCT((RES!$D$6:$D$3006<=K$7)*(RES!$E$6:$E$3006>=K$7+1)*(RES!$I$6:$I$3006=$C68)*(RES!$J$6:$J$3006=$D68)),\"\"),\"\")","v":1},{"$f":"IFERROR(IF(AND($C68<>\"\",$D68<>\"\"),1-SUMPRODUCT((RES!$D$6:$D$3006<=L$7)*(RES!$E$6:$E$3006>=L$7+1)*(RES!$I$6:$I$3006=$C68)*(RES!$J$6:$J$3006=$D68)),\"\"),\"\")","v":1},{"$f":"IFERROR(IF(AND($C68<>\"\",$D68<>\"\"),1-SUMPRODUCT((RES!$D$6:$D$3006<=M$7)*(RES!$E$6:$E$3006>=M$7+1)*(RES!$I$6:$I$3006=$C68)*(RES!$J$6:$J$3006=$D68)),\"\"),\"\")","v":1},{"$f":"IFERROR(IF(AND($C68<>\"\",$D68<>\"\"),1-SUMPRODUCT((RES!$D$6:$D$3006<=N$7)*(RES!$E$6:$E$3006>=N$7+1)*(RES!$I$6:$I$3006=$C68)*(RES!$J$6:$J$3006=$D68)),\"\"),\"\")","v":1},{"$f":"IFERROR(IF(AND($C68<>\"\",$D68<>\"\"),1-SUMPRODUCT((RES!$D$6:$D$3006<=O$7)*(RES!$E$6:$E$3006>=O$7+1)*(RES!$I$6:$I$3006=$C68)*(RES!$J$6:$J$3006=$D68)),\"\"),\"\")","v":1},{"$f":"IFERROR(IF(AND($C68<>\"\",$D68<>\"\"),1-SUMPRODUCT((RES!$D$6:$D$3006<=P$7)*(RES!$E$6:$E$3006>=P$7+1)*(RES!$I$6:$I$3006=$C68)*(RES!$J$6:$J$3006=$D68)),\"\"),\"\")","v":1},{"$f":"IFERROR(IF(AND($C68<>\"\",$D68<>\"\"),1-SUMPRODUCT((RES!$D$6:$D$3006<=Q$7)*(RES!$E$6:$E$3006>=Q$7+1)*(RES!$I$6:$I$3006=$C68)*(RES!$J$6:$J$3006=$D68)),\"\"),\"\")","v":1},{"$f":"IFERROR(IF(AND($C68<>\"\",$D68<>\"\"),1-SUMPRODUCT((RES!$D$6:$D$3006<=R$7)*(RES!$E$6:$E$3006>=R$7+1)*(RES!$I$6:$I$3006=$C68)*(RES!$J$6:$J$3006=$D68)),\"\"),\"\")","v":1},{"$f":"IFERROR(IF(AND($C68<>\"\",$D68<>\"\"),1-SUMPRODUCT((RES!$D$6:$D$3006<=S$7)*(RES!$E$6:$E$3006>=S$7+1)*(RES!$I$6:$I$3006=$C68)*(RES!$J$6:$J$3006=$D68)),\"\"),\"\")","v":1},{"$f":"IFERROR(IF(AND($C68<>\"\",$D68<>\"\"),1-SUMPRODUCT((RES!$D$6:$D$3006<=T$7)*(RES!$E$6:$E$3006>=T$7+1)*(RES!$I$6:$I$3006=$C68)*(RES!$J$6:$J$3006=$D68)),\"\"),\"\")","v":1}]
[null,null,{"$f":"CAD_Q!C67","v":62},{"$f":"IFERROR(IF(VLOOKUP(C69,CAD_Q!$C$6:$D$105,2,FALSE)=0,\"\",VLOOKUP(C69,CAD_Q!$C$6:$D$105,2,FALSE)),\"\")","v":"Estándar"},null,{"$f":"IFERROR(IF(AND($C69<>\"\",$D69<>\"\"),1-SUMPRODUCT((RES!$D$6:$D$3006<=F$7)*(RES!$E$6:$E$3006>=F$7+1)*(RES!$I$6:$I$3006=$C69)*(RES!$J$6:$J$3006=$D69)),\"\"),\"\")","v":1},{"$f":"IFERROR(IF(AND($C69<>\"\",$D69<>\"\"),1-SUMPRODUCT((RES!$D$6:$D$3006<=G$7)*(RES!$E$6:$E$3006>=G$7+1)*(RES!$I$6:$I$3006=$C69)*(RES!$J$6:$J$3006=$D69)),\"\"),\"\")","v":1},{"$f":"IFERROR(IF(AND($C69<>\"\",$D69<>\"\"),1-SUMPRODUCT((RES!$D$6:$D$3006<=H$7)*(RES!$E$6:$E$3006>=H$7+1)*(RES!$I$6:$I$3006=$C69)*(RES!$J$6:$J$3006=$D69)),\"\"),\"\")","v":1},{"$f":"IFERROR(IF(AND($C69<>\"\",$D69<>\"\"),1-SUMPRODUCT((RES!$D$6:$D$3006<=I$7)*(RES!$E$6:$E$3006>=I$7+1)*(RES!$I$6:$I$3006=$C69)*(RES!$J$6:$J$3006=$D69)),\"\"),\"\")","v":1},{"$f":"IFERROR(IF(AND($C69<>\"\",$D69<>\"\"),1-SUMPRODUCT((RES!$D$6:$D$3006<=J$7)*(RES!$E$6:$E$3006>=J$7+1)*(RES!$I$6:$I$3006=$C69)*(RES!$J$6:$J$3006=$D69)),\"\"),\"\")","v":1},{"$f":"IFERROR(IF(AND($C69<>\"\",$D69<>\"\"),1-SUMPRODUCT((RES!$D$6:$D$3006<=K$7)*(RES!$E$6:$E$3006>=K$7+1)*(RES!$I$6:$I$3006=$C69)*(RES!$J$6:$J$3006=$D69)),\"\"),\"\")","v":1},{"$f":"IFERROR(IF(AND($C69<>\"\",$D69<>\"\"),1-SUMPRODUCT((RES!$D$6:$D$3006<=L$7)*(RES!$E$6:$E$3006>=L$7+1)*(RES!$I$6:$I$3006=$C69)*(RES!$J$6:$J$3006=$D69)),\"\"),\"\")","v":1},{"$f":"IFERROR(IF(AND($C69<>\"\",$D69<>\"\"),1-SUMPRODUCT((RES!$D$6:$D$3006<=M$7)*(RES!$E$6:$E$3006>=M$7+1)*(RES!$I$6:$I$3006=$C69)*(RES!$J$6:$J$3006=$D69)),\"\"),\"\")","v":1},{"$f":"IFERROR(IF(AND($C69<>\"\",$D69<>\"\"),1-SUMPRODUCT((RES!$D$6:$D$3006<=N$7)*(RES!$E$6:$E$3006>=N$7+1)*(RES!$I$6:$I$3006=$C69)*(RES!$J$6:$J$3006=$D69)),\"\"),\"\")","v":1},{"$f":"IFERROR(IF(AND($C69<>\"\",$D69<>\"\"),1-SUMPRODUCT((RES!$D$6:$D$3006<=O$7)*(RES!$E$6:$E$3006>=O$7+1)*(RES!$I$6:$I$3006=$C69)*(RES!$J$6:$J$3006=$D69)),\"\"),\"\")","v":1},{"$f":"IFERROR(IF(AND($C69<>\"\",$D69<>\"\"),1-SUMPRODUCT((RES!$D$6:$D$3006<=P$7)*(RES!$E$6:$E$3006>=P$7+1)*(RES!$I$6:$I$3006=$C69)*(RES!$J$6:$J$3006=$D69)),\"\"),\"\")","v":1},{"$f":"IFERROR(IF(AND($C69<>\"\",$D69<>\"\"),1-SUMPRODUCT((RES!$D$6:$D$3006<=Q$7)*(RES!$E$6:$E$3006>=Q$7+1)*(RES!$I$6:$I$3006=$C69)*(RES!$J$6:$J$3006=$D69)),\"\"),\"\")","v":1},{"$f":"IFERROR(IF(AND($C69<>\"\",$D69<>\"\"),1-SUMPRODUCT((RES!$D$6:$D$3006<=R$7)*(RES!$E$6:$E$3006>=R$7+1)*(RES!$I$6:$I$3006=$C69)*(RES!$J$6:$J$3006=$D69)),\"\"),\"\")","v":1},{"$f":"IFERROR(IF(AND($C69<>\"\",$D69<>\"\"),1-SUMPRODUCT((RES!$D$6:$D$3006<=S$7)*(RES!$E$6:$E$3006>=S$7+1)*(RES!$I$6:$I$3006=$C69)*(RES!$J$6:$J$3006=$D69)),\"\"),\"\")","v":1},{"$f":"IFERROR(IF(AND($C69<>\"\",$D69<>\"\"),1-SUMPRODUCT((RES!$D$6:$D$3006<=T$7)*(RES!$E$6:$E$3006>=T$7+1)*(RES!$I$6:$I$3006=$C69)*(RES!$J$6:$J$3006=$D69)),\"\"),\"\")","v":1}]
[null,null,{"$f":"CAD_Q!C68","v":63},{"$f":"IFERROR(IF(VLOOKUP(C70,CAD_Q!$C$6:$D$105,2,FALSE)=0,\"\",VLOOKUP(C70,CAD_Q!$C$6:$D$105,2,FALSE)),\"\")","v":"Estándar"},null,{"$f":"IFERROR(IF(AND($C70<>\"\",$D70<>\"\"),1-SUMPRODUCT((RES!$D$6:$D$3006<=F$7)*(RES!$E$6:$E$3006>=F$7+1)*(RES!$I$6:$I$3006=$C70)*(RES!$J$6:$J$3006=$D70)),\"\"),\"\")","v":1},{"$f":"IFERROR(IF(AND($C70<>\"\",$D70<>\"\"),1-SUMPRODUCT((RES!$D$6:$D$3006<=G$7)*(RES!$E$6:$E$3006>=G$7+1)*(RES!$I$6:$I$3006=$C70)*(RES!$J$6:$J$3006=$D70)),\"\"),\"\")","v":1},{"$f":"IFERROR(IF(AND($C70<>\"\",$D70<>\"\"),1-SUMPRODUCT((RES!$D$6:$D$3006<=H$7)*(RES!$E$6:$E$3006>=H$7+1)*(RES!$I$6:$I$3006=$C70)*(RES!$J$6:$J$3006=$D70)),\"\"),\"\")","v":1},{"$f":"IFERROR(IF(AND($C70<>\"\",$D70<>\"\"),1-SUMPRODUCT((RES!$D$6:$D$3006<=I$7)*(RES!$E$6:$E$3006>=I$7+1)*(RES!$I$6:$I$3006=$C70)*(RES!$J$6:$J$3006=$D70)),\"\"),\"\")","v":1},{"$f":"IFERROR(IF(AND($C70<>\"\",$D70<>\"\"),1-SUMPRODUCT((RES!$D$6:$D$3006<=J$7)*(RES!$E$6:$E$3006>=J$7+1)*(RES!$I$6:$I$3006=$C70)*(RES!$J$6:$J$3006=$D70)),\"\"),\"\")","v":1},{"$f":"IFERROR(IF(AND($C70<>\"\",$D70<>\"\"),1-SUMPRODUCT((RES!$D$6:$D$3006<=K$7)*(RES!$E$6:$E$3006>=K$7+1)*(RES!$I$6:$I$3006=$C70)*(RES!$J$6:$J$3006=$D70)),\"\"),\"\")","v":1},{"$f":"IFERROR(IF(AND($C70<>\"\",$D70<>\"\"),1-SUMPRODUCT((RES!$D$6:$D$3006<=L$7)*(RES!$E$6:$E$3006>=L$7+1)*(RES!$I$6:$I$3006=$C70)*(RES!$J$6:$J$3006=$D70)),\"\"),\"\")","v":1},{"$f":"IFERROR(IF(AND($C70<>\"\",$D70<>\"\"),1-SUMPRODUCT((RES!$D$6:$D$3006<=M$7)*(RES!$E$6:$E$3006>=M$7+1)*(RES!$I$6:$I$3006=$C70)*(RES!$J$6:$J$3006=$D70)),\"\"),\"\")","v":1},{"$f":"IFERROR(IF(AND($C70<>\"\",$D70<>\"\"),1-SUMPRODUCT((RES!$D$6:$D$3006<=N$7)*(RES!$E$6:$E$3006>=N$7+1)*(RES!$I$6:$I$3006=$C70)*(RES!$J$6:$J$3006=$D70)),\"\"),\"\")","v":1},{"$f":"IFERROR(IF(AND($C70<>\"\",$D70<>\"\"),1-SUMPRODUCT((RES!$D$6:$D$3006<=O$7)*(RES!$E$6:$E$3006>=O$7+1)*(RES!$I$6:$I$3006=$C70)*(RES!$J$6:$J$3006=$D70)),\"\"),\"\")","v":1},{"$f":"IFERROR(IF(AND($C70<>\"\",$D70<>\"\"),1-SUMPRODUCT((RES!$D$6:$D$3006<=P$7)*(RES!$E$6:$E$3006>=P$7+1)*(RES!$I$6:$I$3006=$C70)*(RES!$J$6:$J$3006=$D70)),\"\"),\"\")","v":1},{"$f":"IFERROR(IF(AND($C70<>\"\",$D70<>\"\"),1-SUMPRODUCT((RES!$D$6:$D$3006<=Q$7)*(RES!$E$6:$E$3006>=Q$7+1)*(RES!$I$6:$I$3006=$C70)*(RES!$J$6:$J$3006=$D70)),\"\"),\"\")","v":1},{"$f":"IFERROR(IF(AND($C70<>\"\",$D70<>\"\"),1-SUMPRODUCT((RES!$D$6:$D$3006<=R$7)*(RES!$E$6:$E$3006>=R$7+1)*(RES!$I$6:$I$3006=$C70)*(RES!$J$6:$J$3006=$D70)),\"\"),\"\")","v":1},{"$f":"IFERROR(IF(AND($C70<>\"\",$D70<>\"\"),1-SUMPRODUCT((RES!$D$6:$D$3006<=S$7)*(RES!$E$6:$E$3006>=S$7+1)*(RES!$I$6:$I$3006=$C70)*(RES!$J$6:$J$3006=$D70)),\"\"),\"\")","v":1},{"$f":"IFERROR(IF(AND($C70<>\"\",$D70<>\"\"),1-SUMPRODUCT((RES!$D$6:$D$3006<=T$7)*(RES!$E$6:$E$3006>=T$7+1)*(RES!$I$6:$I$3006=$C70)*(RES!$J$6:$J$3006=$D70)),\"\"),\"\")","v":1}]
[null,null,{"$f":"CAD_Q!C69","v":64},{"$f":"IFERROR(IF(VLOOKUP(C71,CAD_Q!$C$6:$D$105,2,FALSE)=0,\"\",VLOOKUP(C71,CAD_Q!$C$6:$D$105,2,FALSE)),\"\")","v":"Estándar"},null,{"$f":"IFERROR(IF(AND($C71<>\"\",$D71<>\"\"),1-SUMPRODUCT((RES!$D$6:$D$3006<=F$7)*(RES!$E$6:$E$3006>=F$7+1)*(RES!$I$6:$I$3006=$C71)*(RES!$J$6:$J$3006=$D71)),\"\"),\"\")","v":1},{"$f":"IFERROR(IF(AND($C71<>\"\",$D71<>\"\"),1-SUMPRODUCT((RES!$D$6:$D$3006<=G$7)*(RES!$E$6:$E$3006>=G$7+1)*(RES!$I$6:$I$3006=$C71)*(RES!$J$6:$J$3006=$D71)),\"\"),\"\")","v":1},{"$f":"IFERROR(IF(AND($C71<>\"\",$D71<>\"\"),1-SUMPRODUCT((RES!$D$6:$D$3006<=H$7)*(RES!$E$6:$E$3006>=H$7+1)*(RES!$I$6:$I$3006=$C71)*(RES!$J$6:$J$3006=$D71)),\"\"),\"\")","v":1},{"$f":"IFERROR(IF(AND($C71<>\"\",$D71<>\"\"),1-SUMPRODUCT((RES!$D$6:$D$3006<=I$7)*(RES!$E$6:$E$3006>=I$7+1)*(RES!$I$6:$I$3006=$C71)*(RES!$J$6:$J$3006=$D71)),\"\"),\"\")","v":1},{"$f":"IFERROR(IF(AND($C71<>\"\",$D71<>\"\"),1-SUMPRODUCT((RES!$D$6:$D$3006<=J$7)*(RES!$E$6:$E$3006>=J$7+1)*(RES!$I$6:$I$3006=$C71)*(RES!$J$6:$J$3006=$D71)),\"\"),\"\")","v":1},{"$f":"IFERROR(IF(AND($C71<>\"\",$D71<>\"\"),1-SUMPRODUCT((RES!$D$6:$D$3006<=K$7)*(RES!$E$6:$E$3006>=K$7+1)*(RES!$I$6:$I$3006=$C71)*(RES!$J$6:$J$3006=$D71)),\"\"),\"\")","v":1},{"$f":"IFERROR(IF(AND($C71<>\"\",$D71<>\"\"),1-SUMPRODUCT((RES!$D$6:$D$3006<=L$7)*(RES!$E$6:$E$3006>=L$7+1)*(RES!$I$6:$I$3006=$C71)*(RES!$J$6:$J$3006=$D71)),\"\"),\"\")","v":1},{"$f":"IFERROR(IF(AND($C71<>\"\",$D71<>\"\"),1-SUMPRODUCT((RES!$D$6:$D$3006<=M$7)*(RES!$E$6:$E$3006>=M$7+1)*(RES!$I$6:$I$3006=$C71)*(RES!$J$6:$J$3006=$D71)),\"\"),\"\")","v":1},{"$f":"IFERROR(IF(AND($C71<>\"\",$D71<>\"\"),1-SUMPRODUCT((RES!$D$6:$D$3006<=N$7)*(RES!$E$6:$E$3006>=N$7+1)*(RES!$I$6:$I$3006=$C71)*(RES!$J$6:$J$3006=$D71)),\"\"),\"\")","v":1},{"$f":"IFERROR(IF(AND($C71<>\"\",$D71<>\"\"),1-SUMPRODUCT((RES!$D$6:$D$3006<=O$7)*(RES!$E$6:$E$3006>=O$7+1)*(RES!$I$6:$I$3006=$C71)*(RES!$J$6:$J$3006=$D71)),\"\"),\"\")","v":1},{"$f":"IFERROR(IF(AND($C71<>\"\",$D71<>\"\"),1-SUMPRODUCT((RES!$D$6:$D$3006<=P$7)*(RES!$E$6:$E$3006>=P$7+1)*(RES!$I$6:$I$3006=$C71)*(RES!$J$6:$J$3006=$D71)),\"\"),\"\")","v":1},{"$f":"IFERROR(IF(AND($C71<>\"\",$D71<>\"\"),1-SUMPRODUCT((RES!$D$6:$D$3006<=Q$7)*(RES!$E$6:$E$3006>=Q$7+1)*(RES!$I$6:$I$3006=$C71)*(RES!$J$6:$J$3006=$D71)),\"\"),\"\")","v":1},{"$f":"IFERROR(IF(AND($C71<>\"\",$D71<>\"\"),1-SUMPRODUCT((RES!$D$6:$D$3006<=R$7)*(RES!$E$6:$E$3006>=R$7+1)*(RES!$I$6:$I$3006=$C71)*(RES!$J$6:$J$3006=$D71)),\"\"),\"\")","v":1},{"$f":"IFERROR(IF(AND($C71<>\"\",$D71<>\"\"),1-SUMPRODUCT((RES!$D$6:$D$3006<=S$7)*(RES!$E$6:$E$3006>=S$7+1)*(RES!$I$6:$I$3006=$C71)*(RES!$J$6:$J$3006=$D71)),\"\"),\"\")","v":1},{"$f":"IFERROR(IF(AND($C71<>\"\",$D71<>\"\"),1-SUMPRODUCT((RES!$D$6:$D$3006<=T$7)*(RES!$E$6:$E$3006>=T$7+1)*(RES!$I$6:$I$3006=$C71)*(RES!$J$6:$J$3006=$D71)),\"\"),\"\")","v":1}]
[null,null,{"$f":"CAD_Q!C70","v":65},{"$f":"IFERROR(IF(VLOOKUP(C72,CAD_Q!$C$6:$D$105,2,FALSE)=0,\"\",VLOOKUP(C72,CAD_Q!$C$6:$D$105,2,FALSE)),\"\")","v":"Estándar"},null,{"$f":"IFERROR(IF(AND($C72<>\"\",$D72<>\"\"),1-SUMPRODUCT((RES!$D$6:$D$3006<=F$7)*(RES!$E$6:$E$3006>=F$7+1)*(RES!$I$6:$I$3006=$C72)*(RES!$J$6:$J$3006=$D72)),\"\"),\"\")","v":1},{"$f":"IFERROR(IF(AND($C72<>\"\",$D72<>\"\"),1-SUMPRODUCT((RES!$D$6:$D$3006<=G$7)*(RES!$E$6:$E$3006>=G$7+1)*(RES!$I$6:$I$3006=$C72)*(RES!$J$6:$J$3006=$D72)),\"\"),\"\")","v":1},{"$f":"IFERROR(IF(AND($C72<>\"\",$D72<>\"\"),1-SUMPRODUCT((RES!$D$6:$D$3006<=H$7)*(RES!$E$6:$E$3006>=H$7+1)*(RES!$I$6:$I$3006=$C72)*(RES!$J$6:$J$3006=$D72)),\"\"),\"\")","v":1},{"$f":"IFERROR(IF(AND($C72<>\"\",$D72<>\"\"),1-SUMPRODUCT((RES!$D$6:$D$3006<=I$7)*(RES!$E$6:$E$3006>=I$7+1)*(RES!$I$6:$I$3006=$C72)*(RES!$J$6:$J$3006=$D72)),\"\"),\"\")","v":1},{"$f":"IFERROR(IF(AND($C72<>\"\",$D72<>\"\"),1-SUMPRODUCT((RES!$D$6:$D$3006<=J$7)*(RES!$E$6:$E$3006>=J$7+1)*(RES!$I$6:$I$3006=$C72)*(RES!$J$6:$J$3006=$D72)),\"\"),\"\")","v":1},{"$f":"IFERROR(IF(AND($C72<>\"\",$D72<>\"\"),1-SUMPRODUCT((RES!$D$6:$D$3006<=K$7)*(RES!$E$6:$E$3006>=K$7+1)*(RES!$I$6:$I$3006=$C72)*(RES!$J$6:$J$3006=$D72)),\"\"),\"\")","v":1},{"$f":"IFERROR(IF(AND($C72<>\"\",$D72<>\"\"),1-SUMPRODUCT((RES!$D$6:$D$3006<=L$7)*(RES!$E$6:$E$3006>=L$7+1)*(RES!$I$6:$I$3006=$C72)*(RES!$J$6:$J$3006=$D72)),\"\"),\"\")","v":1},{"$f":"IFERROR(IF(AND($C72<>\"\",$D72<>\"\"),1-SUMPRODUCT((RES!$D$6:$D$3006<=M$7)*(RES!$E$6:$E$3006>=M$7+1)*(RES!$I$6:$I$3006=$C72)*(RES!$J$6:$J$3006=$D72)),\"\"),\"\")","v":1},{"$f":"IFERROR(IF(AND($C72<>\"\",$D72<>\"\"),1-SUMPRODUCT((RES!$D$6:$D$3006<=N$7)*(RES!$E$6:$E$3006>=N$7+1)*(RES!$I$6:$I$3006=$C72)*(RES!$J$6:$J$3006=$D72)),\"\"),\"\")","v":1},{"$f":"IFERROR(IF(AND($C72<>\"\",$D72<>\"\"),1-SUMPRODUCT((RES!$D$6:$D$3006<=O$7)*(RES!$E$6:$E$3006>=O$7+1)*(RES!$I$6:$I$3006=$C72)*(RES!$J$6:$J$3006=$D72)),\"\"),\"\")","v":1},{"$f":"IFERROR(IF(AND($C72<>\"\",$D72<>\"\"),1-SUMPRODUCT((RES!$D$6:$D$3006<=P$7)*(RES!$E$6:$E$3006>=P$7+1)*(RES!$I$6:$I$3006=$C72)*(RES!$J$6:$J$3006=$D72)),\"\"),\"\")","v":1},{"$f":"IFERROR(IF(AND($C72<>\"\",$D72<>\"\"),1-SUMPRODUCT((RES!$D$6:$D$3006<=Q$7)*(RES!$E$6:$E$3006>=Q$7+1)*(RES!$I$6:$I$3006=$C72)*(RES!$J$6:$J$3006=$D72)),\"\"),\"\")","v":1},{"$f":"IFERROR(IF(AND($C72<>\"\",$D72<>\"\"),1-SUMPRODUCT((RES!$D$6:$D$3006<=R$7)*(RES!$E$6:$E$3006>=R$7+1)*(RES!$I$6:$I$3006=$C72)*(RES!$J$6:$J$3006=$D72)),\"\"),\"\")","v":1},{"$f":"IFERROR(IF(AND($C72<>\"\",$D72<>\"\"),1-SUMPRODUCT((RES!$D$6:$D$3006<=S$7)*(RES!$E$6:$E$3006>=S$7+1)*(RES!$I$6:$I$3006=$C72)*(RES!$J$6:$J$3006=$D72)),\"\"),\"\")","v":1},{"$f":"IFERROR(IF(AND($C72<>\"\",$D72<>\"\"),1-SUMPRODUCT((RES!$D$6:$D$3006<=T$7)*(RES!$E$6:$E$3006>=T$7+1)*(RES!$I$6:$I$3006=$C72)*(RES!$J$6:$J$3006=$D72)),\"\"),\"\")","v":1}]
[null,null,{"$f":"CAD_Q!C71","v":66},{"$f":"IFERROR(IF(VLOOKUP(C73,CAD_Q!$C$6:$D$105,2,FALSE)=0,\"\",VLOOKUP(C73,CAD_Q!$C$6:$D$105,2,FALSE)),\"\")","v":"Estándar"},null,{"$f":"IFERROR(IF(AND($C73<>\"\",$D73<>\"\"),1-SUMPRODUCT((RES!$D$6:$D$3006<=F$7)*(RES!$E$6:$E$3006>=F$7+1)*(RES!$I$6:$I$3006=$C73)*(RES!$J$6:$J$3006=$D73)),\"\"),\"\")","v":1},{"$f":"IFERROR(IF(AND($C73<>\"\",$D73<>\"\"),1-SUMPRODUCT((RES!$D$6:$D$3006<=G$7)*(RES!$E$6:$E$3006>=G$7+1)*(RES!$I$6:$I$3006=$C73)*(RES!$J$6:$J$3006=$D73)),\"\"),\"\")","v":1},{"$f":"IFERROR(IF(AND($C73<>\"\",$D73<>\"\"),1-SUMPRODUCT((RES!$D$6:$D$3006<=H$7)*(RES!$E$6:$E$3006>=H$7+1)*(RES!$I$6:$I$3006=$C73)*(RES!$J$6:$J$3006=$D73)),\"\"),\"\")","v":1},{"$f":"IFERROR(IF(AND($C73<>\"\",$D73<>\"\"),1-SUMPRODUCT((RES!$D$6:$D$3006<=I$7)*(RES!$E$6:$E$3006>=I$7+1)*(RES!$I$6:$I$3006=$C73)*(RES!$J$6:$J$3006=$D73)),\"\"),\"\")","v":1},{"$f":"IFERROR(IF(AND($C73<>\"\",$D73<>\"\"),1-SUMPRODUCT((RES!$D$6:$D$3006<=J$7)*(RES!$E$6:$E$3006>=J$7+1)*(RES!$I$6:$I$3006=$C73)*(RES!$J$6:$J$3006=$D73)),\"\"),\"\")","v":1},{"$f":"IFERROR(IF(AND($C73<>\"\",$D73<>\"\"),1-SUMPRODUCT((RES!$D$6:$D$3006<=K$7)*(RES!$E$6:$E$3006>=K$7+1)*(RES!$I$6:$I$3006=$C73)*(RES!$J$6:$J$3006=$D73)),\"\"),\"\")","v":1},{"$f":"IFERROR(IF(AND($C73<>\"\",$D73<>\"\"),1-SUMPRODUCT((RES!$D$6:$D$3006<=L$7)*(RES!$E$6:$E$3006>=L$7+1)*(RES!$I$6:$I$3006=$C73)*(RES!$J$6:$J$3006=$D73)),\"\"),\"\")","v":1},{"$f":"IFERROR(IF(AND($C73<>\"\",$D73<>\"\"),1-SUMPRODUCT((RES!$D$6:$D$3006<=M$7)*(RES!$E$6:$E$3006>=M$7+1)*(RES!$I$6:$I$3006=$C73)*(RES!$J$6:$J$3006=$D73)),\"\"),\"\")","v":1},{"$f":"IFERROR(IF(AND($C73<>\"\",$D73<>\"\"),1-SUMPRODUCT((RES!$D$6:$D$3006<=N$7)*(RES!$E$6:$E$3006>=N$7+1)*(RES!$I$6:$I$3006=$C73)*(RES!$J$6:$J$3006=$D73)),\"\"),\"\")","v":1},{"$f":"IFERROR(IF(AND($C73<>\"\",$D73<>\"\"),1-SUMPRODUCT((RES!$D$6:$D$3006<=O$7)*(RES!$E$6:$E$3006>=O$7+1)*(RES!$I$6:$I$3006=$C73)*(RES!$J$6:$J$3006=$D73)),\"\"),\"\")","v":1},{"$f":"IFERROR(IF(AND($C73<>\"\",$D73<>\"\"),1-SUMPRODUCT((RES!$D$6:$D$3006<=P$7)*(RES!$E$6:$E$3006>=P$7+1)*(RES!$I$6:$I$3006=$C73)*(RES!$J$6:$J$3006=$D73)),\"\"),\"\")","v":1},{"$f":"IFERROR(IF(AND($C73<>\"\",$D73<>\"\"),1-SUMPRODUCT((RES!$D$6:$D$3006<=Q$7)*(RES!$E$6:$E$3006>=Q$7+1)*(RES!$I$6:$I$3006=$C73)*(RES!$J$6:$J$3006=$D73)),\"\"),\"\")","v":1},{"$f":"IFERROR(IF(AND($C73<>\"\",$D73<>\"\"),1-SUMPRODUCT((RES!$D$6:$D$3006<=R$7)*(RES!$E$6:$E$3006>=R$7+1)*(RES!$I$6:$I$3006=$C73)*(RES!$J$6:$J$3006=$D73)),\"\"),\"\")","v":1},{"$f":"IFERROR(IF(AND($C73<>\"\",$D73<>\"\"),1-SUMPRODUCT((RES!$D$6:$D$3006<=S$7)*(RES!$E$6:$E$3006>=S$7+1)*(RES!$I$6:$I$3006=$C73)*(RES!$J$6:$J$3006=$D73)),\"\"),\"\")","v":1},{"$f":"IFERROR(IF(AND($C73<>\"\",$D73<>\"\"),1-SUMPRODUCT((RES!$D$6:$D$3006<=T$7)*(RES!$E$6:$E$3006>=T$7+1)*(RES!$I$6:$I$3006=$C73)*(RES!$J$6:$J$3006=$D73)),\"\"),\"\")","v":1}]
[null,null,{"$f":"CAD_Q!C72","v":67},{"$f":"IFERROR(IF(VLOOKUP(C74,CAD_Q!$C$6:$D$105,2,FALSE)=0,\"\",VLOOKUP(C74,CAD_Q!$C$6:$D$105,2,FALSE)),\"\")","v":"Estándar"},null,{"$f":"IFERROR(IF(AND($C74<>\"\",$D74<>\"\"),1-SUMPRODUCT((RES!$D$6:$D$3006<=F$7)*(RES!$E$6:$E$3006>=F$7+1)*(RES!$I$6:$I$3006=$C74)*(RES!$J$6:$J$3006=$D74)),\"\"),\"\")","v":1},{"$f":"IFERROR(IF(AND($C74<>\"\",$D74<>\"\"),1-SUMPRODUCT((RES!$D$6:$D$3006<=G$7)*(RES!$E$6:$E$3006>=G$7+1)*(RES!$I$6:$I$3006=$C74)*(RES!$J$6:$J$3006=$D74)),\"\"),\"\")","v":1},{"$f":"IFERROR(IF(AND($C74<>\"\",$D74<>\"\"),1-SUMPRODUCT((RES!$D$6:$D$3006<=H$7)*(RES!$E$6:$E$3006>=H$7+1)*(RES!$I$6:$I$3006=$C74)*(RES!$J$6:$J$3006=$D74)),\"\"),\"\")","v":1},{"$f":"IFERROR(IF(AND($C74<>\"\",$D74<>\"\"),1-SUMPRODUCT((RES!$D$6:$D$3006<=I$7)*(RES!$E$6:$E$3006>=I$7+1)*(RES!$I$6:$I$3006=$C74)*(RES!$J$6:$J$3006=$D74)),\"\"),\"\")","v":1},{"$f":"IFERROR(IF(AND($C74<>\"\",$D74<>\"\"),1-SUMPRODUCT((RES!$D$6:$D$3006<=J$7)*(RES!$E$6:$E$3006>=J$7+1)*(RES!$I$6:$I$3006=$C74)*(RES!$J$6:$J$3006=$D74)),\"\"),\"\")","v":1},{"$f":"IFERROR(IF(AND($C74<>\"\",$D74<>\"\"),1-SUMPRODUCT((RES!$D$6:$D$3006<=K$7)*(RES!$E$6:$E$3006>=K$7+1)*(RES!$I$6:$I$3006=$C74)*(RES!$J$6:$J$3006=$D74)),\"\"),\"\")","v":1},{"$f":"IFERROR(IF(AND($C74<>\"\",$D74<>\"\"),1-SUMPRODUCT((RES!$D$6:$D$3006<=L$7)*(RES!$E$6:$E$3006>=L$7+1)*(RES!$I$6:$I$3006=$C74)*(RES!$J$6:$J$3006=$D74)),\"\"),\"\")","v":1},{"$f":"IFERROR(IF(AND($C74<>\"\",$D74<>\"\"),1-SUMPRODUCT((RES!$D$6:$D$3006<=M$7)*(RES!$E$6:$E$3006>=M$7+1)*(RES!$I$6:$I$3006=$C74)*(RES!$J$6:$J$3006=$D74)),\"\"),\"\")","v":1},{"$f":"IFERROR(IF(AND($C74<>\"\",$D74<>\"\"),1-SUMPRODUCT((RES!$D$6:$D$3006<=N$7)*(RES!$E$6:$E$3006>=N$7+1)*(RES!$I$6:$I$3006=$C74)*(RES!$J$6:$J$3006=$D74)),\"\"),\"\")","v":1},{"$f":"IFERROR(IF(AND($C74<>\"\",$D74<>\"\"),1-SUMPRODUCT((RES!$D$6:$D$3006<=O$7)*(RES!$E$6:$E$3006>=O$7+1)*(RES!$I$6:$I$3006=$C74)*(RES!$J$6:$J$3006=$D74)),\"\"),\"\")","v":1},{"$f":"IFERROR(IF(AND($C74<>\"\",$D74<>\"\"),1-SUMPRODUCT((RES!$D$6:$D$3006<=P$7)*(RES!$E$6:$E$3006>=P$7+1)*(RES!$I$6:$I$3006=$C74)*(RES!$J$6:$J$3006=$D74)),\"\"),\"\")","v":1},{"$f":"IFERROR(IF(AND($C74<>\"\",$D74<>\"\"),1-SUMPRODUCT((RES!$D$6:$D$3006<=Q$7)*(RES!$E$6:$E$3006>=Q$7+1)*(RES!$I$6:$I$3006=$C74)*(RES!$J$6:$J$3006=$D74)),\"\"),\"\")","v":1},{"$f":"IFERROR(IF(AND($C74<>\"\",$D74<>\"\"),1-SUMPRODUCT((RES!$D$6:$D$3006<=R$7)*(RES!$E$6:$E$3006>=R$7+1)*(RES!$I$6:$I$3006=$C74)*(RES!$J$6:$J$3006=$D74)),\"\"),\"\")","v":1},{"$f":"IFERROR(IF(AND($C74<>\"\",$D74<>\"\"),1-SUMPRODUCT((RES!$D$6:$D$3006<=S$7)*(RES!$E$6:$E$3006>=S$7+1)*(RES!$I$6:$I$3006=$C74)*(RES!$J$6:$J$3006=$D74)),\"\"),\"\")","v":1},{"$f":"IFERROR(IF(AND($C74<>\"\",$D74<>\"\"),1-SUMPRODUCT((RES!$D$6:$D$3006<=T$7)*(RES!$E$6:$E$3006>=T$7+1)*(RES!$I$6:$I$3006=$C74)*(RES!$J$6:$J$3006=$D74)),\"\"),\"\")","v":1}]
[null,null,{"$f":"CAD_Q!C73","v":68},{"$f":"IFERROR(IF(VLOOKUP(C75,CAD_Q!$C$6:$D$105,2,FALSE)=0,\"\",VLOOKUP(C75,CAD_Q!$C$6:$D$105,2,FALSE)),\"\")","v":"Estándar"},null,{"$f":"IFERROR(IF(AND($C75<>\"\",$D75<>\"\"),1-SUMPRODUCT((RES!$D$6:$D$3006<=F$7)*(RES!$E$6:$E$3006>=F$7+1)*(RES!$I$6:$I$3006=$C75)*(RES!$J$6:$J$3006=$D75)),\"\"),\"\")","v":1},{"$f":"IFERROR(IF(AND($C75<>\"\",$D75<>\"\"),1-SUMPRODUCT((RES!$D$6:$D$3006<=G$7)*(RES!$E$6:$E$3006>=G$7+1)*(RES!$I$6:$I$3006=$C75)*(RES!$J$6:$J$3006=$D75)),\"\"),\"\")","v":1},{"$f":"IFERROR(IF(AND($C75<>\"\",$D75<>\"\"),1-SUMPRODUCT((RES!$D$6:$D$3006<=H$7)*(RES!$E$6:$E$3006>=H$7+1)*(RES!$I$6:$I$3006=$C75)*(RES!$J$6:$J$3006=$D75)),\"\"),\"\")","v":1},{"$f":"IFERROR(IF(AND($C75<>\"\",$D75<>\"\"),1-SUMPRODUCT((RES!$D$6:$D$3006<=I$7)*(RES!$E$6:$E$3006>=I$7+1)*(RES!$I$6:$I$3006=$C75)*(RES!$J$6:$J$3006=$D75)),\"\"),\"\")","v":1},{"$f":"IFERROR(IF(AND($C75<>\"\",$D75<>\"\"),1-SUMPRODUCT((RES!$D$6:$D$3006<=J$7)*(RES!$E$6:$E$3006>=J$7+1)*(RES!$I$6:$I$3006=$C75)*(RES!$J$6:$J$3006=$D75)),\"\"),\"\")","v":1},{"$f":"IFERROR(IF(AND($C75<>\"\",$D75<>\"\"),1-SUMPRODUCT((RES!$D$6:$D$3006<=K$7)*(RES!$E$6:$E$3006>=K$7+1)*(RES!$I$6:$I$3006=$C75)*(RES!$J$6:$J$3006=$D75)),\"\"),\"\")","v":1},{"$f":"IFERROR(IF(AND($C75<>\"\",$D75<>\"\"),1-SUMPRODUCT((RES!$D$6:$D$3006<=L$7)*(RES!$E$6:$E$3006>=L$7+1)*(RES!$I$6:$I$3006=$C75)*(RES!$J$6:$J$3006=$D75)),\"\"),\"\")","v":1},{"$f":"IFERROR(IF(AND($C75<>\"\",$D75<>\"\"),1-SUMPRODUCT((RES!$D$6:$D$3006<=M$7)*(RES!$E$6:$E$3006>=M$7+1)*(RES!$I$6:$I$3006=$C75)*(RES!$J$6:$J$3006=$D75)),\"\"),\"\")","v":1},{"$f":"IFERROR(IF(AND($C75<>\"\",$D75<>\"\"),1-SUMPRODUCT((RES!$D$6:$D$3006<=N$7)*(RES!$E$6:$E$3006>=N$7+1)*(RES!$I$6:$I$3006=$C75)*(RES!$J$6:$J$3006=$D75)),\"\"),\"\")","v":1},{"$f":"IFERROR(IF(AND($C75<>\"\",$D75<>\"\"),1-SUMPRODUCT((RES!$D$6:$D$3006<=O$7)*(RES!$E$6:$E$3006>=O$7+1)*(RES!$I$6:$I$3006=$C75)*(RES!$J$6:$J$3006=$D75)),\"\"),\"\")","v":1},{"$f":"IFERROR(IF(AND($C75<>\"\",$D75<>\"\"),1-SUMPRODUCT((RES!$D$6:$D$3006<=P$7)*(RES!$E$6:$E$3006>=P$7+1)*(RES!$I$6:$I$3006=$C75)*(RES!$J$6:$J$3006=$D75)),\"\"),\"\")","v":1},{"$f":"IFERROR(IF(AND($C75<>\"\",$D75<>\"\"),1-SUMPRODUCT((RES!$D$6:$D$3006<=Q$7)*(RES!$E$6:$E$3006>=Q$7+1)*(RES!$I$6:$I$3006=$C75)*(RES!$J$6:$J$3006=$D75)),\"\"),\"\")","v":1},{"$f":"IFERROR(IF(AND($C75<>\"\",$D75<>\"\"),1-SUMPRODUCT((RES!$D$6:$D$3006<=R$7)*(RES!$E$6:$E$3006>=R$7+1)*(RES!$I$6:$I$3006=$C75)*(RES!$J$6:$J$3006=$D75)),\"\"),\"\")","v":1},{"$f":"IFERROR(IF(AND($C75<>\"\",$D75<>\"\"),1-SUMPRODUCT((RES!$D$6:$D$3006<=S$7)*(RES!$E$6:$E$3006>=S$7+1)*(RES!$I$6:$I$3006=$C75)*(RES!$J$6:$J$3006=$D75)),\"\"),\"\")","v":1},{"$f":"IFERROR(IF(AND($C75<>\"\",$D75<>\"\"),1-SUMPRODUCT((RES!$D$6:$D$3006<=T$7)*(RES!$E$6:$E$3006>=T$7+1)*(RES!$I$6:$I$3006=$C75)*(RES!$J$6:$J$3006=$D75)),\"\"),\"\")","v":1}]
[null,null,{"$f":"CAD_Q!C74","v":69},{"$f":"IFERROR(IF(VLOOKUP(C76,CAD_Q!$C$6:$D$105,2,FALSE)=0,\"\",VLOOKUP(C76,CAD_Q!$C$6:$D$105,2,FALSE)),\"\")","v":"Estándar"},null,{"$f":"IFERROR(IF(AND($C76<>\"\",$D76<>\"\"),1-SUMPRODUCT((RES!$D$6:$D$3006<=F$7)*(RES!$E$6:$E$3006>=F$7+1)*(RES!$I$6:$I$3006=$C76)*(RES!$J$6:$J$3006=$D76)),\"\"),\"\")","v":1},{"$f":"IFERROR(IF(AND($C76<>\"\",$D76<>\"\"),1-SUMPRODUCT((RES!$D$6:$D$3006<=G$7)*(RES!$E$6:$E$3006>=G$7+1)*(RES!$I$6:$I$3006=$C76)*(RES!$J$6:$J$3006=$D76)),\"\"),\"\")","v":1},{"$f":"IFERROR(IF(AND($C76<>\"\",$D76<>\"\"),1-SUMPRODUCT((RES!$D$6:$D$3006<=H$7)*(RES!$E$6:$E$3006>=H$7+1)*(RES!$I$6:$I$3006=$C76)*(RES!$J$6:$J$3006=$D76)),\"\"),\"\")","v":1},{"$f":"IFERROR(IF(AND($C76<>\"\",$D76<>\"\"),1-SUMPRODUCT((RES!$D$6:$D$3006<=I$7)*(RES!$E$6:$E$3006>=I$7+1)*(RES!$I$6:$I$3006=$C76)*(RES!$J$6:$J$3006=$D76)),\"\"),\"\")","v":1},{"$f":"IFERROR(IF(AND($C76<>\"\",$D76<>\"\"),1-SUMPRODUCT((RES!$D$6:$D$3006<=J$7)*(RES!$E$6:$E$3006>=J$7+1)*(RES!$I$6:$I$3006=$C76)*(RES!$J$6:$J$3006=$D76)),\"\"),\"\")","v":1},{"$f":"IFERROR(IF(AND($C76<>\"\",$D76<>\"\"),1-SUMPRODUCT((RES!$D$6:$D$3006<=K$7)*(RES!$E$6:$E$3006>=K$7+1)*(RES!$I$6:$I$3006=$C76)*(RES!$J$6:$J$3006=$D76)),\"\"),\"\")","v":1},{"$f":"IFERROR(IF(AND($C76<>\"\",$D76<>\"\"),1-SUMPRODUCT((RES!$D$6:$D$3006<=L$7)*(RES!$E$6:$E$3006>=L$7+1)*(RES!$I$6:$I$3006=$C76)*(RES!$J$6:$J$3006=$D76)),\"\"),\"\")","v":1},{"$f":"IFERROR(IF(AND($C76<>\"\",$D76<>\"\"),1-SUMPRODUCT((RES!$D$6:$D$3006<=M$7)*(RES!$E$6:$E$3006>=M$7+1)*(RES!$I$6:$I$3006=$C76)*(RES!$J$6:$J$3006=$D76)),\"\"),\"\")","v":1},{"$f":"IFERROR(IF(AND($C76<>\"\",$D76<>\"\"),1-SUMPRODUCT((RES!$D$6:$D$3006<=N$7)*(RES!$E$6:$E$3006>=N$7+1)*(RES!$I$6:$I$3006=$C76)*(RES!$J$6:$J$3006=$D76)),\"\"),\"\")","v":1},{"$f":"IFERROR(IF(AND($C76<>\"\",$D76<>\"\"),1-SUMPRODUCT((RES!$D$6:$D$3006<=O$7)*(RES!$E$6:$E$3006>=O$7+1)*(RES!$I$6:$I$3006=$C76)*(RES!$J$6:$J$3006=$D76)),\"\"),\"\")","v":1},{"$f":"IFERROR(IF(AND($C76<>\"\",$D76<>\"\"),1-SUMPRODUCT((RES!$D$6:$D$3006<=P$7)*(RES!$E$6:$E$3006>=P$7+1)*(RES!$I$6:$I$3006=$C76)*(RES!$J$6:$J$3006=$D76)),\"\"),\"\")","v":1},{"$f":"IFERROR(IF(AND($C76<>\"\",$D76<>\"\"),1-SUMPRODUCT((RES!$D$6:$D$3006<=Q$7)*(RES!$E$6:$E$3006>=Q$7+1)*(RES!$I$6:$I$3006=$C76)*(RES!$J$6:$J$3006=$D76)),\"\"),\"\")","v":1},{"$f":"IFERROR(IF(AND($C76<>\"\",$D76<>\"\"),1-SUMPRODUCT((RES!$D$6:$D$3006<=R$7)*(RES!$E$6:$E$3006>=R$7+1)*(RES!$I$6:$I$3006=$C76)*(RES!$J$6:$J$3006=$D76)),\"\"),\"\")","v":1},{"$f":"IFERROR(IF(AND($C76<>\"\",$D76<>\"\"),1-SUMPRODUCT((RES!$D$6:$D$3006<=S$7)*(RES!$E$6:$E$3006>=S$7+1)*(RES!$I$6:$I$3006=$C76)*(RES!$J$6:$J$3006=$D76)),\"\"),\"\")","v":1},{"$f":"IFERROR(IF(AND($C76<>\"\",$D76<>\"\"),1-SUMPRODUCT((RES!$D$6:$D$3006<=T$7)*(RES!$E$6:$E$3006>=T$7+1)*(RES!$I$6:$I$3006=$C76)*(RES!$J$6:$J$3006=$D76)),\"\"),\"\")","v":1}]
[null,null,{"$f":"CAD_Q!C75","v":70},{"$f":"IFERROR(IF(VLOOKUP(C77,CAD_Q!$C$6:$D$105,2,FALSE)=0,\"\",VLOOKUP(C77,CAD_Q!$C$6:$D$105,2,FALSE)),\"\")","v":"Estándar"},null,{"$f":"IFERROR(IF(AND($C77<>\"\",$D77<>\"\"),1-SUMPRODUCT((RES!$D$6:$D$3006<=F$7)*(RES!$E$6:$E$3006>=F$7+1)*(RES!$I$6:$I$3006=$C77)*(RES!$J$6:$J$3006=$D77)),\"\"),\"\")","v":1},{"$f":"IFERROR(IF(AND($C77<>\"\",$D77<>\"\"),1-SUMPRODUCT((RES!$D$6:$D$3006<=G$7)*(RES!$E$6:$E$3006>=G$7+1)*(RES!$I$6:$I$3006=$C77)*(RES!$J$6:$J$3006=$D77)),\"\"),\"\")","v":1},{"$f":"IFERROR(IF(AND($C77<>\"\",$D77<>\"\"),1-SUMPRODUCT((RES!$D$6:$D$3006<=H$7)*(RES!$E$6:$E$3006>=H$7+1)*(RES!$I$6:$I$3006=$C77)*(RES!$J$6:$J$3006=$D77)),\"\"),\"\")","v":1},{"$f":"IFERROR(IF(AND($C77<>\"\",$D77<>\"\"),1-SUMPRODUCT((RES!$D$6:$D$3006<=I$7)*(RES!$E$6:$E$3006>=I$7+1)*(RES!$I$6:$I$3006=$C77)*(RES!$J$6:$J$3006=$D77)),\"\"),\"\")","v":1},{"$f":"IFERROR(IF(AND($C77<>\"\",$D77<>\"\"),1-SUMPRODUCT((RES!$D$6:$D$3006<=J$7)*(RES!$E$6:$E$3006>=J$7+1)*(RES!$I$6:$I$3006=$C77)*(RES!$J$6:$J$3006=$D77)),\"\"),\"\")","v":1},{"$f":"IFERROR(IF(AND($C77<>\"\",$D77<>\"\"),1-SUMPRODUCT((RES!$D$6:$D$3006<=K$7)*(RES!$E$6:$E$3006>=K$7+1)*(RES!$I$6:$I$3006=$C77)*(RES!$J$6:$J$3006=$D77)),\"\"),\"\")","v":1},{"$f":"IFERROR(IF(AND($C77<>\"\",$D77<>\"\"),1-SUMPRODUCT((RES!$D$6:$D$3006<=L$7)*(RES!$E$6:$E$3006>=L$7+1)*(RES!$I$6:$I$3006=$C77)*(RES!$J$6:$J$3006=$D77)),\"\"),\"\")","v":1},{"$f":"IFERROR(IF(AND($C77<>\"\",$D77<>\"\"),1-SUMPRODUCT((RES!$D$6:$D$3006<=M$7)*(RES!$E$6:$E$3006>=M$7+1)*(RES!$I$6:$I$3006=$C77)*(RES!$J$6:$J$3006=$D77)),\"\"),\"\")","v":1},{"$f":"IFERROR(IF(AND($C77<>\"\",$D77<>\"\"),1-SUMPRODUCT((RES!$D$6:$D$3006<=N$7)*(RES!$E$6:$E$3006>=N$7+1)*(RES!$I$6:$I$3006=$C77)*(RES!$J$6:$J$3006=$D77)),\"\"),\"\")","v":1},{"$f":"IFERROR(IF(AND($C77<>\"\",$D77<>\"\"),1-SUMPRODUCT((RES!$D$6:$D$3006<=O$7)*(RES!$E$6:$E$3006>=O$7+1)*(RES!$I$6:$I$3006=$C77)*(RES!$J$6:$J$3006=$D77)),\"\"),\"\")","v":1},{"$f":"IFERROR(IF(AND($C77<>\"\",$D77<>\"\"),1-SUMPRODUCT((RES!$D$6:$D$3006<=P$7)*(RES!$E$6:$E$3006>=P$7+1)*(RES!$I$6:$I$3006=$C77)*(RES!$J$6:$J$3006=$D77)),\"\"),\"\")","v":1},{"$f":"IFERROR(IF(AND($C77<>\"\",$D77<>\"\"),1-SUMPRODUCT((RES!$D$6:$D$3006<=Q$7)*(RES!$E$6:$E$3006>=Q$7+1)*(RES!$I$6:$I$3006=$C77)*(RES!$J$6:$J$3006=$D77)),\"\"),\"\")","v":1},{"$f":"IFERROR(IF(AND($C77<>\"\",$D77<>\"\"),1-SUMPRODUCT((RES!$D$6:$D$3006<=R$7)*(RES!$E$6:$E$3006>=R$7+1)*(RES!$I$6:$I$3006=$C77)*(RES!$J$6:$J$3006=$D77)),\"\"),\"\")","v":1},{"$f":"IFERROR(IF(AND($C77<>\"\",$D77<>\"\"),1-SUMPRODUCT((RES!$D$6:$D$3006<=S$7)*(RES!$E$6:$E$3006>=S$7+1)*(RES!$I$6:$I$3006=$C77)*(RES!$J$6:$J$3006=$D77)),\"\"),\"\")","v":1},{"$f":"IFERROR(IF(AND($C77<>\"\",$D77<>\"\"),1-SUMPRODUCT((RES!$D$6:$D$3006<=T$7)*(RES!$E$6:$E$3006>=T$7+1)*(RES!$I$6:$I$3006=$C77)*(RES!$J$6:$J$3006=$D77)),\"\"),\"\")","v":1}]
[null,null,{"$f":"CAD_Q!C76","v":71},{"$f":"IFERROR(IF(VLOOKUP(C78,CAD_Q!$C$6:$D$105,2,FALSE)=0,\"\",VLOOKUP(C78,CAD_Q!$C$6:$D$105,2,FALSE)),\"\")","v":"Estándar"},null,{"$f":"IFERROR(IF(AND($C78<>\"\",$D78<>\"\"),1-SUMPRODUCT((RES!$D$6:$D$3006<=F$7)*(RES!$E$6:$E$3006>=F$7+1)*(RES!$I$6:$I$3006=$C78)*(RES!$J$6:$J$3006=$D78)),\"\"),\"\")","v":1},{"$f":"IFERROR(IF(AND($C78<>\"\",$D78<>\"\"),1-SUMPRODUCT((RES!$D$6:$D$3006<=G$7)*(RES!$E$6:$E$3006>=G$7+1)*(RES!$I$6:$I$3006=$C78)*(RES!$J$6:$J$3006=$D78)),\"\"),\"\")","v":1},{"$f":"IFERROR(IF(AND($C78<>\"\",$D78<>\"\"),1-SUMPRODUCT((RES!$D$6:$D$3006<=H$7)*(RES!$E$6:$E$3006>=H$7+1)*(RES!$I$6:$I$3006=$C78)*(RES!$J$6:$J$3006=$D78)),\"\"),\"\")","v":1},{"$f":"IFERROR(IF(AND($C78<>\"\",$D78<>\"\"),1-SUMPRODUCT((RES!$D$6:$D$3006<=I$7)*(RES!$E$6:$E$3006>=I$7+1)*(RES!$I$6:$I$3006=$C78)*(RES!$J$6:$J$3006=$D78)),\"\"),\"\")","v":1},{"$f":"IFERROR(IF(AND($C78<>\"\",$D78<>\"\"),1-SUMPRODUCT((RES!$D$6:$D$3006<=J$7)*(RES!$E$6:$E$3006>=J$7+1)*(RES!$I$6:$I$3006=$C78)*(RES!$J$6:$J$3006=$D78)),\"\"),\"\")","v":1},{"$f":"IFERROR(IF(AND($C78<>\"\",$D78<>\"\"),1-SUMPRODUCT((RES!$D$6:$D$3006<=K$7)*(RES!$E$6:$E$3006>=K$7+1)*(RES!$I$6:$I$3006=$C78)*(RES!$J$6:$J$3006=$D78)),\"\"),\"\")","v":1},{"$f":"IFERROR(IF(AND($C78<>\"\",$D78<>\"\"),1-SUMPRODUCT((RES!$D$6:$D$3006<=L$7)*(RES!$E$6:$E$3006>=L$7+1)*(RES!$I$6:$I$3006=$C78)*(RES!$J$6:$J$3006=$D78)),\"\"),\"\")","v":1},{"$f":"IFERROR(IF(AND($C78<>\"\",$D78<>\"\"),1-SUMPRODUCT((RES!$D$6:$D$3006<=M$7)*(RES!$E$6:$E$3006>=M$7+1)*(RES!$I$6:$I$3006=$C78)*(RES!$J$6:$J$3006=$D78)),\"\"),\"\")","v":1},{"$f":"IFERROR(IF(AND($C78<>\"\",$D78<>\"\"),1-SUMPRODUCT((RES!$D$6:$D$3006<=N$7)*(RES!$E$6:$E$3006>=N$7+1)*(RES!$I$6:$I$3006=$C78)*(RES!$J$6:$J$3006=$D78)),\"\"),\"\")","v":1},{"$f":"IFERROR(IF(AND($C78<>\"\",$D78<>\"\"),1-SUMPRODUCT((RES!$D$6:$D$3006<=O$7)*(RES!$E$6:$E$3006>=O$7+1)*(RES!$I$6:$I$3006=$C78)*(RES!$J$6:$J$3006=$D78)),\"\"),\"\")","v":1},{"$f":"IFERROR(IF(AND($C78<>\"\",$D78<>\"\"),1-SUMPRODUCT((RES!$D$6:$D$3006<=P$7)*(RES!$E$6:$E$3006>=P$7+1)*(RES!$I$6:$I$3006=$C78)*(RES!$J$6:$J$3006=$D78)),\"\"),\"\")","v":1},{"$f":"IFERROR(IF(AND($C78<>\"\",$D78<>\"\"),1-SUMPRODUCT((RES!$D$6:$D$3006<=Q$7)*(RES!$E$6:$E$3006>=Q$7+1)*(RES!$I$6:$I$3006=$C78)*(RES!$J$6:$J$3006=$D78)),\"\"),\"\")","v":1},{"$f":"IFERROR(IF(AND($C78<>\"\",$D78<>\"\"),1-SUMPRODUCT((RES!$D$6:$D$3006<=R$7)*(RES!$E$6:$E$3006>=R$7+1)*(RES!$I$6:$I$3006=$C78)*(RES!$J$6:$J$3006=$D78)),\"\"),\"\")","v":1},{"$f":"IFERROR(IF(AND($C78<>\"\",$D78<>\"\"),1-SUMPRODUCT((RES!$D$6:$D$3006<=S$7)*(RES!$E$6:$E$3006>=S$7+1)*(RES!$I$6:$I$3006=$C78)*(RES!$J$6:$J$3006=$D78)),\"\"),\"\")","v":1},{"$f":"IFERROR(IF(AND($C78<>\"\",$D78<>\"\"),1-SUMPRODUCT((RES!$D$6:$D$3006<=T$7)*(RES!$E$6:$E$3006>=T$7+1)*(RES!$I$6:$I$3006=$C78)*(RES!$J$6:$J$3006=$D78)),\"\"),\"\")","v":1}]
[null,null,{"$f":"CAD_Q!C77","v":72},{"$f":"IFERROR(IF(VLOOKUP(C79,CAD_Q!$C$6:$D$105,2,FALSE)=0,\"\",VLOOKUP(C79,CAD_Q!$C$6:$D$105,2,FALSE)),\"\")","v":"Estándar"},null,{"$f":"IFERROR(IF(AND($C79<>\"\",$D79<>\"\"),1-SUMPRODUCT((RES!$D$6:$D$3006<=F$7)*(RES!$E$6:$E$3006>=F$7+1)*(RES!$I$6:$I$3006=$C79)*(RES!$J$6:$J$3006=$D79)),\"\"),\"\")","v":1},{"$f":"IFERROR(IF(AND($C79<>\"\",$D79<>\"\"),1-SUMPRODUCT((RES!$D$6:$D$3006<=G$7)*(RES!$E$6:$E$3006>=G$7+1)*(RES!$I$6:$I$3006=$C79)*(RES!$J$6:$J$3006=$D79)),\"\"),\"\")","v":1},{"$f":"IFERROR(IF(AND($C79<>\"\",$D79<>\"\"),1-SUMPRODUCT((RES!$D$6:$D$3006<=H$7)*(RES!$E$6:$E$3006>=H$7+1)*(RES!$I$6:$I$3006=$C79)*(RES!$J$6:$J$3006=$D79)),\"\"),\"\")","v":1},{"$f":"IFERROR(IF(AND($C79<>\"\",$D79<>\"\"),1-SUMPRODUCT((RES!$D$6:$D$3006<=I$7)*(RES!$E$6:$E$3006>=I$7+1)*(RES!$I$6:$I$3006=$C79)*(RES!$J$6:$J$3006=$D79)),\"\"),\"\")","v":1},{"$f":"IFERROR(IF(AND($C79<>\"\",$D79<>\"\"),1-SUMPRODUCT((RES!$D$6:$D$3006<=J$7)*(RES!$E$6:$E$3006>=J$7+1)*(RES!$I$6:$I$3006=$C79)*(RES!$J$6:$J$3006=$D79)),\"\"),\"\")","v":1},{"$f":"IFERROR(IF(AND($C79<>\"\",$D79<>\"\"),1-SUMPRODUCT((RES!$D$6:$D$3006<=K$7)*(RES!$E$6:$E$3006>=K$7+1)*(RES!$I$6:$I$3006=$C79)*(RES!$J$6:$J$3006=$D79)),\"\"),\"\")","v":1},{"$f":"IFERROR(IF(AND($C79<>\"\",$D79<>\"\"),1-SUMPRODUCT((RES!$D$6:$D$3006<=L$7)*(RES!$E$6:$E$3006>=L$7+1)*(RES!$I$6:$I$3006=$C79)*(RES!$J$6:$J$3006=$D79)),\"\"),\"\")","v":1},{"$f":"IFERROR(IF(AND($C79<>\"\",$D79<>\"\"),1-SUMPRODUCT((RES!$D$6:$D$3006<=M$7)*(RES!$E$6:$E$3006>=M$7+1)*(RES!$I$6:$I$3006=$C79)*(RES!$J$6:$J$3006=$D79)),\"\"),\"\")","v":1},{"$f":"IFERROR(IF(AND($C79<>\"\",$D79<>\"\"),1-SUMPRODUCT((RES!$D$6:$D$3006<=N$7)*(RES!$E$6:$E$3006>=N$7+1)*(RES!$I$6:$I$3006=$C79)*(RES!$J$6:$J$3006=$D79)),\"\"),\"\")","v":1},{"$f":"IFERROR(IF(AND($C79<>\"\",$D79<>\"\"),1-SUMPRODUCT((RES!$D$6:$D$3006<=O$7)*(RES!$E$6:$E$3006>=O$7+1)*(RES!$I$6:$I$3006=$C79)*(RES!$J$6:$J$3006=$D79)),\"\"),\"\")","v":1},{"$f":"IFERROR(IF(AND($C79<>\"\",$D79<>\"\"),1-SUMPRODUCT((RES!$D$6:$D$3006<=P$7)*(RES!$E$6:$E$3006>=P$7+1)*(RES!$I$6:$I$3006=$C79)*(RES!$J$6:$J$3006=$D79)),\"\"),\"\")","v":1},{"$f":"IFERROR(IF(AND($C79<>\"\",$D79<>\"\"),1-SUMPRODUCT((RES!$D$6:$D$3006<=Q$7)*(RES!$E$6:$E$3006>=Q$7+1)*(RES!$I$6:$I$3006=$C79)*(RES!$J$6:$J$3006=$D79)),\"\"),\"\")","v":1},{"$f":"IFERROR(IF(AND($C79<>\"\",$D79<>\"\"),1-SUMPRODUCT((RES!$D$6:$D$3006<=R$7)*(RES!$E$6:$E$3006>=R$7+1)*(RES!$I$6:$I$3006=$C79)*(RES!$J$6:$J$3006=$D79)),\"\"),\"\")","v":1},{"$f":"IFERROR(IF(AND($C79<>\"\",$D79<>\"\"),1-SUMPRODUCT((RES!$D$6:$D$3006<=S$7)*(RES!$E$6:$E$3006>=S$7+1)*(RES!$I$6:$I$3006=$C79)*(RES!$J$6:$J$3006=$D79)),\"\"),\"\")","v":1},{"$f":"IFERROR(IF(AND($C79<>\"\",$D79<>\"\"),1-SUMPRODUCT((RES!$D$6:$D$3006<=T$7)*(RES!$E$6:$E$3006>=T$7+1)*(RES!$I$6:$I$3006=$C79)*(RES!$J$6:$J$3006=$D79)),\"\"),\"\")","v":1}]
[null,null,{"$f":"CAD_Q!C78","v":73},{"$f":"IFERROR(IF(VLOOKUP(C80,CAD_Q!$C$6:$D$105,2,FALSE)=0,\"\",VLOOKUP(C80,CAD_Q!$C$6:$D$105,2,FALSE)),\"\")","v":"Estándar"},null,{"$f":"IFERROR(IF(AND($C80<>\"\",$D80<>\"\"),1-SUMPRODUCT((RES!$D$6:$D$3006<=F$7)*(RES!$E$6:$E$3006>=F$7+1)*(RES!$I$6:$I$3006=$C80)*(RES!$J$6:$J$3006=$D80)),\"\"),\"\")","v":1},{"$f":"IFERROR(IF(AND($C80<>\"\",$D80<>\"\"),1-SUMPRODUCT((RES!$D$6:$D$3006<=G$7)*(RES!$E$6:$E$3006>=G$7+1)*(RES!$I$6:$I$3006=$C80)*(RES!$J$6:$J$3006=$D80)),\"\"),\"\")","v":1},{"$f":"IFERROR(IF(AND($C80<>\"\",$D80<>\"\"),1-SUMPRODUCT((RES!$D$6:$D$3006<=H$7)*(RES!$E$6:$E$3006>=H$7+1)*(RES!$I$6:$I$3006=$C80)*(RES!$J$6:$J$3006=$D80)),\"\"),\"\")","v":1},{"$f":"IFERROR(IF(AND($C80<>\"\",$D80<>\"\"),1-SUMPRODUCT((RES!$D$6:$D$3006<=I$7)*(RES!$E$6:$E$3006>=I$7+1)*(RES!$I$6:$I$3006=$C80)*(RES!$J$6:$J$3006=$D80)),\"\"),\"\")","v":1},{"$f":"IFERROR(IF(AND($C80<>\"\",$D80<>\"\"),1-SUMPRODUCT((RES!$D$6:$D$3006<=J$7)*(RES!$E$6:$E$3006>=J$7+1)*(RES!$I$6:$I$3006=$C80)*(RES!$J$6:$J$3006=$D80)),\"\"),\"\")","v":1},{"$f":"IFERROR(IF(AND($C80<>\"\",$D80<>\"\"),1-SUMPRODUCT((RES!$D$6:$D$3006<=K$7)*(RES!$E$6:$E$3006>=K$7+1)*(RES!$I$6:$I$3006=$C80)*(RES!$J$6:$J$3006=$D80)),\"\"),\"\")","v":1},{"$f":"IFERROR(IF(AND($C80<>\"\",$D80<>\"\"),1-SUMPRODUCT((RES!$D$6:$D$3006<=L$7)*(RES!$E$6:$E$3006>=L$7+1)*(RES!$I$6:$I$3006=$C80)*(RES!$J$6:$J$3006=$D80)),\"\"),\"\")","v":1},{"$f":"IFERROR(IF(AND($C80<>\"\",$D80<>\"\"),1-SUMPRODUCT((RES!$D$6:$D$3006<=M$7)*(RES!$E$6:$E$3006>=M$7+1)*(RES!$I$6:$I$3006=$C80)*(RES!$J$6:$J$3006=$D80)),\"\"),\"\")","v":1},{"$f":"IFERROR(IF(AND($C80<>\"\",$D80<>\"\"),1-SUMPRODUCT((RES!$D$6:$D$3006<=N$7)*(RES!$E$6:$E$3006>=N$7+1)*(RES!$I$6:$I$3006=$C80)*(RES!$J$6:$J$3006=$D80)),\"\"),\"\")","v":1},{"$f":"IFERROR(IF(AND($C80<>\"\",$D80<>\"\"),1-SUMPRODUCT((RES!$D$6:$D$3006<=O$7)*(RES!$E$6:$E$3006>=O$7+1)*(RES!$I$6:$I$3006=$C80)*(RES!$J$6:$J$3006=$D80)),\"\"),\"\")","v":1},{"$f":"IFERROR(IF(AND($C80<>\"\",$D80<>\"\"),1-SUMPRODUCT((RES!$D$6:$D$3006<=P$7)*(RES!$E$6:$E$3006>=P$7+1)*(RES!$I$6:$I$3006=$C80)*(RES!$J$6:$J$3006=$D80)),\"\"),\"\")","v":1},{"$f":"IFERROR(IF(AND($C80<>\"\",$D80<>\"\"),1-SUMPRODUCT((RES!$D$6:$D$3006<=Q$7)*(RES!$E$6:$E$3006>=Q$7+1)*(RES!$I$6:$I$3006=$C80)*(RES!$J$6:$J$3006=$D80)),\"\"),\"\")","v":1},{"$f":"IFERROR(IF(AND($C80<>\"\",$D80<>\"\"),1-SUMPRODUCT((RES!$D$6:$D$3006<=R$7)*(RES!$E$6:$E$3006>=R$7+1)*(RES!$I$6:$I$3006=$C80)*(RES!$J$6:$J$3006=$D80)),\"\"),\"\")","v":1},{"$f":"IFERROR(IF(AND($C80<>\"\",$D80<>\"\"),1-SUMPRODUCT((RES!$D$6:$D$3006<=S$7)*(RES!$E$6:$E$3006>=S$7+1)*(RES!$I$6:$I$3006=$C80)*(RES!$J$6:$J$3006=$D80)),\"\"),\"\")","v":1},{"$f":"IFERROR(IF(AND($C80<>\"\",$D80<>\"\"),1-SUMPRODUCT((RES!$D$6:$D$3006<=T$7)*(RES!$E$6:$E$3006>=T$7+1)*(RES!$I$6:$I$3006=$C80)*(RES!$J$6:$J$3006=$D80)),\"\"),\"\")","v":1}]
[null,null,{"$f":"CAD_Q!C79","v":74},{"$f":"IFERROR(IF(VLOOKUP(C81,CAD_Q!$C$6:$D$105,2,FALSE)=0,\"\",VLOOKUP(C81,CAD_Q!$C$6:$D$105,2,FALSE)),\"\")","v":"Estándar"},null,{"$f":"IFERROR(IF(AND($C81<>\"\",$D81<>\"\"),1-SUMPRODUCT((RES!$D$6:$D$3006<=F$7)*(RES!$E$6:$E$3006>=F$7+1)*(RES!$I$6:$I$3006=$C81)*(RES!$J$6:$J$3006=$D81)),\"\"),\"\")","v":1},{"$f":"IFERROR(IF(AND($C81<>\"\",$D81<>\"\"),1-SUMPRODUCT((RES!$D$6:$D$3006<=G$7)*(RES!$E$6:$E$3006>=G$7+1)*(RES!$I$6:$I$3006=$C81)*(RES!$J$6:$J$3006=$D81)),\"\"),\"\")","v":1},{"$f":"IFERROR(IF(AND($C81<>\"\",$D81<>\"\"),1-SUMPRODUCT((RES!$D$6:$D$3006<=H$7)*(RES!$E$6:$E$3006>=H$7+1)*(RES!$I$6:$I$3006=$C81)*(RES!$J$6:$J$3006=$D81)),\"\"),\"\")","v":1},{"$f":"IFERROR(IF(AND($C81<>\"\",$D81<>\"\"),1-SUMPRODUCT((RES!$D$6:$D$3006<=I$7)*(RES!$E$6:$E$3006>=I$7+1)*(RES!$I$6:$I$3006=$C81)*(RES!$J$6:$J$3006=$D81)),\"\"),\"\")","v":1},{"$f":"IFERROR(IF(AND($C81<>\"\",$D81<>\"\"),1-SUMPRODUCT((RES!$D$6:$D$3006<=J$7)*(RES!$E$6:$E$3006>=J$7+1)*(RES!$I$6:$I$3006=$C81)*(RES!$J$6:$J$3006=$D81)),\"\"),\"\")","v":1},{"$f":"IFERROR(IF(AND($C81<>\"\",$D81<>\"\"),1-SUMPRODUCT((RES!$D$6:$D$3006<=K$7)*(RES!$E$6:$E$3006>=K$7+1)*(RES!$I$6:$I$3006=$C81)*(RES!$J$6:$J$3006=$D81)),\"\"),\"\")","v":1},{"$f":"IFERROR(IF(AND($C81<>\"\",$D81<>\"\"),1-SUMPRODUCT((RES!$D$6:$D$3006<=L$7)*(RES!$E$6:$E$3006>=L$7+1)*(RES!$I$6:$I$3006=$C81)*(RES!$J$6:$J$3006=$D81)),\"\"),\"\")","v":1},{"$f":"IFERROR(IF(AND($C81<>\"\",$D81<>\"\"),1-SUMPRODUCT((RES!$D$6:$D$3006<=M$7)*(RES!$E$6:$E$3006>=M$7+1)*(RES!$I$6:$I$3006=$C81)*(RES!$J$6:$J$3006=$D81)),\"\"),\"\")","v":1},{"$f":"IFERROR(IF(AND($C81<>\"\",$D81<>\"\"),1-SUMPRODUCT((RES!$D$6:$D$3006<=N$7)*(RES!$E$6:$E$3006>=N$7+1)*(RES!$I$6:$I$3006=$C81)*(RES!$J$6:$J$3006=$D81)),\"\"),\"\")","v":1},{"$f":"IFERROR(IF(AND($C81<>\"\",$D81<>\"\"),1-SUMPRODUCT((RES!$D$6:$D$3006<=O$7)*(RES!$E$6:$E$3006>=O$7+1)*(RES!$I$6:$I$3006=$C81)*(RES!$J$6:$J$3006=$D81)),\"\"),\"\")","v":1},{"$f":"IFERROR(IF(AND($C81<>\"\",$D81<>\"\"),1-SUMPRODUCT((RES!$D$6:$D$3006<=P$7)*(RES!$E$6:$E$3006>=P$7+1)*(RES!$I$6:$I$3006=$C81)*(RES!$J$6:$J$3006=$D81)),\"\"),\"\")","v":1},{"$f":"IFERROR(IF(AND($C81<>\"\",$D81<>\"\"),1-SUMPRODUCT((RES!$D$6:$D$3006<=Q$7)*(RES!$E$6:$E$3006>=Q$7+1)*(RES!$I$6:$I$3006=$C81)*(RES!$J$6:$J$3006=$D81)),\"\"),\"\")","v":1},{"$f":"IFERROR(IF(AND($C81<>\"\",$D81<>\"\"),1-SUMPRODUCT((RES!$D$6:$D$3006<=R$7)*(RES!$E$6:$E$3006>=R$7+1)*(RES!$I$6:$I$3006=$C81)*(RES!$J$6:$J$3006=$D81)),\"\"),\"\")","v":1},{"$f":"IFERROR(IF(AND($C81<>\"\",$D81<>\"\"),1-SUMPRODUCT((RES!$D$6:$D$3006<=S$7)*(RES!$E$6:$E$3006>=S$7+1)*(RES!$I$6:$I$3006=$C81)*(RES!$J$6:$J$3006=$D81)),\"\"),\"\")","v":1},{"$f":"IFERROR(IF(AND($C81<>\"\",$D81<>\"\"),1-SUMPRODUCT((RES!$D$6:$D$3006<=T$7)*(RES!$E$6:$E$3006>=T$7+1)*(RES!$I$6:$I$3006=$C81)*(RES!$J$6:$J$3006=$D81)),\"\"),\"\")","v":1}]
[null,null,{"$f":"CAD_Q!C80","v":75},{"$f":"IFERROR(IF(VLOOKUP(C82,CAD_Q!$C$6:$D$105,2,FALSE)=0,\"\",VLOOKUP(C82,CAD_Q!$C$6:$D$105,2,FALSE)),\"\")","v":"Estándar"},null,{"$f":"IFERROR(IF(AND($C82<>\"\",$D82<>\"\"),1-SUMPRODUCT((RES!$D$6:$D$3006<=F$7)*(RES!$E$6:$E$3006>=F$7+1)*(RES!$I$6:$I$3006=$C82)*(RES!$J$6:$J$3006=$D82)),\"\"),\"\")","v":1},{"$f":"IFERROR(IF(AND($C82<>\"\",$D82<>\"\"),1-SUMPRODUCT((RES!$D$6:$D$3006<=G$7)*(RES!$E$6:$E$3006>=G$7+1)*(RES!$I$6:$I$3006=$C82)*(RES!$J$6:$J$3006=$D82)),\"\"),\"\")","v":1},{"$f":"IFERROR(IF(AND($C82<>\"\",$D82<>\"\"),1-SUMPRODUCT((RES!$D$6:$D$3006<=H$7)*(RES!$E$6:$E$3006>=H$7+1)*(RES!$I$6:$I$3006=$C82)*(RES!$J$6:$J$3006=$D82)),\"\"),\"\")","v":1},{"$f":"IFERROR(IF(AND($C82<>\"\",$D82<>\"\"),1-SUMPRODUCT((RES!$D$6:$D$3006<=I$7)*(RES!$E$6:$E$3006>=I$7+1)*(RES!$I$6:$I$3006=$C82)*(RES!$J$6:$J$3006=$D82)),\"\"),\"\")","v":1},{"$f":"IFERROR(IF(AND($C82<>\"\",$D82<>\"\"),1-SUMPRODUCT((RES!$D$6:$D$3006<=J$7)*(RES!$E$6:$E$3006>=J$7+1)*(RES!$I$6:$I$3006=$C82)*(RES!$J$6:$J$3006=$D82)),\"\"),\"\")","v":1},{"$f":"IFERROR(IF(AND($C82<>\"\",$D82<>\"\"),1-SUMPRODUCT((RES!$D$6:$D$3006<=K$7)*(RES!$E$6:$E$3006>=K$7+1)*(RES!$I$6:$I$3006=$C82)*(RES!$J$6:$J$3006=$D82)),\"\"),\"\")","v":1},{"$f":"IFERROR(IF(AND($C82<>\"\",$D82<>\"\"),1-SUMPRODUCT((RES!$D$6:$D$3006<=L$7)*(RES!$E$6:$E$3006>=L$7+1)*(RES!$I$6:$I$3006=$C82)*(RES!$J$6:$J$3006=$D82)),\"\"),\"\")","v":1},{"$f":"IFERROR(IF(AND($C82<>\"\",$D82<>\"\"),1-SUMPRODUCT((RES!$D$6:$D$3006<=M$7)*(RES!$E$6:$E$3006>=M$7+1)*(RES!$I$6:$I$3006=$C82)*(RES!$J$6:$J$3006=$D82)),\"\"),\"\")","v":1},{"$f":"IFERROR(IF(AND($C82<>\"\",$D82<>\"\"),1-SUMPRODUCT((RES!$D$6:$D$3006<=N$7)*(RES!$E$6:$E$3006>=N$7+1)*(RES!$I$6:$I$3006=$C82)*(RES!$J$6:$J$3006=$D82)),\"\"),\"\")","v":1},{"$f":"IFERROR(IF(AND($C82<>\"\",$D82<>\"\"),1-SUMPRODUCT((RES!$D$6:$D$3006<=O$7)*(RES!$E$6:$E$3006>=O$7+1)*(RES!$I$6:$I$3006=$C82)*(RES!$J$6:$J$3006=$D82)),\"\"),\"\")","v":1},{"$f":"IFERROR(IF(AND($C82<>\"\",$D82<>\"\"),1-SUMPRODUCT((RES!$D$6:$D$3006<=P$7)*(RES!$E$6:$E$3006>=P$7+1)*(RES!$I$6:$I$3006=$C82)*(RES!$J$6:$J$3006=$D82)),\"\"),\"\")","v":1},{"$f":"IFERROR(IF(AND($C82<>\"\",$D82<>\"\"),1-SUMPRODUCT((RES!$D$6:$D$3006<=Q$7)*(RES!$E$6:$E$3006>=Q$7+1)*(RES!$I$6:$I$3006=$C82)*(RES!$J$6:$J$3006=$D82)),\"\"),\"\")","v":1},{"$f":"IFERROR(IF(AND($C82<>\"\",$D82<>\"\"),1-SUMPRODUCT((RES!$D$6:$D$3006<=R$7)*(RES!$E$6:$E$3006>=R$7+1)*(RES!$I$6:$I$3006=$C82)*(RES!$J$6:$J$3006=$D82)),\"\"),\"\")","v":1},{"$f":"IFERROR(IF(AND($C82<>\"\",$D82<>\"\"),1-SUMPRODUCT((RES!$D$6:$D$3006<=S$7)*(RES!$E$6:$E$3006>=S$7+1)*(RES!$I$6:$I$3006=$C82)*(RES!$J$6:$J$3006=$D82)),\"\"),\"\")","v":1},{"$f":"IFERROR(IF(AND($C82<>\"\",$D82<>\"\"),1-SUMPRODUCT((RES!$D$6:$D$3006<=T$7)*(RES!$E$6:$E$3006>=T$7+1)*(RES!$I$6:$I$3006=$C82)*(RES!$J$6:$J$3006=$D82)),\"\"),\"\")","v":1}]
[null,null,{"$f":"CAD_Q!C81","v":76},{"$f":"IFERROR(IF(VLOOKUP(C83,CAD_Q!$C$6:$D$105,2,FALSE)=0,\"\",VLOOKUP(C83,CAD_Q!$C$6:$D$105,2,FALSE)),\"\")","v":"Estándar"},null,{"$f":"IFERROR(IF(AND($C83<>\"\",$D83<>\"\"),1-SUMPRODUCT((RES!$D$6:$D$3006<=F$7)*(RES!$E$6:$E$3006>=F$7+1)*(RES!$I$6:$I$3006=$C83)*(RES!$J$6:$J$3006=$D83)),\"\"),\"\")","v":1},{"$f":"IFERROR(IF(AND($C83<>\"\",$D83<>\"\"),1-SUMPRODUCT((RES!$D$6:$D$3006<=G$7)*(RES!$E$6:$E$3006>=G$7+1)*(RES!$I$6:$I$3006=$C83)*(RES!$J$6:$J$3006=$D83)),\"\"),\"\")","v":1},{"$f":"IFERROR(IF(AND($C83<>\"\",$D83<>\"\"),1-SUMPRODUCT((RES!$D$6:$D$3006<=H$7)*(RES!$E$6:$E$3006>=H$7+1)*(RES!$I$6:$I$3006=$C83)*(RES!$J$6:$J$3006=$D83)),\"\"),\"\")","v":1},{"$f":"IFERROR(IF(AND($C83<>\"\",$D83<>\"\"),1-SUMPRODUCT((RES!$D$6:$D$3006<=I$7)*(RES!$E$6:$E$3006>=I$7+1)*(RES!$I$6:$I$3006=$C83)*(RES!$J$6:$J$3006=$D83)),\"\"),\"\")","v":1},{"$f":"IFERROR(IF(AND($C83<>\"\",$D83<>\"\"),1-SUMPRODUCT((RES!$D$6:$D$3006<=J$7)*(RES!$E$6:$E$3006>=J$7+1)*(RES!$I$6:$I$3006=$C83)*(RES!$J$6:$J$3006=$D83)),\"\"),\"\")","v":1},{"$f":"IFERROR(IF(AND($C83<>\"\",$D83<>\"\"),1-SUMPRODUCT((RES!$D$6:$D$3006<=K$7)*(RES!$E$6:$E$3006>=K$7+1)*(RES!$I$6:$I$3006=$C83)*(RES!$J$6:$J$3006=$D83)),\"\"),\"\")","v":1},{"$f":"IFERROR(IF(AND($C83<>\"\",$D83<>\"\"),1-SUMPRODUCT((RES!$D$6:$D$3006<=L$7)*(RES!$E$6:$E$3006>=L$7+1)*(RES!$I$6:$I$3006=$C83)*(RES!$J$6:$J$3006=$D83)),\"\"),\"\")","v":1},{"$f":"IFERROR(IF(AND($C83<>\"\",$D83<>\"\"),1-SUMPRODUCT((RES!$D$6:$D$3006<=M$7)*(RES!$E$6:$E$3006>=M$7+1)*(RES!$I$6:$I$3006=$C83)*(RES!$J$6:$J$3006=$D83)),\"\"),\"\")","v":1},{"$f":"IFERROR(IF(AND($C83<>\"\",$D83<>\"\"),1-SUMPRODUCT((RES!$D$6:$D$3006<=N$7)*(RES!$E$6:$E$3006>=N$7+1)*(RES!$I$6:$I$3006=$C83)*(RES!$J$6:$J$3006=$D83)),\"\"),\"\")","v":1},{"$f":"IFERROR(IF(AND($C83<>\"\",$D83<>\"\"),1-SUMPRODUCT((RES!$D$6:$D$3006<=O$7)*(RES!$E$6:$E$3006>=O$7+1)*(RES!$I$6:$I$3006=$C83)*(RES!$J$6:$J$3006=$D83)),\"\"),\"\")","v":1},{"$f":"IFERROR(IF(AND($C83<>\"\",$D83<>\"\"),1-SUMPRODUCT((RES!$D$6:$D$3006<=P$7)*(RES!$E$6:$E$3006>=P$7+1)*(RES!$I$6:$I$3006=$C83)*(RES!$J$6:$J$3006=$D83)),\"\"),\"\")","v":1},{"$f":"IFERROR(IF(AND($C83<>\"\",$D83<>\"\"),1-SUMPRODUCT((RES!$D$6:$D$3006<=Q$7)*(RES!$E$6:$E$3006>=Q$7+1)*(RES!$I$6:$I$3006=$C83)*(RES!$J$6:$J$3006=$D83)),\"\"),\"\")","v":1},{"$f":"IFERROR(IF(AND($C83<>\"\",$D83<>\"\"),1-SUMPRODUCT((RES!$D$6:$D$3006<=R$7)*(RES!$E$6:$E$3006>=R$7+1)*(RES!$I$6:$I$3006=$C83)*(RES!$J$6:$J$3006=$D83)),\"\"),\"\")","v":1},{"$f":"IFERROR(IF(AND($C83<>\"\",$D83<>\"\"),1-SUMPRODUCT((RES!$D$6:$D$3006<=S$7)*(RES!$E$6:$E$3006>=S$7+1)*(RES!$I$6:$I$3006=$C83)*(RES!$J$6:$J$3006=$D83)),\"\"),\"\")","v":1},{"$f":"IFERROR(IF(AND($C83<>\"\",$D83<>\"\"),1-SUMPRODUCT((RES!$D$6:$D$3006<=T$7)*(RES!$E$6:$E$3006>=T$7+1)*(RES!$I$6:$I$3006=$C83)*(RES!$J$6:$J$3006=$D83)),\"\"),\"\")","v":1}]
[null,null,{"$f":"CAD_Q!C82","v":77},{"$f":"IFERROR(IF(VLOOKUP(C84,CAD_Q!$C$6:$D$105,2,FALSE)=0,\"\",VLOOKUP(C84,CAD_Q!$C$6:$D$105,2,FALSE)),\"\")","v":"Estándar"},null,{"$f":"IFERROR(IF(AND($C84<>\"\",$D84<>\"\"),1-SUMPRODUCT((RES!$D$6:$D$3006<=F$7)*(RES!$E$6:$E$3006>=F$7+1)*(RES!$I$6:$I$3006=$C84)*(RES!$J$6:$J$3006=$D84)),\"\"),\"\")","v":1},{"$f":"IFERROR(IF(AND($C84<>\"\",$D84<>\"\"),1-SUMPRODUCT((RES!$D$6:$D$3006<=G$7)*(RES!$E$6:$E$3006>=G$7+1)*(RES!$I$6:$I$3006=$C84)*(RES!$J$6:$J$3006=$D84)),\"\"),\"\")","v":1},{"$f":"IFERROR(IF(AND($C84<>\"\",$D84<>\"\"),1-SUMPRODUCT((RES!$D$6:$D$3006<=H$7)*(RES!$E$6:$E$3006>=H$7+1)*(RES!$I$6:$I$3006=$C84)*(RES!$J$6:$J$3006=$D84)),\"\"),\"\")","v":1},{"$f":"IFERROR(IF(AND($C84<>\"\",$D84<>\"\"),1-SUMPRODUCT((RES!$D$6:$D$3006<=I$7)*(RES!$E$6:$E$3006>=I$7+1)*(RES!$I$6:$I$3006=$C84)*(RES!$J$6:$J$3006=$D84)),\"\"),\"\")","v":1},{"$f":"IFERROR(IF(AND($C84<>\"\",$D84<>\"\"),1-SUMPRODUCT((RES!$D$6:$D$3006<=J$7)*(RES!$E$6:$E$3006>=J$7+1)*(RES!$I$6:$I$3006=$C84)*(RES!$J$6:$J$3006=$D84)),\"\"),\"\")","v":1},{"$f":"IFERROR(IF(AND($C84<>\"\",$D84<>\"\"),1-SUMPRODUCT((RES!$D$6:$D$3006<=K$7)*(RES!$E$6:$E$3006>=K$7+1)*(RES!$I$6:$I$3006=$C84)*(RES!$J$6:$J$3006=$D84)),\"\"),\"\")","v":1},{"$f":"IFERROR(IF(AND($C84<>\"\",$D84<>\"\"),1-SUMPRODUCT((RES!$D$6:$D$3006<=L$7)*(RES!$E$6:$E$3006>=L$7+1)*(RES!$I$6:$I$3006=$C84)*(RES!$J$6:$J$3006=$D84)),\"\"),\"\")","v":1},{"$f":"IFERROR(IF(AND($C84<>\"\",$D84<>\"\"),1-SUMPRODUCT((RES!$D$6:$D$3006<=M$7)*(RES!$E$6:$E$3006>=M$7+1)*(RES!$I$6:$I$3006=$C84)*(RES!$J$6:$J$3006=$D84)),\"\"),\"\")","v":1},{"$f":"IFERROR(IF(AND($C84<>\"\",$D84<>\"\"),1-SUMPRODUCT((RES!$D$6:$D$3006<=N$7)*(RES!$E$6:$E$3006>=N$7+1)*(RES!$I$6:$I$3006=$C84)*(RES!$J$6:$J$3006=$D84)),\"\"),\"\")","v":1},{"$f":"IFERROR(IF(AND($C84<>\"\",$D84<>\"\"),1-SUMPRODUCT((RES!$D$6:$D$3006<=O$7)*(RES!$E$6:$E$3006>=O$7+1)*(RES!$I$6:$I$3006=$C84)*(RES!$J$6:$J$3006=$D84)),\"\"),\"\")","v":1},{"$f":"IFERROR(IF(AND($C84<>\"\",$D84<>\"\"),1-SUMPRODUCT((RES!$D$6:$D$3006<=P$7)*(RES!$E$6:$E$3006>=P$7+1)*(RES!$I$6:$I$3006=$C84)*(RES!$J$6:$J$3006=$D84)),\"\"),\"\")","v":1},{"$f":"IFERROR(IF(AND($C84<>\"\",$D84<>\"\"),1-SUMPRODUCT((RES!$D$6:$D$3006<=Q$7)*(RES!$E$6:$E$3006>=Q$7+1)*(RES!$I$6:$I$3006=$C84)*(RES!$J$6:$J$3006=$D84)),\"\"),\"\")","v":1},{"$f":"IFERROR(IF(AND($C84<>\"\",$D84<>\"\"),1-SUMPRODUCT((RES!$D$6:$D$3006<=R$7)*(RES!$E$6:$E$3006>=R$7+1)*(RES!$I$6:$I$3006=$C84)*(RES!$J$6:$J$3006=$D84)),\"\"),\"\")","v":1},{"$f":"IFERROR(IF(AND($C84<>\"\",$D84<>\"\"),1-SUMPRODUCT((RES!$D$6:$D$3006<=S$7)*(RES!$E$6:$E$3006>=S$7+1)*(RES!$I$6:$I$3006=$C84)*(RES!$J$6:$J$3006=$D84)),\"\"),\"\")","v":1},{"$f":"IFERROR(IF(AND($C84<>\"\",$D84<>\"\"),1-SUMPRODUCT((RES!$D$6:$D$3006<=T$7)*(RES!$E$6:$E$3006>=T$7+1)*(RES!$I$6:$I$3006=$C84)*(RES!$J$6:$J$3006=$D84)),\"\"),\"\")","v":1}]
[null,null,{"$f":"CAD_Q!C83","v":78},{"$f":"IFERROR(IF(VLOOKUP(C85,CAD_Q!$C$6:$D$105,2,FALSE)=0,\"\",VLOOKUP(C85,CAD_Q!$C$6:$D$105,2,FALSE)),\"\")","v":"Estándar"},null,{"$f":"IFERROR(IF(AND($C85<>\"\",$D85<>\"\"),1-SUMPRODUCT((RES!$D$6:$D$3006<=F$7)*(RES!$E$6:$E$3006>=F$7+1)*(RES!$I$6:$I$3006=$C85)*(RES!$J$6:$J$3006=$D85)),\"\"),\"\")","v":1},{"$f":"IFERROR(IF(AND($C85<>\"\",$D85<>\"\"),1-SUMPRODUCT((RES!$D$6:$D$3006<=G$7)*(RES!$E$6:$E$3006>=G$7+1)*(RES!$I$6:$I$3006=$C85)*(RES!$J$6:$J$3006=$D85)),\"\"),\"\")","v":1},{"$f":"IFERROR(IF(AND($C85<>\"\",$D85<>\"\"),1-SUMPRODUCT((RES!$D$6:$D$3006<=H$7)*(RES!$E$6:$E$3006>=H$7+1)*(RES!$I$6:$I$3006=$C85)*(RES!$J$6:$J$3006=$D85)),\"\"),\"\")","v":1},{"$f":"IFERROR(IF(AND($C85<>\"\",$D85<>\"\"),1-SUMPRODUCT((RES!$D$6:$D$3006<=I$7)*(RES!$E$6:$E$3006>=I$7+1)*(RES!$I$6:$I$3006=$C85)*(RES!$J$6:$J$3006=$D85)),\"\"),\"\")","v":1},{"$f":"IFERROR(IF(AND($C85<>\"\",$D85<>\"\"),1-SUMPRODUCT((RES!$D$6:$D$3006<=J$7)*(RES!$E$6:$E$3006>=J$7+1)*(RES!$I$6:$I$3006=$C85)*(RES!$J$6:$J$3006=$D85)),\"\"),\"\")","v":1},{"$f":"IFERROR(IF(AND($C85<>\"\",$D85<>\"\"),1-SUMPRODUCT((RES!$D$6:$D$3006<=K$7)*(RES!$E$6:$E$3006>=K$7+1)*(RES!$I$6:$I$3006=$C85)*(RES!$J$6:$J$3006=$D85)),\"\"),\"\")","v":1},{"$f":"IFERROR(IF(AND($C85<>\"\",$D85<>\"\"),1-SUMPRODUCT((RES!$D$6:$D$3006<=L$7)*(RES!$E$6:$E$3006>=L$7+1)*(RES!$I$6:$I$3006=$C85)*(RES!$J$6:$J$3006=$D85)),\"\"),\"\")","v":1},{"$f":"IFERROR(IF(AND($C85<>\"\",$D85<>\"\"),1-SUMPRODUCT((RES!$D$6:$D$3006<=M$7)*(RES!$E$6:$E$3006>=M$7+1)*(RES!$I$6:$I$3006=$C85)*(RES!$J$6:$J$3006=$D85)),\"\"),\"\")","v":1},{"$f":"IFERROR(IF(AND($C85<>\"\",$D85<>\"\"),1-SUMPRODUCT((RES!$D$6:$D$3006<=N$7)*(RES!$E$6:$E$3006>=N$7+1)*(RES!$I$6:$I$3006=$C85)*(RES!$J$6:$J$3006=$D85)),\"\"),\"\")","v":1},{"$f":"IFERROR(IF(AND($C85<>\"\",$D85<>\"\"),1-SUMPRODUCT((RES!$D$6:$D$3006<=O$7)*(RES!$E$6:$E$3006>=O$7+1)*(RES!$I$6:$I$3006=$C85)*(RES!$J$6:$J$3006=$D85)),\"\"),\"\")","v":1},{"$f":"IFERROR(IF(AND($C85<>\"\",$D85<>\"\"),1-SUMPRODUCT((RES!$D$6:$D$3006<=P$7)*(RES!$E$6:$E$3006>=P$7+1)*(RES!$I$6:$I$3006=$C85)*(RES!$J$6:$J$3006=$D85)),\"\"),\"\")","v":1},{"$f":"IFERROR(IF(AND($C85<>\"\",$D85<>\"\"),1-SUMPRODUCT((RES!$D$6:$D$3006<=Q$7)*(RES!$E$6:$E$3006>=Q$7+1)*(RES!$I$6:$I$3006=$C85)*(RES!$J$6:$J$3006=$D85)),\"\"),\"\")","v":1},{"$f":"IFERROR(IF(AND($C85<>\"\",$D85<>\"\"),1-SUMPRODUCT((RES!$D$6:$D$3006<=R$7)*(RES!$E$6:$E$3006>=R$7+1)*(RES!$I$6:$I$3006=$C85)*(RES!$J$6:$J$3006=$D85)),\"\"),\"\")","v":1},{"$f":"IFERROR(IF(AND($C85<>\"\",$D85<>\"\"),1-SUMPRODUCT((RES!$D$6:$D$3006<=S$7)*(RES!$E$6:$E$3006>=S$7+1)*(RES!$I$6:$I$3006=$C85)*(RES!$J$6:$J$3006=$D85)),\"\"),\"\")","v":1},{"$f":"IFERROR(IF(AND($C85<>\"\",$D85<>\"\"),1-SUMPRODUCT((RES!$D$6:$D$3006<=T$7)*(RES!$E$6:$E$3006>=T$7+1)*(RES!$I$6:$I$3006=$C85)*(RES!$J$6:$J$3006=$D85)),\"\"),\"\")","v":1}]
[null,null,{"$f":"CAD_Q!C84","v":79},{"$f":"IFERROR(IF(VLOOKUP(C86,CAD_Q!$C$6:$D$105,2,FALSE)=0,\"\",VLOOKUP(C86,CAD_Q!$C$6:$D$105,2,FALSE)),\"\")","v":"Estándar"},null,{"$f":"IFERROR(IF(AND($C86<>\"\",$D86<>\"\"),1-SUMPRODUCT((RES!$D$6:$D$3006<=F$7)*(RES!$E$6:$E$3006>=F$7+1)*(RES!$I$6:$I$3006=$C86)*(RES!$J$6:$J$3006=$D86)),\"\"),\"\")","v":1},{"$f":"IFERROR(IF(AND($C86<>\"\",$D86<>\"\"),1-SUMPRODUCT((RES!$D$6:$D$3006<=G$7)*(RES!$E$6:$E$3006>=G$7+1)*(RES!$I$6:$I$3006=$C86)*(RES!$J$6:$J$3006=$D86)),\"\"),\"\")","v":1},{"$f":"IFERROR(IF(AND($C86<>\"\",$D86<>\"\"),1-SUMPRODUCT((RES!$D$6:$D$3006<=H$7)*(RES!$E$6:$E$3006>=H$7+1)*(RES!$I$6:$I$3006=$C86)*(RES!$J$6:$J$3006=$D86)),\"\"),\"\")","v":1},{"$f":"IFERROR(IF(AND($C86<>\"\",$D86<>\"\"),1-SUMPRODUCT((RES!$D$6:$D$3006<=I$7)*(RES!$E$6:$E$3006>=I$7+1)*(RES!$I$6:$I$3006=$C86)*(RES!$J$6:$J$3006=$D86)),\"\"),\"\")","v":1},{"$f":"IFERROR(IF(AND($C86<>\"\",$D86<>\"\"),1-SUMPRODUCT((RES!$D$6:$D$3006<=J$7)*(RES!$E$6:$E$3006>=J$7+1)*(RES!$I$6:$I$3006=$C86)*(RES!$J$6:$J$3006=$D86)),\"\"),\"\")","v":1},{"$f":"IFERROR(IF(AND($C86<>\"\",$D86<>\"\"),1-SUMPRODUCT((RES!$D$6:$D$3006<=K$7)*(RES!$E$6:$E$3006>=K$7+1)*(RES!$I$6:$I$3006=$C86)*(RES!$J$6:$J$3006=$D86)),\"\"),\"\")","v":1},{"$f":"IFERROR(IF(AND($C86<>\"\",$D86<>\"\"),1-SUMPRODUCT((RES!$D$6:$D$3006<=L$7)*(RES!$E$6:$E$3006>=L$7+1)*(RES!$I$6:$I$3006=$C86)*(RES!$J$6:$J$3006=$D86)),\"\"),\"\")","v":1},{"$f":"IFERROR(IF(AND($C86<>\"\",$D86<>\"\"),1-SUMPRODUCT((RES!$D$6:$D$3006<=M$7)*(RES!$E$6:$E$3006>=M$7+1)*(RES!$I$6:$I$3006=$C86)*(RES!$J$6:$J$3006=$D86)),\"\"),\"\")","v":1},{"$f":"IFERROR(IF(AND($C86<>\"\",$D86<>\"\"),1-SUMPRODUCT((RES!$D$6:$D$3006<=N$7)*(RES!$E$6:$E$3006>=N$7+1)*(RES!$I$6:$I$3006=$C86)*(RES!$J$6:$J$3006=$D86)),\"\"),\"\")","v":1},{"$f":"IFERROR(IF(AND($C86<>\"\",$D86<>\"\"),1-SUMPRODUCT((RES!$D$6:$D$3006<=O$7)*(RES!$E$6:$E$3006>=O$7+1)*(RES!$I$6:$I$3006=$C86)*(RES!$J$6:$J$3006=$D86)),\"\"),\"\")","v":1},{"$f":"IFERROR(IF(AND($C86<>\"\",$D86<>\"\"),1-SUMPRODUCT((RES!$D$6:$D$3006<=P$7)*(RES!$E$6:$E$3006>=P$7+1)*(RES!$I$6:$I$3006=$C86)*(RES!$J$6:$J$3006=$D86)),\"\"),\"\")","v":1},{"$f":"IFERROR(IF(AND($C86<>\"\",$D86<>\"\"),1-SUMPRODUCT((RES!$D$6:$D$3006<=Q$7)*(RES!$E$6:$E$3006>=Q$7+1)*(RES!$I$6:$I$3006=$C86)*(RES!$J$6:$J$3006=$D86)),\"\"),\"\")","v":1},{"$f":"IFERROR(IF(AND($C86<>\"\",$D86<>\"\"),1-SUMPRODUCT((RES!$D$6:$D$3006<=R$7)*(RES!$E$6:$E$3006>=R$7+1)*(RES!$I$6:$I$3006=$C86)*(RES!$J$6:$J$3006=$D86)),\"\"),\"\")","v":1},{"$f":"IFERROR(IF(AND($C86<>\"\",$D86<>\"\"),1-SUMPRODUCT((RES!$D$6:$D$3006<=S$7)*(RES!$E$6:$E$3006>=S$7+1)*(RES!$I$6:$I$3006=$C86)*(RES!$J$6:$J$3006=$D86)),\"\"),\"\")","v":1},{"$f":"IFERROR(IF(AND($C86<>\"\",$D86<>\"\"),1-SUMPRODUCT((RES!$D$6:$D$3006<=T$7)*(RES!$E$6:$E$3006>=T$7+1)*(RES!$I$6:$I$3006=$C86)*(RES!$J$6:$J$3006=$D86)),\"\"),\"\")","v":1}]
[null,null,{"$f":"CAD_Q!C85","v":80},{"$f":"IFERROR(IF(VLOOKUP(C87,CAD_Q!$C$6:$D$105,2,FALSE)=0,\"\",VLOOKUP(C87,CAD_Q!$C$6:$D$105,2,FALSE)),\"\")","v":"Estándar"},null,{"$f":"IFERROR(IF(AND($C87<>\"\",$D87<>\"\"),1-SUMPRODUCT((RES!$D$6:$D$3006<=F$7)*(RES!$E$6:$E$3006>=F$7+1)*(RES!$I$6:$I$3006=$C87)*(RES!$J$6:$J$3006=$D87)),\"\"),\"\")","v":1},{"$f":"IFERROR(IF(AND($C87<>\"\",$D87<>\"\"),1-SUMPRODUCT((RES!$D$6:$D$3006<=G$7)*(RES!$E$6:$E$3006>=G$7+1)*(RES!$I$6:$I$3006=$C87)*(RES!$J$6:$J$3006=$D87)),\"\"),\"\")","v":1},{"$f":"IFERROR(IF(AND($C87<>\"\",$D87<>\"\"),1-SUMPRODUCT((RES!$D$6:$D$3006<=H$7)*(RES!$E$6:$E$3006>=H$7+1)*(RES!$I$6:$I$3006=$C87)*(RES!$J$6:$J$3006=$D87)),\"\"),\"\")","v":1},{"$f":"IFERROR(IF(AND($C87<>\"\",$D87<>\"\"),1-SUMPRODUCT((RES!$D$6:$D$3006<=I$7)*(RES!$E$6:$E$3006>=I$7+1)*(RES!$I$6:$I$3006=$C87)*(RES!$J$6:$J$3006=$D87)),\"\"),\"\")","v":1},{"$f":"IFERROR(IF(AND($C87<>\"\",$D87<>\"\"),1-SUMPRODUCT((RES!$D$6:$D$3006<=J$7)*(RES!$E$6:$E$3006>=J$7+1)*(RES!$I$6:$I$3006=$C87)*(RES!$J$6:$J$3006=$D87)),\"\"),\"\")","v":1},{"$f":"IFERROR(IF(AND($C87<>\"\",$D87<>\"\"),1-SUMPRODUCT((RES!$D$6:$D$3006<=K$7)*(RES!$E$6:$E$3006>=K$7+1)*(RES!$I$6:$I$3006=$C87)*(RES!$J$6:$J$3006=$D87)),\"\"),\"\")","v":1},{"$f":"IFERROR(IF(AND($C87<>\"\",$D87<>\"\"),1-SUMPRODUCT((RES!$D$6:$D$3006<=L$7)*(RES!$E$6:$E$3006>=L$7+1)*(RES!$I$6:$I$3006=$C87)*(RES!$J$6:$J$3006=$D87)),\"\"),\"\")","v":1},{"$f":"IFERROR(IF(AND($C87<>\"\",$D87<>\"\"),1-SUMPRODUCT((RES!$D$6:$D$3006<=M$7)*(RES!$E$6:$E$3006>=M$7+1)*(RES!$I$6:$I$3006=$C87)*(RES!$J$6:$J$3006=$D87)),\"\"),\"\")","v":1},{"$f":"IFERROR(IF(AND($C87<>\"\",$D87<>\"\"),1-SUMPRODUCT((RES!$D$6:$D$3006<=N$7)*(RES!$E$6:$E$3006>=N$7+1)*(RES!$I$6:$I$3006=$C87)*(RES!$J$6:$J$3006=$D87)),\"\"),\"\")","v":1},{"$f":"IFERROR(IF(AND($C87<>\"\",$D87<>\"\"),1-SUMPRODUCT((RES!$D$6:$D$3006<=O$7)*(RES!$E$6:$E$3006>=O$7+1)*(RES!$I$6:$I$3006=$C87)*(RES!$J$6:$J$3006=$D87)),\"\"),\"\")","v":1},{"$f":"IFERROR(IF(AND($C87<>\"\",$D87<>\"\"),1-SUMPRODUCT((RES!$D$6:$D$3006<=P$7)*(RES!$E$6:$E$3006>=P$7+1)*(RES!$I$6:$I$3006=$C87)*(RES!$J$6:$J$3006=$D87)),\"\"),\"\")","v":1},{"$f":"IFERROR(IF(AND($C87<>\"\",$D87<>\"\"),1-SUMPRODUCT((RES!$D$6:$D$3006<=Q$7)*(RES!$E$6:$E$3006>=Q$7+1)*(RES!$I$6:$I$3006=$C87)*(RES!$J$6:$J$3006=$D87)),\"\"),\"\")","v":1},{"$f":"IFERROR(IF(AND($C87<>\"\",$D87<>\"\"),1-SUMPRODUCT((RES!$D$6:$D$3006<=R$7)*(RES!$E$6:$E$3006>=R$7+1)*(RES!$I$6:$I$3006=$C87)*(RES!$J$6:$J$3006=$D87)),\"\"),\"\")","v":1},{"$f":"IFERROR(IF(AND($C87<>\"\",$D87<>\"\"),1-SUMPRODUCT((RES!$D$6:$D$3006<=S$7)*(RES!$E$6:$E$3006>=S$7+1)*(RES!$I$6:$I$3006=$C87)*(RES!$J$6:$J$3006=$D87)),\"\"),\"\")","v":1},{"$f":"IFERROR(IF(AND($C87<>\"\",$D87<>\"\"),1-SUMPRODUCT((RES!$D$6:$D$3006<=T$7)*(RES!$E$6:$E$3006>=T$7+1)*(RES!$I$6:$I$3006=$C87)*(RES!$J$6:$J$3006=$D87)),\"\"),\"\")","v":1}]
[null,null,{"$f":"CAD_Q!C86","v":81},{"$f":"IFERROR(IF(VLOOKUP(C88,CAD_Q!$C$6:$D$105,2,FALSE)=0,\"\",VLOOKUP(C88,CAD_Q!$C$6:$D$105,2,FALSE)),\"\")","v":"Estándar"},null,{"$f":"IFERROR(IF(AND($C88<>\"\",$D88<>\"\"),1-SUMPRODUCT((RES!$D$6:$D$3006<=F$7)*(RES!$E$6:$E$3006>=F$7+1)*(RES!$I$6:$I$3006=$C88)*(RES!$J$6:$J$3006=$D88)),\"\"),\"\")","v":1},{"$f":"IFERROR(IF(AND($C88<>\"\",$D88<>\"\"),1-SUMPRODUCT((RES!$D$6:$D$3006<=G$7)*(RES!$E$6:$E$3006>=G$7+1)*(RES!$I$6:$I$3006=$C88)*(RES!$J$6:$J$3006=$D88)),\"\"),\"\")","v":1},{"$f":"IFERROR(IF(AND($C88<>\"\",$D88<>\"\"),1-SUMPRODUCT((RES!$D$6:$D$3006<=H$7)*(RES!$E$6:$E$3006>=H$7+1)*(RES!$I$6:$I$3006=$C88)*(RES!$J$6:$J$3006=$D88)),\"\"),\"\")","v":1},{"$f":"IFERROR(IF(AND($C88<>\"\",$D88<>\"\"),1-SUMPRODUCT((RES!$D$6:$D$3006<=I$7)*(RES!$E$6:$E$3006>=I$7+1)*(RES!$I$6:$I$3006=$C88)*(RES!$J$6:$J$3006=$D88)),\"\"),\"\")","v":1},{"$f":"IFERROR(IF(AND($C88<>\"\",$D88<>\"\"),1-SUMPRODUCT((RES!$D$6:$D$3006<=J$7)*(RES!$E$6:$E$3006>=J$7+1)*(RES!$I$6:$I$3006=$C88)*(RES!$J$6:$J$3006=$D88)),\"\"),\"\")","v":1},{"$f":"IFERROR(IF(AND($C88<>\"\",$D88<>\"\"),1-SUMPRODUCT((RES!$D$6:$D$3006<=K$7)*(RES!$E$6:$E$3006>=K$7+1)*(RES!$I$6:$I$3006=$C88)*(RES!$J$6:$J$3006=$D88)),\"\"),\"\")","v":1},{"$f":"IFERROR(IF(AND($C88<>\"\",$D88<>\"\"),1-SUMPRODUCT((RES!$D$6:$D$3006<=L$7)*(RES!$E$6:$E$3006>=L$7+1)*(RES!$I$6:$I$3006=$C88)*(RES!$J$6:$J$3006=$D88)),\"\"),\"\")","v":1},{"$f":"IFERROR(IF(AND($C88<>\"\",$D88<>\"\"),1-SUMPRODUCT((RES!$D$6:$D$3006<=M$7)*(RES!$E$6:$E$3006>=M$7+1)*(RES!$I$6:$I$3006=$C88)*(RES!$J$6:$J$3006=$D88)),\"\"),\"\")","v":1},{"$f":"IFERROR(IF(AND($C88<>\"\",$D88<>\"\"),1-SUMPRODUCT((RES!$D$6:$D$3006<=N$7)*(RES!$E$6:$E$3006>=N$7+1)*(RES!$I$6:$I$3006=$C88)*(RES!$J$6:$J$3006=$D88)),\"\"),\"\")","v":1},{"$f":"IFERROR(IF(AND($C88<>\"\",$D88<>\"\"),1-SUMPRODUCT((RES!$D$6:$D$3006<=O$7)*(RES!$E$6:$E$3006>=O$7+1)*(RES!$I$6:$I$3006=$C88)*(RES!$J$6:$J$3006=$D88)),\"\"),\"\")","v":1},{"$f":"IFERROR(IF(AND($C88<>\"\",$D88<>\"\"),1-SUMPRODUCT((RES!$D$6:$D$3006<=P$7)*(RES!$E$6:$E$3006>=P$7+1)*(RES!$I$6:$I$3006=$C88)*(RES!$J$6:$J$3006=$D88)),\"\"),\"\")","v":1},{"$f":"IFERROR(IF(AND($C88<>\"\",$D88<>\"\"),1-SUMPRODUCT((RES!$D$6:$D$3006<=Q$7)*(RES!$E$6:$E$3006>=Q$7+1)*(RES!$I$6:$I$3006=$C88)*(RES!$J$6:$J$3006=$D88)),\"\"),\"\")","v":1},{"$f":"IFERROR(IF(AND($C88<>\"\",$D88<>\"\"),1-SUMPRODUCT((RES!$D$6:$D$3006<=R$7)*(RES!$E$6:$E$3006>=R$7+1)*(RES!$I$6:$I$3006=$C88)*(RES!$J$6:$J$3006=$D88)),\"\"),\"\")","v":1},{"$f":"IFERROR(IF(AND($C88<>\"\",$D88<>\"\"),1-SUMPRODUCT((RES!$D$6:$D$3006<=S$7)*(RES!$E$6:$E$3006>=S$7+1)*(RES!$I$6:$I$3006=$C88)*(RES!$J$6:$J$3006=$D88)),\"\"),\"\")","v":1},{"$f":"IFERROR(IF(AND($C88<>\"\",$D88<>\"\"),1-SUMPRODUCT((RES!$D$6:$D$3006<=T$7)*(RES!$E$6:$E$3006>=T$7+1)*(RES!$I$6:$I$3006=$C88)*(RES!$J$6:$J$3006=$D88)),\"\"),\"\")","v":1}]
[null,null,{"$f":"CAD_Q!C87","v":82},{"$f":"IFERROR(IF(VLOOKUP(C89,CAD_Q!$C$6:$D$105,2,FALSE)=0,\"\",VLOOKUP(C89,CAD_Q!$C$6:$D$105,2,FALSE)),\"\")","v":"Estándar"},null,{"$f":"IFERROR(IF(AND($C89<>\"\",$D89<>\"\"),1-SUMPRODUCT((RES!$D$6:$D$3006<=F$7)*(RES!$E$6:$E$3006>=F$7+1)*(RES!$I$6:$I$3006=$C89)*(RES!$J$6:$J$3006=$D89)),\"\"),\"\")","v":1},{"$f":"IFERROR(IF(AND($C89<>\"\",$D89<>\"\"),1-SUMPRODUCT((RES!$D$6:$D$3006<=G$7)*(RES!$E$6:$E$3006>=G$7+1)*(RES!$I$6:$I$3006=$C89)*(RES!$J$6:$J$3006=$D89)),\"\"),\"\")","v":1},{"$f":"IFERROR(IF(AND($C89<>\"\",$D89<>\"\"),1-SUMPRODUCT((RES!$D$6:$D$3006<=H$7)*(RES!$E$6:$E$3006>=H$7+1)*(RES!$I$6:$I$3006=$C89)*(RES!$J$6:$J$3006=$D89)),\"\"),\"\")","v":1},{"$f":"IFERROR(IF(AND($C89<>\"\",$D89<>\"\"),1-SUMPRODUCT((RES!$D$6:$D$3006<=I$7)*(RES!$E$6:$E$3006>=I$7+1)*(RES!$I$6:$I$3006=$C89)*(RES!$J$6:$J$3006=$D89)),\"\"),\"\")","v":1},{"$f":"IFERROR(IF(AND($C89<>\"\",$D89<>\"\"),1-SUMPRODUCT((RES!$D$6:$D$3006<=J$7)*(RES!$E$6:$E$3006>=J$7+1)*(RES!$I$6:$I$3006=$C89)*(RES!$J$6:$J$3006=$D89)),\"\"),\"\")","v":1},{"$f":"IFERROR(IF(AND($C89<>\"\",$D89<>\"\"),1-SUMPRODUCT((RES!$D$6:$D$3006<=K$7)*(RES!$E$6:$E$3006>=K$7+1)*(RES!$I$6:$I$3006=$C89)*(RES!$J$6:$J$3006=$D89)),\"\"),\"\")","v":1},{"$f":"IFERROR(IF(AND($C89<>\"\",$D89<>\"\"),1-SUMPRODUCT((RES!$D$6:$D$3006<=L$7)*(RES!$E$6:$E$3006>=L$7+1)*(RES!$I$6:$I$3006=$C89)*(RES!$J$6:$J$3006=$D89)),\"\"),\"\")","v":1},{"$f":"IFERROR(IF(AND($C89<>\"\",$D89<>\"\"),1-SUMPRODUCT((RES!$D$6:$D$3006<=M$7)*(RES!$E$6:$E$3006>=M$7+1)*(RES!$I$6:$I$3006=$C89)*(RES!$J$6:$J$3006=$D89)),\"\"),\"\")","v":1},{"$f":"IFERROR(IF(AND($C89<>\"\",$D89<>\"\"),1-SUMPRODUCT((RES!$D$6:$D$3006<=N$7)*(RES!$E$6:$E$3006>=N$7+1)*(RES!$I$6:$I$3006=$C89)*(RES!$J$6:$J$3006=$D89)),\"\"),\"\")","v":1},{"$f":"IFERROR(IF(AND($C89<>\"\",$D89<>\"\"),1-SUMPRODUCT((RES!$D$6:$D$3006<=O$7)*(RES!$E$6:$E$3006>=O$7+1)*(RES!$I$6:$I$3006=$C89)*(RES!$J$6:$J$3006=$D89)),\"\"),\"\")","v":1},{"$f":"IFERROR(IF(AND($C89<>\"\",$D89<>\"\"),1-SUMPRODUCT((RES!$D$6:$D$3006<=P$7)*(RES!$E$6:$E$3006>=P$7+1)*(RES!$I$6:$I$3006=$C89)*(RES!$J$6:$J$3006=$D89)),\"\"),\"\")","v":1},{"$f":"IFERROR(IF(AND($C89<>\"\",$D89<>\"\"),1-SUMPRODUCT((RES!$D$6:$D$3006<=Q$7)*(RES!$E$6:$E$3006>=Q$7+1)*(RES!$I$6:$I$3006=$C89)*(RES!$J$6:$J$3006=$D89)),\"\"),\"\")","v":1},{"$f":"IFERROR(IF(AND($C89<>\"\",$D89<>\"\"),1-SUMPRODUCT((RES!$D$6:$D$3006<=R$7)*(RES!$E$6:$E$3006>=R$7+1)*(RES!$I$6:$I$3006=$C89)*(RES!$J$6:$J$3006=$D89)),\"\"),\"\")","v":1},{"$f":"IFERROR(IF(AND($C89<>\"\",$D89<>\"\"),1-SUMPRODUCT((RES!$D$6:$D$3006<=S$7)*(RES!$E$6:$E$3006>=S$7+1)*(RES!$I$6:$I$3006=$C89)*(RES!$J$6:$J$3006=$D89)),\"\"),\"\")","v":1},{"$f":"IFERROR(IF(AND($C89<>\"\",$D89<>\"\"),1-SUMPRODUCT((RES!$D$6:$D$3006<=T$7)*(RES!$E$6:$E$3006>=T$7+1)*(RES!$I$6:$I$3006=$C89)*(RES!$J$6:$J$3006=$D89)),\"\"),\"\")","v":1}]
[null,null,{"$f":"CAD_Q!C88","v":83},{"$f":"IFERROR(IF(VLOOKUP(C90,CAD_Q!$C$6:$D$105,2,FALSE)=0,\"\",VLOOKUP(C90,CAD_Q!$C$6:$D$105,2,FALSE)),\"\")","v":"Estándar"},null,{"$f":"IFERROR(IF(AND($C90<>\"\",$D90<>\"\"),1-SUMPRODUCT((RES!$D$6:$D$3006<=F$7)*(RES!$E$6:$E$3006>=F$7+1)*(RES!$I$6:$I$3006=$C90)*(RES!$J$6:$J$3006=$D90)),\"\"),\"\")","v":1},{"$f":"IFERROR(IF(AND($C90<>\"\",$D90<>\"\"),1-SUMPRODUCT((RES!$D$6:$D$3006<=G$7)*(RES!$E$6:$E$3006>=G$7+1)*(RES!$I$6:$I$3006=$C90)*(RES!$J$6:$J$3006=$D90)),\"\"),\"\")","v":1},{"$f":"IFERROR(IF(AND($C90<>\"\",$D90<>\"\"),1-SUMPRODUCT((RES!$D$6:$D$3006<=H$7)*(RES!$E$6:$E$3006>=H$7+1)*(RES!$I$6:$I$3006=$C90)*(RES!$J$6:$J$3006=$D90)),\"\"),\"\")","v":1},{"$f":"IFERROR(IF(AND($C90<>\"\",$D90<>\"\"),1-SUMPRODUCT((RES!$D$6:$D$3006<=I$7)*(RES!$E$6:$E$3006>=I$7+1)*(RES!$I$6:$I$3006=$C90)*(RES!$J$6:$J$3006=$D90)),\"\"),\"\")","v":1},{"$f":"IFERROR(IF(AND($C90<>\"\",$D90<>\"\"),1-SUMPRODUCT((RES!$D$6:$D$3006<=J$7)*(RES!$E$6:$E$3006>=J$7+1)*(RES!$I$6:$I$3006=$C90)*(RES!$J$6:$J$3006=$D90)),\"\"),\"\")","v":1},{"$f":"IFERROR(IF(AND($C90<>\"\",$D90<>\"\"),1-SUMPRODUCT((RES!$D$6:$D$3006<=K$7)*(RES!$E$6:$E$3006>=K$7+1)*(RES!$I$6:$I$3006=$C90)*(RES!$J$6:$J$3006=$D90)),\"\"),\"\")","v":1},{"$f":"IFERROR(IF(AND($C90<>\"\",$D90<>\"\"),1-SUMPRODUCT((RES!$D$6:$D$3006<=L$7)*(RES!$E$6:$E$3006>=L$7+1)*(RES!$I$6:$I$3006=$C90)*(RES!$J$6:$J$3006=$D90)),\"\"),\"\")","v":1},{"$f":"IFERROR(IF(AND($C90<>\"\",$D90<>\"\"),1-SUMPRODUCT((RES!$D$6:$D$3006<=M$7)*(RES!$E$6:$E$3006>=M$7+1)*(RES!$I$6:$I$3006=$C90)*(RES!$J$6:$J$3006=$D90)),\"\"),\"\")","v":1},{"$f":"IFERROR(IF(AND($C90<>\"\",$D90<>\"\"),1-SUMPRODUCT((RES!$D$6:$D$3006<=N$7)*(RES!$E$6:$E$3006>=N$7+1)*(RES!$I$6:$I$3006=$C90)*(RES!$J$6:$J$3006=$D90)),\"\"),\"\")","v":1},{"$f":"IFERROR(IF(AND($C90<>\"\",$D90<>\"\"),1-SUMPRODUCT((RES!$D$6:$D$3006<=O$7)*(RES!$E$6:$E$3006>=O$7+1)*(RES!$I$6:$I$3006=$C90)*(RES!$J$6:$J$3006=$D90)),\"\"),\"\")","v":1},{"$f":"IFERROR(IF(AND($C90<>\"\",$D90<>\"\"),1-SUMPRODUCT((RES!$D$6:$D$3006<=P$7)*(RES!$E$6:$E$3006>=P$7+1)*(RES!$I$6:$I$3006=$C90)*(RES!$J$6:$J$3006=$D90)),\"\"),\"\")","v":1},{"$f":"IFERROR(IF(AND($C90<>\"\",$D90<>\"\"),1-SUMPRODUCT((RES!$D$6:$D$3006<=Q$7)*(RES!$E$6:$E$3006>=Q$7+1)*(RES!$I$6:$I$3006=$C90)*(RES!$J$6:$J$3006=$D90)),\"\"),\"\")","v":1},{"$f":"IFERROR(IF(AND($C90<>\"\",$D90<>\"\"),1-SUMPRODUCT((RES!$D$6:$D$3006<=R$7)*(RES!$E$6:$E$3006>=R$7+1)*(RES!$I$6:$I$3006=$C90)*(RES!$J$6:$J$3006=$D90)),\"\"),\"\")","v":1},{"$f":"IFERROR(IF(AND($C90<>\"\",$D90<>\"\"),1-SUMPRODUCT((RES!$D$6:$D$3006<=S$7)*(RES!$E$6:$E$3006>=S$7+1)*(RES!$I$6:$I$3006=$C90)*(RES!$J$6:$J$3006=$D90)),\"\"),\"\")","v":1},{"$f":"IFERROR(IF(AND($C90<>\"\",$D90<>\"\"),1-SUMPRODUCT((RES!$D$6:$D$3006<=T$7)*(RES!$E$6:$E$3006>=T$7+1)*(RES!$I$6:$I$3006=$C90)*(RES!$J$6:$J$3006=$D90)),\"\"),\"\")","v":1}]
[null,null,{"$f":"CAD_Q!C89","v":84},{"$f":"IFERROR(IF(VLOOKUP(C91,CAD_Q!$C$6:$D$105,2,FALSE)=0,\"\",VLOOKUP(C91,CAD_Q!$C$6:$D$105,2,FALSE)),\"\")","v":"Estándar"},null,{"$f":"IFERROR(IF(AND($C91<>\"\",$D91<>\"\"),1-SUMPRODUCT((RES!$D$6:$D$3006<=F$7)*(RES!$E$6:$E$3006>=F$7+1)*(RES!$I$6:$I$3006=$C91)*(RES!$J$6:$J$3006=$D91)),\"\"),\"\")","v":1},{"$f":"IFERROR(IF(AND($C91<>\"\",$D91<>\"\"),1-SUMPRODUCT((RES!$D$6:$D$3006<=G$7)*(RES!$E$6:$E$3006>=G$7+1)*(RES!$I$6:$I$3006=$C91)*(RES!$J$6:$J$3006=$D91)),\"\"),\"\")","v":1},{"$f":"IFERROR(IF(AND($C91<>\"\",$D91<>\"\"),1-SUMPRODUCT((RES!$D$6:$D$3006<=H$7)*(RES!$E$6:$E$3006>=H$7+1)*(RES!$I$6:$I$3006=$C91)*(RES!$J$6:$J$3006=$D91)),\"\"),\"\")","v":1},{"$f":"IFERROR(IF(AND($C91<>\"\",$D91<>\"\"),1-SUMPRODUCT((RES!$D$6:$D$3006<=I$7)*(RES!$E$6:$E$3006>=I$7+1)*(RES!$I$6:$I$3006=$C91)*(RES!$J$6:$J$3006=$D91)),\"\"),\"\")","v":1},{"$f":"IFERROR(IF(AND($C91<>\"\",$D91<>\"\"),1-SUMPRODUCT((RES!$D$6:$D$3006<=J$7)*(RES!$E$6:$E$3006>=J$7+1)*(RES!$I$6:$I$3006=$C91)*(RES!$J$6:$J$3006=$D91)),\"\"),\"\")","v":1},{"$f":"IFERROR(IF(AND($C91<>\"\",$D91<>\"\"),1-SUMPRODUCT((RES!$D$6:$D$3006<=K$7)*(RES!$E$6:$E$3006>=K$7+1)*(RES!$I$6:$I$3006=$C91)*(RES!$J$6:$J$3006=$D91)),\"\"),\"\")","v":1},{"$f":"IFERROR(IF(AND($C91<>\"\",$D91<>\"\"),1-SUMPRODUCT((RES!$D$6:$D$3006<=L$7)*(RES!$E$6:$E$3006>=L$7+1)*(RES!$I$6:$I$3006=$C91)*(RES!$J$6:$J$3006=$D91)),\"\"),\"\")","v":1},{"$f":"IFERROR(IF(AND($C91<>\"\",$D91<>\"\"),1-SUMPRODUCT((RES!$D$6:$D$3006<=M$7)*(RES!$E$6:$E$3006>=M$7+1)*(RES!$I$6:$I$3006=$C91)*(RES!$J$6:$J$3006=$D91)),\"\"),\"\")","v":1},{"$f":"IFERROR(IF(AND($C91<>\"\",$D91<>\"\"),1-SUMPRODUCT((RES!$D$6:$D$3006<=N$7)*(RES!$E$6:$E$3006>=N$7+1)*(RES!$I$6:$I$3006=$C91)*(RES!$J$6:$J$3006=$D91)),\"\"),\"\")","v":1},{"$f":"IFERROR(IF(AND($C91<>\"\",$D91<>\"\"),1-SUMPRODUCT((RES!$D$6:$D$3006<=O$7)*(RES!$E$6:$E$3006>=O$7+1)*(RES!$I$6:$I$3006=$C91)*(RES!$J$6:$J$3006=$D91)),\"\"),\"\")","v":1},{"$f":"IFERROR(IF(AND($C91<>\"\",$D91<>\"\"),1-SUMPRODUCT((RES!$D$6:$D$3006<=P$7)*(RES!$E$6:$E$3006>=P$7+1)*(RES!$I$6:$I$3006=$C91)*(RES!$J$6:$J$3006=$D91)),\"\"),\"\")","v":1},{"$f":"IFERROR(IF(AND($C91<>\"\",$D91<>\"\"),1-SUMPRODUCT((RES!$D$6:$D$3006<=Q$7)*(RES!$E$6:$E$3006>=Q$7+1)*(RES!$I$6:$I$3006=$C91)*(RES!$J$6:$J$3006=$D91)),\"\"),\"\")","v":1},{"$f":"IFERROR(IF(AND($C91<>\"\",$D91<>\"\"),1-SUMPRODUCT((RES!$D$6:$D$3006<=R$7)*(RES!$E$6:$E$3006>=R$7+1)*(RES!$I$6:$I$3006=$C91)*(RES!$J$6:$J$3006=$D91)),\"\"),\"\")","v":1},{"$f":"IFERROR(IF(AND($C91<>\"\",$D91<>\"\"),1-SUMPRODUCT((RES!$D$6:$D$3006<=S$7)*(RES!$E$6:$E$3006>=S$7+1)*(RES!$I$6:$I$3006=$C91)*(RES!$J$6:$J$3006=$D91)),\"\"),\"\")","v":1},{"$f":"IFERROR(IF(AND($C91<>\"\",$D91<>\"\"),1-SUMPRODUCT((RES!$D$6:$D$3006<=T$7)*(RES!$E$6:$E$3006>=T$7+1)*(RES!$I$6:$I$3006=$C91)*(RES!$J$6:$J$3006=$D91)),\"\"),\"\")","v":1}]
[null,null,{"$f":"CAD_Q!C90","v":85},{"$f":"IFERROR(IF(VLOOKUP(C92,CAD_Q!$C$6:$D$105,2,FALSE)=0,\"\",VLOOKUP(C92,CAD_Q!$C$6:$D$105,2,FALSE)),\"\")","v":"Estándar"},null,{"$f":"IFERROR(IF(AND($C92<>\"\",$D92<>\"\"),1-SUMPRODUCT((RES!$D$6:$D$3006<=F$7)*(RES!$E$6:$E$3006>=F$7+1)*(RES!$I$6:$I$3006=$C92)*(RES!$J$6:$J$3006=$D92)),\"\"),\"\")","v":1},{"$f":"IFERROR(IF(AND($C92<>\"\",$D92<>\"\"),1-SUMPRODUCT((RES!$D$6:$D$3006<=G$7)*(RES!$E$6:$E$3006>=G$7+1)*(RES!$I$6:$I$3006=$C92)*(RES!$J$6:$J$3006=$D92)),\"\"),\"\")","v":1},{"$f":"IFERROR(IF(AND($C92<>\"\",$D92<>\"\"),1-SUMPRODUCT((RES!$D$6:$D$3006<=H$7)*(RES!$E$6:$E$3006>=H$7+1)*(RES!$I$6:$I$3006=$C92)*(RES!$J$6:$J$3006=$D92)),\"\"),\"\")","v":1},{"$f":"IFERROR(IF(AND($C92<>\"\",$D92<>\"\"),1-SUMPRODUCT((RES!$D$6:$D$3006<=I$7)*(RES!$E$6:$E$3006>=I$7+1)*(RES!$I$6:$I$3006=$C92)*(RES!$J$6:$J$3006=$D92)),\"\"),\"\")","v":1},{"$f":"IFERROR(IF(AND($C92<>\"\",$D92<>\"\"),1-SUMPRODUCT((RES!$D$6:$D$3006<=J$7)*(RES!$E$6:$E$3006>=J$7+1)*(RES!$I$6:$I$3006=$C92)*(RES!$J$6:$J$3006=$D92)),\"\"),\"\")","v":1},{"$f":"IFERROR(IF(AND($C92<>\"\",$D92<>\"\"),1-SUMPRODUCT((RES!$D$6:$D$3006<=K$7)*(RES!$E$6:$E$3006>=K$7+1)*(RES!$I$6:$I$3006=$C92)*(RES!$J$6:$J$3006=$D92)),\"\"),\"\")","v":1},{"$f":"IFERROR(IF(AND($C92<>\"\",$D92<>\"\"),1-SUMPRODUCT((RES!$D$6:$D$3006<=L$7)*(RES!$E$6:$E$3006>=L$7+1)*(RES!$I$6:$I$3006=$C92)*(RES!$J$6:$J$3006=$D92)),\"\"),\"\")","v":1},{"$f":"IFERROR(IF(AND($C92<>\"\",$D92<>\"\"),1-SUMPRODUCT((RES!$D$6:$D$3006<=M$7)*(RES!$E$6:$E$3006>=M$7+1)*(RES!$I$6:$I$3006=$C92)*(RES!$J$6:$J$3006=$D92)),\"\"),\"\")","v":1},{"$f":"IFERROR(IF(AND($C92<>\"\",$D92<>\"\"),1-SUMPRODUCT((RES!$D$6:$D$3006<=N$7)*(RES!$E$6:$E$3006>=N$7+1)*(RES!$I$6:$I$3006=$C92)*(RES!$J$6:$J$3006=$D92)),\"\"),\"\")","v":1},{"$f":"IFERROR(IF(AND($C92<>\"\",$D92<>\"\"),1-SUMPRODUCT((RES!$D$6:$D$3006<=O$7)*(RES!$E$6:$E$3006>=O$7+1)*(RES!$I$6:$I$3006=$C92)*(RES!$J$6:$J$3006=$D92)),\"\"),\"\")","v":1},{"$f":"IFERROR(IF(AND($C92<>\"\",$D92<>\"\"),1-SUMPRODUCT((RES!$D$6:$D$3006<=P$7)*(RES!$E$6:$E$3006>=P$7+1)*(RES!$I$6:$I$3006=$C92)*(RES!$J$6:$J$3006=$D92)),\"\"),\"\")","v":1},{"$f":"IFERROR(IF(AND($C92<>\"\",$D92<>\"\"),1-SUMPRODUCT((RES!$D$6:$D$3006<=Q$7)*(RES!$E$6:$E$3006>=Q$7+1)*(RES!$I$6:$I$3006=$C92)*(RES!$J$6:$J$3006=$D92)),\"\"),\"\")","v":1},{"$f":"IFERROR(IF(AND($C92<>\"\",$D92<>\"\"),1-SUMPRODUCT((RES!$D$6:$D$3006<=R$7)*(RES!$E$6:$E$3006>=R$7+1)*(RES!$I$6:$I$3006=$C92)*(RES!$J$6:$J$3006=$D92)),\"\"),\"\")","v":1},{"$f":"IFERROR(IF(AND($C92<>\"\",$D92<>\"\"),1-SUMPRODUCT((RES!$D$6:$D$3006<=S$7)*(RES!$E$6:$E$3006>=S$7+1)*(RES!$I$6:$I$3006=$C92)*(RES!$J$6:$J$3006=$D92)),\"\"),\"\")","v":1},{"$f":"IFERROR(IF(AND($C92<>\"\",$D92<>\"\"),1-SUMPRODUCT((RES!$D$6:$D$3006<=T$7)*(RES!$E$6:$E$3006>=T$7+1)*(RES!$I$6:$I$3006=$C92)*(RES!$J$6:$J$3006=$D92)),\"\"),\"\")","v":1}]
[null,null,{"$f":"CAD_Q!C91","v":86},{"$f":"IFERROR(IF(VLOOKUP(C93,CAD_Q!$C$6:$D$105,2,FALSE)=0,\"\",VLOOKUP(C93,CAD_Q!$C$6:$D$105,2,FALSE)),\"\")","v":"Estándar"},null,{"$f":"IFERROR(IF(AND($C93<>\"\",$D93<>\"\"),1-SUMPRODUCT((RES!$D$6:$D$3006<=F$7)*(RES!$E$6:$E$3006>=F$7+1)*(RES!$I$6:$I$3006=$C93)*(RES!$J$6:$J$3006=$D93)),\"\"),\"\")","v":1},{"$f":"IFERROR(IF(AND($C93<>\"\",$D93<>\"\"),1-SUMPRODUCT((RES!$D$6:$D$3006<=G$7)*(RES!$E$6:$E$3006>=G$7+1)*(RES!$I$6:$I$3006=$C93)*(RES!$J$6:$J$3006=$D93)),\"\"),\"\")","v":1},{"$f":"IFERROR(IF(AND($C93<>\"\",$D93<>\"\"),1-SUMPRODUCT((RES!$D$6:$D$3006<=H$7)*(RES!$E$6:$E$3006>=H$7+1)*(RES!$I$6:$I$3006=$C93)*(RES!$J$6:$J$3006=$D93)),\"\"),\"\")","v":1},{"$f":"IFERROR(IF(AND($C93<>\"\",$D93<>\"\"),1-SUMPRODUCT((RES!$D$6:$D$3006<=I$7)*(RES!$E$6:$E$3006>=I$7+1)*(RES!$I$6:$I$3006=$C93)*(RES!$J$6:$J$3006=$D93)),\"\"),\"\")","v":1},{"$f":"IFERROR(IF(AND($C93<>\"\",$D93<>\"\"),1-SUMPRODUCT((RES!$D$6:$D$3006<=J$7)*(RES!$E$6:$E$3006>=J$7+1)*(RES!$I$6:$I$3006=$C93)*(RES!$J$6:$J$3006=$D93)),\"\"),\"\")","v":1},{"$f":"IFERROR(IF(AND($C93<>\"\",$D93<>\"\"),1-SUMPRODUCT((RES!$D$6:$D$3006<=K$7)*(RES!$E$6:$E$3006>=K$7+1)*(RES!$I$6:$I$3006=$C93)*(RES!$J$6:$J$3006=$D93)),\"\"),\"\")","v":1},{"$f":"IFERROR(IF(AND($C93<>\"\",$D93<>\"\"),1-SUMPRODUCT((RES!$D$6:$D$3006<=L$7)*(RES!$E$6:$E$3006>=L$7+1)*(RES!$I$6:$I$3006=$C93)*(RES!$J$6:$J$3006=$D93)),\"\"),\"\")","v":1},{"$f":"IFERROR(IF(AND($C93<>\"\",$D93<>\"\"),1-SUMPRODUCT((RES!$D$6:$D$3006<=M$7)*(RES!$E$6:$E$3006>=M$7+1)*(RES!$I$6:$I$3006=$C93)*(RES!$J$6:$J$3006=$D93)),\"\"),\"\")","v":1},{"$f":"IFERROR(IF(AND($C93<>\"\",$D93<>\"\"),1-SUMPRODUCT((RES!$D$6:$D$3006<=N$7)*(RES!$E$6:$E$3006>=N$7+1)*(RES!$I$6:$I$3006=$C93)*(RES!$J$6:$J$3006=$D93)),\"\"),\"\")","v":1},{"$f":"IFERROR(IF(AND($C93<>\"\",$D93<>\"\"),1-SUMPRODUCT((RES!$D$6:$D$3006<=O$7)*(RES!$E$6:$E$3006>=O$7+1)*(RES!$I$6:$I$3006=$C93)*(RES!$J$6:$J$3006=$D93)),\"\"),\"\")","v":1},{"$f":"IFERROR(IF(AND($C93<>\"\",$D93<>\"\"),1-SUMPRODUCT((RES!$D$6:$D$3006<=P$7)*(RES!$E$6:$E$3006>=P$7+1)*(RES!$I$6:$I$3006=$C93)*(RES!$J$6:$J$3006=$D93)),\"\"),\"\")","v":1},{"$f":"IFERROR(IF(AND($C93<>\"\",$D93<>\"\"),1-SUMPRODUCT((RES!$D$6:$D$3006<=Q$7)*(RES!$E$6:$E$3006>=Q$7+1)*(RES!$I$6:$I$3006=$C93)*(RES!$J$6:$J$3006=$D93)),\"\"),\"\")","v":1},{"$f":"IFERROR(IF(AND($C93<>\"\",$D93<>\"\"),1-SUMPRODUCT((RES!$D$6:$D$3006<=R$7)*(RES!$E$6:$E$3006>=R$7+1)*(RES!$I$6:$I$3006=$C93)*(RES!$J$6:$J$3006=$D93)),\"\"),\"\")","v":1},{"$f":"IFERROR(IF(AND($C93<>\"\",$D93<>\"\"),1-SUMPRODUCT((RES!$D$6:$D$3006<=S$7)*(RES!$E$6:$E$3006>=S$7+1)*(RES!$I$6:$I$3006=$C93)*(RES!$J$6:$J$3006=$D93)),\"\"),\"\")","v":1},{"$f":"IFERROR(IF(AND($C93<>\"\",$D93<>\"\"),1-SUMPRODUCT((RES!$D$6:$D$3006<=T$7)*(RES!$E$6:$E$3006>=T$7+1)*(RES!$I$6:$I$3006=$C93)*(RES!$J$6:$J$3006=$D93)),\"\"),\"\")","v":1}]
[null,null,{"$f":"CAD_Q!C92","v":87},{"$f":"IFERROR(IF(VLOOKUP(C94,CAD_Q!$C$6:$D$105,2,FALSE)=0,\"\",VLOOKUP(C94,CAD_Q!$C$6:$D$105,2,FALSE)),\"\")","v":"Estándar"},null,{"$f":"IFERROR(IF(AND($C94<>\"\",$D94<>\"\"),1-SUMPRODUCT((RES!$D$6:$D$3006<=F$7)*(RES!$E$6:$E$3006>=F$7+1)*(RES!$I$6:$I$3006=$C94)*(RES!$J$6:$J$3006=$D94)),\"\"),\"\")","v":1},{"$f":"IFERROR(IF(AND($C94<>\"\",$D94<>\"\"),1-SUMPRODUCT((RES!$D$6:$D$3006<=G$7)*(RES!$E$6:$E$3006>=G$7+1)*(RES!$I$6:$I$3006=$C94)*(RES!$J$6:$J$3006=$D94)),\"\"),\"\")","v":1},{"$f":"IFERROR(IF(AND($C94<>\"\",$D94<>\"\"),1-SUMPRODUCT((RES!$D$6:$D$3006<=H$7)*(RES!$E$6:$E$3006>=H$7+1)*(RES!$I$6:$I$3006=$C94)*(RES!$J$6:$J$3006=$D94)),\"\"),\"\")","v":1},{"$f":"IFERROR(IF(AND($C94<>\"\",$D94<>\"\"),1-SUMPRODUCT((RES!$D$6:$D$3006<=I$7)*(RES!$E$6:$E$3006>=I$7+1)*(RES!$I$6:$I$3006=$C94)*(RES!$J$6:$J$3006=$D94)),\"\"),\"\")","v":1},{"$f":"IFERROR(IF(AND($C94<>\"\",$D94<>\"\"),1-SUMPRODUCT((RES!$D$6:$D$3006<=J$7)*(RES!$E$6:$E$3006>=J$7+1)*(RES!$I$6:$I$3006=$C94)*(RES!$J$6:$J$3006=$D94)),\"\"),\"\")","v":1},{"$f":"IFERROR(IF(AND($C94<>\"\",$D94<>\"\"),1-SUMPRODUCT((RES!$D$6:$D$3006<=K$7)*(RES!$E$6:$E$3006>=K$7+1)*(RES!$I$6:$I$3006=$C94)*(RES!$J$6:$J$3006=$D94)),\"\"),\"\")","v":1},{"$f":"IFERROR(IF(AND($C94<>\"\",$D94<>\"\"),1-SUMPRODUCT((RES!$D$6:$D$3006<=L$7)*(RES!$E$6:$E$3006>=L$7+1)*(RES!$I$6:$I$3006=$C94)*(RES!$J$6:$J$3006=$D94)),\"\"),\"\")","v":1},{"$f":"IFERROR(IF(AND($C94<>\"\",$D94<>\"\"),1-SUMPRODUCT((RES!$D$6:$D$3006<=M$7)*(RES!$E$6:$E$3006>=M$7+1)*(RES!$I$6:$I$3006=$C94)*(RES!$J$6:$J$3006=$D94)),\"\"),\"\")","v":1},{"$f":"IFERROR(IF(AND($C94<>\"\",$D94<>\"\"),1-SUMPRODUCT((RES!$D$6:$D$3006<=N$7)*(RES!$E$6:$E$3006>=N$7+1)*(RES!$I$6:$I$3006=$C94)*(RES!$J$6:$J$3006=$D94)),\"\"),\"\")","v":1},{"$f":"IFERROR(IF(AND($C94<>\"\",$D94<>\"\"),1-SUMPRODUCT((RES!$D$6:$D$3006<=O$7)*(RES!$E$6:$E$3006>=O$7+1)*(RES!$I$6:$I$3006=$C94)*(RES!$J$6:$J$3006=$D94)),\"\"),\"\")","v":1},{"$f":"IFERROR(IF(AND($C94<>\"\",$D94<>\"\"),1-SUMPRODUCT((RES!$D$6:$D$3006<=P$7)*(RES!$E$6:$E$3006>=P$7+1)*(RES!$I$6:$I$3006=$C94)*(RES!$J$6:$J$3006=$D94)),\"\"),\"\")","v":1},{"$f":"IFERROR(IF(AND($C94<>\"\",$D94<>\"\"),1-SUMPRODUCT((RES!$D$6:$D$3006<=Q$7)*(RES!$E$6:$E$3006>=Q$7+1)*(RES!$I$6:$I$3006=$C94)*(RES!$J$6:$J$3006=$D94)),\"\"),\"\")","v":1},{"$f":"IFERROR(IF(AND($C94<>\"\",$D94<>\"\"),1-SUMPRODUCT((RES!$D$6:$D$3006<=R$7)*(RES!$E$6:$E$3006>=R$7+1)*(RES!$I$6:$I$3006=$C94)*(RES!$J$6:$J$3006=$D94)),\"\"),\"\")","v":1},{"$f":"IFERROR(IF(AND($C94<>\"\",$D94<>\"\"),1-SUMPRODUCT((RES!$D$6:$D$3006<=S$7)*(RES!$E$6:$E$3006>=S$7+1)*(RES!$I$6:$I$3006=$C94)*(RES!$J$6:$J$3006=$D94)),\"\"),\"\")","v":1},{"$f":"IFERROR(IF(AND($C94<>\"\",$D94<>\"\"),1-SUMPRODUCT((RES!$D$6:$D$3006<=T$7)*(RES!$E$6:$E$3006>=T$7+1)*(RES!$I$6:$I$3006=$C94)*(RES!$J$6:$J$3006=$D94)),\"\"),\"\")","v":1}]
[null,null,{"$f":"CAD_Q!C93","v":88},{"$f":"IFERROR(IF(VLOOKUP(C95,CAD_Q!$C$6:$D$105,2,FALSE)=0,\"\",VLOOKUP(C95,CAD_Q!$C$6:$D$105,2,FALSE)),\"\")","v":"Estándar"},null,{"$f":"IFERROR(IF(AND($C95<>\"\",$D95<>\"\"),1-SUMPRODUCT((RES!$D$6:$D$3006<=F$7)*(RES!$E$6:$E$3006>=F$7+1)*(RES!$I$6:$I$3006=$C95)*(RES!$J$6:$J$3006=$D95)),\"\"),\"\")","v":1},{"$f":"IFERROR(IF(AND($C95<>\"\",$D95<>\"\"),1-SUMPRODUCT((RES!$D$6:$D$3006<=G$7)*(RES!$E$6:$E$3006>=G$7+1)*(RES!$I$6:$I$3006=$C95)*(RES!$J$6:$J$3006=$D95)),\"\"),\"\")","v":1},{"$f":"IFERROR(IF(AND($C95<>\"\",$D95<>\"\"),1-SUMPRODUCT((RES!$D$6:$D$3006<=H$7)*(RES!$E$6:$E$3006>=H$7+1)*(RES!$I$6:$I$3006=$C95)*(RES!$J$6:$J$3006=$D95)),\"\"),\"\")","v":1},{"$f":"IFERROR(IF(AND($C95<>\"\",$D95<>\"\"),1-SUMPRODUCT((RES!$D$6:$D$3006<=I$7)*(RES!$E$6:$E$3006>=I$7+1)*(RES!$I$6:$I$3006=$C95)*(RES!$J$6:$J$3006=$D95)),\"\"),\"\")","v":1},{"$f":"IFERROR(IF(AND($C95<>\"\",$D95<>\"\"),1-SUMPRODUCT((RES!$D$6:$D$3006<=J$7)*(RES!$E$6:$E$3006>=J$7+1)*(RES!$I$6:$I$3006=$C95)*(RES!$J$6:$J$3006=$D95)),\"\"),\"\")","v":1},{"$f":"IFERROR(IF(AND($C95<>\"\",$D95<>\"\"),1-SUMPRODUCT((RES!$D$6:$D$3006<=K$7)*(RES!$E$6:$E$3006>=K$7+1)*(RES!$I$6:$I$3006=$C95)*(RES!$J$6:$J$3006=$D95)),\"\"),\"\")","v":1},{"$f":"IFERROR(IF(AND($C95<>\"\",$D95<>\"\"),1-SUMPRODUCT((RES!$D$6:$D$3006<=L$7)*(RES!$E$6:$E$3006>=L$7+1)*(RES!$I$6:$I$3006=$C95)*(RES!$J$6:$J$3006=$D95)),\"\"),\"\")","v":1},{"$f":"IFERROR(IF(AND($C95<>\"\",$D95<>\"\"),1-SUMPRODUCT((RES!$D$6:$D$3006<=M$7)*(RES!$E$6:$E$3006>=M$7+1)*(RES!$I$6:$I$3006=$C95)*(RES!$J$6:$J$3006=$D95)),\"\"),\"\")","v":1},{"$f":"IFERROR(IF(AND($C95<>\"\",$D95<>\"\"),1-SUMPRODUCT((RES!$D$6:$D$3006<=N$7)*(RES!$E$6:$E$3006>=N$7+1)*(RES!$I$6:$I$3006=$C95)*(RES!$J$6:$J$3006=$D95)),\"\"),\"\")","v":1},{"$f":"IFERROR(IF(AND($C95<>\"\",$D95<>\"\"),1-SUMPRODUCT((RES!$D$6:$D$3006<=O$7)*(RES!$E$6:$E$3006>=O$7+1)*(RES!$I$6:$I$3006=$C95)*(RES!$J$6:$J$3006=$D95)),\"\"),\"\")","v":1},{"$f":"IFERROR(IF(AND($C95<>\"\",$D95<>\"\"),1-SUMPRODUCT((RES!$D$6:$D$3006<=P$7)*(RES!$E$6:$E$3006>=P$7+1)*(RES!$I$6:$I$3006=$C95)*(RES!$J$6:$J$3006=$D95)),\"\"),\"\")","v":1},{"$f":"IFERROR(IF(AND($C95<>\"\",$D95<>\"\"),1-SUMPRODUCT((RES!$D$6:$D$3006<=Q$7)*(RES!$E$6:$E$3006>=Q$7+1)*(RES!$I$6:$I$3006=$C95)*(RES!$J$6:$J$3006=$D95)),\"\"),\"\")","v":1},{"$f":"IFERROR(IF(AND($C95<>\"\",$D95<>\"\"),1-SUMPRODUCT((RES!$D$6:$D$3006<=R$7)*(RES!$E$6:$E$3006>=R$7+1)*(RES!$I$6:$I$3006=$C95)*(RES!$J$6:$J$3006=$D95)),\"\"),\"\")","v":1},{"$f":"IFERROR(IF(AND($C95<>\"\",$D95<>\"\"),1-SUMPRODUCT((RES!$D$6:$D$3006<=S$7)*(RES!$E$6:$E$3006>=S$7+1)*(RES!$I$6:$I$3006=$C95)*(RES!$J$6:$J$3006=$D95)),\"\"),\"\")","v":1},{"$f":"IFERROR(IF(AND($C95<>\"\",$D95<>\"\"),1-SUMPRODUCT((RES!$D$6:$D$3006<=T$7)*(RES!$E$6:$E$3006>=T$7+1)*(RES!$I$6:$I$3006=$C95)*(RES!$J$6:$J$3006=$D95)),\"\"),\"\")","v":1}]
[null,null,{"$f":"CAD_Q!C94","v":89},{"$f":"IFERROR(IF(VLOOKUP(C96,CAD_Q!$C$6:$D$105,2,FALSE)=0,\"\",VLOOKUP(C96,CAD_Q!$C$6:$D$105,2,FALSE)),\"\")","v":"Estándar"},null,{"$f":"IFERROR(IF(AND($C96<>\"\",$D96<>\"\"),1-SUMPRODUCT((RES!$D$6:$D$3006<=F$7)*(RES!$E$6:$E$3006>=F$7+1)*(RES!$I$6:$I$3006=$C96)*(RES!$J$6:$J$3006=$D96)),\"\"),\"\")","v":1},{"$f":"IFERROR(IF(AND($C96<>\"\",$D96<>\"\"),1-SUMPRODUCT((RES!$D$6:$D$3006<=G$7)*(RES!$E$6:$E$3006>=G$7+1)*(RES!$I$6:$I$3006=$C96)*(RES!$J$6:$J$3006=$D96)),\"\"),\"\")","v":1},{"$f":"IFERROR(IF(AND($C96<>\"\",$D96<>\"\"),1-SUMPRODUCT((RES!$D$6:$D$3006<=H$7)*(RES!$E$6:$E$3006>=H$7+1)*(RES!$I$6:$I$3006=$C96)*(RES!$J$6:$J$3006=$D96)),\"\"),\"\")","v":1},{"$f":"IFERROR(IF(AND($C96<>\"\",$D96<>\"\"),1-SUMPRODUCT((RES!$D$6:$D$3006<=I$7)*(RES!$E$6:$E$3006>=I$7+1)*(RES!$I$6:$I$3006=$C96)*(RES!$J$6:$J$3006=$D96)),\"\"),\"\")","v":1},{"$f":"IFERROR(IF(AND($C96<>\"\",$D96<>\"\"),1-SUMPRODUCT((RES!$D$6:$D$3006<=J$7)*(RES!$E$6:$E$3006>=J$7+1)*(RES!$I$6:$I$3006=$C96)*(RES!$J$6:$J$3006=$D96)),\"\"),\"\")","v":1},{"$f":"IFERROR(IF(AND($C96<>\"\",$D96<>\"\"),1-SUMPRODUCT((RES!$D$6:$D$3006<=K$7)*(RES!$E$6:$E$3006>=K$7+1)*(RES!$I$6:$I$3006=$C96)*(RES!$J$6:$J$3006=$D96)),\"\"),\"\")","v":1},{"$f":"IFERROR(IF(AND($C96<>\"\",$D96<>\"\"),1-SUMPRODUCT((RES!$D$6:$D$3006<=L$7)*(RES!$E$6:$E$3006>=L$7+1)*(RES!$I$6:$I$3006=$C96)*(RES!$J$6:$J$3006=$D96)),\"\"),\"\")","v":1},{"$f":"IFERROR(IF(AND($C96<>\"\",$D96<>\"\"),1-SUMPRODUCT((RES!$D$6:$D$3006<=M$7)*(RES!$E$6:$E$3006>=M$7+1)*(RES!$I$6:$I$3006=$C96)*(RES!$J$6:$J$3006=$D96)),\"\"),\"\")","v":1},{"$f":"IFERROR(IF(AND($C96<>\"\",$D96<>\"\"),1-SUMPRODUCT((RES!$D$6:$D$3006<=N$7)*(RES!$E$6:$E$3006>=N$7+1)*(RES!$I$6:$I$3006=$C96)*(RES!$J$6:$J$3006=$D96)),\"\"),\"\")","v":1},{"$f":"IFERROR(IF(AND($C96<>\"\",$D96<>\"\"),1-SUMPRODUCT((RES!$D$6:$D$3006<=O$7)*(RES!$E$6:$E$3006>=O$7+1)*(RES!$I$6:$I$3006=$C96)*(RES!$J$6:$J$3006=$D96)),\"\"),\"\")","v":1},{"$f":"IFERROR(IF(AND($C96<>\"\",$D96<>\"\"),1-SUMPRODUCT((RES!$D$6:$D$3006<=P$7)*(RES!$E$6:$E$3006>=P$7+1)*(RES!$I$6:$I$3006=$C96)*(RES!$J$6:$J$3006=$D96)),\"\"),\"\")","v":1},{"$f":"IFERROR(IF(AND($C96<>\"\",$D96<>\"\"),1-SUMPRODUCT((RES!$D$6:$D$3006<=Q$7)*(RES!$E$6:$E$3006>=Q$7+1)*(RES!$I$6:$I$3006=$C96)*(RES!$J$6:$J$3006=$D96)),\"\"),\"\")","v":1},{"$f":"IFERROR(IF(AND($C96<>\"\",$D96<>\"\"),1-SUMPRODUCT((RES!$D$6:$D$3006<=R$7)*(RES!$E$6:$E$3006>=R$7+1)*(RES!$I$6:$I$3006=$C96)*(RES!$J$6:$J$3006=$D96)),\"\"),\"\")","v":1},{"$f":"IFERROR(IF(AND($C96<>\"\",$D96<>\"\"),1-SUMPRODUCT((RES!$D$6:$D$3006<=S$7)*(RES!$E$6:$E$3006>=S$7+1)*(RES!$I$6:$I$3006=$C96)*(RES!$J$6:$J$3006=$D96)),\"\"),\"\")","v":1},{"$f":"IFERROR(IF(AND($C96<>\"\",$D96<>\"\"),1-SUMPRODUCT((RES!$D$6:$D$3006<=T$7)*(RES!$E$6:$E$3006>=T$7+1)*(RES!$I$6:$I$3006=$C96)*(RES!$J$6:$J$3006=$D96)),\"\"),\"\")","v":1}]
[null,null,{"$f":"CAD_Q!C95","v":90},{"$f":"IFERROR(IF(VLOOKUP(C97,CAD_Q!$C$6:$D$105,2,FALSE)=0,\"\",VLOOKUP(C97,CAD_Q!$C$6:$D$105,2,FALSE)),\"\")","v":"Estándar"},null,{"$f":"IFERROR(IF(AND($C97<>\"\",$D97<>\"\"),1-SUMPRODUCT((RES!$D$6:$D$3006<=F$7)*(RES!$E$6:$E$3006>=F$7+1)*(RES!$I$6:$I$3006=$C97)*(RES!$J$6:$J$3006=$D97)),\"\"),\"\")","v":1},{"$f":"IFERROR(IF(AND($C97<>\"\",$D97<>\"\"),1-SUMPRODUCT((RES!$D$6:$D$3006<=G$7)*(RES!$E$6:$E$3006>=G$7+1)*(RES!$I$6:$I$3006=$C97)*(RES!$J$6:$J$3006=$D97)),\"\"),\"\")","v":1},{"$f":"IFERROR(IF(AND($C97<>\"\",$D97<>\"\"),1-SUMPRODUCT((RES!$D$6:$D$3006<=H$7)*(RES!$E$6:$E$3006>=H$7+1)*(RES!$I$6:$I$3006=$C97)*(RES!$J$6:$J$3006=$D97)),\"\"),\"\")","v":1},{"$f":"IFERROR(IF(AND($C97<>\"\",$D97<>\"\"),1-SUMPRODUCT((RES!$D$6:$D$3006<=I$7)*(RES!$E$6:$E$3006>=I$7+1)*(RES!$I$6:$I$3006=$C97)*(RES!$J$6:$J$3006=$D97)),\"\"),\"\")","v":1},{"$f":"IFERROR(IF(AND($C97<>\"\",$D97<>\"\"),1-SUMPRODUCT((RES!$D$6:$D$3006<=J$7)*(RES!$E$6:$E$3006>=J$7+1)*(RES!$I$6:$I$3006=$C97)*(RES!$J$6:$J$3006=$D97)),\"\"),\"\")","v":1},{"$f":"IFERROR(IF(AND($C97<>\"\",$D97<>\"\"),1-SUMPRODUCT((RES!$D$6:$D$3006<=K$7)*(RES!$E$6:$E$3006>=K$7+1)*(RES!$I$6:$I$3006=$C97)*(RES!$J$6:$J$3006=$D97)),\"\"),\"\")","v":1},{"$f":"IFERROR(IF(AND($C97<>\"\",$D97<>\"\"),1-SUMPRODUCT((RES!$D$6:$D$3006<=L$7)*(RES!$E$6:$E$3006>=L$7+1)*(RES!$I$6:$I$3006=$C97)*(RES!$J$6:$J$3006=$D97)),\"\"),\"\")","v":1},{"$f":"IFERROR(IF(AND($C97<>\"\",$D97<>\"\"),1-SUMPRODUCT((RES!$D$6:$D$3006<=M$7)*(RES!$E$6:$E$3006>=M$7+1)*(RES!$I$6:$I$3006=$C97)*(RES!$J$6:$J$3006=$D97)),\"\"),\"\")","v":1},{"$f":"IFERROR(IF(AND($C97<>\"\",$D97<>\"\"),1-SUMPRODUCT((RES!$D$6:$D$3006<=N$7)*(RES!$E$6:$E$3006>=N$7+1)*(RES!$I$6:$I$3006=$C97)*(RES!$J$6:$J$3006=$D97)),\"\"),\"\")","v":1},{"$f":"IFERROR(IF(AND($C97<>\"\",$D97<>\"\"),1-SUMPRODUCT((RES!$D$6:$D$3006<=O$7)*(RES!$E$6:$E$3006>=O$7+1)*(RES!$I$6:$I$3006=$C97)*(RES!$J$6:$J$3006=$D97)),\"\"),\"\")","v":1},{"$f":"IFERROR(IF(AND($C97<>\"\",$D97<>\"\"),1-SUMPRODUCT((RES!$D$6:$D$3006<=P$7)*(RES!$E$6:$E$3006>=P$7+1)*(RES!$I$6:$I$3006=$C97)*(RES!$J$6:$J$3006=$D97)),\"\"),\"\")","v":1},{"$f":"IFERROR(IF(AND($C97<>\"\",$D97<>\"\"),1-SUMPRODUCT((RES!$D$6:$D$3006<=Q$7)*(RES!$E$6:$E$3006>=Q$7+1)*(RES!$I$6:$I$3006=$C97)*(RES!$J$6:$J$3006=$D97)),\"\"),\"\")","v":1},{"$f":"IFERROR(IF(AND($C97<>\"\",$D97<>\"\"),1-SUMPRODUCT((RES!$D$6:$D$3006<=R$7)*(RES!$E$6:$E$3006>=R$7+1)*(RES!$I$6:$I$3006=$C97)*(RES!$J$6:$J$3006=$D97)),\"\"),\"\")","v":1},{"$f":"IFERROR(IF(AND($C97<>\"\",$D97<>\"\"),1-SUMPRODUCT((RES!$D$6:$D$3006<=S$7)*(RES!$E$6:$E$3006>=S$7+1)*(RES!$I$6:$I$3006=$C97)*(RES!$J$6:$J$3006=$D97)),\"\"),\"\")","v":1},{"$f":"IFERROR(IF(AND($C97<>\"\",$D97<>\"\"),1-SUMPRODUCT((RES!$D$6:$D$3006<=T$7)*(RES!$E$6:$E$3006>=T$7+1)*(RES!$I$6:$I$3006=$C97)*(RES!$J$6:$J$3006=$D97)),\"\"),\"\")","v":1}]
[null,null,{"$f":"CAD_Q!C96","v":91},{"$f":"IFERROR(IF(VLOOKUP(C98,CAD_Q!$C$6:$D$105,2,FALSE)=0,\"\",VLOOKUP(C98,CAD_Q!$C$6:$D$105,2,FALSE)),\"\")","v":"Estándar"},null,{"$f":"IFERROR(IF(AND($C98<>\"\",$D98<>\"\"),1-SUMPRODUCT((RES!$D$6:$D$3006<=F$7)*(RES!$E$6:$E$3006>=F$7+1)*(RES!$I$6:$I$3006=$C98)*(RES!$J$6:$J$3006=$D98)),\"\"),\"\")","v":1},{"$f":"IFERROR(IF(AND($C98<>\"\",$D98<>\"\"),1-SUMPRODUCT((RES!$D$6:$D$3006<=G$7)*(RES!$E$6:$E$3006>=G$7+1)*(RES!$I$6:$I$3006=$C98)*(RES!$J$6:$J$3006=$D98)),\"\"),\"\")","v":1},{"$f":"IFERROR(IF(AND($C98<>\"\",$D98<>\"\"),1-SUMPRODUCT((RES!$D$6:$D$3006<=H$7)*(RES!$E$6:$E$3006>=H$7+1)*(RES!$I$6:$I$3006=$C98)*(RES!$J$6:$J$3006=$D98)),\"\"),\"\")","v":1},{"$f":"IFERROR(IF(AND($C98<>\"\",$D98<>\"\"),1-SUMPRODUCT((RES!$D$6:$D$3006<=I$7)*(RES!$E$6:$E$3006>=I$7+1)*(RES!$I$6:$I$3006=$C98)*(RES!$J$6:$J$3006=$D98)),\"\"),\"\")","v":1},{"$f":"IFERROR(IF(AND($C98<>\"\",$D98<>\"\"),1-SUMPRODUCT((RES!$D$6:$D$3006<=J$7)*(RES!$E$6:$E$3006>=J$7+1)*(RES!$I$6:$I$3006=$C98)*(RES!$J$6:$J$3006=$D98)),\"\"),\"\")","v":1},{"$f":"IFERROR(IF(AND($C98<>\"\",$D98<>\"\"),1-SUMPRODUCT((RES!$D$6:$D$3006<=K$7)*(RES!$E$6:$E$3006>=K$7+1)*(RES!$I$6:$I$3006=$C98)*(RES!$J$6:$J$3006=$D98)),\"\"),\"\")","v":1},{"$f":"IFERROR(IF(AND($C98<>\"\",$D98<>\"\"),1-SUMPRODUCT((RES!$D$6:$D$3006<=L$7)*(RES!$E$6:$E$3006>=L$7+1)*(RES!$I$6:$I$3006=$C98)*(RES!$J$6:$J$3006=$D98)),\"\"),\"\")","v":1},{"$f":"IFERROR(IF(AND($C98<>\"\",$D98<>\"\"),1-SUMPRODUCT((RES!$D$6:$D$3006<=M$7)*(RES!$E$6:$E$3006>=M$7+1)*(RES!$I$6:$I$3006=$C98)*(RES!$J$6:$J$3006=$D98)),\"\"),\"\")","v":1},{"$f":"IFERROR(IF(AND($C98<>\"\",$D98<>\"\"),1-SUMPRODUCT((RES!$D$6:$D$3006<=N$7)*(RES!$E$6:$E$3006>=N$7+1)*(RES!$I$6:$I$3006=$C98)*(RES!$J$6:$J$3006=$D98)),\"\"),\"\")","v":1},{"$f":"IFERROR(IF(AND($C98<>\"\",$D98<>\"\"),1-SUMPRODUCT((RES!$D$6:$D$3006<=O$7)*(RES!$E$6:$E$3006>=O$7+1)*(RES!$I$6:$I$3006=$C98)*(RES!$J$6:$J$3006=$D98)),\"\"),\"\")","v":1},{"$f":"IFERROR(IF(AND($C98<>\"\",$D98<>\"\"),1-SUMPRODUCT((RES!$D$6:$D$3006<=P$7)*(RES!$E$6:$E$3006>=P$7+1)*(RES!$I$6:$I$3006=$C98)*(RES!$J$6:$J$3006=$D98)),\"\"),\"\")","v":1},{"$f":"IFERROR(IF(AND($C98<>\"\",$D98<>\"\"),1-SUMPRODUCT((RES!$D$6:$D$3006<=Q$7)*(RES!$E$6:$E$3006>=Q$7+1)*(RES!$I$6:$I$3006=$C98)*(RES!$J$6:$J$3006=$D98)),\"\"),\"\")","v":1},{"$f":"IFERROR(IF(AND($C98<>\"\",$D98<>\"\"),1-SUMPRODUCT((RES!$D$6:$D$3006<=R$7)*(RES!$E$6:$E$3006>=R$7+1)*(RES!$I$6:$I$3006=$C98)*(RES!$J$6:$J$3006=$D98)),\"\"),\"\")","v":1},{"$f":"IFERROR(IF(AND($C98<>\"\",$D98<>\"\"),1-SUMPRODUCT((RES!$D$6:$D$3006<=S$7)*(RES!$E$6:$E$3006>=S$7+1)*(RES!$I$6:$I$3006=$C98)*(RES!$J$6:$J$3006=$D98)),\"\"),\"\")","v":1},{"$f":"IFERROR(IF(AND($C98<>\"\",$D98<>\"\"),1-SUMPRODUCT((RES!$D$6:$D$3006<=T$7)*(RES!$E$6:$E$3006>=T$7+1)*(RES!$I$6:$I$3006=$C98)*(RES!$J$6:$J$3006=$D98)),\"\"),\"\")","v":1}]
[null,null,{"$f":"CAD_Q!C97","v":92},{"$f":"IFERROR(IF(VLOOKUP(C99,CAD_Q!$C$6:$D$105,2,FALSE)=0,\"\",VLOOKUP(C99,CAD_Q!$C$6:$D$105,2,FALSE)),\"\")","v":"Estándar"},null,{"$f":"IFERROR(IF(AND($C99<>\"\",$D99<>\"\"),1-SUMPRODUCT((RES!$D$6:$D$3006<=F$7)*(RES!$E$6:$E$3006>=F$7+1)*(RES!$I$6:$I$3006=$C99)*(RES!$J$6:$J$3006=$D99)),\"\"),\"\")","v":1},{"$f":"IFERROR(IF(AND($C99<>\"\",$D99<>\"\"),1-SUMPRODUCT((RES!$D$6:$D$3006<=G$7)*(RES!$E$6:$E$3006>=G$7+1)*(RES!$I$6:$I$3006=$C99)*(RES!$J$6:$J$3006=$D99)),\"\"),\"\")","v":1},{"$f":"IFERROR(IF(AND($C99<>\"\",$D99<>\"\"),1-SUMPRODUCT((RES!$D$6:$D$3006<=H$7)*(RES!$E$6:$E$3006>=H$7+1)*(RES!$I$6:$I$3006=$C99)*(RES!$J$6:$J$3006=$D99)),\"\"),\"\")","v":1},{"$f":"IFERROR(IF(AND($C99<>\"\",$D99<>\"\"),1-SUMPRODUCT((RES!$D$6:$D$3006<=I$7)*(RES!$E$6:$E$3006>=I$7+1)*(RES!$I$6:$I$3006=$C99)*(RES!$J$6:$J$3006=$D99)),\"\"),\"\")","v":1},{"$f":"IFERROR(IF(AND($C99<>\"\",$D99<>\"\"),1-SUMPRODUCT((RES!$D$6:$D$3006<=J$7)*(RES!$E$6:$E$3006>=J$7+1)*(RES!$I$6:$I$3006=$C99)*(RES!$J$6:$J$3006=$D99)),\"\"),\"\")","v":1},{"$f":"IFERROR(IF(AND($C99<>\"\",$D99<>\"\"),1-SUMPRODUCT((RES!$D$6:$D$3006<=K$7)*(RES!$E$6:$E$3006>=K$7+1)*(RES!$I$6:$I$3006=$C99)*(RES!$J$6:$J$3006=$D99)),\"\"),\"\")","v":1},{"$f":"IFERROR(IF(AND($C99<>\"\",$D99<>\"\"),1-SUMPRODUCT((RES!$D$6:$D$3006<=L$7)*(RES!$E$6:$E$3006>=L$7+1)*(RES!$I$6:$I$3006=$C99)*(RES!$J$6:$J$3006=$D99)),\"\"),\"\")","v":1},{"$f":"IFERROR(IF(AND($C99<>\"\",$D99<>\"\"),1-SUMPRODUCT((RES!$D$6:$D$3006<=M$7)*(RES!$E$6:$E$3006>=M$7+1)*(RES!$I$6:$I$3006=$C99)*(RES!$J$6:$J$3006=$D99)),\"\"),\"\")","v":1},{"$f":"IFERROR(IF(AND($C99<>\"\",$D99<>\"\"),1-SUMPRODUCT((RES!$D$6:$D$3006<=N$7)*(RES!$E$6:$E$3006>=N$7+1)*(RES!$I$6:$I$3006=$C99)*(RES!$J$6:$J$3006=$D99)),\"\"),\"\")","v":1},{"$f":"IFERROR(IF(AND($C99<>\"\",$D99<>\"\"),1-SUMPRODUCT((RES!$D$6:$D$3006<=O$7)*(RES!$E$6:$E$3006>=O$7+1)*(RES!$I$6:$I$3006=$C99)*(RES!$J$6:$J$3006=$D99)),\"\"),\"\")","v":1},{"$f":"IFERROR(IF(AND($C99<>\"\",$D99<>\"\"),1-SUMPRODUCT((RES!$D$6:$D$3006<=P$7)*(RES!$E$6:$E$3006>=P$7+1)*(RES!$I$6:$I$3006=$C99)*(RES!$J$6:$J$3006=$D99)),\"\"),\"\")","v":1},{"$f":"IFERROR(IF(AND($C99<>\"\",$D99<>\"\"),1-SUMPRODUCT((RES!$D$6:$D$3006<=Q$7)*(RES!$E$6:$E$3006>=Q$7+1)*(RES!$I$6:$I$3006=$C99)*(RES!$J$6:$J$3006=$D99)),\"\"),\"\")","v":1},{"$f":"IFERROR(IF(AND($C99<>\"\",$D99<>\"\"),1-SUMPRODUCT((RES!$D$6:$D$3006<=R$7)*(RES!$E$6:$E$3006>=R$7+1)*(RES!$I$6:$I$3006=$C99)*(RES!$J$6:$J$3006=$D99)),\"\"),\"\")","v":1},{"$f":"IFERROR(IF(AND($C99<>\"\",$D99<>\"\"),1-SUMPRODUCT((RES!$D$6:$D$3006<=S$7)*(RES!$E$6:$E$3006>=S$7+1)*(RES!$I$6:$I$3006=$C99)*(RES!$J$6:$J$3006=$D99)),\"\"),\"\")","v":1},{"$f":"IFERROR(IF(AND($C99<>\"\",$D99<>\"\"),1-SUMPRODUCT((RES!$D$6:$D$3006<=T$7)*(RES!$E$6:$E$3006>=T$7+1)*(RES!$I$6:$I$3006=$C99)*(RES!$J$6:$J$3006=$D99)),\"\"),\"\")","v":1}]
[null,null,{"$f":"CAD_Q!C98","v":93},{"$f":"IFERROR(IF(VLOOKUP(C100,CAD_Q!$C$6:$D$105,2,FALSE)=0,\"\",VLOOKUP(C100,CAD_Q!$C$6:$D$105,2,FALSE)),\"\")","v":"Estándar"},null,{"$f":"IFERROR(IF(AND($C100<>\"\",$D100<>\"\"),1-SUMPRODUCT((RES!$D$6:$D$3006<=F$7)*(RES!$E$6:$E$3006>=F$7+1)*(RES!$I$6:$I$3006=$C100)*(RES!$J$6:$J$3006=$D100)),\"\"),\"\")","v":1},{"$f":"IFERROR(IF(AND($C100<>\"\",$D100<>\"\"),1-SUMPRODUCT((RES!$D$6:$D$3006<=G$7)*(RES!$E$6:$E$3006>=G$7+1)*(RES!$I$6:$I$3006=$C100)*(RES!$J$6:$J$3006=$D100)),\"\"),\"\")","v":1},{"$f":"IFERROR(IF(AND($C100<>\"\",$D100<>\"\"),1-SUMPRODUCT((RES!$D$6:$D$3006<=H$7)*(RES!$E$6:$E$3006>=H$7+1)*(RES!$I$6:$I$3006=$C100)*(RES!$J$6:$J$3006=$D100)),\"\"),\"\")","v":1},{"$f":"IFERROR(IF(AND($C100<>\"\",$D100<>\"\"),1-SUMPRODUCT((RES!$D$6:$D$3006<=I$7)*(RES!$E$6:$E$3006>=I$7+1)*(RES!$I$6:$I$3006=$C100)*(RES!$J$6:$J$3006=$D100)),\"\"),\"\")","v":1},{"$f":"IFERROR(IF(AND($C100<>\"\",$D100<>\"\"),1-SUMPRODUCT((RES!$D$6:$D$3006<=J$7)*(RES!$E$6:$E$3006>=J$7+1)*(RES!$I$6:$I$3006=$C100)*(RES!$J$6:$J$3006=$D100)),\"\"),\"\")","v":1},{"$f":"IFERROR(IF(AND($C100<>\"\",$D100<>\"\"),1-SUMPRODUCT((RES!$D$6:$D$3006<=K$7)*(RES!$E$6:$E$3006>=K$7+1)*(RES!$I$6:$I$3006=$C100)*(RES!$J$6:$J$3006=$D100)),\"\"),\"\")","v":1},{"$f":"IFERROR(IF(AND($C100<>\"\",$D100<>\"\"),1-SUMPRODUCT((RES!$D$6:$D$3006<=L$7)*(RES!$E$6:$E$3006>=L$7+1)*(RES!$I$6:$I$3006=$C100)*(RES!$J$6:$J$3006=$D100)),\"\"),\"\")","v":1},{"$f":"IFERROR(IF(AND($C100<>\"\",$D100<>\"\"),1-SUMPRODUCT((RES!$D$6:$D$3006<=M$7)*(RES!$E$6:$E$3006>=M$7+1)*(RES!$I$6:$I$3006=$C100)*(RES!$J$6:$J$3006=$D100)),\"\"),\"\")","v":1},{"$f":"IFERROR(IF(AND($C100<>\"\",$D100<>\"\"),1-SUMPRODUCT((RES!$D$6:$D$3006<=N$7)*(RES!$E$6:$E$3006>=N$7+1)*(RES!$I$6:$I$3006=$C100)*(RES!$J$6:$J$3006=$D100)),\"\"),\"\")","v":1},{"$f":"IFERROR(IF(AND($C100<>\"\",$D100<>\"\"),1-SUMPRODUCT((RES!$D$6:$D$3006<=O$7)*(RES!$E$6:$E$3006>=O$7+1)*(RES!$I$6:$I$3006=$C100)*(RES!$J$6:$J$3006=$D100)),\"\"),\"\")","v":1},{"$f":"IFERROR(IF(AND($C100<>\"\",$D100<>\"\"),1-SUMPRODUCT((RES!$D$6:$D$3006<=P$7)*(RES!$E$6:$E$3006>=P$7+1)*(RES!$I$6:$I$3006=$C100)*(RES!$J$6:$J$3006=$D100)),\"\"),\"\")","v":1},{"$f":"IFERROR(IF(AND($C100<>\"\",$D100<>\"\"),1-SUMPRODUCT((RES!$D$6:$D$3006<=Q$7)*(RES!$E$6:$E$3006>=Q$7+1)*(RES!$I$6:$I$3006=$C100)*(RES!$J$6:$J$3006=$D100)),\"\"),\"\")","v":1},{"$f":"IFERROR(IF(AND($C100<>\"\",$D100<>\"\"),1-SUMPRODUCT((RES!$D$6:$D$3006<=R$7)*(RES!$E$6:$E$3006>=R$7+1)*(RES!$I$6:$I$3006=$C100)*(RES!$J$6:$J$3006=$D100)),\"\"),\"\")","v":1},{"$f":"IFERROR(IF(AND($C100<>\"\",$D100<>\"\"),1-SUMPRODUCT((RES!$D$6:$D$3006<=S$7)*(RES!$E$6:$E$3006>=S$7+1)*(RES!$I$6:$I$3006=$C100)*(RES!$J$6:$J$3006=$D100)),\"\"),\"\")","v":1},{"$f":"IFERROR(IF(AND($C100<>\"\",$D100<>\"\"),1-SUMPRODUCT((RES!$D$6:$D$3006<=T$7)*(RES!$E$6:$E$3006>=T$7+1)*(RES!$I$6:$I$3006=$C100)*(RES!$J$6:$J$3006=$D100)),\"\"),\"\")","v":1}]
[null,null,{"$f":"CAD_Q!C99","v":94},{"$f":"IFERROR(IF(VLOOKUP(C101,CAD_Q!$C$6:$D$105,2,FALSE)=0,\"\",VLOOKUP(C101,CAD_Q!$C$6:$D$105,2,FALSE)),\"\")","v":"Estándar"},null,{"$f":"IFERROR(IF(AND($C101<>\"\",$D101<>\"\"),1-SUMPRODUCT((RES!$D$6:$D$3006<=F$7)*(RES!$E$6:$E$3006>=F$7+1)*(RES!$I$6:$I$3006=$C101)*(RES!$J$6:$J$3006=$D101)),\"\"),\"\")","v":1},{"$f":"IFERROR(IF(AND($C101<>\"\",$D101<>\"\"),1-SUMPRODUCT((RES!$D$6:$D$3006<=G$7)*(RES!$E$6:$E$3006>=G$7+1)*(RES!$I$6:$I$3006=$C101)*(RES!$J$6:$J$3006=$D101)),\"\"),\"\")","v":1},{"$f":"IFERROR(IF(AND($C101<>\"\",$D101<>\"\"),1-SUMPRODUCT((RES!$D$6:$D$3006<=H$7)*(RES!$E$6:$E$3006>=H$7+1)*(RES!$I$6:$I$3006=$C101)*(RES!$J$6:$J$3006=$D101)),\"\"),\"\")","v":1},{"$f":"IFERROR(IF(AND($C101<>\"\",$D101<>\"\"),1-SUMPRODUCT((RES!$D$6:$D$3006<=I$7)*(RES!$E$6:$E$3006>=I$7+1)*(RES!$I$6:$I$3006=$C101)*(RES!$J$6:$J$3006=$D101)),\"\"),\"\")","v":1},{"$f":"IFERROR(IF(AND($C101<>\"\",$D101<>\"\"),1-SUMPRODUCT((RES!$D$6:$D$3006<=J$7)*(RES!$E$6:$E$3006>=J$7+1)*(RES!$I$6:$I$3006=$C101)*(RES!$J$6:$J$3006=$D101)),\"\"),\"\")","v":1},{"$f":"IFERROR(IF(AND($C101<>\"\",$D101<>\"\"),1-SUMPRODUCT((RES!$D$6:$D$3006<=K$7)*(RES!$E$6:$E$3006>=K$7+1)*(RES!$I$6:$I$3006=$C101)*(RES!$J$6:$J$3006=$D101)),\"\"),\"\")","v":1},{"$f":"IFERROR(IF(AND($C101<>\"\",$D101<>\"\"),1-SUMPRODUCT((RES!$D$6:$D$3006<=L$7)*(RES!$E$6:$E$3006>=L$7+1)*(RES!$I$6:$I$3006=$C101)*(RES!$J$6:$J$3006=$D101)),\"\"),\"\")","v":1},{"$f":"IFERROR(IF(AND($C101<>\"\",$D101<>\"\"),1-SUMPRODUCT((RES!$D$6:$D$3006<=M$7)*(RES!$E$6:$E$3006>=M$7+1)*(RES!$I$6:$I$3006=$C101)*(RES!$J$6:$J$3006=$D101)),\"\"),\"\")","v":1},{"$f":"IFERROR(IF(AND($C101<>\"\",$D101<>\"\"),1-SUMPRODUCT((RES!$D$6:$D$3006<=N$7)*(RES!$E$6:$E$3006>=N$7+1)*(RES!$I$6:$I$3006=$C101)*(RES!$J$6:$J$3006=$D101)),\"\"),\"\")","v":1},{"$f":"IFERROR(IF(AND($C101<>\"\",$D101<>\"\"),1-SUMPRODUCT((RES!$D$6:$D$3006<=O$7)*(RES!$E$6:$E$3006>=O$7+1)*(RES!$I$6:$I$3006=$C101)*(RES!$J$6:$J$3006=$D101)),\"\"),\"\")","v":1},{"$f":"IFERROR(IF(AND($C101<>\"\",$D101<>\"\"),1-SUMPRODUCT((RES!$D$6:$D$3006<=P$7)*(RES!$E$6:$E$3006>=P$7+1)*(RES!$I$6:$I$3006=$C101)*(RES!$J$6:$J$3006=$D101)),\"\"),\"\")","v":1},{"$f":"IFERROR(IF(AND($C101<>\"\",$D101<>\"\"),1-SUMPRODUCT((RES!$D$6:$D$3006<=Q$7)*(RES!$E$6:$E$3006>=Q$7+1)*(RES!$I$6:$I$3006=$C101)*(RES!$J$6:$J$3006=$D101)),\"\"),\"\")","v":1},{"$f":"IFERROR(IF(AND($C101<>\"\",$D101<>\"\"),1-SUMPRODUCT((RES!$D$6:$D$3006<=R$7)*(RES!$E$6:$E$3006>=R$7+1)*(RES!$I$6:$I$3006=$C101)*(RES!$J$6:$J$3006=$D101)),\"\"),\"\")","v":1},{"$f":"IFERROR(IF(AND($C101<>\"\",$D101<>\"\"),1-SUMPRODUCT((RES!$D$6:$D$3006<=S$7)*(RES!$E$6:$E$3006>=S$7+1)*(RES!$I$6:$I$3006=$C101)*(RES!$J$6:$J$3006=$D101)),\"\"),\"\")","v":1},{"$f":"IFERROR(IF(AND($C101<>\"\",$D101<>\"\"),1-SUMPRODUCT((RES!$D$6:$D$3006<=T$7)*(RES!$E$6:$E$3006>=T$7+1)*(RES!$I$6:$I$3006=$C101)*(RES!$J$6:$J$3006=$D101)),\"\"),\"\")","v":1}]
[null,null,{"$f":"CAD_Q!C100","v":95},{"$f":"IFERROR(IF(VLOOKUP(C102,CAD_Q!$C$6:$D$105,2,FALSE)=0,\"\",VLOOKUP(C102,CAD_Q!$C$6:$D$105,2,FALSE)),\"\")","v":"Estándar"},null,{"$f":"IFERROR(IF(AND($C102<>\"\",$D102<>\"\"),1-SUMPRODUCT((RES!$D$6:$D$3006<=F$7)*(RES!$E$6:$E$3006>=F$7+1)*(RES!$I$6:$I$3006=$C102)*(RES!$J$6:$J$3006=$D102)),\"\"),\"\")","v":1},{"$f":"IFERROR(IF(AND($C102<>\"\",$D102<>\"\"),1-SUMPRODUCT((RES!$D$6:$D$3006<=G$7)*(RES!$E$6:$E$3006>=G$7+1)*(RES!$I$6:$I$3006=$C102)*(RES!$J$6:$J$3006=$D102)),\"\"),\"\")","v":1},{"$f":"IFERROR(IF(AND($C102<>\"\",$D102<>\"\"),1-SUMPRODUCT((RES!$D$6:$D$3006<=H$7)*(RES!$E$6:$E$3006>=H$7+1)*(RES!$I$6:$I$3006=$C102)*(RES!$J$6:$J$3006=$D102)),\"\"),\"\")","v":1},{"$f":"IFERROR(IF(AND($C102<>\"\",$D102<>\"\"),1-SUMPRODUCT((RES!$D$6:$D$3006<=I$7)*(RES!$E$6:$E$3006>=I$7+1)*(RES!$I$6:$I$3006=$C102)*(RES!$J$6:$J$3006=$D102)),\"\"),\"\")","v":1},{"$f":"IFERROR(IF(AND($C102<>\"\",$D102<>\"\"),1-SUMPRODUCT((RES!$D$6:$D$3006<=J$7)*(RES!$E$6:$E$3006>=J$7+1)*(RES!$I$6:$I$3006=$C102)*(RES!$J$6:$J$3006=$D102)),\"\"),\"\")","v":1},{"$f":"IFERROR(IF(AND($C102<>\"\",$D102<>\"\"),1-SUMPRODUCT((RES!$D$6:$D$3006<=K$7)*(RES!$E$6:$E$3006>=K$7+1)*(RES!$I$6:$I$3006=$C102)*(RES!$J$6:$J$3006=$D102)),\"\"),\"\")","v":1},{"$f":"IFERROR(IF(AND($C102<>\"\",$D102<>\"\"),1-SUMPRODUCT((RES!$D$6:$D$3006<=L$7)*(RES!$E$6:$E$3006>=L$7+1)*(RES!$I$6:$I$3006=$C102)*(RES!$J$6:$J$3006=$D102)),\"\"),\"\")","v":1},{"$f":"IFERROR(IF(AND($C102<>\"\",$D102<>\"\"),1-SUMPRODUCT((RES!$D$6:$D$3006<=M$7)*(RES!$E$6:$E$3006>=M$7+1)*(RES!$I$6:$I$3006=$C102)*(RES!$J$6:$J$3006=$D102)),\"\"),\"\")","v":1},{"$f":"IFERROR(IF(AND($C102<>\"\",$D102<>\"\"),1-SUMPRODUCT((RES!$D$6:$D$3006<=N$7)*(RES!$E$6:$E$3006>=N$7+1)*(RES!$I$6:$I$3006=$C102)*(RES!$J$6:$J$3006=$D102)),\"\"),\"\")","v":1},{"$f":"IFERROR(IF(AND($C102<>\"\",$D102<>\"\"),1-SUMPRODUCT((RES!$D$6:$D$3006<=O$7)*(RES!$E$6:$E$3006>=O$7+1)*(RES!$I$6:$I$3006=$C102)*(RES!$J$6:$J$3006=$D102)),\"\"),\"\")","v":1},{"$f":"IFERROR(IF(AND($C102<>\"\",$D102<>\"\"),1-SUMPRODUCT((RES!$D$6:$D$3006<=P$7)*(RES!$E$6:$E$3006>=P$7+1)*(RES!$I$6:$I$3006=$C102)*(RES!$J$6:$J$3006=$D102)),\"\"),\"\")","v":1},{"$f":"IFERROR(IF(AND($C102<>\"\",$D102<>\"\"),1-SUMPRODUCT((RES!$D$6:$D$3006<=Q$7)*(RES!$E$6:$E$3006>=Q$7+1)*(RES!$I$6:$I$3006=$C102)*(RES!$J$6:$J$3006=$D102)),\"\"),\"\")","v":1},{"$f":"IFERROR(IF(AND($C102<>\"\",$D102<>\"\"),1-SUMPRODUCT((RES!$D$6:$D$3006<=R$7)*(RES!$E$6:$E$3006>=R$7+1)*(RES!$I$6:$I$3006=$C102)*(RES!$J$6:$J$3006=$D102)),\"\"),\"\")","v":1},{"$f":"IFERROR(IF(AND($C102<>\"\",$D102<>\"\"),1-SUMPRODUCT((RES!$D$6:$D$3006<=S$7)*(RES!$E$6:$E$3006>=S$7+1)*(RES!$I$6:$I$3006=$C102)*(RES!$J$6:$J$3006=$D102)),\"\"),\"\")","v":1},{"$f":"IFERROR(IF(AND($C102<>\"\",$D102<>\"\"),1-SUMPRODUCT((RES!$D$6:$D$3006<=T$7)*(RES!$E$6:$E$3006>=T$7+1)*(RES!$I$6:$I$3006=$C102)*(RES!$J$6:$J$3006=$D102)),\"\"),\"\")","v":1}]
[null,null,{"$f":"CAD_Q!C101","v":96},{"$f":"IFERROR(IF(VLOOKUP(C103,CAD_Q!$C$6:$D$105,2,FALSE)=0,\"\",VLOOKUP(C103,CAD_Q!$C$6:$D$105,2,FALSE)),\"\")","v":"Estándar"},null,{"$f":"IFERROR(IF(AND($C103<>\"\",$D103<>\"\"),1-SUMPRODUCT((RES!$D$6:$D$3006<=F$7)*(RES!$E$6:$E$3006>=F$7+1)*(RES!$I$6:$I$3006=$C103)*(RES!$J$6:$J$3006=$D103)),\"\"),\"\")","v":1},{"$f":"IFERROR(IF(AND($C103<>\"\",$D103<>\"\"),1-SUMPRODUCT((RES!$D$6:$D$3006<=G$7)*(RES!$E$6:$E$3006>=G$7+1)*(RES!$I$6:$I$3006=$C103)*(RES!$J$6:$J$3006=$D103)),\"\"),\"\")","v":1},{"$f":"IFERROR(IF(AND($C103<>\"\",$D103<>\"\"),1-SUMPRODUCT((RES!$D$6:$D$3006<=H$7)*(RES!$E$6:$E$3006>=H$7+1)*(RES!$I$6:$I$3006=$C103)*(RES!$J$6:$J$3006=$D103)),\"\"),\"\")","v":1},{"$f":"IFERROR(IF(AND($C103<>\"\",$D103<>\"\"),1-SUMPRODUCT((RES!$D$6:$D$3006<=I$7)*(RES!$E$6:$E$3006>=I$7+1)*(RES!$I$6:$I$3006=$C103)*(RES!$J$6:$J$3006=$D103)),\"\"),\"\")","v":1},{"$f":"IFERROR(IF(AND($C103<>\"\",$D103<>\"\"),1-SUMPRODUCT((RES!$D$6:$D$3006<=J$7)*(RES!$E$6:$E$3006>=J$7+1)*(RES!$I$6:$I$3006=$C103)*(RES!$J$6:$J$3006=$D103)),\"\"),\"\")","v":1},{"$f":"IFERROR(IF(AND($C103<>\"\",$D103<>\"\"),1-SUMPRODUCT((RES!$D$6:$D$3006<=K$7)*(RES!$E$6:$E$3006>=K$7+1)*(RES!$I$6:$I$3006=$C103)*(RES!$J$6:$J$3006=$D103)),\"\"),\"\")","v":1},{"$f":"IFERROR(IF(AND($C103<>\"\",$D103<>\"\"),1-SUMPRODUCT((RES!$D$6:$D$3006<=L$7)*(RES!$E$6:$E$3006>=L$7+1)*(RES!$I$6:$I$3006=$C103)*(RES!$J$6:$J$3006=$D103)),\"\"),\"\")","v":1},{"$f":"IFERROR(IF(AND($C103<>\"\",$D103<>\"\"),1-SUMPRODUCT((RES!$D$6:$D$3006<=M$7)*(RES!$E$6:$E$3006>=M$7+1)*(RES!$I$6:$I$3006=$C103)*(RES!$J$6:$J$3006=$D103)),\"\"),\"\")","v":1},{"$f":"IFERROR(IF(AND($C103<>\"\",$D103<>\"\"),1-SUMPRODUCT((RES!$D$6:$D$3006<=N$7)*(RES!$E$6:$E$3006>=N$7+1)*(RES!$I$6:$I$3006=$C103)*(RES!$J$6:$J$3006=$D103)),\"\"),\"\")","v":1},{"$f":"IFERROR(IF(AND($C103<>\"\",$D103<>\"\"),1-SUMPRODUCT((RES!$D$6:$D$3006<=O$7)*(RES!$E$6:$E$3006>=O$7+1)*(RES!$I$6:$I$3006=$C103)*(RES!$J$6:$J$3006=$D103)),\"\"),\"\")","v":1},{"$f":"IFERROR(IF(AND($C103<>\"\",$D103<>\"\"),1-SUMPRODUCT((RES!$D$6:$D$3006<=P$7)*(RES!$E$6:$E$3006>=P$7+1)*(RES!$I$6:$I$3006=$C103)*(RES!$J$6:$J$3006=$D103)),\"\"),\"\")","v":1},{"$f":"IFERROR(IF(AND($C103<>\"\",$D103<>\"\"),1-SUMPRODUCT((RES!$D$6:$D$3006<=Q$7)*(RES!$E$6:$E$3006>=Q$7+1)*(RES!$I$6:$I$3006=$C103)*(RES!$J$6:$J$3006=$D103)),\"\"),\"\")","v":1},{"$f":"IFERROR(IF(AND($C103<>\"\",$D103<>\"\"),1-SUMPRODUCT((RES!$D$6:$D$3006<=R$7)*(RES!$E$6:$E$3006>=R$7+1)*(RES!$I$6:$I$3006=$C103)*(RES!$J$6:$J$3006=$D103)),\"\"),\"\")","v":1},{"$f":"IFERROR(IF(AND($C103<>\"\",$D103<>\"\"),1-SUMPRODUCT((RES!$D$6:$D$3006<=S$7)*(RES!$E$6:$E$3006>=S$7+1)*(RES!$I$6:$I$3006=$C103)*(RES!$J$6:$J$3006=$D103)),\"\"),\"\")","v":1},{"$f":"IFERROR(IF(AND($C103<>\"\",$D103<>\"\"),1-SUMPRODUCT((RES!$D$6:$D$3006<=T$7)*(RES!$E$6:$E$3006>=T$7+1)*(RES!$I$6:$I$3006=$C103)*(RES!$J$6:$J$3006=$D103)),\"\"),\"\")","v":1}]
[null,null,{"$f":"CAD_Q!C102","v":97},{"$f":"IFERROR(IF(VLOOKUP(C104,CAD_Q!$C$6:$D$105,2,FALSE)=0,\"\",VLOOKUP(C104,CAD_Q!$C$6:$D$105,2,FALSE)),\"\")","v":"Estándar"},null,{"$f":"IFERROR(IF(AND($C104<>\"\",$D104<>\"\"),1-SUMPRODUCT((RES!$D$6:$D$3006<=F$7)*(RES!$E$6:$E$3006>=F$7+1)*(RES!$I$6:$I$3006=$C104)*(RES!$J$6:$J$3006=$D104)),\"\"),\"\")","v":1},{"$f":"IFERROR(IF(AND($C104<>\"\",$D104<>\"\"),1-SUMPRODUCT((RES!$D$6:$D$3006<=G$7)*(RES!$E$6:$E$3006>=G$7+1)*(RES!$I$6:$I$3006=$C104)*(RES!$J$6:$J$3006=$D104)),\"\"),\"\")","v":1},{"$f":"IFERROR(IF(AND($C104<>\"\",$D104<>\"\"),1-SUMPRODUCT((RES!$D$6:$D$3006<=H$7)*(RES!$E$6:$E$3006>=H$7+1)*(RES!$I$6:$I$3006=$C104)*(RES!$J$6:$J$3006=$D104)),\"\"),\"\")","v":1},{"$f":"IFERROR(IF(AND($C104<>\"\",$D104<>\"\"),1-SUMPRODUCT((RES!$D$6:$D$3006<=I$7)*(RES!$E$6:$E$3006>=I$7+1)*(RES!$I$6:$I$3006=$C104)*(RES!$J$6:$J$3006=$D104)),\"\"),\"\")","v":1},{"$f":"IFERROR(IF(AND($C104<>\"\",$D104<>\"\"),1-SUMPRODUCT((RES!$D$6:$D$3006<=J$7)*(RES!$E$6:$E$3006>=J$7+1)*(RES!$I$6:$I$3006=$C104)*(RES!$J$6:$J$3006=$D104)),\"\"),\"\")","v":1},{"$f":"IFERROR(IF(AND($C104<>\"\",$D104<>\"\"),1-SUMPRODUCT((RES!$D$6:$D$3006<=K$7)*(RES!$E$6:$E$3006>=K$7+1)*(RES!$I$6:$I$3006=$C104)*(RES!$J$6:$J$3006=$D104)),\"\"),\"\")","v":1},{"$f":"IFERROR(IF(AND($C104<>\"\",$D104<>\"\"),1-SUMPRODUCT((RES!$D$6:$D$3006<=L$7)*(RES!$E$6:$E$3006>=L$7+1)*(RES!$I$6:$I$3006=$C104)*(RES!$J$6:$J$3006=$D104)),\"\"),\"\")","v":1},{"$f":"IFERROR(IF(AND($C104<>\"\",$D104<>\"\"),1-SUMPRODUCT((RES!$D$6:$D$3006<=M$7)*(RES!$E$6:$E$3006>=M$7+1)*(RES!$I$6:$I$3006=$C104)*(RES!$J$6:$J$3006=$D104)),\"\"),\"\")","v":1},{"$f":"IFERROR(IF(AND($C104<>\"\",$D104<>\"\"),1-SUMPRODUCT((RES!$D$6:$D$3006<=N$7)*(RES!$E$6:$E$3006>=N$7+1)*(RES!$I$6:$I$3006=$C104)*(RES!$J$6:$J$3006=$D104)),\"\"),\"\")","v":1},{"$f":"IFERROR(IF(AND($C104<>\"\",$D104<>\"\"),1-SUMPRODUCT((RES!$D$6:$D$3006<=O$7)*(RES!$E$6:$E$3006>=O$7+1)*(RES!$I$6:$I$3006=$C104)*(RES!$J$6:$J$3006=$D104)),\"\"),\"\")","v":1},{"$f":"IFERROR(IF(AND($C104<>\"\",$D104<>\"\"),1-SUMPRODUCT((RES!$D$6:$D$3006<=P$7)*(RES!$E$6:$E$3006>=P$7+1)*(RES!$I$6:$I$3006=$C104)*(RES!$J$6:$J$3006=$D104)),\"\"),\"\")","v":1},{"$f":"IFERROR(IF(AND($C104<>\"\",$D104<>\"\"),1-SUMPRODUCT((RES!$D$6:$D$3006<=Q$7)*(RES!$E$6:$E$3006>=Q$7+1)*(RES!$I$6:$I$3006=$C104)*(RES!$J$6:$J$3006=$D104)),\"\"),\"\")","v":1},{"$f":"IFERROR(IF(AND($C104<>\"\",$D104<>\"\"),1-SUMPRODUCT((RES!$D$6:$D$3006<=R$7)*(RES!$E$6:$E$3006>=R$7+1)*(RES!$I$6:$I$3006=$C104)*(RES!$J$6:$J$3006=$D104)),\"\"),\"\")","v":1},{"$f":"IFERROR(IF(AND($C104<>\"\",$D104<>\"\"),1-SUMPRODUCT((RES!$D$6:$D$3006<=S$7)*(RES!$E$6:$E$3006>=S$7+1)*(RES!$I$6:$I$3006=$C104)*(RES!$J$6:$J$3006=$D104)),\"\"),\"\")","v":1},{"$f":"IFERROR(IF(AND($C104<>\"\",$D104<>\"\"),1-SUMPRODUCT((RES!$D$6:$D$3006<=T$7)*(RES!$E$6:$E$3006>=T$7+1)*(RES!$I$6:$I$3006=$C104)*(RES!$J$6:$J$3006=$D104)),\"\"),\"\")","v":1}]
[null,null,{"$f":"CAD_Q!C103","v":98},{"$f":"IFERROR(IF(VLOOKUP(C105,CAD_Q!$C$6:$D$105,2,FALSE)=0,\"\",VLOOKUP(C105,CAD_Q!$C$6:$D$105,2,FALSE)),\"\")","v":"Estándar"},null,{"$f":"IFERROR(IF(AND($C105<>\"\",$D105<>\"\"),1-SUMPRODUCT((RES!$D$6:$D$3006<=F$7)*(RES!$E$6:$E$3006>=F$7+1)*(RES!$I$6:$I$3006=$C105)*(RES!$J$6:$J$3006=$D105)),\"\"),\"\")","v":1},{"$f":"IFERROR(IF(AND($C105<>\"\",$D105<>\"\"),1-SUMPRODUCT((RES!$D$6:$D$3006<=G$7)*(RES!$E$6:$E$3006>=G$7+1)*(RES!$I$6:$I$3006=$C105)*(RES!$J$6:$J$3006=$D105)),\"\"),\"\")","v":1},{"$f":"IFERROR(IF(AND($C105<>\"\",$D105<>\"\"),1-SUMPRODUCT((RES!$D$6:$D$3006<=H$7)*(RES!$E$6:$E$3006>=H$7+1)*(RES!$I$6:$I$3006=$C105)*(RES!$J$6:$J$3006=$D105)),\"\"),\"\")","v":1},{"$f":"IFERROR(IF(AND($C105<>\"\",$D105<>\"\"),1-SUMPRODUCT((RES!$D$6:$D$3006<=I$7)*(RES!$E$6:$E$3006>=I$7+1)*(RES!$I$6:$I$3006=$C105)*(RES!$J$6:$J$3006=$D105)),\"\"),\"\")","v":1},{"$f":"IFERROR(IF(AND($C105<>\"\",$D105<>\"\"),1-SUMPRODUCT((RES!$D$6:$D$3006<=J$7)*(RES!$E$6:$E$3006>=J$7+1)*(RES!$I$6:$I$3006=$C105)*(RES!$J$6:$J$3006=$D105)),\"\"),\"\")","v":1},{"$f":"IFERROR(IF(AND($C105<>\"\",$D105<>\"\"),1-SUMPRODUCT((RES!$D$6:$D$3006<=K$7)*(RES!$E$6:$E$3006>=K$7+1)*(RES!$I$6:$I$3006=$C105)*(RES!$J$6:$J$3006=$D105)),\"\"),\"\")","v":1},{"$f":"IFERROR(IF(AND($C105<>\"\",$D105<>\"\"),1-SUMPRODUCT((RES!$D$6:$D$3006<=L$7)*(RES!$E$6:$E$3006>=L$7+1)*(RES!$I$6:$I$3006=$C105)*(RES!$J$6:$J$3006=$D105)),\"\"),\"\")","v":1},{"$f":"IFERROR(IF(AND($C105<>\"\",$D105<>\"\"),1-SUMPRODUCT((RES!$D$6:$D$3006<=M$7)*(RES!$E$6:$E$3006>=M$7+1)*(RES!$I$6:$I$3006=$C105)*(RES!$J$6:$J$3006=$D105)),\"\"),\"\")","v":1},{"$f":"IFERROR(IF(AND($C105<>\"\",$D105<>\"\"),1-SUMPRODUCT((RES!$D$6:$D$3006<=N$7)*(RES!$E$6:$E$3006>=N$7+1)*(RES!$I$6:$I$3006=$C105)*(RES!$J$6:$J$3006=$D105)),\"\"),\"\")","v":1},{"$f":"IFERROR(IF(AND($C105<>\"\",$D105<>\"\"),1-SUMPRODUCT((RES!$D$6:$D$3006<=O$7)*(RES!$E$6:$E$3006>=O$7+1)*(RES!$I$6:$I$3006=$C105)*(RES!$J$6:$J$3006=$D105)),\"\"),\"\")","v":1},{"$f":"IFERROR(IF(AND($C105<>\"\",$D105<>\"\"),1-SUMPRODUCT((RES!$D$6:$D$3006<=P$7)*(RES!$E$6:$E$3006>=P$7+1)*(RES!$I$6:$I$3006=$C105)*(RES!$J$6:$J$3006=$D105)),\"\"),\"\")","v":1},{"$f":"IFERROR(IF(AND($C105<>\"\",$D105<>\"\"),1-SUMPRODUCT((RES!$D$6:$D$3006<=Q$7)*(RES!$E$6:$E$3006>=Q$7+1)*(RES!$I$6:$I$3006=$C105)*(RES!$J$6:$J$3006=$D105)),\"\"),\"\")","v":1},{"$f":"IFERROR(IF(AND($C105<>\"\",$D105<>\"\"),1-SUMPRODUCT((RES!$D$6:$D$3006<=R$7)*(RES!$E$6:$E$3006>=R$7+1)*(RES!$I$6:$I$3006=$C105)*(RES!$J$6:$J$3006=$D105)),\"\"),\"\")","v":1},{"$f":"IFERROR(IF(AND($C105<>\"\",$D105<>\"\"),1-SUMPRODUCT((RES!$D$6:$D$3006<=S$7)*(RES!$E$6:$E$3006>=S$7+1)*(RES!$I$6:$I$3006=$C105)*(RES!$J$6:$J$3006=$D105)),\"\"),\"\")","v":1},{"$f":"IFERROR(IF(AND($C105<>\"\",$D105<>\"\"),1-SUMPRODUCT((RES!$D$6:$D$3006<=T$7)*(RES!$E$6:$E$3006>=T$7+1)*(RES!$I$6:$I$3006=$C105)*(RES!$J$6:$J$3006=$D105)),\"\"),\"\")","v":1}]
[null,null,{"$f":"CAD_Q!C104","v":99},{"$f":"IFERROR(IF(VLOOKUP(C106,CAD_Q!$C$6:$D$105,2,FALSE)=0,\"\",VLOOKUP(C106,CAD_Q!$C$6:$D$105,2,FALSE)),\"\")","v":"Estándar"},null,{"$f":"IFERROR(IF(AND($C106<>\"\",$D106<>\"\"),1-SUMPRODUCT((RES!$D$6:$D$3006<=F$7)*(RES!$E$6:$E$3006>=F$7+1)*(RES!$I$6:$I$3006=$C106)*(RES!$J$6:$J$3006=$D106)),\"\"),\"\")","v":1},{"$f":"IFERROR(IF(AND($C106<>\"\",$D106<>\"\"),1-SUMPRODUCT((RES!$D$6:$D$3006<=G$7)*(RES!$E$6:$E$3006>=G$7+1)*(RES!$I$6:$I$3006=$C106)*(RES!$J$6:$J$3006=$D106)),\"\"),\"\")","v":1},{"$f":"IFERROR(IF(AND($C106<>\"\",$D106<>\"\"),1-SUMPRODUCT((RES!$D$6:$D$3006<=H$7)*(RES!$E$6:$E$3006>=H$7+1)*(RES!$I$6:$I$3006=$C106)*(RES!$J$6:$J$3006=$D106)),\"\"),\"\")","v":1},{"$f":"IFERROR(IF(AND($C106<>\"\",$D106<>\"\"),1-SUMPRODUCT((RES!$D$6:$D$3006<=I$7)*(RES!$E$6:$E$3006>=I$7+1)*(RES!$I$6:$I$3006=$C106)*(RES!$J$6:$J$3006=$D106)),\"\"),\"\")","v":1},{"$f":"IFERROR(IF(AND($C106<>\"\",$D106<>\"\"),1-SUMPRODUCT((RES!$D$6:$D$3006<=J$7)*(RES!$E$6:$E$3006>=J$7+1)*(RES!$I$6:$I$3006=$C106)*(RES!$J$6:$J$3006=$D106)),\"\"),\"\")","v":1},{"$f":"IFERROR(IF(AND($C106<>\"\",$D106<>\"\"),1-SUMPRODUCT((RES!$D$6:$D$3006<=K$7)*(RES!$E$6:$E$3006>=K$7+1)*(RES!$I$6:$I$3006=$C106)*(RES!$J$6:$J$3006=$D106)),\"\"),\"\")","v":1},{"$f":"IFERROR(IF(AND($C106<>\"\",$D106<>\"\"),1-SUMPRODUCT((RES!$D$6:$D$3006<=L$7)*(RES!$E$6:$E$3006>=L$7+1)*(RES!$I$6:$I$3006=$C106)*(RES!$J$6:$J$3006=$D106)),\"\"),\"\")","v":1},{"$f":"IFERROR(IF(AND($C106<>\"\",$D106<>\"\"),1-SUMPRODUCT((RES!$D$6:$D$3006<=M$7)*(RES!$E$6:$E$3006>=M$7+1)*(RES!$I$6:$I$3006=$C106)*(RES!$J$6:$J$3006=$D106)),\"\"),\"\")","v":1},{"$f":"IFERROR(IF(AND($C106<>\"\",$D106<>\"\"),1-SUMPRODUCT((RES!$D$6:$D$3006<=N$7)*(RES!$E$6:$E$3006>=N$7+1)*(RES!$I$6:$I$3006=$C106)*(RES!$J$6:$J$3006=$D106)),\"\"),\"\")","v":1},{"$f":"IFERROR(IF(AND($C106<>\"\",$D106<>\"\"),1-SUMPRODUCT((RES!$D$6:$D$3006<=O$7)*(RES!$E$6:$E$3006>=O$7+1)*(RES!$I$6:$I$3006=$C106)*(RES!$J$6:$J$3006=$D106)),\"\"),\"\")","v":1},{"$f":"IFERROR(IF(AND($C106<>\"\",$D106<>\"\"),1-SUMPRODUCT((RES!$D$6:$D$3006<=P$7)*(RES!$E$6:$E$3006>=P$7+1)*(RES!$I$6:$I$3006=$C106)*(RES!$J$6:$J$3006=$D106)),\"\"),\"\")","v":1},{"$f":"IFERROR(IF(AND($C106<>\"\",$D106<>\"\"),1-SUMPRODUCT((RES!$D$6:$D$3006<=Q$7)*(RES!$E$6:$E$3006>=Q$7+1)*(RES!$I$6:$I$3006=$C106)*(RES!$J$6:$J$3006=$D106)),\"\"),\"\")","v":1},{"$f":"IFERROR(IF(AND($C106<>\"\",$D106<>\"\"),1-SUMPRODUCT((RES!$D$6:$D$3006<=R$7)*(RES!$E$6:$E$3006>=R$7+1)*(RES!$I$6:$I$3006=$C106)*(RES!$J$6:$J$3006=$D106)),\"\"),\"\")","v":1},{"$f":"IFERROR(IF(AND($C106<>\"\",$D106<>\"\"),1-SUMPRODUCT((RES!$D$6:$D$3006<=S$7)*(RES!$E$6:$E$3006>=S$7+1)*(RES!$I$6:$I$3006=$C106)*(RES!$J$6:$J$3006=$D106)),\"\"),\"\")","v":1},{"$f":"IFERROR(IF(AND($C106<>\"\",$D106<>\"\"),1-SUMPRODUCT((RES!$D$6:$D$3006<=T$7)*(RES!$E$6:$E$3006>=T$7+1)*(RES!$I$6:$I$3006=$C106)*(RES!$J$6:$J$3006=$D106)),\"\"),\"\")","v":1}]
[null,null,{"$f":"CAD_Q!C105","v":100},{"$f":"IFERROR(IF(VLOOKUP(C107,CAD_Q!$C$6:$D$105,2,FALSE)=0,\"\",VLOOKUP(C107,CAD_Q!$C$6:$D$105,2,FALSE)),\"\")","v":"Estándar"},null,{"$f":"IFERROR(IF(AND($C107<>\"\",$D107<>\"\"),1-SUMPRODUCT((RES!$D$6:$D$3006<=F$7)*(RES!$E$6:$E$3006>=F$7+1)*(RES!$I$6:$I$3006=$C107)*(RES!$J$6:$J$3006=$D107)),\"\"),\"\")","v":1},{"$f":"IFERROR(IF(AND($C107<>\"\",$D107<>\"\"),1-SUMPRODUCT((RES!$D$6:$D$3006<=G$7)*(RES!$E$6:$E$3006>=G$7+1)*(RES!$I$6:$I$3006=$C107)*(RES!$J$6:$J$3006=$D107)),\"\"),\"\")","v":1},{"$f":"IFERROR(IF(AND($C107<>\"\",$D107<>\"\"),1-SUMPRODUCT((RES!$D$6:$D$3006<=H$7)*(RES!$E$6:$E$3006>=H$7+1)*(RES!$I$6:$I$3006=$C107)*(RES!$J$6:$J$3006=$D107)),\"\"),\"\")","v":1},{"$f":"IFERROR(IF(AND($C107<>\"\",$D107<>\"\"),1-SUMPRODUCT((RES!$D$6:$D$3006<=I$7)*(RES!$E$6:$E$3006>=I$7+1)*(RES!$I$6:$I$3006=$C107)*(RES!$J$6:$J$3006=$D107)),\"\"),\"\")","v":1},{"$f":"IFERROR(IF(AND($C107<>\"\",$D107<>\"\"),1-SUMPRODUCT((RES!$D$6:$D$3006<=J$7)*(RES!$E$6:$E$3006>=J$7+1)*(RES!$I$6:$I$3006=$C107)*(RES!$J$6:$J$3006=$D107)),\"\"),\"\")","v":1},{"$f":"IFERROR(IF(AND($C107<>\"\",$D107<>\"\"),1-SUMPRODUCT((RES!$D$6:$D$3006<=K$7)*(RES!$E$6:$E$3006>=K$7+1)*(RES!$I$6:$I$3006=$C107)*(RES!$J$6:$J$3006=$D107)),\"\"),\"\")","v":1},{"$f":"IFERROR(IF(AND($C107<>\"\",$D107<>\"\"),1-SUMPRODUCT((RES!$D$6:$D$3006<=L$7)*(RES!$E$6:$E$3006>=L$7+1)*(RES!$I$6:$I$3006=$C107)*(RES!$J$6:$J$3006=$D107)),\"\"),\"\")","v":1},{"$f":"IFERROR(IF(AND($C107<>\"\",$D107<>\"\"),1-SUMPRODUCT((RES!$D$6:$D$3006<=M$7)*(RES!$E$6:$E$3006>=M$7+1)*(RES!$I$6:$I$3006=$C107)*(RES!$J$6:$J$3006=$D107)),\"\"),\"\")","v":1},{"$f":"IFERROR(IF(AND($C107<>\"\",$D107<>\"\"),1-SUMPRODUCT((RES!$D$6:$D$3006<=N$7)*(RES!$E$6:$E$3006>=N$7+1)*(RES!$I$6:$I$3006=$C107)*(RES!$J$6:$J$3006=$D107)),\"\"),\"\")","v":1},{"$f":"IFERROR(IF(AND($C107<>\"\",$D107<>\"\"),1-SUMPRODUCT((RES!$D$6:$D$3006<=O$7)*(RES!$E$6:$E$3006>=O$7+1)*(RES!$I$6:$I$3006=$C107)*(RES!$J$6:$J$3006=$D107)),\"\"),\"\")","v":1},{"$f":"IFERROR(IF(AND($C107<>\"\",$D107<>\"\"),1-SUMPRODUCT((RES!$D$6:$D$3006<=P$7)*(RES!$E$6:$E$3006>=P$7+1)*(RES!$I$6:$I$3006=$C107)*(RES!$J$6:$J$3006=$D107)),\"\"),\"\")","v":1},{"$f":"IFERROR(IF(AND($C107<>\"\",$D107<>\"\"),1-SUMPRODUCT((RES!$D$6:$D$3006<=Q$7)*(RES!$E$6:$E$3006>=Q$7+1)*(RES!$I$6:$I$3006=$C107)*(RES!$J$6:$J$3006=$D107)),\"\"),\"\")","v":1},{"$f":"IFERROR(IF(AND($C107<>\"\",$D107<>\"\"),1-SUMPRODUCT((RES!$D$6:$D$3006<=R$7)*(RES!$E$6:$E$3006>=R$7+1)*(RES!$I$6:$I$3006=$C107)*(RES!$J$6:$J$3006=$D107)),\"\"),\"\")","v":1},{"$f":"IFERROR(IF(AND($C107<>\"\",$D107<>\"\"),1-SUMPRODUCT((RES!$D$6:$D$3006<=S$7)*(RES!$E$6:$E$3006>=S$7+1)*(RES!$I$6:$I$3006=$C107)*(RES!$J$6:$J$3006=$D107)),\"\"),\"\")","v":1},{"$f":"IFERROR(IF(AND($C107<>\"\",$D107<>\"\"),1-SUMPRODUCT((RES!$D$6:$D$3006<=T$7)*(RES!$E$6:$E$3006>=T$7+1)*(RES!$I$6:$I$3006=$C107)*(RES!$J$6:$J$3006=$D107)),\"\"),\"\")","v":1}]

{"sheet":"RC","index":5,"n_rows":106,"n_cols":15,"rows_kept":106,"cut":false,"hidden":false,"merged":[[3,2,3,14]]}
[]
[]
[]
[null,null,"Dias ocupado por habitación"]
[null,null,null,1,2,3,4,5,6,7,8,9,10,11,12]
[null,null,"No. de Habitación","Enero","Febrero","Marzo","Abril","Mayo ","Junio","Julio","Agosto ","Septiembre","Octubre","Noviembre","Diciembre"]
[null,null,{"$f":"CAD_Q!C6","v":1},{"$f":"SUMIFS(RES!$F$6:$F$3006,RES!$O$6:$O$3006,'RC'!D$5,RES!$I$6:$I$3006,'RC'!$C7)","v":0},{"$f":"SUMIFS(RES!$F$6:$F$3006,RES!$O$6:$O$3006,'RC'!E$5,RES!$I$6:$I$3006,'RC'!$C7)","v":0},{"$f":"SUMIFS(RES!$F$6:$F$3006,RES!$O$6:$O$3006,'RC'!F$5,RES!$I$6:$I$3006,'RC'!$C7)","v":0},{"$f":"SUMIFS(RES!$F$6:$F$3006,RES!$O$6:$O$3006,'RC'!G$5,RES!$I$6:$I$3006,'RC'!$C7)","v":0},{"$f":"SUMIFS(RES!$F$6:$F$3006,RES!$O$6:$O$3006,'RC'!H$5,RES!$I$6:$I$3006,'RC'!$C7)","v":0},{"$f":"SUMIFS(RES!$F$6:$F$3006,RES!$O$6:$O$3006,'RC'!I$5,RES!$I$6:$I$3006,'RC'!$C7)","v":0},{"$f":"SUMIFS(RES!$F$6:$F$3006,RES!$O$6:$O$3006,'RC'!J$5,RES!$I$6:$I$3006,'RC'!$C7)","v":2},{"$f":"SUMIFS(RES!$F$6:$F$3006,RES!$O$6:$O$3006,'RC'!K$5,RES!$I$6:$I$3006,'RC'!$C7)","v":0},{"$f":"SUMIFS(RES!$F$6:$F$3006,RES!$O$6:$O$3006,'RC'!L$5,RES!$I$6:$I$3006,'RC'!$C7)","v":0},{"$f":"SUMIFS(RES!$F$6:$F$3006,RES!$O$6:$O$3006,'RC'!M$5,RES!$I$6:$I$3006,'RC'!$C7)","v":0},{"$f":"SUMIFS(RES!$F$6:$F$3006,RES!$O$6:$O$3006,'RC'!N$5,RES!$I$6:$I$3006,'RC'!$C7)","v":0},{"$f":"SUMIFS(RES!$F$6:$F$3006,RES!$O$6:$O$3006,'RC'!O$5,RES!$I$6:$I$3006,'RC'!$C7)","v":0}]
[null,null,{"$f":"CAD_Q!C7","v":2},{"$f":"SUMIFS(RES!$F$6:$F$3006,RES!$O$6:$O$3006,'RC'!D$5,RES!$I$6:$I$3006,'RC'!$C8)","v":0},{"$f":"SUMIFS(RES!$F$6:$F$3006,RES!$O$6:$O$3006,'RC'!E$5,RES!$I$6:$I$3006,'RC'!$C8)","v":0},{"$f":"SUMIFS(RES!$F$6:$F$3006,RES!$O$6:$O$3006,'RC'!F$5,RES!$I$6:$I$3006,'RC'!$C8)","v":0},{"$f":"SUMIFS(RES!$F$6:$F$3006,RES!$O$6:$O$3006,'RC'!G$5,RES!$I$6:$I$3006,'RC'!$C8)","v":0},{"$f":"SUMIFS(RES!$F$6:$F$3006,RES!$O$6:$O$3006,'RC'!H$5,RES!$I$6:$I$3006,'RC'!$C8)","v":0},{"$f":"SUMIFS(RES!$F$6:$F$3006,RES!$O$6:$O$3006,'RC'!I$5,RES!$I$6:$I$3006,'RC'!$C8)","v":0},{"$f":"SUMIFS(RES!$F$6:$F$3006,RES!$O$6:$O$3006,'RC'!J$5,RES!$I$6:$I$3006,'RC'!$C8)","v":8},{"$f":"SUMIFS(RES!$F$6:$F$3006,RES!$O$6:$O$3006,'RC'!K$5,RES!$I$6:$I$3006,'RC'!$C8)","v":0},{"$f":"SUMIFS(RES!$F$6:$F$3006,RES!$O$6:$O$3006,'RC'!L$5,RES!$I$6:$I$3006,'RC'!$C8)","v":0},{"$f":"SUMIFS(RES!$F$6:$F$3006,RES!$O$6:$O$3006,'RC'!M$5,RES!$I$6:$I$3006,'RC'!$C8)","v":0},{"$f":"SUMIFS(RES!$F$6:$F$3006,RES!$O$6:$O$3006,'RC'!N$5,RES!$I$6:$I$3006,'RC'!$C8)","v":0},{"$f":"SUMIFS(RES!$F$6:$F$3006,RES!$O$6:$O$3006,'RC'!O$5,RES!$I$6:$I$3006,'RC'!$C8)","v":0}]
[null,null,{"$f":"CAD_Q!C8","v":3},{"$f":"SUMIFS(RES!$F$6:$F$3006,RES!$O$6:$O$3006,'RC'!D$5,RES!$I$6:$I$3006,'RC'!$C9)","v":0},{"$f":"SUMIFS(RES!$F$6:$F$3006,RES!$O$6:$O$3006,'RC'!E$5,RES!$I$6:$I$3006,'RC'!$C9)","v":0},{"$f":"SUMIFS(RES!$F$6:$F$3006,RES!$O$6:$O$3006,'RC'!F$5,RES!$I$6:$I$3006,'RC'!$C9)","v":0},{"$f":"SUMIFS(RES!$F$6:$F$3006,RES!$O$6:$O$3006,'RC'!G$5,RES!$I$6:$I$3006,'RC'!$C9)","v":0},{"$f":"SUMIFS(RES!$F$6:$F$3006,RES!$O$6:$O$3006,'RC'!H$5,RES!$I$6:$I$3006,'RC'!$C9)","v":0},{"$f":"SUMIFS(RES!$F$6:$F$3006,RES!$O$6:$O$3006,'RC'!I$5,RES!$I$6:$I$3006,'RC'!$C9)","v":0},{"$f":"SUMIFS(RES!$F$6:$F$3006,RES!$O$6:$O$3006,'RC'!J$5,RES!$I$6:$I$3006,'RC'!$C9)","v":0},{"$f":"SUMIFS(RES!$F$6:$F$3006,RES!$O$6:$O$3006,'RC'!K$5,RES!$I$6:$I$3006,'RC'!$C9)","v":0},{"$f":"SUMIFS(RES!$F$6:$F$3006,RES!$O$6:$O$3006,'RC'!L$5,RES!$I$6:$I$3006,'RC'!$C9)","v":0},{"$f":"SUMIFS(RES!$F$6:$F$3006,RES!$O$6:$O$3006,'RC'!M$5,RES!$I$6:$I$3006,'RC'!$C9)","v":0},{"$f":"SUMIFS(RES!$F$6:$F$3006,RES!$O$6:$O$3006,'RC'!N$5,RES!$I$6:$I$3006,'RC'!$C9)","v":0},{"$f":"SUMIFS(RES!$F$6:$F$3006,RES!$O$6:$O$3006,'RC'!O$5,RES!$I$6:$I$3006,'RC'!$C9)","v":0}]
[null,null,{"$f":"CAD_Q!C9","v":4},{"$f":"SUMIFS(RES!$F$6:$F$3006,RES!$O$6:$O$3006,'RC'!D$5,RES!$I$6:$I$3006,'RC'!$C10)","v":0},{"$f":"SUMIFS(RES!$F$6:$F$3006,RES!$O$6:$O$3006,'RC'!E$5,RES!$I$6:$I$3006,'RC'!$C10)","v":0},{"$f":"SUMIFS(RES!$F$6:$F$3006,RES!$O$6:$O$3006,'RC'!F$5,RES!$I$6:$I$3006,'RC'!$C10)","v":0},{"$f":"SUMIFS(RES!$F$6:$F$3006,RES!$O$6:$O$3006,'RC'!G$5,RES!$I$6:$I$3006,'RC'!$C10)","v":0},{"$f":"SUMIFS(RES!$F$6:$F$3006,RES!$O$6:$O$3006,'RC'!H$5,RES!$I$6:$I$3006,'RC'!$C10)","v":0},{"$f":"SUMIFS(RES!$F$6:$F$3006,RES!$O$6:$O$3006,'RC'!I$5,RES!$I$6:$I$3006,'RC'!$C10)","v":0},{"$f":"SUMIFS(RES!$F$6:$F$3006,RES!$O$6:$O$3006,'RC'!J$5,RES!$I$6:$I$3006,'RC'!$C10)","v":6},{"$f":"SUMIFS(RES!$F$6:$F$3006,RES!$O$6:$O$3006,'RC'!K$5,RES!$I$6:$I$3006,'RC'!$C10)","v":0},{"$f":"SUMIFS(RES!$F$6:$F$3006,RES!$O$6:$O$3006,'RC'!L$5,RES!$I$6:$I$3006,'RC'!$C10)","v":0},{"$f":"SUMIFS(RES!$F$6:$F$3006,RES!$O$6:$O$3006,'RC'!M$5,RES!$I$6:$I$3006,'RC'!$C10)","v":0},{"$f":"SUMIFS(RES!$F$6:$F$3006,RES!$O$6:$O$3006,'RC'!N$5,RES!$I$6:$I$3006,'RC'!$C10)","v":0},{"$f":"SUMIFS(RES!$F$6:$F$3006,RES!$O$6:$O$3006,'RC'!O$5,RES!$I$6:$I$3006,'RC'!$C10)","v":0}]
[null,null,{"$f":"CAD_Q!C10","v":5},{"$f":"SUMIFS(RES!$F$6:$F$3006,RES!$O$6:$O$3006,'RC'!D$5,RES!$I$6:$I$3006,'RC'!$C11)","v":0},{"$f":"SUMIFS(RES!$F$6:$F$3006,RES!$O$6:$O$3006,'RC'!E$5,RES!$I$6:$I$3006,'RC'!$C11)","v":0},{"$f":"SUMIFS(RES!$F$6:$F$3006,RES!$O$6:$O$3006,'RC'!F$5,RES!$I$6:$I$3006,'RC'!$C11)","v":0},{"$f":"SUMIFS(RES!$F$6:$F$3006,RES!$O$6:$O$3006,'RC'!G$5,RES!$I$6:$I$3006,'RC'!$C11)","v":0},{"$f":"SUMIFS(RES!$F$6:$F$3006,RES!$O$6:$O$3006,'RC'!H$5,RES!$I$6:$I$3006,'RC'!$C11)","v":0},{"$f":"SUMIFS(RES!$F$6:$F$3006,RES!$O$6:$O$3006,'RC'!I$5,RES!$I$6:$I$3006,'RC'!$C11)","v":0},{"$f":"SUMIFS(RES!$F$6:$F$3006,RES!$O$6:$O$3006,'RC'!J$5,RES!$I$6:$I$3006,'RC'!$C11)","v":0},{"$f":"SUMIFS(RES!$F$6:$F$3006,RES!$O$6:$O$3006,'RC'!K$5,RES!$I$6:$I$3006,'RC'!$C11)","v":0},{"$f":"SUMIFS(RES!$F$6:$F$3006,RES!$O$6:$O$3006,'RC'!L$5,RES!$I$6:$I$3006,'RC'!$C11)","v":0},{"$f":"SUMIFS(RES!$F$6:$F$3006,RES!$O$6:$O$3006,'RC'!M$5,RES!$I$6:$I$3006,'RC'!$C11)","v":0},{"$f":"SUMIFS(RES!$F$6:$F$3006,RES!$O$6:$O$3006,'RC'!N$5,RES!$I$6:$I$3006,'RC'!$C11)","v":0},{"$f":"SUMIFS(RES!$F$6:$F$3006,RES!$O$6:$O$3006,'RC'!O$5,RES!$I$6:$I$3006,'RC'!$C11)","v":0}]
[null,null,{"$f":"CAD_Q!C11","v":6},{"$f":"SUMIFS(RES!$F$6:$F$3006,RES!$O$6:$O$3006,'RC'!D$5,RES!$I$6:$I$3006,'RC'!$C12)","v":0},{"$f":"SUMIFS(RES!$F$6:$F$3006,RES!$O$6:$O$3006,'RC'!E$5,RES!$I$6:$I$3006,'RC'!$C12)","v":0},{"$f":"SUMIFS(RES!$F$6:$F$3006,RES!$O$6:$O$3006,'RC'!F$5,RES!$I$6:$I$3006,'RC'!$C12)","v":0},{"$f":"SUMIFS(RES!$F$6:$F$3006,RES!$O$6:$O$3006,'RC'!G$5,RES!$I$6:$I$3006,'RC'!$C12)","v":0},{"$f":"SUMIFS(RES!$F$6:$F$3006,RES!$O$6:$O$3006,'RC'!H$5,RES!$I$6:$I$3006,'RC'!$C12)","v":0},{"$f":"SUMIFS(RES!$F$6:$F$3006,RES!$O$6:$O$3006,'RC'!I$5,RES!$I$6:$I$3006,'RC'!$C12)","v":0},{"$f":"SUMIFS(RES!$F$6:$F$3006,RES!$O$6:$O$3006,'RC'!J$5,RES!$I$6:$I$3006,'RC'!$C12)","v":0},{"$f":"SUMIFS(RES!$F$6:$F$3006,RES!$O$6:$O$3006,'RC'!K$5,RES!$I$6:$I$3006,'RC'!$C12)","v":0},{"$f":"SUMIFS(RES!$F$6:$F$3006,RES!$O$6:$O$3006,'RC'!L$5,RES!$I$6:$I$3006,'RC'!$C12)","v":0},{"$f":"SUMIFS(RES!$F$6:$F$3006,RES!$O$6:$O$3006,'RC'!M$5,RES!$I$6:$I$3006,'RC'!$C12)","v":0},{"$f":"SUMIFS(RES!$F$6:$F$3006,RES!$O$6:$O$3006,'RC'!N$5,RES!$I$6:$I$3006,'RC'!$C12)","v":0},{"$f":"SUMIFS(RES!$F$6:$F$3006,RES!$O$6:$O$3006,'RC'!O$5,RES!$I$6:$I$3006,'RC'!$C12)","v":0}]
[null,null,{"$f":"CAD_Q!C12","v":7},{"$f":"SUMIFS(RES!$F$6:$F$3006,RES!$O$6:$O$3006,'RC'!D$5,RES!$I$6:$I$3006,'RC'!$C13)","v":0},{"$f":"SUMIFS(RES!$F$6:$F$3006,RES!$O$6:$O$3006,'RC'!E$5,RES!$I$6:$I$3006,'RC'!$C13)","v":0},{"$f":"SUMIFS(RES!$F$6:$F$3006,RES!$O$6:$O$3006,'RC'!F$5,RES!$I$6:$I$3006,'RC'!$C13)","v":0},{"$f":"SUMIFS(RES!$F$6:$F$3006,RES!$O$6:$O$3006,'RC'!G$5,RES!$I$6:$I$3006,'RC'!$C13)","v":0},{"$f":"SUMIFS(RES!$F$6:$F$3006,RES!$O$6:$O$3006,'RC'!H$5,RES!$I$6:$I$3006,'RC'!$C13)","v":0},{"$f":"SUMIFS(RES!$F$6:$F$3006,RES!$O$6:$O$3006,'RC'!I$5,RES!$I$6:$I$3006,'RC'!$C13)","v":0},{"$f":"SUMIFS(RES!$F$6:$F$3006,RES!$O$6:$O$3006,'RC'!J$5,RES!$I$6:$I$3006,'RC'!$C13)","v":0},{"$f":"SUMIFS(RES!$F$6:$F$3006,RES!$O$6:$O$3006,'RC'!K$5,RES!$I$6:$I$3006,'RC'!$C13)","v":0},{"$f":"SUMIFS(RES!$F$6:$F$3006,RES!$O$6:$O$3006,'RC'!L$5,RES!$I$6:$I$3006,'RC'!$C13)","v":0},{"$f":"SUMIFS(RES!$F$6:$F$3006,RES!$O$6:$O$3006,'RC'!M$5,RES!$I$6:$I$3006,'RC'!$C13)","v":0},{"$f":"SUMIFS(RES!$F$6:$F$3006,RES!$O$6:$O$3006,'RC'!N$5,RES!$I$6:$I$3006,'RC'!$C13)","v":0},{"$f":"SUMIFS(RES!$F$6:$F$3006,RES!$O$6:$O$3006,'RC'!O$5,RES!$I$6:$I$3006,'RC'!$C13)","v":0}]
[null,null,{"$f":"CAD_Q!C13","v":8},{"$f":"SUMIFS(RES!$F$6:$F$3006,RES!$O$6:$O$3006,'RC'!D$5,RES!$I$6:$I$3006,'RC'!$C14)","v":0},{"$f":"SUMIFS(RES!$F$6:$F$3006,RES!$O$6:$O$3006,'RC'!E$5,RES!$I$6:$I$3006,'RC'!$C14)","v":0},{"$f":"SUMIFS(RES!$F$6:$F$3006,RES!$O$6:$O$3006,'RC'!F$5,RES!$I$6:$I$3006,'RC'!$C14)","v":0},{"$f":"SUMIFS(RES!$F$6:$F$3006,RES!$O$6:$O$3006,'RC'!G$5,RES!$I$6:$I$3006,'RC'!$C14)","v":0},{"$f":"SUMIFS(RES!$F$6:$F$3006,RES!$O$6:$O$3006,'RC'!H$5,RES!$I$6:$I$3006,'RC'!$C14)","v":0},{"$f":"SUMIFS(RES!$F$6:$F$3006,RES!$O$6:$O$3006,'RC'!I$5,RES!$I$6:$I$3006,'RC'!$C14)","v":0},{"$f":"SUMIFS(RES!$F$6:$F$3006,RES!$O$6:$O$3006,'RC'!J$5,RES!$I$6:$I$3006,'RC'!$C14)","v":10},{"$f":"SUMIFS(RES!$F$6:$F$3006,RES!$O$6:$O$3006,'RC'!K$5,RES!$I$6:$I$3006,'RC'!$C14)","v":0},{"$f":"SUMIFS(RES!$F$6:$F$3006,RES!$O$6:$O$3006,'RC'!L$5,RES!$I$6:$I$3006,'RC'!$C14)","v":0},{"$f":"SUMIFS(RES!$F$6:$F$3006,RES!$O$6:$O$3006,'RC'!M$5,RES!$I$6:$I$3006,'RC'!$C14)","v":0},{"$f":"SUMIFS(RES!$F$6:$F$3006,RES!$O$6:$O$3006,'RC'!N$5,RES!$I$6:$I$3006,'RC'!$C14)","v":0},{"$f":"SUMIFS(RES!$F$6:$F$3006,RES!$O$6:$O$3006,'RC'!O$5,RES!$I$6:$I$3006,'RC'!$C14)","v":0}]
[null,null,{"$f":"CAD_Q!C14","v":9},{"$f":"SUMIFS(RES!$F$6:$F$3006,RES!$O$6:$O$3006,'RC'!D$5,RES!$I$6:$I$3006,'RC'!$C15)","v":0},{"$f":"SUMIFS(RES!$F$6:$F$3006,RES!$O$6:$O$3006,'RC'!E$5,RES!$I$6:$I$3006,'RC'!$C15)","v":0},{"$f":"SUMIFS(RES!$F$6:$F$3006,RES!$O$6:$O$3006,'RC'!F$5,RES!$I$6:$I$3006,'RC'!$C15)","v":0},{"$f":"SUMIFS(RES!$F$6:$F$3006,RES!$O$6:$O$3006,'RC'!G$5,RES!$I$6:$I$3006,'RC'!$C15)","v":0},{"$f":"SUMIFS(RES!$F$6:$F$3006,RES!$O$6:$O$3006,'RC'!H$5,RES!$I$6:$I$3006,'RC'!$C15)","v":0},{"$f":"SUMIFS(RES!$F$6:$F$3006,RES!$O$6:$O$3006,'RC'!I$5,RES!$I$6:$I$3006,'RC'!$C15)","v":0},{"$f":"SUMIFS(RES!$F$6:$F$3006,RES!$O$6:$O$3006,'RC'!J$5,RES!$I$6:$I$3006,'RC'!$C15)","v":0},{"$f":"SUMIFS(RES!$F$6:$F$3006,RES!$O$6:$O$3006,'RC'!K$5,RES!$I$6:$I$3006,'RC'!$C15)","v":0},{"$f":"SUMIFS(RES!$F$6:$F$3006,RES!$O$6:$O$3006,'RC'!L$5,RES!$I$6:$I$3006,'RC'!$C15)","v":0},{"$f":"SUMIFS(RES!$F$6:$F$3006,RES!$O$6:$O$3006,'RC'!M$5,RES!$I$6:$I$3006,'RC'!$C15)","v":0},{"$f":"SUMIFS(RES!$F$6:$F$3006,RES!$O$6:$O$3006,'RC'!N$5,RES!$I$6:$I$3006,'RC'!$C15)","v":0},{"$f":"SUMIFS(RES!$F$6:$F$3006,RES!$O$6:$O$3006,'RC'!O$5,RES!$I$6:$I$3006,'RC'!$C15)","v":0}]
[null,null,{"$f":"CAD_Q!C15","v":10},{"$f":"SUMIFS(RES!$F$6:$F$3006,RES!$O$6:$O$3006,'RC'!D$5,RES!$I$6:$I$3006,'RC'!$C16)","v":0},{"$f":"SUMIFS(RES!$F$6:$F$3006,RES!$O$6:$O$3006,'RC'!E$5,RES!$I$6:$I$3006,'RC'!$C16)","v":0},{"$f":"SUMIFS(RES!$F$6:$F$3006,RES!$O$6:$O$3006,'RC'!F$5,RES!$I$6:$I$3006,'RC'!$C16)","v":0},{"$f":"SUMIFS(RES!$F$6:$F$3006,RES!$O$6:$O$3006,'RC'!G$5,RES!$I$6:$I$3006,'RC'!$C16)","v":0},{"$f":"SUMIFS(RES!$F$6:$F$3006,RES!$O$6:$O$3006,'RC'!H$5,RES!$I$6:$I$3006,'RC'!$C16)","v":0},{"$f":"SUMIFS(RES!$F$6:$F$3006,RES!$O$6:$O$3006,'RC'!I$5,RES!$I$6:$I$3006,'RC'!$C16)","v":0},{"$f":"SUMIFS(RES!$F$6:$F$3006,RES!$O$6:$O$3006,'RC'!J$5,RES!$I$6:$I$3006,'RC'!$C16)","v":0},{"$f":"SUMIFS(RES!$F$6:$F$3006,RES!$O$6:$O$3006,'RC'!K$5,RES!$I$6:$I$3006,'RC'!$C16)","v":0},{"$f":"SUMIFS(RES!$F$6:$F$3006,RES!$O$6:$O$3006,'RC'!L$5,RES!$I$6:$I$3006,'RC'!$C16)","v":0},{"$f":"SUMIFS(RES!$F$6:$F$3006,RES!$O$6:$O$3006,'RC'!M$5,RES!$I$6:$I$3006,'RC'!$C16)","v":0},{"$f":"SUMIFS(RES!$F$6:$F$3006,RES!$O$6:$O$3006,'RC'!N$5,RES!$I$6:$I$3006,'RC'!$C16)","v":0},{"$f":"SUMIFS(RES!$F$6:$F$3006,RES!$O$6:$O$3006,'RC'!O$5,RES!$I$6:$I$3006,'RC'!$C16)","v":0}]
[null,null,{"$f":"CAD_Q!C16","v":11},{"$f":"SUMIFS(RES!$F$6:$F$3006,RES!$O$6:$O$3006,'RC'!D$5,RES!$I$6:$I$3006,'RC'!$C17)","v":0},{"$f":"SUMIFS(RES!$F$6:$F$3006,RES!$O$6:$O$3006,'RC'!E$5,RES!$I$6:$I$3006,'RC'!$C17)","v":0},{"$f":"SUMIFS(RES!$F$6:$F$3006,RES!$O$6:$O$3006,'RC'!F$5,RES!$I$6:$I$3006,'RC'!$C17)","v":0},{"$f":"SUMIFS(RES!$F$6:$F$3006,RES!$O$6:$O$3006,'RC'!G$5,RES!$I$6:$I$3006,'RC'!$C17)","v":0},{"$f":"SUMIFS(RES!$F$6:$F$3006,RES!$O$6:$O$3006,'RC'!H$5,RES!$I$6:$I$3006,'RC'!$C17)","v":0},{"$f":"SUMIFS(RES!$F$6:$F$3006,RES!$O$6:$O$3006,'RC'!I$5,RES!$I$6:$I$3006,'RC'!$C17)","v":0},{"$f":"SUMIFS(RES!$F$6:$F$3006,RES!$O$6:$O$3006,'RC'!J$5,RES!$I$6:$I$3006,'RC'!$C17)","v":5},{"$f":"SUMIFS(RES!$F$6:$F$3006,RES!$O$6:$O$3006,'RC'!K$5,RES!$I$6:$I$3006,'RC'!$C17)","v":0},{"$f":"SUMIFS(RES!$F$6:$F$3006,RES!$O$6:$O$3006,'RC'!L$5,RES!$I$6:$I$3006,'RC'!$C17)","v":0},{"$f":"SUMIFS(RES!$F$6:$F$3006,RES!$O$6:$O$3006,'RC'!M$5,RES!$I$6:$I$3006,'RC'!$C17)","v":0},{"$f":"SUMIFS(RES!$F$6:$F$3006,RES!$O$6:$O$3006,'RC'!N$5,RES!$I$6:$I$3006,'RC'!$C17)","v":0},{"$f":"SUMIFS(RES!$F$6:$F$3006,RES!$O$6:$O$3006,'RC'!O$5,RES!$I$6:$I$3006,'RC'!$C17)","v":0}]
[null,null,{"$f":"CAD_Q!C17","v":12},{"$f":"SUMIFS(RES!$F$6:$F$3006,RES!$O$6:$O$3006,'RC'!D$5,RES!$I$6:$I$3006,'RC'!$C18)","v":0},{"$f":"SUMIFS(RES!$F$6:$F$3006,RES!$O$6:$O$3006,'RC'!E$5,RES!$I$6:$I$3006,'RC'!$C18)","v":0},{"$f":"SUMIFS(RES!$F$6:$F$3006,RES!$O$6:$O$3006,'RC'!F$5,RES!$I$6:$I$3006,'RC'!$C18)","v":0},{"$f":"SUMIFS(RES!$F$6:$F$3006,RES!$O$6:$O$3006,'RC'!G$5,RES!$I$6:$I$3006,'RC'!$C18)","v":0},{"$f":"SUMIFS(RES!$F$6:$F$3006,RES!$O$6:$O$3006,'RC'!H$5,RES!$I$6:$I$3006,'RC'!$C18)","v":0},{"$f":"SUMIFS(RES!$F$6:$F$3006,RES!$O$6:$O$3006,'RC'!I$5,RES!$I$6:$I$3006,'RC'!$C18)","v":0},{"$f":"SUMIFS(RES!$F$6:$F$3006,RES!$O$6:$O$3006,'RC'!J$5,RES!$I$6:$I$3006,'RC'!$C18)","v":7},{"$f":"SUMIFS(RES!$F$6:$F$3006,RES!$O$6:$O$3006,'RC'!K$5,RES!$I$6:$I$3006,'RC'!$C18)","v":0},{"$f":"SUMIFS(RES!$F$6:$F$3006,RES!$O$6:$O$3006,'RC'!L$5,RES!$I$6:$I$3006,'RC'!$C18)","v":0},{"$f":"SUMIFS(RES!$F$6:$F$3006,RES!$O$6:$O$3006,'RC'!M$5,RES!$I$6:$I$3006,'RC'!$C18)","v":0},{"$f":"SUMIFS(RES!$F$6:$F$3006,RES!$O$6:$O$3006,'RC'!N$5,RES!$I$6:$I$3006,'RC'!$C18)","v":0},{"$f":"SUMIFS(RES!$F$6:$F$3006,RES!$O$6:$O$3006,'RC'!O$5,RES!$I$6:$I$3006,'RC'!$C18)","v":0}]
[null,null,{"$f":"CAD_Q!C18","v":13},{"$f":"SUMIFS(RES!$F$6:$F$3006,RES!$O$6:$O$3006,'RC'!D$5,RES!$I$6:$I$3006,'RC'!$C19)","v":0},{"$f":"SUMIFS(RES!$F$6:$F$3006,RES!$O$6:$O$3006,'RC'!E$5,RES!$I$6:$I$3006,'RC'!$C19)","v":0},{"$f":"SUMIFS(RES!$F$6:$F$3006,RES!$O$6:$O$3006,'RC'!F$5,RES!$I$6:$I$3006,'RC'!$C19)","v":0},{"$f":"SUMIFS(RES!$F$6:$F$3006,RES!$O$6:$O$3006,'RC'!G$5,RES!$I$6:$I$3006,'RC'!$C19)","v":0},{"$f":"SUMIFS(RES!$F$6:$F$3006,RES!$O$6:$O$3006,'RC'!H$5,RES!$I$6:$I$3006,'RC'!$C19)","v":0},{"$f":"SUMIFS(RES!$F$6:$F$3006,RES!$O$6:$O$3006,'RC'!I$5,RES!$I$6:$I$3006,'RC'!$C19)","v":0},{"$f":"SUMIFS(RES!$F$6:$F$3006,RES!$O$6:$O$3006,'RC'!J$5,RES!$I$6:$I$3006,'RC'!$C19)","v":0},{"$f":"SUMIFS(RES!$F$6:$F$3006,RES!$O$6:$O$3006,'RC'!K$5,RES!$I$6:$I$3006,'RC'!$C19)","v":0},{"$f":"SUMIFS(RES!$F$6:$F$3006,RES!$O$6:$O$3006,'RC'!L$5,RES!$I$6:$I$3006,'RC'!$C19)","v":0},{"$f":"SUMIFS(RES!$F$6:$F$3006,RES!$O$6:$O$3006,'RC'!M$5,RES!$I$6:$I$3006,'RC'!$C19)","v":0},{"$f":"SUMIFS(RES!$F$6:$F$3006,RES!$O$6:$O$3006,'RC'!N$5,RES!$I$6:$I$3006,'RC'!$C19)","v":0},{"$f":"SUMIFS(RES!$F$6:$F$3006,RES!$O$6:$O$3006,'RC'!O$5,RES!$I$6:$I$3006,'RC'!$C19)","v":0}]
[null,null,{"$f":"CAD_Q!C19","v":14},{"$f":"SUMIFS(RES!$F$6:$F$3006,RES!$O$6:$O$3006,'RC'!D$5,RES!$I$6:$I$3006,'RC'!$C20)","v":0},{"$f":"SUMIFS(RES!$F$6:$F$3006,RES!$O$6:$O$3006,'RC'!E$5,RES!$I$6:$I$3006,'RC'!$C20)","v":0},{"$f":"SUMIFS(RES!$F$6:$F$3006,RES!$O$6:$O$3006,'RC'!F$5,RES!$I$6:$I$3006,'RC'!$C20)","v":0},{"$f":"SUMIFS(RES!$F$6:$F$3006,RES!$O$6:$O$3006,'RC'!G$5,RES!$I$6:$I$3006,'RC'!$C20)","v":0},{"$f":"SUMIFS(RES!$F$6:$F$3006,RES!$O$6:$O$3006,'RC'!H$5,RES!$I$6:$I$3006,'RC'!$C20)","v":0},{"$f":"SUMIFS(RES!$F$6:$F$3006,RES!$O$6:$O$3006,'RC'!I$5,RES!$I$6:$I$3006,'RC'!$C20)","v":0},{"$f":"SUMIFS(RES!$F$6:$F$3006,RES!$O$6:$O$3006,'RC'!J$5,RES!$I$6:$I$3006,'RC'!$C20)","v":0},{"$f":"SUMIFS(RES!$F$6:$F$3006,RES!$O$6:$O$3006,'RC'!K$5,RES!$I$6:$I$3006,'RC'!$C20)","v":0},{"$f":"SUMIFS(RES!$F$6:$F$3006,RES!$O$6:$O$3006,'RC'!L$5,RES!$I$6:$I$3006,'RC'!$C20)","v":0},{"$f":"SUMIFS(RES!$F$6:$F$3006,RES!$O$6:$O$3006,'RC'!M$5,RES!$I$6:$I$3006,'RC'!$C20)","v":0},{"$f":"SUMIFS(RES!$F$6:$F$3006,RES!$O$6:$O$3006,'RC'!N$5,RES!$I$6:$I$3006,'RC'!$C20)","v":0},{"$f":"SUMIFS(RES!$F$6:$F$3006,RES!$O$6:$O$3006,'RC'!O$5,RES!$I$6:$I$3006,'RC'!$C20)","v":0}]
[null,null,{"$f":"CAD_Q!C20","v":15},{"$f":"SUMIFS(RES!$F$6:$F$3006,RES!$O$6:$O$3006,'RC'!D$5,RES!$I$6:$I$3006,'RC'!$C21)","v":0},{"$f":"SUMIFS(RES!$F$6:$F$3006,RES!$O$6:$O$3006,'RC'!E$5,RES!$I$6:$I$3006,'RC'!$C21)","v":0},{"$f":"SUMIFS(RES!$F$6:$F$3006,RES!$O$6:$O$3006,'RC'!F$5,RES!$I$6:$I$3006,'RC'!$C21)","v":0},{"$f":"SUMIFS(RES!$F$6:$F$3006,RES!$O$6:$O$3006,'RC'!G$5,RES!$I$6:$I$3006,'RC'!$C21)","v":0},{"$f":"SUMIFS(RES!$F$6:$F$3006,RES!$O$6:$O$3006,'RC'!H$5,RES!$I$6:$I$3006,'RC'!$C21)","v":0},{"$f":"SUMIFS(RES!$F$6:$F$3006,RES!$O$6:$O$3006,'RC'!I$5,RES!$I$6:$I$3006,'RC'!$C21)","v":0},{"$f":"SUMIFS(RES!$F$6:$F$3006,RES!$O$6:$O$3006,'RC'!J$5,RES!$I$6:$I$3006,'RC'!$C21)","v":0},{"$f":"SUMIFS(RES!$F$6:$F$3006,RES!$O$6:$O$3006,'RC'!K$5,RES!$I$6:$I$3006,'RC'!$C21)","v":0},{"$f":"SUMIFS(RES!$F$6:$F$3006,RES!$O$6:$O$3006,'RC'!L$5,RES!$I$6:$I$3006,'RC'!$C21)","v":0},{"$f":"SUMIFS(RES!$F$6:$F$3006,RES!$O$6:$O$3006,'RC'!M$5,RES!$I$6:$I$3006,'RC'!$C21)","v":0},{"$f":"SUMIFS(RES!$F$6:$F$3006,RES!$O$6:$O$3006,'RC'!N$5,RES!$I$6:$I$3006,'RC'!$C21)","v":0},{"$f":"SUMIFS(RES!$F$6:$F$3006,RES!$O$6:$O$3006,'RC'!O$5,RES!$I$6:$I$3006,'RC'!$C21)","v":0}]
[null,null,{"$f":"CAD_Q!C21","v":16},{"$f":"SUMIFS(RES!$F$6:$F$3006,RES!$O$6:$O$3006,'RC'!D$5,RES!$I$6:$I$3006,'RC'!$C22)","v":0},{"$f":"SUMIFS(RES!$F$6:$F$3006,RES!$O$6:$O$3006,'RC'!E$5,RES!$I$6:$I$3006,'RC'!$C22)","v":0},{"$f":"SUMIFS(RES!$F$6:$F$3006,RES!$O$6:$O$3006,'RC'!F$5,RES!$I$6:$I$3006,'RC'!$C22)","v":0},{"$f":"SUMIFS(RES!$F$6:$F$3006,RES!$O$6:$O$3006,'RC'!G$5,RES!$I$6:$I$3006,'RC'!$C22)","v":0},{"$f":"SUMIFS(RES!$F$6:$F$3006,RES!$O$6:$O$3006,'RC'!H$5,RES!$I$6:$I$3006,'RC'!$C22)","v":0},{"$f":"SUMIFS(RES!$F$6:$F$3006,RES!$O$6:$O$3006,'RC'!I$5,RES!$I$6:$I$3006,'RC'!$C22)","v":0},{"$f":"SUMIFS(RES!$F$6:$F$3006,RES!$O$6:$O$3006,'RC'!J$5,RES!$I$6:$I$3006,'RC'!$C22)","v":0},{"$f":"SUMIFS(RES!$F$6:$F$3006,RES!$O$6:$O$3006,'RC'!K$5,RES!$I$6:$I$3006,'RC'!$C22)","v":0},{"$f":"SUMIFS(RES!$F$6:$F$3006,RES!$O$6:$O$3006,'RC'!L$5,RES!$I$6:$I$3006,'RC'!$C22)","v":0},{"$f":"SUMIFS(RES!$F$6:$F$3006,RES!$O$6:$O$3006,'RC'!M$5,RES!$I$6:$I$3006,'RC'!$C22)","v":0},{"$f":"SUMIFS(RES!$F$6:$F$3006,RES!$O$6:$O$3006,'RC'!N$5,RES!$I$6:$I$3006,'RC'!$C22)","v":0},{"$f":"SUMIFS(RES!$F$6:$F$3006,RES!$O$6:$O$3006,'RC'!O$5,RES!$I$6:$I$3006,'RC'!$C22)","v":0}]
[null,null,{"$f":"CAD_Q!C22","v":17},{"$f":"SUMIFS(RES!$F$6:$F$3006,RES!$O$6:$O$3006,'RC'!D$5,RES!$I$6:$I$3006,'RC'!$C23)","v":0},{"$f":"SUMIFS(RES!$F$6:$F$3006,RES!$O$6:$O$3006,'RC'!E$5,RES!$I$6:$I$3006,'RC'!$C23)","v":0},{"$f":"SUMIFS(RES!$F$6:$F$3006,RES!$O$6:$O$3006,'RC'!F$5,RES!$I$6:$I$3006,'RC'!$C23)","v":0},{"$f":"SUMIFS(RES!$F$6:$F$3006,RES!$O$6:$O$3006,'RC'!G$5,RES!$I$6:$I$3006,'RC'!$C23)","v":0},{"$f":"SUMIFS(RES!$F$6:$F$3006,RES!$O$6:$O$3006,'RC'!H$5,RES!$I$6:$I$3006,'RC'!$C23)","v":0},{"$f":"SUMIFS(RES!$F$6:$F$3006,RES!$O$6:$O$3006,'RC'!I$5,RES!$I$6:$I$3006,'RC'!$C23)","v":0},{"$f":"SUMIFS(RES!$F$6:$F$3006,RES!$O$6:$O$3006,'RC'!J$5,RES!$I$6:$I$3006,'RC'!$C23)","v":0},{"$f":"SUMIFS(RES!$F$6:$F$3006,RES!$O$6:$O$3006,'RC'!K$5,RES!$I$6:$I$3006,'RC'!$C23)","v":0},{"$f":"SUMIFS(RES!$F$6:$F$3006,RES!$O$6:$O$3006,'RC'!L$5,RES!$I$6:$I$3006,'RC'!$C23)","v":0},{"$f":"SUMIFS(RES!$F$6:$F$3006,RES!$O$6:$O$3006,'RC'!M$5,RES!$I$6:$I$3006,'RC'!$C23)","v":0},{"$f":"SUMIFS(RES!$F$6:$F$3006,RES!$O$6:$O$3006,'RC'!N$5,RES!$I$6:$I$3006,'RC'!$C23)","v":0},{"$f":"SUMIFS(RES!$F$6:$F$3006,RES!$O$6:$O$3006,'RC'!O$5,RES!$I$6:$I$3006,'RC'!$C23)","v":0}]
[null,null,{"$f":"CAD_Q!C23","v":18},{"$f":"SUMIFS(RES!$F$6:$F$3006,RES!$O$6:$O$3006,'RC'!D$5,RES!$I$6:$I$3006,'RC'!$C24)","v":0},{"$f":"SUMIFS(RES!$F$6:$F$3006,RES!$O$6:$O$3006,'RC'!E$5,RES!$I$6:$I$3006,'RC'!$C24)","v":0},{"$f":"SUMIFS(RES!$F$6:$F$3006,RES!$O$6:$O$3006,'RC'!F$5,RES!$I$6:$I$3006,'RC'!$C24)","v":0},{"$f":"SUMIFS(RES!$F$6:$F$3006,RES!$O$6:$O$3006,'RC'!G$5,RES!$I$6:$I$3006,'RC'!$C24)","v":0},{"$f":"SUMIFS(RES!$F$6:$F$3006,RES!$O$6:$O$3006,'RC'!H$5,RES!$I$6:$I$3006,'RC'!$C24)","v":0},{"$f":"SUMIFS(RES!$F$6:$F$3006,RES!$O$6:$O$3006,'RC'!I$5,RES!$I$6:$I$3006,'RC'!$C24)","v":0},{"$f":"SUMIFS(RES!$F$6:$F$3006,RES!$O$6:$O$3006,'RC'!J$5,RES!$I$6:$I$3006,'RC'!$C24)","v":0},{"$f":"SUMIFS(RES!$F$6:$F$3006,RES!$O$6:$O$3006,'RC'!K$5,RES!$I$6:$I$3006,'RC'!$C24)","v":0},{"$f":"SUMIFS(RES!$F$6:$F$3006,RES!$O$6:$O$3006,'RC'!L$5,RES!$I$6:$I$3006,'RC'!$C24)","v":0},{"$f":"SUMIFS(RES!$F$6:$F$3006,RES!$O$6:$O$3006,'RC'!M$5,RES!$I$6:$I$3006,'RC'!$C24)","v":0},{"$f":"SUMIFS(RES!$F$6:$F$3006,RES!$O$6:$O$3006,'RC'!N$5,RES!$I$6:$I$3006,'RC'!$C24)","v":0},{"$f":"SUMIFS(RES!$F$6:$F$3006,RES!$O$6:$O$3006,'RC'!O$5,RES!$I$6:$I$3006,'RC'!$C24)","v":0}]
[null,null,{"$f":"CAD_Q!C24","v":19},{"$f":"SUMIFS(RES!$F$6:$F$3006,RES!$O$6:$O$3006,'RC'!D$5,RES!$I$6:$I$3006,'RC'!$C25)","v":0},{"$f":"SUMIFS(RES!$F$6:$F$3006,RES!$O$6:$O$3006,'RC'!E$5,RES!$I$6:$I$3006,'RC'!$C25)","v":0},{"$f":"SUMIFS(RES!$F$6:$F$3006,RES!$O$6:$O$3006,'RC'!F$5,RES!$I$6:$I$3006,'RC'!$C25)","v":0},{"$f":"SUMIFS(RES!$F$6:$F$3006,RES!$O$6:$O$3006,'RC'!G$5,RES!$I$6:$I$3006,'RC'!$C25)","v":0},{"$f":"SUMIFS(RES!$F$6:$F$3006,RES!$O$6:$O$3006,'RC'!H$5,RES!$I$6:$I$3006,'RC'!$C25)","v":0},{"$f":"SUMIFS(RES!$F$6:$F$3006,RES!$O$6:$O$3006,'RC'!I$5,RES!$I$6:$I$3006,'RC'!$C25)","v":0},{"$f":"SUMIFS(RES!$F$6:$F$3006,RES!$O$6:$O$3006,'RC'!J$5,RES!$I$6:$I$3006,'RC'!$C25)","v":0},{"$f":"SUMIFS(RES!$F$6:$F$3006,RES!$O$6:$O$3006,'RC'!K$5,RES!$I$6:$I$3006,'RC'!$C25)","v":0},{"$f":"SUMIFS(RES!$F$6:$F$3006,RES!$O$6:$O$3006,'RC'!L$5,RES!$I$6:$I$3006,'RC'!$C25)","v":0},{"$f":"SUMIFS(RES!$F$6:$F$3006,RES!$O$6:$O$3006,'RC'!M$5,RES!$I$6:$I$3006,'RC'!$C25)","v":0},{"$f":"SUMIFS(RES!$F$6:$F$3006,RES!$O$6:$O$3006,'RC'!N$5,RES!$I$6:$I$3006,'RC'!$C25)","v":0},{"$f":"SUMIFS(RES!$F$6:$F$3006,RES!$O$6:$O$3006,'RC'!O$5,RES!$I$6:$I$3006,'RC'!$C25)","v":0}]
[null,null,{"$f":"CAD_Q!C25","v":20},{"$f":"SUMIFS(RES!$F$6:$F$3006,RES!$O$6:$O$3006,'RC'!D$5,RES!$I$6:$I$3006,'RC'!$C26)","v":0},{"$f":"SUMIFS(RES!$F$6:$F$3006,RES!$O$6:$O$3006,'RC'!E$5,RES!$I$6:$I$3006,'RC'!$C26)","v":0},{"$f":"SUMIFS(RES!$F$6:$F$3006,RES!$O$6:$O$3006,'RC'!F$5,RES!$I$6:$I$3006,'RC'!$C26)","v":0},{"$f":"SUMIFS(RES!$F$6:$F$3006,RES!$O$6:$O$3006,'RC'!G$5,RES!$I$6:$I$3006,'RC'!$C26)","v":0},{"$f":"SUMIFS(RES!$F$6:$F$3006,RES!$O$6:$O$3006,'RC'!H$5,RES!$I$6:$I$3006,'RC'!$C26)","v":0},{"$f":"SUMIFS(RES!$F$6:$F$3006,RES!$O$6:$O$3006,'RC'!I$5,RES!$I$6:$I$3006,'RC'!$C26)","v":0},{"$f":"SUMIFS(RES!$F$6:$F$3006,RES!$O$6:$O$3006,'RC'!J$5,RES!$I$6:$I$3006,'RC'!$C26)","v":0},{"$f":"SUMIFS(RES!$F$6:$F$3006,RES!$O$6:$O$3006,'RC'!K$5,RES!$I$6:$I$3006,'RC'!$C26)","v":0},{"$f":"SUMIFS(RES!$F$6:$F$3006,RES!$O$6:$O$3006,'RC'!L$5,RES!$I$6:$I$3006,'RC'!$C26)","v":0},{"$f":"SUMIFS(RES!$F$6:$F$3006,RES!$O$6:$O$3006,'RC'!M$5,RES!$I$6:$I$3006,'RC'!$C26)","v":0},{"$f":"SUMIFS(RES!$F$6:$F$3006,RES!$O$6:$O$3006,'RC'!N$5,RES!$I$6:$I$3006,'RC'!$C26)","v":0},{"$f":"SUMIFS(RES!$F$6:$F$3006,RES!$O$6:$O$3006,'RC'!O$5,RES!$I$6:$I$3006,'RC'!$C26)","v":0}]
[null,null,{"$f":"CAD_Q!C26","v":21},{"$f":"SUMIFS(RES!$F$6:$F$3006,RES!$O$6:$O$3006,'RC'!D$5,RES!$I$6:$I$3006,'RC'!$C27)","v":0},{"$f":"SUMIFS(RES!$F$6:$F$3006,RES!$O$6:$O$3006,'RC'!E$5,RES!$I$6:$I$3006,'RC'!$C27)","v":0},{"$f":"SUMIFS(RES!$F$6:$F$3006,RES!$O$6:$O$3006,'RC'!F$5,RES!$I$6:$I$3006,'RC'!$C27)","v":0},{"$f":"SUMIFS(RES!$F$6:$F$3006,RES!$O$6:$O$3006,'RC'!G$5,RES!$I$6:$I$3006,'RC'!$C27)","v":0},{"$f":"SUMIFS(RES!$F$6:$F$3006,RES!$O$6:$O$3006,'RC'!H$5,RES!$I$6:$I$3006,'RC'!$C27)","v":0},{"$f":"SUMIFS(RES!$F$6:$F$3006,RES!$O$6:$O$3006,'RC'!I$5,RES!$I$6:$I$3006,'RC'!$C27)","v":0},{"$f":"SUMIFS(RES!$F$6:$F$3006,RES!$O$6:$O$3006,'RC'!J$5,RES!$I$6:$I$3006,'RC'!$C27)","v":0},{"$f":"SUMIFS(RES!$F$6:$F$3006,RES!$O$6:$O$3006,'RC'!K$5,RES!$I$6:$I$3006,'RC'!$C27)","v":0},{"$f":"SUMIFS(RES!$F$6:$F$3006,RES!$O$6:$O$3006,'RC'!L$5,RES!$I$6:$I$3006,'RC'!$C27)","v":0},{"$f":"SUMIFS(RES!$F$6:$F$3006,RES!$O$6:$O$3006,'RC'!M$5,RES!$I$6:$I$3006,'RC'!$C27)","v":0},{"$f":"SUMIFS(RES!$F$6:$F$3006,RES!$O$6:$O$3006,'RC'!N$5,RES!$I$6:$I$3006,'RC'!$C27)","v":0},{"$f":"SUMIFS(RES!$F$6:$F$3006,RES!$O$6:$O$3006,'RC'!O$5,RES!$I$6:$I$3006,'RC'!$C27)","v":0}]
[null,null,{"$f":"CAD_Q!C27","v":22},{"$f":"SUMIFS(RES!$F$6:$F$3006,RES!$O$6:$O$3006,'RC'!D$5,RES!$I$6:$I$3006,'RC'!$C28)","v":0},{"$f":"SUMIFS(RES!$F$6:$F$3006,RES!$O$6:$O$3006,'RC'!E$5,RES!$I$6:$I$3006,'RC'!$C28)","v":0},{"$f":"SUMIFS(RES!$F$6:$F$3006,RES!$O$6:$O$3006,'RC'!F$5,RES!$I$6:$I$3006,'RC'!$C28)","v":0},{"$f":"SUMIFS(RES!$F$6:$F$3006,RES!$O$6:$O$3006,'RC'!G$5,RES!$I$6:$I$3006,'RC'!$C28)","v":0},{"$f":"SUMIFS(RES!$F$6:$F$3006,RES!$O$6:$O$3006,'RC'!H$5,RES!$I$6:$I$3006,'RC'!$C28)","v":0},{"$f":"SUMIFS(RES!$F$6:$F$3006,RES!$O$6:$O$3006,'RC'!I$5,RES!$I$6:$I$3006,'RC'!$C28)","v":0},{"$f":"SUMIFS(RES!$F$6:$F$3006,RES!$O$6:$O$3006,'RC'!J$5,RES!$I$6:$I$3006,'RC'!$C28)","v":0},{"$f":"SUMIFS(RES!$F$6:$F$3006,RES!$O$6:$O$3006,'RC'!K$5,RES!$I$6:$I$3006,'RC'!$C28)","v":0},{"$f":"SUMIFS(RES!$F$6:$F$3006,RES!$O$6:$O$3006,'RC'!L$5,RES!$I$6:$I$3006,'RC'!$C28)","v":0},{"$f":"SUMIFS(RES!$F$6:$F$3006,RES!$O$6:$O$3006,'RC'!M$5,RES!$I$6:$I$3006,'RC'!$C28)","v":0},{"$f":"SUMIFS(RES!$F$6:$F$3006,RES!$O$6:$O$3006,'RC'!N$5,RES!$I$6:$I$3006,'RC'!$C28)","v":0},{"$f":"SUMIFS(RES!$F$6:$F$3006,RES!$O$6:$O$3006,'RC'!O$5,RES!$I$6:$I$3006,'RC'!$C28)","v":0}]
[null,null,{"$f":"CAD_Q!C28","v":23},{"$f":"SUMIFS(RES!$F$6:$F$3006,RES!$O$6:$O$3006,'RC'!D$5,RES!$I$6:$I$3006,'RC'!$C29)","v":0},{"$f":"SUMIFS(RES!$F$6:$F$3006,RES!$O$6:$O$3006,'RC'!E$5,RES!$I$6:$I$3006,'RC'!$C29)","v":0},{"$f":"SUMIFS(RES!$F$6:$F$3006,RES!$O$6:$O$3006,'RC'!F$5,RES!$I$6:$I$3006,'RC'!$C29)","v":0},{"$f":"SUMIFS(RES!$F$6:$F$3006,RES!$O$6:$O$3006,'RC'!G$5,RES!$I$6:$I$3006,'RC'!$C29)","v":0},{"$f":"SUMIFS(RES!$F$6:$F$3006,RES!$O$6:$O$3006,'RC'!H$5,RES!$I$6:$I$3006,'RC'!$C29)","v":0},{"$f":"SUMIFS(RES!$F$6:$F$3006,RES!$O$6:$O$3006,'RC'!I$5,RES!$I$6:$I$3006,'RC'!$C29)","v":0},{"$f":"SUMIFS(RES!$F$6:$F$3006,RES!$O$6:$O$3006,'RC'!J$5,RES!$I$6:$I$3006,'RC'!$C29)","v":0},{"$f":"SUMIFS(RES!$F$6:$F$3006,RES!$O$6:$O$3006,'RC'!K$5,RES!$I$6:$I$3006,'RC'!$C29)","v":0},{"$f":"SUMIFS(RES!$F$6:$F$3006,RES!$O$6:$O$3006,'RC'!L$5,RES!$I$6:$I$3006,'RC'!$C29)","v":0},{"$f":"SUMIFS(RES!$F$6:$F$3006,RES!$O$6:$O$3006,'RC'!M$5,RES!$I$6:$I$3006,'RC'!$C29)","v":0},{"$f":"SUMIFS(RES!$F$6:$F$3006,RES!$O$6:$O$3006,'RC'!N$5,RES!$I$6:$I$3006,'RC'!$C29)","v":0},{"$f":"SUMIFS(RES!$F$6:$F$3006,RES!$O$6:$O$3006,'RC'!O$5,RES!$I$6:$I$3006,'RC'!$C29)","v":0}]
[null,null,{"$f":"CAD_Q!C29","v":24},{"$f":"SUMIFS(RES!$F$6:$F$3006,RES!$O$6:$O$3006,'RC'!D$5,RES!$I$6:$I$3006,'RC'!$C30)","v":0},{"$f":"SUMIFS(RES!$F$6:$F$3006,RES!$O$6:$O$3006,'RC'!E$5,RES!$I$6:$I$3006,'RC'!$C30)","v":0},{"$f":"SUMIFS(RES!$F$6:$F$3006,RES!$O$6:$O$3006,'RC'!F$5,RES!$I$6:$I$3006,'RC'!$C30)","v":0},{"$f":"SUMIFS(RES!$F$6:$F$3006,RES!$O$6:$O$3006,'RC'!G$5,RES!$I$6:$I$3006,'RC'!$C30)","v":0},{"$f":"SUMIFS(RES!$F$6:$F$3006,RES!$O$6:$O$3006,'RC'!H$5,RES!$I$6:$I$3006,'RC'!$C30)","v":0},{"$f":"SUMIFS(RES!$F$6:$F$3006,RES!$O$6:$O$3006,'RC'!I$5,RES!$I$6:$I$3006,'RC'!$C30)","v":0},{"$f":"SUMIFS(RES!$F$6:$F$3006,RES!$O$6:$O$3006,'RC'!J$5,RES!$I$6:$I$3006,'RC'!$C30)","v":0},{"$f":"SUMIFS(RES!$F$6:$F$3006,RES!$O$6:$O$3006,'RC'!K$5,RES!$I$6:$I$3006,'RC'!$C30)","v":0},{"$f":"SUMIFS(RES!$F$6:$F$3006,RES!$O$6:$O$3006,'RC'!L$5,RES!$I$6:$I$3006,'RC'!$C30)","v":0},{"$f":"SUMIFS(RES!$F$6:$F$3006,RES!$O$6:$O$3006,'RC'!M$5,RES!$I$6:$I$3006,'RC'!$C30)","v":0},{"$f":"SUMIFS(RES!$F$6:$F$3006,RES!$O$6:$O$3006,'RC'!N$5,RES!$I$6:$I$3006,'RC'!$C30)","v":0},{"$f":"SUMIFS(RES!$F$6:$F$3006,RES!$O$6:$O$3006,'RC'!O$5,RES!$I$6:$I$3006,'RC'!$C30)","v":0}]
[null,null,{"$f":"CAD_Q!C30","v":25},{"$f":"SUMIFS(RES!$F$6:$F$3006,RES!$O$6:$O$3006,'RC'!D$5,RES!$I$6:$I$3006,'RC'!$C31)","v":0},{"$f":"SUMIFS(RES!$F$6:$F$3006,RES!$O$6:$O$3006,'RC'!E$5,RES!$I$6:$I$3006,'RC'!$C31)","v":0},{"$f":"SUMIFS(RES!$F$6:$F$3006,RES!$O$6:$O$3006,'RC'!F$5,RES!$I$6:$I$3006,'RC'!$C31)","v":0},{"$f":"SUMIFS(RES!$F$6:$F$3006,RES!$O$6:$O$3006,'RC'!G$5,RES!$I$6:$I$3006,'RC'!$C31)","v":0},{"$f":"SUMIFS(RES!$F$6:$F$3006,RES!$O$6:$O$3006,'RC'!H$5,RES!$I$6:$I$3006,'RC'!$C31)","v":0},{"$f":"SUMIFS(RES!$F$6:$F$3006,RES!$O$6:$O$3006,'RC'!I$5,RES!$I$6:$I$3006,'RC'!$C31)","v":0},{"$f":"SUMIFS(RES!$F$6:$F$3006,RES!$O$6:$O$3006,'RC'!J$5,RES!$I$6:$I$3006,'RC'!$C31)","v":0},{"$f":"SUMIFS(RES!$F$6:$F$3006,RES!$O$6:$O$3006,'RC'!K$5,RES!$I$6:$I$3006,'RC'!$C31)","v":0},{"$f":"SUMIFS(RES!$F$6:$F$3006,RES!$O$6:$O$3006,'RC'!L$5,RES!$I$6:$I$3006,'RC'!$C31)","v":0},{"$f":"SUMIFS(RES!$F$6:$F$3006,RES!$O$6:$O$3006,'RC'!M$5,RES!$I$6:$I$3006,'RC'!$C31)","v":0},{"$f":"SUMIFS(RES!$F$6:$F$3006,RES!$O$6:$O$3006,'RC'!N$5,RES!$I$6:$I$3006,'RC'!$C31)","v":0},{"$f":"SUMIFS(RES!$F$6:$F$3006,RES!$O$6:$O$3006,'RC'!O$5,RES!$I$6:$I$3006,'RC'!$C31)","v":0}]
[null,null,{"$f":"CAD_Q!C31","v":26},{"$f":"SUMIFS(RES!$F$6:$F$3006,RES!$O$6:$O$3006,'RC'!D$5,RES!$I$6:$I$3006,'RC'!$C32)","v":0},{"$f":"SUMIFS(RES!$F$6:$F$3006,RES!$O$6:$O$3006,'RC'!E$5,RES!$I$6:$I$3006,'RC'!$C32)","v":0},{"$f":"SUMIFS(RES!$F$6:$F$3006,RES!$O$6:$O$3006,'RC'!F$5,RES!$I$6:$I$3006,'RC'!$C32)","v":0},{"$f":"SUMIFS(RES!$F$6:$F$3006,RES!$O$6:$O$3006,'RC'!G$5,RES!$I$6:$I$3006,'RC'!$C32)","v":0},{"$f":"SUMIFS(RES!$F$6:$F$3006,RES!$O$6:$O$3006,'RC'!H$5,RES!$I$6:$I$3006,'RC'!$C32)","v":0},{"$f":"SUMIFS(RES!$F$6:$F$3006,RES!$O$6:$O$3006,'RC'!I$5,RES!$I$6:$I$3006,'RC'!$C32)","v":0},{"$f":"SUMIFS(RES!$F$6:$F$3006,RES!$O$6:$O$3006,'RC'!J$5,RES!$I$6:$I$3006,'RC'!$C32)","v":0},{"$f":"SUMIFS(RES!$F$6:$F$3006,RES!$O$6:$O$3006,'RC'!K$5,RES!$I$6:$I$3006,'RC'!$C32)","v":0},{"$f":"SUMIFS(RES!$F$6:$F$3006,RES!$O$6:$O$3006,'RC'!L$5,RES!$I$6:$I$3006,'RC'!$C32)","v":0},{"$f":"SUMIFS(RES!$F$6:$F$3006,RES!$O$6:$O$3006,'RC'!M$5,RES!$I$6:$I$3006,'RC'!$C32)","v":0},{"$f":"SUMIFS(RES!$F$6:$F$3006,RES!$O$6:$O$3006,'RC'!N$5,RES!$I$6:$I$3006,'RC'!$C32)","v":0},{"$f":"SUMIFS(RES!$F$6:$F$3006,RES!$O$6:$O$3006,'RC'!O$5,RES!$I$6:$I$3006,'RC'!$C32)","v":0}]
[null,null,{"$f":"CAD_Q!C32","v":27},{"$f":"SUMIFS(RES!$F$6:$F$3006,RES!$O$6:$O$3006,'RC'!D$5,RES!$I$6:$I$3006,'RC'!$C33)","v":0},{"$f":"SUMIFS(RES!$F$6:$F$3006,RES!$O$6:$O$3006,'RC'!E$5,RES!$I$6:$I$3006,'RC'!$C33)","v":0},{"$f":"SUMIFS(RES!$F$6:$F$3006,RES!$O$6:$O$3006,'RC'!F$5,RES!$I$6:$I$3006,'RC'!$C33)","v":0},{"$f":"SUMIFS(RES!$F$6:$F$3006,RES!$O$6:$O$3006,'RC'!G$5,RES!$I$6:$I$3006,'RC'!$C33)","v":0},{"$f":"SUMIFS(RES!$F$6:$F$3006,RES!$O$6:$O$3006,'RC'!H$5,RES!$I$6:$I$3006,'RC'!$C33)","v":0},{"$f":"SUMIFS(RES!$F$6:$F$3006,RES!$O$6:$O$3006,'RC'!I$5,RES!$I$6:$I$3006,'RC'!$C33)","v":0},{"$f":"SUMIFS(RES!$F$6:$F$3006,RES!$O$6:$O$3006,'RC'!J$5,RES!$I$6:$I$3006,'RC'!$C33)","v":0},{"$f":"SUMIFS(RES!$F$6:$F$3006,RES!$O$6:$O$3006,'RC'!K$5,RES!$I$6:$I$3006,'RC'!$C33)","v":0},{"$f":"SUMIFS(RES!$F$6:$F$3006,RES!$O$6:$O$3006,'RC'!L$5,RES!$I$6:$I$3006,'RC'!$C33)","v":0},{"$f":"SUMIFS(RES!$F$6:$F$3006,RES!$O$6:$O$3006,'RC'!M$5,RES!$I$6:$I$3006,'RC'!$C33)","v":0},{"$f":"SUMIFS(RES!$F$6:$F$3006,RES!$O$6:$O$3006,'RC'!N$5,RES!$I$6:$I$3006,'RC'!$C33)","v":0},{"$f":"SUMIFS(RES!$F$6:$F$3006,RES!$O$6:$O$3006,'RC'!O$5,RES!$I$6:$I$3006,'RC'!$C33)","v":0}]
[null,null,{"$f":"CAD_Q!C33","v":28},{"$f":"SUMIFS(RES!$F$6:$F$3006,RES!$O$6:$O$3006,'RC'!D$5,RES!$I$6:$I$3006,'RC'!$C34)","v":0},{"$f":"SUMIFS(RES!$F$6:$F$3006,RES!$O$6:$O$3006,'RC'!E$5,RES!$I$6:$I$3006,'RC'!$C34)","v":0},{"$f":"SUMIFS(RES!$F$6:$F$3006,RES!$O$6:$O$3006,'RC'!F$5,RES!$I$6:$I$3006,'RC'!$C34)","v":0},{"$f":"SUMIFS(RES!$F$6:$F$3006,RES!$O$6:$O$3006,'RC'!G$5,RES!$I$6:$I$3006,'RC'!$C34)","v":0},{"$f":"SUMIFS(RES!$F$6:$F$3006,RES!$O$6:$O$3006,'RC'!H$5,RES!$I$6:$I$3006,'RC'!$C34)","v":0},{"$f":"SUMIFS(RES!$F$6:$F$3006,RES!$O$6:$O$3006,'RC'!I$5,RES!$I$6:$I$3006,'RC'!$C34)","v":0},{"$f":"SUMIFS(RES!$F$6:$F$3006,RES!$O$6:$O$3006,'RC'!J$5,RES!$I$6:$I$3006,'RC'!$C34)","v":0},{"$f":"SUMIFS(RES!$F$6:$F$3006,RES!$O$6:$O$3006,'RC'!K$5,RES!$I$6:$I$3006,'RC'!$C34)","v":0},{"$f":"SUMIFS(RES!$F$6:$F$3006,RES!$O$6:$O$3006,'RC'!L$5,RES!$I$6:$I$3006,'RC'!$C34)","v":0},{"$f":"SUMIFS(RES!$F$6:$F$3006,RES!$O$6:$O$3006,'RC'!M$5,RES!$I$6:$I$3006,'RC'!$C34)","v":0},{"$f":"SUMIFS(RES!$F$6:$F$3006,RES!$O$6:$O$3006,'RC'!N$5,RES!$I$6:$I$3006,'RC'!$C34)","v":0},{"$f":"SUMIFS(RES!$F$6:$F$3006,RES!$O$6:$O$3006,'RC'!O$5,RES!$I$6:$I$3006,'RC'!$C34)","v":0}]
[null,null,{"$f":"CAD_Q!C34","v":29},{"$f":"SUMIFS(RES!$F$6:$F$3006,RES!$O$6:$O$3006,'RC'!D$5,RES!$I$6:$I$3006,'RC'!$C35)","v":0},{"$f":"SUMIFS(RES!$F$6:$F$3006,RES!$O$6:$O$3006,'RC'!E$5,RES!$I$6:$I$3006,'RC'!$C35)","v":0},{"$f":"SUMIFS(RES!$F$6:$F$3006,RES!$O$6:$O$3006,'RC'!F$5,RES!$I$6:$I$3006,'RC'!$C35)","v":0},{"$f":"SUMIFS(RES!$F$6:$F$3006,RES!$O$6:$O$3006,'RC'!G$5,RES!$I$6:$I$3006,'RC'!$C35)","v":0},{"$f":"SUMIFS(RES!$F$6:$F$3006,RES!$O$6:$O$3006,'RC'!H$5,RES!$I$6:$I$3006,'RC'!$C35)","v":0},{"$f":"SUMIFS(RES!$F$6:$F$3006,RES!$O$6:$O$3006,'RC'!I$5,RES!$I$6:$I$3006,'RC'!$C35)","v":0},{"$f":"SUMIFS(RES!$F$6:$F$3006,RES!$O$6:$O$3006,'RC'!J$5,RES!$I$6:$I$3006,'RC'!$C35)","v":0},{"$f":"SUMIFS(RES!$F$6:$F$3006,RES!$O$6:$O$3006,'RC'!K$5,RES!$I$6:$I$3006,'RC'!$C35)","v":0},{"$f":"SUMIFS(RES!$F$6:$F$3006,RES!$O$6:$O$3006,'RC'!L$5,RES!$I$6:$I$3006,'RC'!$C35)","v":0},{"$f":"SUMIFS(RES!$F$6:$F$3006,RES!$O$6:$O$3006,'RC'!M$5,RES!$I$6:$I$3006,'RC'!$C35)","v":0},{"$f":"SUMIFS(RES!$F$6:$F$3006,RES!$O$6:$O$3006,'RC'!N$5,RES!$I$6:$I$3006,'RC'!$C35)","v":0},{"$f":"SUMIFS(RES!$F$6:$F$3006,RES!$O$6:$O$3006,'RC'!O$5,RES!$I$6:$I$3006,'RC'!$C35)","v":0}]
[null,null,{"$f":"CAD_Q!C35","v":30},{"$f":"SUMIFS(RES!$F$6:$F$3006,RES!$O$6:$O$3006,'RC'!D$5,RES!$I$6:$I$3006,'RC'!$C36)","v":0},{"$f":"SUMIFS(RES!$F$6:$F$3006,RES!$O$6:$O$3006,'RC'!E$5,RES!$I$6:$I$3006,'RC'!$C36)","v":0},{"$f":"SUMIFS(RES!$F$6:$F$3006,RES!$O$6:$O$3006,'RC'!F$5,RES!$I$6:$I$3006,'RC'!$C36)","v":0},{"$f":"SUMIFS(RES!$F$6:$F$3006,RES!$O$6:$O$3006,'RC'!G$5,RES!$I$6:$I$3006,'RC'!$C36)","v":0},{"$f":"SUMIFS(RES!$F$6:$F$3006,RES!$O$6:$O$3006,'RC'!H$5,RES!$I$6:$I$3006,'RC'!$C36)","v":0},{"$f":"SUMIFS(RES!$F$6:$F$3006,RES!$O$6:$O$3006,'RC'!I$5,RES!$I$6:$I$3006,'RC'!$C36)","v":0},{"$f":"SUMIFS(RES!$F$6:$F$3006,RES!$O$6:$O$3006,'RC'!J$5,RES!$I$6:$I$3006,'RC'!$C36)","v":0},{"$f":"SUMIFS(RES!$F$6:$F$3006,RES!$O$6:$O$3006,'RC'!K$5,RES!$I$6:$I$3006,'RC'!$C36)","v":0},{"$f":"SUMIFS(RES!$F$6:$F$3006,RES!$O$6:$O$3006,'RC'!L$5,RES!$I$6:$I$3006,'RC'!$C36)","v":0},{"$f":"SUMIFS(RES!$F$6:$F$3006,RES!$O$6:$O$3006,'RC'!M$5,RES!$I$6:$I$3006,'RC'!$C36)","v":0},{"$f":"SUMIFS(RES!$F$6:$F$3006,RES!$O$6:$O$3006,'RC'!N$5,RES!$I$6:$I$3006,'RC'!$C36)","v":0},{"$f":"SUMIFS(RES!$F$6:$F$3006,RES!$O$6:$O$3006,'RC'!O$5,RES!$I$6:$I$3006,'RC'!$C36)","v":0}]
[null,null,{"$f":"CAD_Q!C36","v":31},{"$f":"SUMIFS(RES!$F$6:$F$3006,RES!$O$6:$O$3006,'RC'!D$5,RES!$I$6:$I$3006,'RC'!$C37)","v":0},{"$f":"SUMIFS(RES!$F$6:$F$3006,RES!$O$6:$O$3006,'RC'!E$5,RES!$I$6:$I$3006,'RC'!$C37)","v":0},{"$f":"SUMIFS(RES!$F$6:$F$3006,RES!$O$6:$O$3006,'RC'!F$5,RES!$I$6:$I$3006,'RC'!$C37)","v":0},{"$f":"SUMIFS(RES!$F$6:$F$3006,RES!$O$6:$O$3006,'RC'!G$5,RES!$I$6:$I$3006,'RC'!$C37)","v":0},{"$f":"SUMIFS(RES!$F$6:$F$3006,RES!$O$6:$O$3006,'RC'!H$5,RES!$I$6:$I$3006,'RC'!$C37)","v":0},{"$f":"SUMIFS(RES!$F$6:$F$3006,RES!$O$6:$O$3006,'RC'!I$5,RES!$I$6:$I$3006,'RC'!$C37)","v":0},{"$f":"SUMIFS(RES!$F$6:$F$3006,RES!$O$6:$O$3006,'RC'!J$5,RES!$I$6:$I$3006,'RC'!$C37)","v":0},{"$f":"SUMIFS(RES!$F$6:$F$3006,RES!$O$6:$O$3006,'RC'!K$5,RES!$I$6:$I$3006,'RC'!$C37)","v":0},{"$f":"SUMIFS(RES!$F$6:$F$3006,RES!$O$6:$O$3006,'RC'!L$5,RES!$I$6:$I$3006,'RC'!$C37)","v":0},{"$f":"SUMIFS(RES!$F$6:$F$3006,RES!$O$6:$O$3006,'RC'!M$5,RES!$I$6:$I$3006,'RC'!$C37)","v":0},{"$f":"SUMIFS(RES!$F$6:$F$3006,RES!$O$6:$O$3006,'RC'!N$5,RES!$I$6:$I$3006,'RC'!$C37)","v":0},{"$f":"SUMIFS(RES!$F$6:$F$3006,RES!$O$6:$O$3006,'RC'!O$5,RES!$I$6:$I$3006,'RC'!$C37)","v":0}]
[null,null,{"$f":"CAD_Q!C37","v":32},{"$f":"SUMIFS(RES!$F$6:$F$3006,RES!$O$6:$O$3006,'RC'!D$5,RES!$I$6:$I$3006,'RC'!$C38)","v":0},{"$f":"SUMIFS(RES!$F$6:$F$3006,RES!$O$6:$O$3006,'RC'!E$5,RES!$I$6:$I$3006,'RC'!$C38)","v":0},{"$f":"SUMIFS(RES!$F$6:$F$3006,RES!$O$6:$O$3006,'RC'!F$5,RES!$I$6:$I$3006,'RC'!$C38)","v":0},{"$f":"SUMIFS(RES!$F$6:$F$3006,RES!$O$6:$O$3006,'RC'!G$5,RES!$I$6:$I$3006,'RC'!$C38)","v":0},{"$f":"SUMIFS(RES!$F$6:$F$3006,RES!$O$6:$O$3006,'RC'!H$5,RES!$I$6:$I$3006,'RC'!$C38)","v":0},{"$f":"SUMIFS(RES!$F$6:$F$3006,RES!$O$6:$O$3006,'RC'!I$5,RES!$I$6:$I$3006,'RC'!$C38)","v":0},{"$f":"SUMIFS(RES!$F$6:$F$3006,RES!$O$6:$O$3006,'RC'!J$5,RES!$I$6:$I$3006,'RC'!$C38)","v":0},{"$f":"SUMIFS(RES!$F$6:$F$3006,RES!$O$6:$O$3006,'RC'!K$5,RES!$I$6:$I$3006,'RC'!$C38)","v":0},{"$f":"SUMIFS(RES!$F$6:$F$3006,RES!$O$6:$O$3006,'RC'!L$5,RES!$I$6:$I$3006,'RC'!$C38)","v":0},{"$f":"SUMIFS(RES!$F$6:$F$3006,RES!$O$6:$O$3006,'RC'!M$5,RES!$I$6:$I$3006,'RC'!$C38)","v":0},{"$f":"SUMIFS(RES!$F$6:$F$3006,RES!$O$6:$O$3006,'RC'!N$5,RES!$I$6:$I$3006,'RC'!$C38)","v":0},{"$f":"SUMIFS(RES!$F$6:$F$3006,RES!$O$6:$O$3006,'RC'!O$5,RES!$I$6:$I$3006,'RC'!$C38)","v":0}]
[null,null,{"$f":"CAD_Q!C38","v":33},{"$f":"SUMIFS(RES!$F$6:$F$3006,RES!$O$6:$O$3006,'RC'!D$5,RES!$I$6:$I$3006,'RC'!$C39)","v":0},{"$f":"SUMIFS(RES!$F$6:$F$3006,RES!$O$6:$O$3006,'RC'!E$5,RES!$I$6:$I$3006,'RC'!$C39)","v":0},{"$f":"SUMIFS(RES!$F$6:$F$3006,RES!$O$6:$O$3006,'RC'!F$5,RES!$I$6:$I$3006,'RC'!$C39)","v":0},{"$f":"SUMIFS(RES!$F$6:$F$3006,RES!$O$6:$O$3006,'RC'!G$5,RES!$I$6:$I$3006,'RC'!$C39)","v":0},{"$f":"SUMIFS(RES!$F$6:$F$3006,RES!$O$6:$O$3006,'RC'!H$5,RES!$I$6:$I$3006,'RC'!$C39)","v":0},{"$f":"SUMIFS(RES!$F$6:$F$3006,RES!$O$6:$O$3006,'RC'!I$5,RES!$I$6:$I$3006,'RC'!$C39)","v":0},{"$f":"SUMIFS(RES!$F$6:$F$3006,RES!$O$6:$O$3006,'RC'!J$5,RES!$I$6:$I$3006,'RC'!$C39)","v":0},{"$f":"SUMIFS(RES!$F$6:$F$3006,RES!$O$6:$O$3006,'RC'!K$5,RES!$I$6:$I$3006,'RC'!$C39)","v":0},{"$f":"SUMIFS(RES!$F$6:$F$3006,RES!$O$6:$O$3006,'RC'!L$5,RES!$I$6:$I$3006,'RC'!$C39)","v":0},{"$f":"SUMIFS(RES!$F$6:$F$3006,RES!$O$6:$O$3006,'RC'!M$5,RES!$I$6:$I$3006,'RC'!$C39)","v":0},{"$f":"SUMIFS(RES!$F$6:$F$3006,RES!$O$6:$O$3006,'RC'!N$5,RES!$I$6:$I$3006,'RC'!$C39)","v":0},{"$f":"SUMIFS(RES!$F$6:$F$3006,RES!$O$6:$O$3006,'RC'!O$5,RES!$I$6:$I$3006,'RC'!$C39)","v":0}]
[null,null,{"$f":"CAD_Q!C39","v":34},{"$f":"SUMIFS(RES!$F$6:$F$3006,RES!$O$6:$O$3006,'RC'!D$5,RES!$I$6:$I$3006,'RC'!$C40)","v":0},{"$f":"SUMIFS(RES!$F$6:$F$3006,RES!$O$6:$O$3006,'RC'!E$5,RES!$I$6:$I$3006,'RC'!$C40)","v":0},{"$f":"SUMIFS(RES!$F$6:$F$3006,RES!$O$6:$O$3006,'RC'!F$5,RES!$I$6:$I$3006,'RC'!$C40)","v":0},{"$f":"SUMIFS(RES!$F$6:$F$3006,RES!$O$6:$O$3006,'RC'!G$5,RES!$I$6:$I$3006,'RC'!$C40)","v":0},{"$f":"SUMIFS(RES!$F$6:$F$3006,RES!$O$6:$O$3006,'RC'!H$5,RES!$I$6:$I$3006,'RC'!$C40)","v":0},{"$f":"SUMIFS(RES!$F$6:$F$3006,RES!$O$6:$O$3006,'RC'!I$5,RES!$I$6:$I$3006,'RC'!$C40)","v":0},{"$f":"SUMIFS(RES!$F$6:$F$3006,RES!$O$6:$O$3006,'RC'!J$5,RES!$I$6:$I$3006,'RC'!$C40)","v":0},{"$f":"SUMIFS(RES!$F$6:$F$3006,RES!$O$6:$O$3006,'RC'!K$5,RES!$I$6:$I$3006,'RC'!$C40)","v":0},{"$f":"SUMIFS(RES!$F$6:$F$3006,RES!$O$6:$O$3006,'RC'!L$5,RES!$I$6:$I$3006,'RC'!$C40)","v":0},{"$f":"SUMIFS(RES!$F$6:$F$3006,RES!$O$6:$O$3006,'RC'!M$5,RES!$I$6:$I$3006,'RC'!$C40)","v":0},{"$f":"SUMIFS(RES!$F$6:$F$3006,RES!$O$6:$O$3006,'RC'!N$5,RES!$I$6:$I$3006,'RC'!$C40)","v":0},{"$f":"SUMIFS(RES!$F$6:$F$3006,RES!$O$6:$O$3006,'RC'!O$5,RES!$I$6:$I$3006,'RC'!$C40)","v":0}]
[null,null,{"$f":"CAD_Q!C40","v":35},{"$f":"SUMIFS(RES!$F$6:$F$3006,RES!$O$6:$O$3006,'RC'!D$5,RES!$I$6:$I$3006,'RC'!$C41)","v":0},{"$f":"SUMIFS(RES!$F$6:$F$3006,RES!$O$6:$O$3006,'RC'!E$5,RES!$I$6:$I$3006,'RC'!$C41)","v":0},{"$f":"SUMIFS(RES!$F$6:$F$3006,RES!$O$6:$O$3006,'RC'!F$5,RES!$I$6:$I$3006,'RC'!$C41)","v":0},{"$f":"SUMIFS(RES!$F$6:$F$3006,RES!$O$6:$O$3006,'RC'!G$5,RES!$I$6:$I$3006,'RC'!$C41)","v":0},{"$f":"SUMIFS(RES!$F$6:$F$3006,RES!$O$6:$O$3006,'RC'!H$5,RES!$I$6:$I$3006,'RC'!$C41)","v":0},{"$f":"SUMIFS(RES!$F$6:$F$3006,RES!$O$6:$O$3006,'RC'!I$5,RES!$I$6:$I$3006,'RC'!$C41)","v":0},{"$f":"SUMIFS(RES!$F$6:$F$3006,RES!$O$6:$O$3006,'RC'!J$5,RES!$I$6:$I$3006,'RC'!$C41)","v":0},{"$f":"SUMIFS(RES!$F$6:$F$3006,RES!$O$6:$O$3006,'RC'!K$5,RES!$I$6:$I$3006,'RC'!$C41)","v":0},{"$f":"SUMIFS(RES!$F$6:$F$3006,RES!$O$6:$O$3006,'RC'!L$5,RES!$I$6:$I$3006,'RC'!$C41)","v":0},{"$f":"SUMIFS(RES!$F$6:$F$3006,RES!$O$6:$O$3006,'RC'!M$5,RES!$I$6:$I$3006,'RC'!$C41)","v":0},{"$f":"SUMIFS(RES!$F$6:$F$3006,RES!$O$6:$O$3006,'RC'!N$5,RES!$I$6:$I$3006,'RC'!$C41)","v":0},{"$f":"SUMIFS(RES!$F$6:$F$3006,RES!$O$6:$O$3006,'RC'!O$5,RES!$I$6:$I$3006,'RC'!$C41)","v":0}]
[null,null,{"$f":"CAD_Q!C41","v":36},{"$f":"SUMIFS(RES!$F$6:$F$3006,RES!$O$6:$O$3006,'RC'!D$5,RES!$I$6:$I$3006,'RC'!$C42)","v":0},{"$f":"SUMIFS(RES!$F$6:$F$3006,RES!$O$6:$O$3006,'RC'!E$5,RES!$I$6:$I$3006,'RC'!$C42)","v":0},{"$f":"SUMIFS(RES!$F$6:$F$3006,RES!$O$6:$O$3006,'RC'!F$5,RES!$I$6:$I$3006,'RC'!$C42)","v":0},{"$f":"SUMIFS(RES!$F$6:$F$3006,RES!$O$6:$O$3006,'RC'!G$5,RES!$I$6:$I$3006,'RC'!$C42)","v":0},{"$f":"SUMIFS(RES!$F$6:$F$3006,RES!$O$6:$O$3006,'RC'!H$5,RES!$I$6:$I$3006,'RC'!$C42)","v":0},{"$f":"SUMIFS(RES!$F$6:$F$3006,RES!$O$6:$O$3006,'RC'!I$5,RES!$I$6:$I$3006,'RC'!$C42)","v":0},{"$f":"SUMIFS(RES!$F$6:$F$3006,RES!$O$6:$O$3006,'RC'!J$5,RES!$I$6:$I$3006,'RC'!$C42)","v":0},{"$f":"SUMIFS(RES!$F$6:$F$3006,RES!$O$6:$O$3006,'RC'!K$5,RES!$I$6:$I$3006,'RC'!$C42)","v":0},{"$f":"SUMIFS(RES!$F$6:$F$3006,RES!$O$6:$O$3006,'RC'!L$5,RES!$I$6:$I$3006,'RC'!$C42)","v":0},{"$f":"SUMIFS(RES!$F$6:$F$3006,RES!$O$6:$O$3006,'RC'!M$5,RES!$I$6:$I$3006,'RC'!$C42)","v":0},{"$f":"SUMIFS(RES!$F$6:$F$3006,RES!$O$6:$O$3006,'RC'!N$5,RES!$I$6:$I$3006,'RC'!$C42)","v":0},{"$f":"SUMIFS(RES!$F$6:$F$3006,RES!$O$6:$O$3006,'RC'!O$5,RES!$I$6:$I$3006,'RC'!$C42)","v":0}]
[null,null,{"$f":"CAD_Q!C42","v":37},{"$f":"SUMIFS(RES!$F$6:$F$3006,RES!$O$6:$O$3006,'RC'!D$5,RES!$I$6:$I$3006,'RC'!$C43)","v":0},{"$f":"SUMIFS(RES!$F$6:$F$3006,RES!$O$6:$O$3006,'RC'!E$5,RES!$I$6:$I$3006,'RC'!$C43)","v":0},{"$f":"SUMIFS(RES!$F$6:$F$3006,RES!$O$6:$O$3006,'RC'!F$5,RES!$I$6:$I$3006,'RC'!$C43)","v":0},{"$f":"SUMIFS(RES!$F$6:$F$3006,RES!$O$6:$O$3006,'RC'!G$5,RES!$I$6:$I$3006,'RC'!$C43)","v":0},{"$f":"SUMIFS(RES!$F$6:$F$3006,RES!$O$6:$O$3006,'RC'!H$5,RES!$I$6:$I$3006,'RC'!$C43)","v":0},{"$f":"SUMIFS(RES!$F$6:$F$3006,RES!$O$6:$O$3006,'RC'!I$5,RES!$I$6:$I$3006,'RC'!$C43)","v":0},{"$f":"SUMIFS(RES!$F$6:$F$3006,RES!$O$6:$O$3006,'RC'!J$5,RES!$I$6:$I$3006,'RC'!$C43)","v":0},{"$f":"SUMIFS(RES!$F$6:$F$3006,RES!$O$6:$O$3006,'RC'!K$5,RES!$I$6:$I$3006,'RC'!$C43)","v":0},{"$f":"SUMIFS(RES!$F$6:$F$3006,RES!$O$6:$O$3006,'RC'!L$5,RES!$I$6:$I$3006,'RC'!$C43)","v":0},{"$f":"SUMIFS(RES!$F$6:$F$3006,RES!$O$6:$O$3006,'RC'!M$5,RES!$I$6:$I$3006,'RC'!$C43)","v":0},{"$f":"SUMIFS(RES!$F$6:$F$3006,RES!$O$6:$O$3006,'RC'!N$5,RES!$I$6:$I$3006,'RC'!$C43)","v":0},{"$f":"SUMIFS(RES!$F$6:$F$3006,RES!$O$6:$O$3006,'RC'!O$5,RES!$I$6:$I$3006,'RC'!$C43)","v":0}]
[null,null,{"$f":"CAD_Q!C43","v":38},{"$f":"SUMIFS(RES!$F$6:$F$3006,RES!$O$6:$O$3006,'RC'!D$5,RES!$I$6:$I$3006,'RC'!$C44)","v":0},{"$f":"SUMIFS(RES!$F$6:$F$3006,RES!$O$6:$O$3006,'RC'!E$5,RES!$I$6:$I$3006,'RC'!$C44)","v":0},{"$f":"SUMIFS(RES!$F$6:$F$3006,RES!$O$6:$O$3006,'RC'!F$5,RES!$I$6:$I$3006,'RC'!$C44)","v":0},{"$f":"SUMIFS(RES!$F$6:$F$3006,RES!$O$6:$O$3006,'RC'!G$5,RES!$I$6:$I$3006,'RC'!$C44)","v":0},{"$f":"SUMIFS(RES!$F$6:$F$3006,RES!$O$6:$O$3006,'RC'!H$5,RES!$I$6:$I$3006,'RC'!$C44)","v":0},{"$f":"SUMIFS(RES!$F$6:$F$3006,RES!$O$6:$O$3006,'RC'!I$5,RES!$I$6:$I$3006,'RC'!$C44)","v":0},{"$f":"SUMIFS(RES!$F$6:$F$3006,RES!$O$6:$O$3006,'RC'!J$5,RES!$I$6:$I$3006,'RC'!$C44)","v":0},{"$f":"SUMIFS(RES!$F$6:$F$3006,RES!$O$6:$O$3006,'RC'!K$5,RES!$I$6:$I$3006,'RC'!$C44)","v":0},{"$f":"SUMIFS(RES!$F$6:$F$3006,RES!$O$6:$O$3006,'RC'!L$5,RES!$I$6:$I$3006,'RC'!$C44)","v":0},{"$f":"SUMIFS(RES!$F$6:$F$3006,RES!$O$6:$O$3006,'RC'!M$5,RES!$I$6:$I$3006,'RC'!$C44)","v":0},{"$f":"SUMIFS(RES!$F$6:$F$3006,RES!$O$6:$O$3006,'RC'!N$5,RES!$I$6:$I$3006,'RC'!$C44)","v":0},{"$f":"SUMIFS(RES!$F$6:$F$3006,RES!$O$6:$O$3006,'RC'!O$5,RES!$I$6:$I$3006,'RC'!$C44)","v":0}]
[null,null,{"$f":"CAD_Q!C44","v":39},{"$f":"SUMIFS(RES!$F$6:$F$3006,RES!$O$6:$O$3006,'RC'!D$5,RES!$I$6:$I$3006,'RC'!$C45)","v":0},{"$f":"SUMIFS(RES!$F$6:$F$3006,RES!$O$6:$O$3006,'RC'!E$5,RES!$I$6:$I$3006,'RC'!$C45)","v":0},{"$f":"SUMIFS(RES!$F$6:$F$3006,RES!$O$6:$O$3006,'RC'!F$5,RES!$I$6:$I$3006,'RC'!$C45)","v":0},{"$f":"SUMIFS(RES!$F$6:$F$3006,RES!$O$6:$O$3006,'RC'!G$5,RES!$I$6:$I$3006,'RC'!$C45)","v":0},{"$f":"SUMIFS(RES!$F$6:$F$3006,RES!$O$6:$O$3006,'RC'!H$5,RES!$I$6:$I$3006,'RC'!$C45)","v":0},{"$f":"SUMIFS(RES!$F$6:$F$3006,RES!$O$6:$O$3006,'RC'!I$5,RES!$I$6:$I$3006,'RC'!$C45)","v":0},{"$f":"SUMIFS(RES!$F$6:$F$3006,RES!$O$6:$O$3006,'RC'!J$5,RES!$I$6:$I$3006,'RC'!$C45)","v":0},{"$f":"SUMIFS(RES!$F$6:$F$3006,RES!$O$6:$O$3006,'RC'!K$5,RES!$I$6:$I$3006,'RC'!$C45)","v":0},{"$f":"SUMIFS(RES!$F$6:$F$3006,RES!$O$6:$O$3006,'RC'!L$5,RES!$I$6:$I$3006,'RC'!$C45)","v":0},{"$f":"SUMIFS(RES!$F$6:$F$3006,RES!$O$6:$O$3006,'RC'!M$5,RES!$I$6:$I$3006,'RC'!$C45)","v":0},{"$f":"SUMIFS(RES!$F$6:$F$3006,RES!$O$6:$O$3006,'RC'!N$5,RES!$I$6:$I$3006,'RC'!$C45)","v":0},{"$f":"SUMIFS(RES!$F$6:$F$3006,RES!$O$6:$O$3006,'RC'!O$5,RES!$I$6:$I$3006,'RC'!$C45)","v":0}]
[null,null,{"$f":"CAD_Q!C45","v":40},{"$f":"SUMIFS(RES!$F$6:$F$3006,RES!$O$6:$O$3006,'RC'!D$5,RES!$I$6:$I$3006,'RC'!$C46)","v":0},{"$f":"SUMIFS(RES!$F$6:$F$3006,RES!$O$6:$O$3006,'RC'!E$5,RES!$I$6:$I$3006,'RC'!$C46)","v":0},{"$f":"SUMIFS(RES!$F$6:$F$3006,RES!$O$6:$O$3006,'RC'!F$5,RES!$I$6:$I$3006,'RC'!$C46)","v":0},{"$f":"SUMIFS(RES!$F$6:$F$3006,RES!$O$6:$O$3006,'RC'!G$5,RES!$I$6:$I$3006,'RC'!$C46)","v":0},{"$f":"SUMIFS(RES!$F$6:$F$3006,RES!$O$6:$O$3006,'RC'!H$5,RES!$I$6:$I$3006,'RC'!$C46)","v":0},{"$f":"SUMIFS(RES!$F$6:$F$3006,RES!$O$6:$O$3006,'RC'!I$5,RES!$I$6:$I$3006,'RC'!$C46)","v":0},{"$f":"SUMIFS(RES!$F$6:$F$3006,RES!$O$6:$O$3006,'RC'!J$5,RES!$I$6:$I$3006,'RC'!$C46)","v":0},{"$f":"SUMIFS(RES!$F$6:$F$3006,RES!$O$6:$O$3006,'RC'!K$5,RES!$I$6:$I$3006,'RC'!$C46)","v":0},{"$f":"SUMIFS(RES!$F$6:$F$3006,RES!$O$6:$O$3006,'RC'!L$5,RES!$I$6:$I$3006,'RC'!$C46)","v":0},{"$f":"SUMIFS(RES!$F$6:$F$3006,RES!$O$6:$O$3006,'RC'!M$5,RES!$I$6:$I$3006,'RC'!$C46)","v":0},{"$f":"SUMIFS(RES!$F$6:$F$3006,RES!$O$6:$O$3006,'RC'!N$5,RES!$I$6:$I$3006,'RC'!$C46)","v":0},{"$f":"SUMIFS(RES!$F$6:$F$3006,RES!$O$6:$O$3006,'RC'!O$5,RES!$I$6:$I$3006,'RC'!$C46)","v":0}]
[null,null,{"$f":"CAD_Q!C46","v":41},{"$f":"SUMIFS(RES!$F$6:$F$3006,RES!$O$6:$O$3006,'RC'!D$5,RES!$I$6:$I$3006,'RC'!$C47)","v":0},{"$f":"SUMIFS(RES!$F$6:$F$3006,RES!$O$6:$O$3006,'RC'!E$5,RES!$I$6:$I$3006,'RC'!$C47)","v":0},{"$f":"SUMIFS(RES!$F$6:$F$3006,RES!$O$6:$O$3006,'RC'!F$5,RES!$I$6:$I$3006,'RC'!$C47)","v":0},{"$f":"SUMIFS(RES!$F$6:$F$3006,RES!$O$6:$O$3006,'RC'!G$5,RES!$I$6:$I$3006,'RC'!$C47)","v":0},{"$f":"SUMIFS(RES!$F$6:$F$3006,RES!$O$6:$O$3006,'RC'!H$5,RES!$I$6:$I$3006,'RC'!$C47)","v":0},{"$f":"SUMIFS(RES!$F$6:$F$3006,RES!$O$6:$O$3006,'RC'!I$5,RES!$I$6:$I$3006,'RC'!$C47)","v":0},{"$f":"SUMIFS(RES!$F$6:$F$3006,RES!$O$6:$O$3006,'RC'!J$5,RES!$I$6:$I$3006,'RC'!$C47)","v":0},{"$f":"SUMIFS(RES!$F$6:$F$3006,RES!$O$6:$O$3006,'RC'!K$5,RES!$I$6:$I$3006,'RC'!$C47)","v":0},{"$f":"SUMIFS(RES!$F$6:$F$3006,RES!$O$6:$O$3006,'RC'!L$5,RES!$I$6:$I$3006,'RC'!$C47)","v":0},{"$f":"SUMIFS(RES!$F$6:$F$3006,RES!$O$6:$O$3006,'RC'!M$5,RES!$I$6:$I$3006,'RC'!$C47)","v":0},{"$f":"SUMIFS(RES!$F$6:$F$3006,RES!$O$6:$O$3006,'RC'!N$5,RES!$I$6:$I$3006,'RC'!$C47)","v":0},{"$f":"SUMIFS(RES!$F$6:$F$3006,RES!$O$6:$O$3006,'RC'!O$5,RES!$I$6:$I$3006,'RC'!$C47)","v":0}]
[null,null,{"$f":"CAD_Q!C47","v":42},{"$f":"SUMIFS(RES!$F$6:$F$3006,RES!$O$6:$O$3006,'RC'!D$5,RES!$I$6:$I$3006,'RC'!$C48)","v":0},{"$f":"SUMIFS(RES!$F$6:$F$3006,RES!$O$6:$O$3006,'RC'!E$5,RES!$I$6:$I$3006,'RC'!$C48)","v":0},{"$f":"SUMIFS(RES!$F$6:$F$3006,RES!$O$6:$O$3006,'RC'!F$5,RES!$I$6:$I$3006,'RC'!$C48)","v":0},{"$f":"SUMIFS(RES!$F$6:$F$3006,RES!$O$6:$O$3006,'RC'!G$5,RES!$I$6:$I$3006,'RC'!$C48)","v":0},{"$f":"SUMIFS(RES!$F$6:$F$3006,RES!$O$6:$O$3006,'RC'!H$5,RES!$I$6:$I$3006,'RC'!$C48)","v":0},{"$f":"SUMIFS(RES!$F$6:$F$3006,RES!$O$6:$O$3006,'RC'!I$5,RES!$I$6:$I$3006,'RC'!$C48)","v":0},{"$f":"SUMIFS(RES!$F$6:$F$3006,RES!$O$6:$O$3006,'RC'!J$5,RES!$I$6:$I$3006,'RC'!$C48)","v":0},{"$f":"SUMIFS(RES!$F$6:$F$3006,RES!$O$6:$O$3006,'RC'!K$5,RES!$I$6:$I$3006,'RC'!$C48)","v":0},{"$f":"SUMIFS(RES!$F$6:$F$3006,RES!$O$6:$O$3006,'RC'!L$5,RES!$I$6:$I$3006,'RC'!$C48)","v":0},{"$f":"SUMIFS(RES!$F$6:$F$3006,RES!$O$6:$O$3006,'RC'!M$5,RES!$I$6:$I$3006,'RC'!$C48)","v":0},{"$f":"SUMIFS(RES!$F$6:$F$3006,RES!$O$6:$O$3006,'RC'!N$5,RES!$I$6:$I$3006,'RC'!$C48)","v":0},{"$f":"SUMIFS(RES!$F$6:$F$3006,RES!$O$6:$O$3006,'RC'!O$5,RES!$I$6:$I$3006,'RC'!$C48)","v":0}]
[null,null,{"$f":"CAD_Q!C48","v":43},{"$f":"SUMIFS(RES!$F$6:$F$3006,RES!$O$6:$O$3006,'RC'!D$5,RES!$I$6:$I$3006,'RC'!$C49)","v":0},{"$f":"SUMIFS(RES!$F$6:$F$3006,RES!$O$6:$O$3006,'RC'!E$5,RES!$I$6:$I$3006,'RC'!$C49)","v":0},{"$f":"SUMIFS(RES!$F$6:$F$3006,RES!$O$6:$O$3006,'RC'!F$5,RES!$I$6:$I$3006,'RC'!$C49)","v":0},{"$f":"SUMIFS(RES!$F$6:$F$3006,RES!$O$6:$O$3006,'RC'!G$5,RES!$I$6:$I$3006,'RC'!$C49)","v":0},{"$f":"SUMIFS(RES!$F$6:$F$3006,RES!$O$6:$O$3006,'RC'!H$5,RES!$I$6:$I$3006,'RC'!$C49)","v":0},{"$f":"SUMIFS(RES!$F$6:$F$3006,RES!$O$6:$O$3006,'RC'!I$5,RES!$I$6:$I$3006,'RC'!$C49)","v":0},{"$f":"SUMIFS(RES!$F$6:$F$3006,RES!$O$6:$O$3006,'RC'!J$5,RES!$I$6:$I$3006,'RC'!$C49)","v":0},{"$f":"SUMIFS(RES!$F$6:$F$3006,RES!$O$6:$O$3006,'RC'!K$5,RES!$I$6:$I$3006,'RC'!$C49)","v":0},{"$f":"SUMIFS(RES!$F$6:$F$3006,RES!$O$6:$O$3006,'RC'!L$5,RES!$I$6:$I$3006,'RC'!$C49)","v":0},{"$f":"SUMIFS(RES!$F$6:$F$3006,RES!$O$6:$O$3006,'RC'!M$5,RES!$I$6:$I$3006,'RC'!$C49)","v":0},{"$f":"SUMIFS(RES!$F$6:$F$3006,RES!$O$6:$O$3006,'RC'!N$5,RES!$I$6:$I$3006,'RC'!$C49)","v":0},{"$f":"SUMIFS(RES!$F$6:$F$3006,RES!$O$6:$O$3006,'RC'!O$5,RES!$I$6:$I$3006,'RC'!$C49)","v":0}]
[null,null,{"$f":"CAD_Q!C49","v":44},{"$f":"SUMIFS(RES!$F$6:$F$3006,RES!$O$6:$O$3006,'RC'!D$5,RES!$I$6:$I$3006,'RC'!$C50)","v":0},{"$f":"SUMIFS(RES!$F$6:$F$3006,RES!$O$6:$O$3006,'RC'!E$5,RES!$I$6:$I$3006,'RC'!$C50)","v":0},{"$f":"SUMIFS(RES!$F$6:$F$3006,RES!$O$6:$O$3006,'RC'!F$5,RES!$I$6:$I$3006,'RC'!$C50)","v":0},{"$f":"SUMIFS(RES!$F$6:$F$3006,RES!$O$6:$O$3006,'RC'!G$5,RES!$I$6:$I$3006,'RC'!$C50)","v":0},{"$f":"SUMIFS(RES!$F$6:$F$3006,RES!$O$6:$O$3006,'RC'!H$5,RES!$I$6:$I$3006,'RC'!$C50)","v":0},{"$f":"SUMIFS(RES!$F$6:$F$3006,RES!$O$6:$O$3006,'RC'!I$5,RES!$I$6:$I$3006,'RC'!$C50)","v":0},{"$f":"SUMIFS(RES!$F$6:$F$3006,RES!$O$6:$O$3006,'RC'!J$5,RES!$I$6:$I$3006,'RC'!$C50)","v":0},{"$f":"SUMIFS(RES!$F$6:$F$3006,RES!$O$6:$O$3006,'RC'!K$5,RES!$I$6:$I$3006,'RC'!$C50)","v":0},{"$f":"SUMIFS(RES!$F$6:$F$3006,RES!$O$6:$O$3006,'RC'!L$5,RES!$I$6:$I$3006,'RC'!$C50)","v":0},{"$f":"SUMIFS(RES!$F$6:$F$3006,RES!$O$6:$O$3006,'RC'!M$5,RES!$I$6:$I$3006,'RC'!$C50)","v":0},{"$f":"SUMIFS(RES!$F$6:$F$3006,RES!$O$6:$O$3006,'RC'!N$5,RES!$I$6:$I$3006,'RC'!$C50)","v":0},{"$f":"SUMIFS(RES!$F$6:$F$3006,RES!$O$6:$O$3006,'RC'!O$5,RES!$I$6:$I$3006,'RC'!$C50)","v":0}]
[null,null,{"$f":"CAD_Q!C50","v":45},{"$f":"SUMIFS(RES!$F$6:$F$3006,RES!$O$6:$O$3006,'RC'!D$5,RES!$I$6:$I$3006,'RC'!$C51)","v":0},{"$f":"SUMIFS(RES!$F$6:$F$3006,RES!$O$6:$O$3006,'RC'!E$5,RES!$I$6:$I$3006,'RC'!$C51)","v":0},{"$f":"SUMIFS(RES!$F$6:$F$3006,RES!$O$6:$O$3006,'RC'!F$5,RES!$I$6:$I$3006,'RC'!$C51)","v":0},{"$f":"SUMIFS(RES!$F$6:$F$3006,RES!$O$6:$O$3006,'RC'!G$5,RES!$I$6:$I$3006,'RC'!$C51)","v":0},{"$f":"SUMIFS(RES!$F$6:$F$3006,RES!$O$6:$O$3006,'RC'!H$5,RES!$I$6:$I$3006,'RC'!$C51)","v":0},{"$f":"SUMIFS(RES!$F$6:$F$3006,RES!$O$6:$O$3006,'RC'!I$5,RES!$I$6:$I$3006,'RC'!$C51)","v":0},{"$f":"SUMIFS(RES!$F$6:$F$3006,RES!$O$6:$O$3006,'RC'!J$5,RES!$I$6:$I$3006,'RC'!$C51)","v":0},{"$f":"SUMIFS(RES!$F$6:$F$3006,RES!$O$6:$O$3006,'RC'!K$5,RES!$I$6:$I$3006,'RC'!$C51)","v":0},{"$f":"SUMIFS(RES!$F$6:$F$3006,RES!$O$6:$O$3006,'RC'!L$5,RES!$I$6:$I$3006,'RC'!$C51)","v":0},{"$f":"SUMIFS(RES!$F$6:$F$3006,RES!$O$6:$O$3006,'RC'!M$5,RES!$I$6:$I$3006,'RC'!$C51)","v":0},{"$f":"SUMIFS(RES!$F$6:$F$3006,RES!$O$6:$O$3006,'RC'!N$5,RES!$I$6:$I$3006,'RC'!$C51)","v":0},{"$f":"SUMIFS(RES!$F$6:$F$3006,RES!$O$6:$O$3006,'RC'!O$5,RES!$I$6:$I$3006,'RC'!$C51)","v":0}]
[null,null,{"$f":"CAD_Q!C51","v":46},{"$f":"SUMIFS(RES!$F$6:$F$3006,RES!$O$6:$O$3006,'RC'!D$5,RES!$I$6:$I$3006,'RC'!$C52)","v":0},{"$f":"SUMIFS(RES!$F$6:$F$3006,RES!$O$6:$O$3006,'RC'!E$5,RES!$I$6:$I$3006,'RC'!$C52)","v":0},{"$f":"SUMIFS(RES!$F$6:$F$3006,RES!$O$6:$O$3006,'RC'!F$5,RES!$I$6:$I$3006,'RC'!$C52)","v":0},{"$f":"SUMIFS(RES!$F$6:$F$3006,RES!$O$6:$O$3006,'RC'!G$5,RES!$I$6:$I$3006,'RC'!$C52)","v":0},{"$f":"SUMIFS(RES!$F$6:$F$3006,RES!$O$6:$O$3006,'RC'!H$5,RES!$I$6:$I$3006,'RC'!$C52)","v":0},{"$f":"SUMIFS(RES!$F$6:$F$3006,RES!$O$6:$O$3006,'RC'!I$5,RES!$I$6:$I$3006,'RC'!$C52)","v":0},{"$f":"SUMIFS(RES!$F$6:$F$3006,RES!$O$6:$O$3006,'RC'!J$5,RES!$I$6:$I$3006,'RC'!$C52)","v":0},{"$f":"SUMIFS(RES!$F$6:$F$3006,RES!$O$6:$O$3006,'RC'!K$5,RES!$I$6:$I$3006,'RC'!$C52)","v":0},{"$f":"SUMIFS(RES!$F$6:$F$3006,RES!$O$6:$O$3006,'RC'!L$5,RES!$I$6:$I$3006,'RC'!$C52)","v":0},{"$f":"SUMIFS(RES!$F$6:$F$3006,RES!$O$6:$O$3006,'RC'!M$5,RES!$I$6:$I$3006,'RC'!$C52)","v":0},{"$f":"SUMIFS(RES!$F$6:$F$3006,RES!$O$6:$O$3006,'RC'!N$5,RES!$I$6:$I$3006,'RC'!$C52)","v":0},{"$f":"SUMIFS(RES!$F$6:$F$3006,RES!$O$6:$O$3006,'RC'!O$5,RES!$I$6:$I$3006,'RC'!$C52)","v":0}]
[null,null,{"$f":"CAD_Q!C52","v":47},{"$f":"SUMIFS(RES!$F$6:$F$3006,RES!$O$6:$O$3006,'RC'!D$5,RES!$I$6:$I$3006,'RC'!$C53)","v":0},{"$f":"SUMIFS(RES!$F$6:$F$3006,RES!$O$6:$O$3006,'RC'!E$5,RES!$I$6:$I$3006,'RC'!$C53)","v":0},{"$f":"SUMIFS(RES!$F$6:$F$3006,RES!$O$6:$O$3006,'RC'!F$5,RES!$I$6:$I$3006,'RC'!$C53)","v":0},{"$f":"SUMIFS(RES!$F$6:$F$3006,RES!$O$6:$O$3006,'RC'!G$5,RES!$I$6:$I$3006,'RC'!$C53)","v":0},{"$f":"SUMIFS(RES!$F$6:$F$3006,RES!$O$6:$O$3006,'RC'!H$5,RES!$I$6:$I$3006,'RC'!$C53)","v":0},{"$f":"SUMIFS(RES!$F$6:$F$3006,RES!$O$6:$O$3006,'RC'!I$5,RES!$I$6:$I$3006,'RC'!$C53)","v":0},{"$f":"SUMIFS(RES!$F$6:$F$3006,RES!$O$6:$O$3006,'RC'!J$5,RES!$I$6:$I$3006,'RC'!$C53)","v":0},{"$f":"SUMIFS(RES!$F$6:$F$3006,RES!$O$6:$O$3006,'RC'!K$5,RES!$I$6:$I$3006,'RC'!$C53)","v":0},{"$f":"SUMIFS(RES!$F$6:$F$3006,RES!$O$6:$O$3006,'RC'!L$5,RES!$I$6:$I$3006,'RC'!$C53)","v":0},{"$f":"SUMIFS(RES!$F$6:$F$3006,RES!$O$6:$O$3006,'RC'!M$5,RES!$I$6:$I$3006,'RC'!$C53)","v":0},{"$f":"SUMIFS(RES!$F$6:$F$3006,RES!$O$6:$O$3006,'RC'!N$5,RES!$I$6:$I$3006,'RC'!$C53)","v":0},{"$f":"SUMIFS(RES!$F$6:$F$3006,RES!$O$6:$O$3006,'RC'!O$5,RES!$I$6:$I$3006,'RC'!$C53)","v":0}]
[null,null,{"$f":"CAD_Q!C53","v":48},{"$f":"SUMIFS(RES!$F$6:$F$3006,RES!$O$6:$O$3006,'RC'!D$5,RES!$I$6:$I$3006,'RC'!$C54)","v":0},{"$f":"SUMIFS(RES!$F$6:$F$3006,RES!$O$6:$O$3006,'RC'!E$5,RES!$I$6:$I$3006,'RC'!$C54)","v":0},{"$f":"SUMIFS(RES!$F$6:$F$3006,RES!$O$6:$O$3006,'RC'!F$5,RES!$I$6:$I$3006,'RC'!$C54)","v":0},{"$f":"SUMIFS(RES!$F$6:$F$3006,RES!$O$6:$O$3006,'RC'!G$5,RES!$I$6:$I$3006,'RC'!$C54)","v":0},{"$f":"SUMIFS(RES!$F$6:$F$3006,RES!$O$6:$O$3006,'RC'!H$5,RES!$I$6:$I$3006,'RC'!$C54)","v":0},{"$f":"SUMIFS(RES!$F$6:$F$3006,RES!$O$6:$O$3006,'RC'!I$5,RES!$I$6:$I$3006,'RC'!$C54)","v":0},{"$f":"SUMIFS(RES!$F$6:$F$3006,RES!$O$6:$O$3006,'RC'!J$5,RES!$I$6:$I$3006,'RC'!$C54)","v":0},{"$f":"SUMIFS(RES!$F$6:$F$3006,RES!$O$6:$O$3006,'RC'!K$5,RES!$I$6:$I$3006,'RC'!$C54)","v":0},{"$f":"SUMIFS(RES!$F$6:$F$3006,RES!$O$6:$O$3006,'RC'!L$5,RES!$I$6:$I$3006,'RC'!$C54)","v":0},{"$f":"SUMIFS(RES!$F$6:$F$3006,RES!$O$6:$O$3006,'RC'!M$5,RES!$I$6:$I$3006,'RC'!$C54)","v":0},{"$f":"SUMIFS(RES!$F$6:$F$3006,RES!$O$6:$O$3006,'RC'!N$5,RES!$I$6:$I$3006,'RC'!$C54)","v":0},{"$f":"SUMIFS(RES!$F$6:$F$3006,RES!$O$6:$O$3006,'RC'!O$5,RES!$I$6:$I$3006,'RC'!$C54)","v":0}]
[null,null,{"$f":"CAD_Q!C54","v":49},{"$f":"SUMIFS(RES!$F$6:$F$3006,RES!$O$6:$O$3006,'RC'!D$5,RES!$I$6:$I$3006,'RC'!$C55)","v":0},{"$f":"SUMIFS(RES!$F$6:$F$3006,RES!$O$6:$O$3006,'RC'!E$5,RES!$I$6:$I$3006,'RC'!$C55)","v":0},{"$f":"SUMIFS(RES!$F$6:$F$3006,RES!$O$6:$O$3006,'RC'!F$5,RES!$I$6:$I$3006,'RC'!$C55)","v":0},{"$f":"SUMIFS(RES!$F$6:$F$3006,RES!$O$6:$O$3006,'RC'!G$5,RES!$I$6:$I$3006,'RC'!$C55)","v":0},{"$f":"SUMIFS(RES!$F$6:$F$3006,RES!$O$6:$O$3006,'RC'!H$5,RES!$I$6:$I$3006,'RC'!$C55)","v":0},{"$f":"SUMIFS(RES!$F$6:$F$3006,RES!$O$6:$O$3006,'RC'!I$5,RES!$I$6:$I$3006,'RC'!$C55)","v":0},{"$f":"SUMIFS(RES!$F$6:$F$3006,RES!$O$6:$O$3006,'RC'!J$5,RES!$I$6:$I$3006,'RC'!$C55)","v":0},{"$f":"SUMIFS(RES!$F$6:$F$3006,RES!$O$6:$O$3006,'RC'!K$5,RES!$I$6:$I$3006,'RC'!$C55)","v":0},{"$f":"SUMIFS(RES!$F$6:$F$3006,RES!$O$6:$O$3006,'RC'!L$5,RES!$I$6:$I$3006,'RC'!$C55)","v":0},{"$f":"SUMIFS(RES!$F$6:$F$3006,RES!$O$6:$O$3006,'RC'!M$5,RES!$I$6:$I$3006,'RC'!$C55)","v":0},{"$f":"SUMIFS(RES!$F$6:$F$3006,RES!$O$6:$O$3006,'RC'!N$5,RES!$I$6:$I$3006,'RC'!$C55)","v":0},{"$f":"SUMIFS(RES!$F$6:$F$3006,RES!$O$6:$O$3006,'RC'!O$5,RES!$I$6:$I$3006,'RC'!$C55)","v":0}]
[null,null,{"$f":"CAD_Q!C55","v":50},{"$f":"SUMIFS(RES!$F$6:$F$3006,RES!$O$6:$O$3006,'RC'!D$5,RES!$I$6:$I$3006,'RC'!$C56)","v":0},{"$f":"SUMIFS(RES!$F$6:$F$3006,RES!$O$6:$O$3006,'RC'!E$5,RES!$I$6:$I$3006,'RC'!$C56)","v":0},{"$f":"SUMIFS(RES!$F$6:$F$3006,RES!$O$6:$O$3006,'RC'!F$5,RES!$I$6:$I$3006,'RC'!$C56)","v":0},{"$f":"SUMIFS(RES!$F$6:$F$3006,RES!$O$6:$O$3006,'RC'!G$5,RES!$I$6:$I$3006,'RC'!$C56)","v":0},{"$f":"SUMIFS(RES!$F$6:$F$3006,RES!$O$6:$O$3006,'RC'!H$5,RES!$I$6:$I$3006,'RC'!$C56)","v":0},{"$f":"SUMIFS(RES!$F$6:$F$3006,RES!$O$6:$O$3006,'RC'!I$5,RES!$I$6:$I$3006,'RC'!$C56)","v":0},{"$f":"SUMIFS(RES!$F$6:$F$3006,RES!$O$6:$O$3006,'RC'!J$5,RES!$I$6:$I$3006,'RC'!$C56)","v":0},{"$f":"SUMIFS(RES!$F$6:$F$3006,RES!$O$6:$O$3006,'RC'!K$5,RES!$I$6:$I$3006,'RC'!$C56)","v":0},{"$f":"SUMIFS(RES!$F$6:$F$3006,RES!$O$6:$O$3006,'RC'!L$5,RES!$I$6:$I$3006,'RC'!$C56)","v":0},{"$f":"SUMIFS(RES!$F$6:$F$3006,RES!$O$6:$O$3006,'RC'!M$5,RES!$I$6:$I$3006,'RC'!$C56)","v":0},{"$f":"SUMIFS(RES!$F$6:$F$3006,RES!$O$6:$O$3006,'RC'!N$5,RES!$I$6:$I$3006,'RC'!$C56)","v":0},{"$f":"SUMIFS(RES!$F$6:$F$3006,RES!$O$6:$O$3006,'RC'!O$5,RES!$I$6:$I$3006,'RC'!$C56)","v":0}]
[null,null,{"$f":"CAD_Q!C56","v":51},{"$f":"SUMIFS(RES!$F$6:$F$3006,RES!$O$6:$O$3006,'RC'!D$5,RES!$I$6:$I$3006,'RC'!$C57)","v":0},{"$f":"SUMIFS(RES!$F$6:$F$3006,RES!$O$6:$O$3006,'RC'!E$5,RES!$I$6:$I$3006,'RC'!$C57)","v":0},{"$f":"SUMIFS(RES!$F$6:$F$3006,RES!$O$6:$O$3006,'RC'!F$5,RES!$I$6:$I$3006,'RC'!$C57)","v":0},{"$f":"SUMIFS(RES!$F$6:$F$3006,RES!$O$6:$O$3006,'RC'!G$5,RES!$I$6:$I$3006,'RC'!$C57)","v":0},{"$f":"SUMIFS(RES!$F$6:$F$3006,RES!$O$6:$O$3006,'RC'!H$5,RES!$I$6:$I$3006,'RC'!$C57)","v":0},{"$f":"SUMIFS(RES!$F$6:$F$3006,RES!$O$6:$O$3006,'RC'!I$5,RES!$I$6:$I$3006,'RC'!$C57)","v":0},{"$f":"SUMIFS(RES!$F$6:$F$3006,RES!$O$6:$O$3006,'RC'!J$5,RES!$I$6:$I$3006,'RC'!$C57)","v":0},{"$f":"SUMIFS(RES!$F$6:$F$3006,RES!$O$6:$O$3006,'RC'!K$5,RES!$I$6:$I$3006,'RC'!$C57)","v":0},{"$f":"SUMIFS(RES!$F$6:$F$3006,RES!$O$6:$O$3006,'RC'!L$5,RES!$I$6:$I$3006,'RC'!$C57)","v":0},{"$f":"SUMIFS(RES!$F$6:$F$3006,RES!$O$6:$O$3006,'RC'!M$5,RES!$I$6:$I$3006,'RC'!$C57)","v":0},{"$f":"SUMIFS(RES!$F$6:$F$3006,RES!$O$6:$O$3006,'RC'!N$5,RES!$I$6:$I$3006,'RC'!$C57)","v":0},{"$f":"SUMIFS(RES!$F$6:$F$3006,RES!$O$6:$O$3006,'RC'!O$5,RES!$I$6:$I$3006,'RC'!$C57)","v":0}]
[null,null,{"$f":"CAD_Q!C57","v":52},{"$f":"SUMIFS(RES!$F$6:$F$3006,RES!$O$6:$O$3006,'RC'!D$5,RES!$I$6:$I$3006,'RC'!$C58)","v":0},{"$f":"SUMIFS(RES!$F$6:$F$3006,RES!$O$6:$O$3006,'RC'!E$5,RES!$I$6:$I$3006,'RC'!$C58)","v":0},{"$f":"SUMIFS(RES!$F$6:$F$3006,RES!$O$6:$O$3006,'RC'!F$5,RES!$I$6:$I$3006,'RC'!$C58)","v":0},{"$f":"SUMIFS(RES!$F$6:$F$3006,RES!$O$6:$O$3006,'RC'!G$5,RES!$I$6:$I$3006,'RC'!$C58)","v":0},{"$f":"SUMIFS(RES!$F$6:$F$3006,RES!$O$6:$O$3006,'RC'!H$5,RES!$I$6:$I$3006,'RC'!$C58)","v":0},{"$f":"SUMIFS(RES!$F$6:$F$3006,RES!$O$6:$O$3006,'RC'!I$5,RES!$I$6:$I$3006,'RC'!$C58)","v":0},{"$f":"SUMIFS(RES!$F$6:$F$3006,RES!$O$6:$O$3006,'RC'!J$5,RES!$I$6:$I$3006,'RC'!$C58)","v":0},{"$f":"SUMIFS(RES!$F$6:$F$3006,RES!$O$6:$O$3006,'RC'!K$5,RES!$I$6:$I$3006,'RC'!$C58)","v":0},{"$f":"SUMIFS(RES!$F$6:$F$3006,RES!$O$6:$O$3006,'RC'!L$5,RES!$I$6:$I$3006,'RC'!$C58)","v":0},{"$f":"SUMIFS(RES!$F$6:$F$3006,RES!$O$6:$O$3006,'RC'!M$5,RES!$I$6:$I$3006,'RC'!$C58)","v":0},{"$f":"SUMIFS(RES!$F$6:$F$3006,RES!$O$6:$O$3006,'RC'!N$5,RES!$I$6:$I$3006,'RC'!$C58)","v":0},{"$f":"SUMIFS(RES!$F$6:$F$3006,RES!$O$6:$O$3006,'RC'!O$5,RES!$I$6:$I$3006,'RC'!$C58)","v":0}]
[null,null,{"$f":"CAD_Q!C58","v":53},{"$f":"SUMIFS(RES!$F$6:$F$3006,RES!$O$6:$O$3006,'RC'!D$5,RES!$I$6:$I$3006,'RC'!$C59)","v":0},{"$f":"SUMIFS(RES!$F$6:$F$3006,RES!$O$6:$O$3006,'RC'!E$5,RES!$I$6:$I$3006,'RC'!$C59)","v":0},{"$f":"SUMIFS(RES!$F$6:$F$3006,RES!$O$6:$O$3006,'RC'!F$5,RES!$I$6:$I$3006,'RC'!$C59)","v":0},{"$f":"SUMIFS(RES!$F$6:$F$3006,RES!$O$6:$O$3006,'RC'!G$5,RES!$I$6:$I$3006,'RC'!$C59)","v":0},{"$f":"SUMIFS(RES!$F$6:$F$3006,RES!$O$6:$O$3006,'RC'!H$5,RES!$I$6:$I$3006,'RC'!$C59)","v":0},{"$f":"SUMIFS(RES!$F$6:$F$3006,RES!$O$6:$O$3006,'RC'!I$5,RES!$I$6:$I$3006,'RC'!$C59)","v":0},{"$f":"SUMIFS(RES!$F$6:$F$3006,RES!$O$6:$O$3006,'RC'!J$5,RES!$I$6:$I$3006,'RC'!$C59)","v":0},{"$f":"SUMIFS(RES!$F$6:$F$3006,RES!$O$6:$O$3006,'RC'!K$5,RES!$I$6:$I$3006,'RC'!$C59)","v":0},{"$f":"SUMIFS(RES!$F$6:$F$3006,RES!$O$6:$O$3006,'RC'!L$5,RES!$I$6:$I$3006,'RC'!$C59)","v":0},{"$f":"SUMIFS(RES!$F$6:$F$3006,RES!$O$6:$O$3006,'RC'!M$5,RES!$I$6:$I$3006,'RC'!$C59)","v":0},{"$f":"SUMIFS(RES!$F$6:$F$3006,RES!$O$6:$O$3006,'RC'!N$5,RES!$I$6:$I$3006,'RC'!$C59)","v":0},{"$f":"SUMIFS(RES!$F$6:$F$3006,RES!$O$6:$O$3006,'RC'!O$5,RES!$I$6:$I$3006,'RC'!$C59)","v":0}]
[null,null,{"$f":"CAD_Q!C59","v":54},{"$f":"SUMIFS(RES!$F$6:$F$3006,RES!$O$6:$O$3006,'RC'!D$5,RES!$I$6:$I$3006,'RC'!$C60)","v":0},{"$f":"SUMIFS(RES!$F$6:$F$3006,RES!$O$6:$O$3006,'RC'!E$5,RES!$I$6:$I$3006,'RC'!$C60)","v":0},{"$f":"SUMIFS(RES!$F$6:$F$3006,RES!$O$6:$O$3006,'RC'!F$5,RES!$I$6:$I$3006,'RC'!$C60)","v":0},{"$f":"SUMIFS(RES!$F$6:$F$3006,RES!$O$6:$O$3006,'RC'!G$5,RES!$I$6:$I$3006,'RC'!$C60)","v":0},{"$f":"SUMIFS(RES!$F$6:$F$3006,RES!$O$6:$O$3006,'RC'!H$5,RES!$I$6:$I$3006,'RC'!$C60)","v":0},{"$f":"SUMIFS(RES!$F$6:$F$3006,RES!$O$6:$O$3006,'RC'!I$5,RES!$I$6:$I$3006,'RC'!$C60)","v":0},{"$f":"SUMIFS(RES!$F$6:$F$3006,RES!$O$6:$O$3006,'RC'!J$5,RES!$I$6:$I$3006,'RC'!$C60)","v":0},{"$f":"SUMIFS(RES!$F$6:$F$3006,RES!$O$6:$O$3006,'RC'!K$5,RES!$I$6:$I$3006,'RC'!$C60)","v":0},{"$f":"SUMIFS(RES!$F$6:$F$3006,RES!$O$6:$O$3006,'RC'!L$5,RES!$I$6:$I$3006,'RC'!$C60)","v":0},{"$f":"SUMIFS(RES!$F$6:$F$3006,RES!$O$6:$O$3006,'RC'!M$5,RES!$I$6:$I$3006,'RC'!$C60)","v":0},{"$f":"SUMIFS(RES!$F$6:$F$3006,RES!$O$6:$O$3006,'RC'!N$5,RES!$I$6:$I$3006,'RC'!$C60)","v":0},{"$f":"SUMIFS(RES!$F$6:$F$3006,RES!$O$6:$O$3006,'RC'!O$5,RES!$I$6:$I$3006,'RC'!$C60)","v":0}]
[null,null,{"$f":"CAD_Q!C60","v":55},{"$f":"SUMIFS(RES!$F$6:$F$3006,RES!$O$6:$O$3006,'RC'!D$5,RES!$I$6:$I$3006,'RC'!$C61)","v":0},{"$f":"SUMIFS(RES!$F$6:$F$3006,RES!$O$6:$O$3006,'RC'!E$5,RES!$I$6:$I$3006,'RC'!$C61)","v":0},{"$f":"SUMIFS(RES!$F$6:$F$3006,RES!$O$6:$O$3006,'RC'!F$5,RES!$I$6:$I$3006,'RC'!$C61)","v":0},{"$f":"SUMIFS(RES!$F$6:$F$3006,RES!$O$6:$O$3006,'RC'!G$5,RES!$I$6:$I$3006,'RC'!$C61)","v":0},{"$f":"SUMIFS(RES!$F$6:$F$3006,RES!$O$6:$O$3006,'RC'!H$5,RES!$I$6:$I$3006,'RC'!$C61)","v":0},{"$f":"SUMIFS(RES!$F$6:$F$3006,RES!$O$6:$O$3006,'RC'!I$5,RES!$I$6:$I$3006,'RC'!$C61)","v":0},{"$f":"SUMIFS(RES!$F$6:$F$3006,RES!$O$6:$O$3006,'RC'!J$5,RES!$I$6:$I$3006,'RC'!$C61)","v":0},{"$f":"SUMIFS(RES!$F$6:$F$3006,RES!$O$6:$O$3006,'RC'!K$5,RES!$I$6:$I$3006,'RC'!$C61)","v":0},{"$f":"SUMIFS(RES!$F$6:$F$3006,RES!$O$6:$O$3006,'RC'!L$5,RES!$I$6:$I$3006,'RC'!$C61)","v":0},{"$f":"SUMIFS(RES!$F$6:$F$3006,RES!$O$6:$O$3006,'RC'!M$5,RES!$I$6:$I$3006,'RC'!$C61)","v":0},{"$f":"SUMIFS(RES!$F$6:$F$3006,RES!$O$6:$O$3006,'RC'!N$5,RES!$I$6:$I$3006,'RC'!$C61)","v":0},{"$f":"SUMIFS(RES!$F$6:$F$3006,RES!$O$6:$O$3006,'RC'!O$5,RES!$I$6:$I$3006,'RC'!$C61)","v":0}]
[null,null,{"$f":"CAD_Q!C61","v":56},{"$f":"SUMIFS(RES!$F$6:$F$3006,RES!$O$6:$O$3006,'RC'!D$5,RES!$I$6:$I$3006,'RC'!$C62)","v":0},{"$f":"SUMIFS(RES!$F$6:$F$3006,RES!$O$6:$O$3006,'RC'!E$5,RES!$I$6:$I$3006,'RC'!$C62)","v":0},{"$f":"SUMIFS(RES!$F$6:$F$3006,RES!$O$6:$O$3006,'RC'!F$5,RES!$I$6:$I$3006,'RC'!$C62)","v":0},{"$f":"SUMIFS(RES!$F$6:$F$3006,RES!$O$6:$O$3006,'RC'!G$5,RES!$I$6:$I$3006,'RC'!$C62)","v":0},{"$f":"SUMIFS(RES!$F$6:$F$3006,RES!$O$6:$O$3006,'RC'!H$5,RES!$I$6:$I$3006,'RC'!$C62)","v":0},{"$f":"SUMIFS(RES!$F$6:$F$3006,RES!$O$6:$O$3006,'RC'!I$5,RES!$I$6:$I$3006,'RC'!$C62)","v":0},{"$f":"SUMIFS(RES!$F$6:$F$3006,RES!$O$6:$O$3006,'RC'!J$5,RES!$I$6:$I$3006,'RC'!$C62)","v":0},{"$f":"SUMIFS(RES!$F$6:$F$3006,RES!$O$6:$O$3006,'RC'!K$5,RES!$I$6:$I$3006,'RC'!$C62)","v":0},{"$f":"SUMIFS(RES!$F$6:$F$3006,RES!$O$6:$O$3006,'RC'!L$5,RES!$I$6:$I$3006,'RC'!$C62)","v":0},{"$f":"SUMIFS(RES!$F$6:$F$3006,RES!$O$6:$O$3006,'RC'!M$5,RES!$I$6:$I$3006,'RC'!$C62)","v":0},{"$f":"SUMIFS(RES!$F$6:$F$3006,RES!$O$6:$O$3006,'RC'!N$5,RES!$I$6:$I$3006,'RC'!$C62)","v":0},{"$f":"SUMIFS(RES!$F$6:$F$3006,RES!$O$6:$O$3006,'RC'!O$5,RES!$I$6:$I$3006,'RC'!$C62)","v":0}]
[null,null,{"$f":"CAD_Q!C62","v":57},{"$f":"SUMIFS(RES!$F$6:$F$3006,RES!$O$6:$O$3006,'RC'!D$5,RES!$I$6:$I$3006,'RC'!$C63)","v":0},{"$f":"SUMIFS(RES!$F$6:$F$3006,RES!$O$6:$O$3006,'RC'!E$5,RES!$I$6:$I$3006,'RC'!$C63)","v":0},{"$f":"SUMIFS(RES!$F$6:$F$3006,RES!$O$6:$O$3006,'RC'!F$5,RES!$I$6:$I$3006,'RC'!$C63)","v":0},{"$f":"SUMIFS(RES!$F$6:$F$3006,RES!$O$6:$O$3006,'RC'!G$5,RES!$I$6:$I$3006,'RC'!$C63)","v":0},{"$f":"SUMIFS(RES!$F$6:$F$3006,RES!$O$6:$O$3006,'RC'!H$5,RES!$I$6:$I$3006,'RC'!$C63)","v":0},{"$f":"SUMIFS(RES!$F$6:$F$3006,RES!$O$6:$O$3006,'RC'!I$5,RES!$I$6:$I$3006,'RC'!$C63)","v":0},{"$f":"SUMIFS(RES!$F$6:$F$3006,RES!$O$6:$O$3006,'RC'!J$5,RES!$I$6:$I$3006,'RC'!$C63)","v":0},{"$f":"SUMIFS(RES!$F$6:$F$3006,RES!$O$6:$O$3006,'RC'!K$5,RES!$I$6:$I$3006,'RC'!$C63)","v":0},{"$f":"SUMIFS(RES!$F$6:$F$3006,RES!$O$6:$O$3006,'RC'!L$5,RES!$I$6:$I$3006,'RC'!$C63)","v":0},{"$f":"SUMIFS(RES!$F$6:$F$3006,RES!$O$6:$O$3006,'RC'!M$5,RES!$I$6:$I$3006,'RC'!$C63)","v":0},{"$f":"SUMIFS(RES!$F$6:$F$3006,RES!$O$6:$O$3006,'RC'!N$5,RES!$I$6:$I$3006,'RC'!$C63)","v":0},{"$f":"SUMIFS(RES!$F$6:$F$3006,RES!$O$6:$O$3006,'RC'!O$5,RES!$I$6:$I$3006,'RC'!$C63)","v":0}]
[null,null,{"$f":"CAD_Q!C63","v":58},{"$f":"SUMIFS(RES!$F$6:$F$3006,RES!$O$6:$O$3006,'RC'!D$5,RES!$I$6:$I$3006,'RC'!$C64)","v":0},{"$f":"SUMIFS(RES!$F$6:$F$3006,RES!$O$6:$O$3006,'RC'!E$5,RES!$I$6:$I$3006,'RC'!$C64)","v":0},{"$f":"SUMIFS(RES!$F$6:$F$3006,RES!$O$6:$O$3006,'RC'!F$5,RES!$I$6:$I$3006,'RC'!$C64)","v":0},{"$f":"SUMIFS(RES!$F$6:$F$3006,RES!$O$6:$O$3006,'RC'!G$5,RES!$I$6:$I$3006,'RC'!$C64)","v":0},{"$f":"SUMIFS(RES!$F$6:$F$3006,RES!$O$6:$O$3006,'RC'!H$5,RES!$I$6:$I$3006,'RC'!$C64)","v":0},{"$f":"SUMIFS(RES!$F$6:$F$3006,RES!$O$6:$O$3006,'RC'!I$5,RES!$I$6:$I$3006,'RC'!$C64)","v":0},{"$f":"SUMIFS(RES!$F$6:$F$3006,RES!$O$6:$O$3006,'RC'!J$5,RES!$I$6:$I$3006,'RC'!$C64)","v":0},{"$f":"SUMIFS(RES!$F$6:$F$3006,RES!$O$6:$O$3006,'RC'!K$5,RES!$I$6:$I$3006,'RC'!$C64)","v":0},{"$f":"SUMIFS(RES!$F$6:$F$3006,RES!$O$6:$O$3006,'RC'!L$5,RES!$I$6:$I$3006,'RC'!$C64)","v":0},{"$f":"SUMIFS(RES!$F$6:$F$3006,RES!$O$6:$O$3006,'RC'!M$5,RES!$I$6:$I$3006,'RC'!$C64)","v":0},{"$f":"SUMIFS(RES!$F$6:$F$3006,RES!$O$6:$O$3006,'RC'!N$5,RES!$I$6:$I$3006,'RC'!$C64)","v":0},{"$f":"SUMIFS(RES!$F$6:$F$3006,RES!$O$6:$O$3006,'RC'!O$5,RES!$I$6:$I$3006,'RC'!$C64)","v":0}]
[null,null,{"$f":"CAD_Q!C64","v":59},{"$f":"SUMIFS(RES!$F$6:$F$3006,RES!$O$6:$O$3006,'RC'!D$5,RES!$I$6:$I$3006,'RC'!$C65)","v":0},{"$f":"SUMIFS(RES!$F$6:$F$3006,RES!$O$6:$O$3006,'RC'!E$5,RES!$I$6:$I$3006,'RC'!$C65)","v":0},{"$f":"SUMIFS(RES!$F$6:$F$3006,RES!$O$6:$O$3006,'RC'!F$5,RES!$I$6:$I$3006,'RC'!$C65)","v":0},{"$f":"SUMIFS(RES!$F$6:$F$3006,RES!$O$6:$O$3006,'RC'!G$5,RES!$I$6:$I$3006,'RC'!$C65)","v":0},{"$f":"SUMIFS(RES!$F$6:$F$3006,RES!$O$6:$O$3006,'RC'!H$5,RES!$I$6:$I$3006,'RC'!$C65)","v":0},{"$f":"SUMIFS(RES!$F$6:$F$3006,RES!$O$6:$O$3006,'RC'!I$5,RES!$I$6:$I$3006,'RC'!$C65)","v":0},{"$f":"SUMIFS(RES!$F$6:$F$3006,RES!$O$6:$O$3006,'RC'!J$5,RES!$I$6:$I$3006,'RC'!$C65)","v":0},{"$f":"SUMIFS(RES!$F$6:$F$3006,RES!$O$6:$O$3006,'RC'!K$5,RES!$I$6:$I$3006,'RC'!$C65)","v":0},{"$f":"SUMIFS(RES!$F$6:$F$3006,RES!$O$6:$O$3006,'RC'!L$5,RES!$I$6:$I$3006,'RC'!$C65)","v":0},{"$f":"SUMIFS(RES!$F$6:$F$3006,RES!$O$6:$O$3006,'RC'!M$5,RES!$I$6:$I$3006,'RC'!$C65)","v":0},{"$f":"SUMIFS(RES!$F$6:$F$3006,RES!$O$6:$O$3006,'RC'!N$5,RES!$I$6:$I$3006,'RC'!$C65)","v":0},{"$f":"SUMIFS(RES!$F$6:$F$3006,RES!$O$6:$O$3006,'RC'!O$5,RES!$I$6:$I$3006,'RC'!$C65)","v":0}]
[null,null,{"$f":"CAD_Q!C65","v":60},{"$f":"SUMIFS(RES!$F$6:$F$3006,RES!$O$6:$O$3006,'RC'!D$5,RES!$I$6:$I$3006,'RC'!$C66)","v":0},{"$f":"SUMIFS(RES!$F$6:$F$3006,RES!$O$6:$O$3006,'RC'!E$5,RES!$I$6:$I$3006,'RC'!$C66)","v":0},{"$f":"SUMIFS(RES!$F$6:$F$3006,RES!$O$6:$O$3006,'RC'!F$5,RES!$I$6:$I$3006,'RC'!$C66)","v":0},{"$f":"SUMIFS(RES!$F$6:$F$3006,RES!$O$6:$O$3006,'RC'!G$5,RES!$I$6:$I$3006,'RC'!$C66)","v":0},{"$f":"SUMIFS(RES!$F$6:$F$3006,RES!$O$6:$O$3006,'RC'!H$5,RES!$I$6:$I$3006,'RC'!$C66)","v":0},{"$f":"SUMIFS(RES!$F$6:$F$3006,RES!$O$6:$O$3006,'RC'!I$5,RES!$I$6:$I$3006,'RC'!$C66)","v":0},{"$f":"SUMIFS(RES!$F$6:$F$3006,RES!$O$6:$O$3006,'RC'!J$5,RES!$I$6:$I$3006,'RC'!$C66)","v":0},{"$f":"SUMIFS(RES!$F$6:$F$3006,RES!$O$6:$O$3006,'RC'!K$5,RES!$I$6:$I$3006,'RC'!$C66)","v":0},{"$f":"SUMIFS(RES!$F$6:$F$3006,RES!$O$6:$O$3006,'RC'!L$5,RES!$I$6:$I$3006,'RC'!$C66)","v":0},{"$f":"SUMIFS(RES!$F$6:$F$3006,RES!$O$6:$O$3006,'RC'!M$5,RES!$I$6:$I$3006,'RC'!$C66)","v":0},{"$f":"SUMIFS(RES!$F$6:$F$3006,RES!$O$6:$O$3006,'RC'!N$5,RES!$I$6:$I$3006,'RC'!$C66)","v":0},{"$f":"SUMIFS(RES!$F$6:$F$3006,RES!$O$6:$O$3006,'RC'!O$5,RES!$I$6:$I$3006,'RC'!$C66)","v":0}]
[null,null,{"$f":"CAD_Q!C66","v":61},{"$f":"SUMIFS(RES!$F$6:$F$3006,RES!$O$6:$O$3006,'RC'!D$5,RES!$I$6:$I$3006,'RC'!$C67)","v":0},{"$f":"SUMIFS(RES!$F$6:$F$3006,RES!$O$6:$O$3006,'RC'!E$5,RES!$I$6:$I$3006,'RC'!$C67)","v":0},{"$f":"SUMIFS(RES!$F$6:$F$3006,RES!$O$6:$O$3006,'RC'!F$5,RES!$I$6:$I$3006,'RC'!$C67)","v":0},{"$f":"SUMIFS(RES!$F$6:$F$3006,RES!$O$6:$O$3006,'RC'!G$5,RES!$I$6:$I$3006,'RC'!$C67)","v":0},{"$f":"SUMIFS(RES!$F$6:$F$3006,RES!$O$6:$O$3006,'RC'!H$5,RES!$I$6:$I$3006,'RC'!$C67)","v":0},{"$f":"SUMIFS(RES!$F$6:$F$3006,RES!$O$6:$O$3006,'RC'!I$5,RES!$I$6:$I$3006,'RC'!$C67)","v":0},{"$f":"SUMIFS(RES!$F$6:$F$3006,RES!$O$6:$O$3006,'RC'!J$5,RES!$I$6:$I$3006,'RC'!$C67)","v":0},{"$f":"SUMIFS(RES!$F$6:$F$3006,RES!$O$6:$O$3006,'RC'!K$5,RES!$I$6:$I$3006,'RC'!$C67)","v":0},{"$f":"SUMIFS(RES!$F$6:$F$3006,RES!$O$6:$O$3006,'RC'!L$5,RES!$I$6:$I$3006,'RC'!$C67)","v":0},{"$f":"SUMIFS(RES!$F$6:$F$3006,RES!$O$6:$O$3006,'RC'!M$5,RES!$I$6:$I$3006,'RC'!$C67)","v":0},{"$f":"SUMIFS(RES!$F$6:$F$3006,RES!$O$6:$O$3006,'RC'!N$5,RES!$I$6:$I$3006,'RC'!$C67)","v":0},{"$f":"SUMIFS(RES!$F$6:$F$3006,RES!$O$6:$O$3006,'RC'!O$5,RES!$I$6:$I$3006,'RC'!$C67)","v":0}]
[null,null,{"$f":"CAD_Q!C67","v":62},{"$f":"SUMIFS(RES!$F$6:$F$3006,RES!$O$6:$O$3006,'RC'!D$5,RES!$I$6:$I$3006,'RC'!$C68)","v":0},{"$f":"SUMIFS(RES!$F$6:$F$3006,RES!$O$6:$O$3006,'RC'!E$5,RES!$I$6:$I$3006,'RC'!$C68)","v":0},{"$f":"SUMIFS(RES!$F$6:$F$3006,RES!$O$6:$O$3006,'RC'!F$5,RES!$I$6:$I$3006,'RC'!$C68)","v":0},{"$f":"SUMIFS(RES!$F$6:$F$3006,RES!$O$6:$O$3006,'RC'!G$5,RES!$I$6:$I$3006,'RC'!$C68)","v":0},{"$f":"SUMIFS(RES!$F$6:$F$3006,RES!$O$6:$O$3006,'RC'!H$5,RES!$I$6:$I$3006,'RC'!$C68)","v":0},{"$f":"SUMIFS(RES!$F$6:$F$3006,RES!$O$6:$O$3006,'RC'!I$5,RES!$I$6:$I$3006,'RC'!$C68)","v":0},{"$f":"SUMIFS(RES!$F$6:$F$3006,RES!$O$6:$O$3006,'RC'!J$5,RES!$I$6:$I$3006,'RC'!$C68)","v":0},{"$f":"SUMIFS(RES!$F$6:$F$3006,RES!$O$6:$O$3006,'RC'!K$5,RES!$I$6:$I$3006,'RC'!$C68)","v":0},{"$f":"SUMIFS(RES!$F$6:$F$3006,RES!$O$6:$O$3006,'RC'!L$5,RES!$I$6:$I$3006,'RC'!$C68)","v":0},{"$f":"SUMIFS(RES!$F$6:$F$3006,RES!$O$6:$O$3006,'RC'!M$5,RES!$I$6:$I$3006,'RC'!$C68)","v":0},{"$f":"SUMIFS(RES!$F$6:$F$3006,RES!$O$6:$O$3006,'RC'!N$5,RES!$I$6:$I$3006,'RC'!$C68)","v":0},{"$f":"SUMIFS(RES!$F$6:$F$3006,RES!$O$6:$O$3006,'RC'!O$5,RES!$I$6:$I$3006,'RC'!$C68)","v":0}]
[null,null,{"$f":"CAD_Q!C68","v":63},{"$f":"SUMIFS(RES!$F$6:$F$3006,RES!$O$6:$O$3006,'RC'!D$5,RES!$I$6:$I$3006,'RC'!$C69)","v":0},{"$f":"SUMIFS(RES!$F$6:$F$3006,RES!$O$6:$O$3006,'RC'!E$5,RES!$I$6:$I$3006,'RC'!$C69)","v":0},{"$f":"SUMIFS(RES!$F$6:$F$3006,RES!$O$6:$O$3006,'RC'!F$5,RES!$I$6:$I$3006,'RC'!$C69)","v":0},{"$f":"SUMIFS(RES!$F$6:$F$3006,RES!$O$6:$O$3006,'RC'!G$5,RES!$I$6:$I$3006,'RC'!$C69)","v":0},{"$f":"SUMIFS(RES!$F$6:$F$3006,RES!$O$6:$O$3006,'RC'!H$5,RES!$I$6:$I$3006,'RC'!$C69)","v":0},{"$f":"SUMIFS(RES!$F$6:$F$3006,RES!$O$6:$O$3006,'RC'!I$5,RES!$I$6:$I$3006,'RC'!$C69)","v":0},{"$f":"SUMIFS(RES!$F$6:$F$3006,RES!$O$6:$O$3006,'RC'!J$5,RES!$I$6:$I$3006,'RC'!$C69)","v":0},{"$f":"SUMIFS(RES!$F$6:$F$3006,RES!$O$6:$O$3006,'RC'!K$5,RES!$I$6:$I$3006,'RC'!$C69)","v":0},{"$f":"SUMIFS(RES!$F$6:$F$3006,RES!$O$6:$O$3006,'RC'!L$5,RES!$I$6:$I$3006,'RC'!$C69)","v":0},{"$f":"SUMIFS(RES!$F$6:$F$3006,RES!$O$6:$O$3006,'RC'!M$5,RES!$I$6:$I$3006,'RC'!$C69)","v":0},{"$f":"SUMIFS(RES!$F$6:$F$3006,RES!$O$6:$O$3006,'RC'!N$5,RES!$I$6:$I$3006,'RC'!$C69)","v":0},{"$f":"SUMIFS(RES!$F$6:$F$3006,RES!$O$6:$O$3006,'RC'!O$5,RES!$I$6:$I$3006,'RC'!$C69)","v":0}]
[null,null,{"$f":"CAD_Q!C69","v":64},{"$f":"SUMIFS(RES!$F$6:$F$3006,RES!$O$6:$O$3006,'RC'!D$5,RES!$I$6:$I$3006,'RC'!$C70)","v":0},{"$f":"SUMIFS(RES!$F$6:$F$3006,RES!$O$6:$O$3006,'RC'!E$5,RES!$I$6:$I$3006,'RC'!$C70)","v":0},{"$f":"SUMIFS(RES!$F$6:$F$3006,RES!$O$6:$O$3006,'RC'!F$5,RES!$I$6:$I$3006,'RC'!$C70)","v":0},{"$f":"SUMIFS(RES!$F$6:$F$3006,RES!$O$6:$O$3006,'RC'!G$5,RES!$I$6:$I$3006,'RC'!$C70)","v":0},{"$f":"SUMIFS(RES!$F$6:$F$3006,RES!$O$6:$O$3006,'RC'!H$5,RES!$I$6:$I$3006,'RC'!$C70)","v":0},{"$f":"SUMIFS(RES!$F$6:$F$3006,RES!$O$6:$O$3006,'RC'!I$5,RES!$I$6:$I$3006,'RC'!$C70)","v":0},{"$f":"SUMIFS(RES!$F$6:$F$3006,RES!$O$6:$O$3006,'RC'!J$5,RES!$I$6:$I$3006,'RC'!$C70)","v":0},{"$f":"SUMIFS(RES!$F$6:$F$3006,RES!$O$6:$O$3006,'RC'!K$5,RES!$I$6:$I$3006,'RC'!$C70)","v":0},{"$f":"SUMIFS(RES!$F$6:$F$3006,RES!$O$6:$O$3006,'RC'!L$5,RES!$I$6:$I$3006,'RC'!$C70)","v":0},{"$f":"SUMIFS(RES!$F$6:$F$3006,RES!$O$6:$O$3006,'RC'!M$5,RES!$I$6:$I$3006,'RC'!$C70)","v":0},{"$f":"SUMIFS(RES!$F$6:$F$3006,RES!$O$6:$O$3006,'RC'!N$5,RES!$I$6:$I$3006,'RC'!$C70)","v":0},{"$f":"SUMIFS(RES!$F$6:$F$3006,RES!$O$6:$O$3006,'RC'!O$5,RES!$I$6:$I$3006,'RC'!$C70)","v":0}]
[null,null,{"$f":"CAD_Q!C70","v":65},{"$f":"SUMIFS(RES!$F$6:$F$3006,RES!$O$6:$O$3006,'RC'!D$5,RES!$I$6:$I$3006,'RC'!$C71)","v":0},{"$f":"SUMIFS(RES!$F$6:$F$3006,RES!$O$6:$O$3006,'RC'!E$5,RES!$I$6:$I$3006,'RC'!$C71)","v":0},{"$f":"SUMIFS(RES!$F$6:$F$3006,RES!$O$6:$O$3006,'RC'!F$5,RES!$I$6:$I$3006,'RC'!$C71)","v":0},{"$f":"SUMIFS(RES!$F$6:$F$3006,RES!$O$6:$O$3006,'RC'!G$5,RES!$I$6:$I$3006,'RC'!$C71)","v":0},{"$f":"SUMIFS(RES!$F$6:$F$3006,RES!$O$6:$O$3006,'RC'!H$5,RES!$I$6:$I$3006,'RC'!$C71)","v":0},{"$f":"SUMIFS(RES!$F$6:$F$3006,RES!$O$6:$O$3006,'RC'!I$5,RES!$I$6:$I$3006,'RC'!$C71)","v":0},{"$f":"SUMIFS(RES!$F$6:$F$3006,RES!$O$6:$O$3006,'RC'!J$5,RES!$I$6:$I$3006,'RC'!$C71)","v":0},{"$f":"SUMIFS(RES!$F$6:$F$3006,RES!$O$6:$O$3006,'RC'!K$5,RES!$I$6:$I$3006,'RC'!$C71)","v":0},{"$f":"SUMIFS(RES!$F$6:$F$3006,RES!$O$6:$O$3006,'RC'!L$5,RES!$I$6:$I$3006,'RC'!$C71)","v":0},{"$f":"SUMIFS(RES!$F$6:$F$3006,RES!$O$6:$O$3006,'RC'!M$5,RES!$I$6:$I$3006,'RC'!$C71)","v":0},{"$f":"SUMIFS(RES!$F$6:$F$3006,RES!$O$6:$O$3006,'RC'!N$5,RES!$I$6:$I$3006,'RC'!$C71)","v":0},{"$f":"SUMIFS(RES!$F$6:$F$3006,RES!$O$6:$O$3006,'RC'!O$5,RES!$I$6:$I$3006,'RC'!$C71)","v":0}]
[null,null,{"$f":"CAD_Q!C71","v":66},{"$f":"SUMIFS(RES!$F$6:$F$3006,RES!$O$6:$O$3006,'RC'!D$5,RES!$I$6:$I$3006,'RC'!$C72)","v":0},{"$f":"SUMIFS(RES!$F$6:$F$3006,RES!$O$6:$O$3006,'RC'!E$5,RES!$I$6:$I$3006,'RC'!$C72)","v":0},{"$f":"SUMIFS(RES!$F$6:$F$3006,RES!$O$6:$O$3006,'RC'!F$5,RES!$I$6:$I$3006,'RC'!$C72)","v":0},{"$f":"SUMIFS(RES!$F$6:$F$3006,RES!$O$6:$O$3006,'RC'!G$5,RES!$I$6:$I$3006,'RC'!$C72)","v":0},{"$f":"SUMIFS(RES!$F$6:$F$3006,RES!$O$6:$O$3006,'RC'!H$5,RES!$I$6:$I$3006,'RC'!$C72)","v":0},{"$f":"SUMIFS(RES!$F$6:$F$3006,RES!$O$6:$O$3006,'RC'!I$5,RES!$I$6:$I$3006,'RC'!$C72)","v":0},{"$f":"SUMIFS(RES!$F$6:$F$3006,RES!$O$6:$O$3006,'RC'!J$5,RES!$I$6:$I$3006,'RC'!$C72)","v":0},{"$f":"SUMIFS(RES!$F$6:$F$3006,RES!$O$6:$O$3006,'RC'!K$5,RES!$I$6:$I$3006,'RC'!$C72)","v":0},{"$f":"SUMIFS(RES!$F$6:$F$3006,RES!$O$6:$O$3006,'RC'!L$5,RES!$I$6:$I$3006,'RC'!$C72)","v":0},{"$f":"SUMIFS(RES!$F$6:$F$3006,RES!$O$6:$O$3006,'RC'!M$5,RES!$I$6:$I$3006,'RC'!$C72)","v":0},{"$f":"SUMIFS(RES!$F$6:$F$3006,RES!$O$6:$O$3006,'RC'!N$5,RES!$I$6:$I$3006,'RC'!$C72)","v":0},{"$f":"SUMIFS(RES!$F$6:$F$3006,RES!$O$6:$O$3006,'RC'!O$5,RES!$I$6:$I$3006,'RC'!$C72)","v":0}]
[null,null,{"$f":"CAD_Q!C72","v":67},{"$f":"SUMIFS(RES!$F$6:$F$3006,RES!$O$6:$O$3006,'RC'!D$5,RES!$I$6:$I$3006,'RC'!$C73)","v":0},{"$f":"SUMIFS(RES!$F$6:$F$3006,RES!$O$6:$O$3006,'RC'!E$5,RES!$I$6:$I$3006,'RC'!$C73)","v":0},{"$f":"SUMIFS(RES!$F$6:$F$3006,RES!$O$6:$O$3006,'RC'!F$5,RES!$I$6:$I$3006,'RC'!$C73)","v":0},{"$f":"SUMIFS(RES!$F$6:$F$3006,RES!$O$6:$O$3006,'RC'!G$5,RES!$I$6:$I$3006,'RC'!$C73)","v":0},{"$f":"SUMIFS(RES!$F$6:$F$3006,RES!$O$6:$O$3006,'RC'!H$5,RES!$I$6:$I$3006,'RC'!$C73)","v":0},{"$f":"SUMIFS(RES!$F$6:$F$3006,RES!$O$6:$O$3006,'RC'!I$5,RES!$I$6:$I$3006,'RC'!$C73)","v":0},{"$f":"SUMIFS(RES!$F$6:$F$3006,RES!$O$6:$O$3006,'RC'!J$5,RES!$I$6:$I$3006,'RC'!$C73)","v":0},{"$f":"SUMIFS(RES!$F$6:$F$3006,RES!$O$6:$O$3006,'RC'!K$5,RES!$I$6:$I$3006,'RC'!$C73)","v":0},{"$f":"SUMIFS(RES!$F$6:$F$3006,RES!$O$6:$O$3006,'RC'!L$5,RES!$I$6:$I$3006,'RC'!$C73)","v":0},{"$f":"SUMIFS(RES!$F$6:$F$3006,RES!$O$6:$O$3006,'RC'!M$5,RES!$I$6:$I$3006,'RC'!$C73)","v":0},{"$f":"SUMIFS(RES!$F$6:$F$3006,RES!$O$6:$O$3006,'RC'!N$5,RES!$I$6:$I$3006,'RC'!$C73)","v":0},{"$f":"SUMIFS(RES!$F$6:$F$3006,RES!$O$6:$O$3006,'RC'!O$5,RES!$I$6:$I$3006,'RC'!$C73)","v":0}]
[null,null,{"$f":"CAD_Q!C73","v":68},{"$f":"SUMIFS(RES!$F$6:$F$3006,RES!$O$6:$O$3006,'RC'!D$5,RES!$I$6:$I$3006,'RC'!$C74)","v":0},{"$f":"SUMIFS(RES!$F$6:$F$3006,RES!$O$6:$O$3006,'RC'!E$5,RES!$I$6:$I$3006,'RC'!$C74)","v":0},{"$f":"SUMIFS(RES!$F$6:$F$3006,RES!$O$6:$O$3006,'RC'!F$5,RES!$I$6:$I$3006,'RC'!$C74)","v":0},{"$f":"SUMIFS(RES!$F$6:$F$3006,RES!$O$6:$O$3006,'RC'!G$5,RES!$I$6:$I$3006,'RC'!$C74)","v":0},{"$f":"SUMIFS(RES!$F$6:$F$3006,RES!$O$6:$O$3006,'RC'!H$5,RES!$I$6:$I$3006,'RC'!$C74)","v":0},{"$f":"SUMIFS(RES!$F$6:$F$3006,RES!$O$6:$O$3006,'RC'!I$5,RES!$I$6:$I$3006,'RC'!$C74)","v":0},{"$f":"SUMIFS(RES!$F$6:$F$3006,RES!$O$6:$O$3006,'RC'!J$5,RES!$I$6:$I$3006,'RC'!$C74)","v":0},{"$f":"SUMIFS(RES!$F$6:$F$3006,RES!$O$6:$O$3006,'RC'!K$5,RES!$I$6:$I$3006,'RC'!$C74)","v":0},{"$f":"SUMIFS(RES!$F$6:$F$3006,RES!$O$6:$O$3006,'RC'!L$5,RES!$I$6:$I$3006,'RC'!$C74)","v":0},{"$f":"SUMIFS(RES!$F$6:$F$3006,RES!$O$6:$O$3006,'RC'!M$5,RES!$I$6:$I$3006,'RC'!$C74)","v":0},{"$f":"SUMIFS(RES!$F$6:$F$3006,RES!$O$6:$O$3006,'RC'!N$5,RES!$I$6:$I$3006,'RC'!$C74)","v":0},{"$f":"SUMIFS(RES!$F$6:$F$3006,RES!$O$6:$O$3006,'RC'!O$5,RES!$I$6:$I$3006,'RC'!$C74)","v":0}]
[null,null,{"$f":"CAD_Q!C74","v":69},{"$f":"SUMIFS(RES!$F$6:$F$3006,RES!$O$6:$O$3006,'RC'!D$5,RES!$I$6:$I$3006,'RC'!$C75)","v":0},{"$f":"SUMIFS(RES!$F$6:$F$3006,RES!$O$6:$O$3006,'RC'!E$5,RES!$I$6:$I$3006,'RC'!$C75)","v":0},{"$f":"SUMIFS(RES!$F$6:$F$3006,RES!$O$6:$O$3006,'RC'!F$5,RES!$I$6:$I$3006,'RC'!$C75)","v":0},{"$f":"SUMIFS(RES!$F$6:$F$3006,RES!$O$6:$O$3006,'RC'!G$5,RES!$I$6:$I$3006,'RC'!$C75)","v":0},{"$f":"SUMIFS(RES!$F$6:$F$3006,RES!$O$6:$O$3006,'RC'!H$5,RES!$I$6:$I$3006,'RC'!$C75)","v":0},{"$f":"SUMIFS(RES!$F$6:$F$3006,RES!$O$6:$O$3006,'RC'!I$5,RES!$I$6:$I$3006,'RC'!$C75)","v":0},{"$f":"SUMIFS(RES!$F$6:$F$3006,RES!$O$6:$O$3006,'RC'!J$5,RES!$I$6:$I$3006,'RC'!$C75)","v":0},{"$f":"SUMIFS(RES!$F$6:$F$3006,RES!$O$6:$O$3006,'RC'!K$5,RES!$I$6:$I$3006,'RC'!$C75)","v":0},{"$f":"SUMIFS(RES!$F$6:$F$3006,RES!$O$6:$O$3006,'RC'!L$5,RES!$I$6:$I$3006,'RC'!$C75)","v":0},{"$f":"SUMIFS(RES!$F$6:$F$3006,RES!$O$6:$O$3006,'RC'!M$5,RES!$I$6:$I$3006,'RC'!$C75)","v":0},{"$f":"SUMIFS(RES!$F$6:$F$3006,RES!$O$6:$O$3006,'RC'!N$5,RES!$I$6:$I$3006,'RC'!$C75)","v":0},{"$f":"SUMIFS(RES!$F$6:$F$3006,RES!$O$6:$O$3006,'RC'!O$5,RES!$I$6:$I$3006,'RC'!$C75)","v":0}]
[null,null,{"$f":"CAD_Q!C75","v":70},{"$f":"SUMIFS(RES!$F$6:$F$3006,RES!$O$6:$O$3006,'RC'!D$5,RES!$I$6:$I$3006,'RC'!$C76)","v":0},{"$f":"SUMIFS(RES!$F$6:$F$3006,RES!$O$6:$O$3006,'RC'!E$5,RES!$I$6:$I$3006,'RC'!$C76)","v":0},{"$f":"SUMIFS(RES!$F$6:$F$3006,RES!$O$6:$O$3006,'RC'!F$5,RES!$I$6:$I$3006,'RC'!$C76)","v":0},{"$f":"SUMIFS(RES!$F$6:$F$3006,RES!$O$6:$O$3006,'RC'!G$5,RES!$I$6:$I$3006,'RC'!$C76)","v":0},{"$f":"SUMIFS(RES!$F$6:$F$3006,RES!$O$6:$O$3006,'RC'!H$5,RES!$I$6:$I$3006,'RC'!$C76)","v":0},{"$f":"SUMIFS(RES!$F$6:$F$3006,RES!$O$6:$O$3006,'RC'!I$5,RES!$I$6:$I$3006,'RC'!$C76)","v":0},{"$f":"SUMIFS(RES!$F$6:$F$3006,RES!$O$6:$O$3006,'RC'!J$5,RES!$I$6:$I$3006,'RC'!$C76)","v":0},{"$f":"SUMIFS(RES!$F$6:$F$3006,RES!$O$6:$O$3006,'RC'!K$5,RES!$I$6:$I$3006,'RC'!$C76)","v":0},{"$f":"SUMIFS(RES!$F$6:$F$3006,RES!$O$6:$O$3006,'RC'!L$5,RES!$I$6:$I$3006,'RC'!$C76)","v":0},{"$f":"SUMIFS(RES!$F$6:$F$3006,RES!$O$6:$O$3006,'RC'!M$5,RES!$I$6:$I$3006,'RC'!$C76)","v":0},{"$f":"SUMIFS(RES!$F$6:$F$3006,RES!$O$6:$O$3006,'RC'!N$5,RES!$I$6:$I$3006,'RC'!$C76)","v":0},{"$f":"SUMIFS(RES!$F$6:$F$3006,RES!$O$6:$O$3006,'RC'!O$5,RES!$I$6:$I$3006,'RC'!$C76)","v":0}]
[null,null,{"$f":"CAD_Q!C76","v":71},{"$f":"SUMIFS(RES!$F$6:$F$3006,RES!$O$6:$O$3006,'RC'!D$5,RES!$I$6:$I$3006,'RC'!$C77)","v":0},{"$f":"SUMIFS(RES!$F$6:$F$3006,RES!$O$6:$O$3006,'RC'!E$5,RES!$I$6:$I$3006,'RC'!$C77)","v":0},{"$f":"SUMIFS(RES!$F$6:$F$3006,RES!$O$6:$O$3006,'RC'!F$5,RES!$I$6:$I$3006,'RC'!$C77)","v":0},{"$f":"SUMIFS(RES!$F$6:$F$3006,RES!$O$6:$O$3006,'RC'!G$5,RES!$I$6:$I$3006,'RC'!$C77)","v":0},{"$f":"SUMIFS(RES!$F$6:$F$3006,RES!$O$6:$O$3006,'RC'!H$5,RES!$I$6:$I$3006,'RC'!$C77)","v":0},{"$f":"SUMIFS(RES!$F$6:$F$3006,RES!$O$6:$O$3006,'RC'!I$5,RES!$I$6:$I$3006,'RC'!$C77)","v":0},{"$f":"SUMIFS(RES!$F$6:$F$3006,RES!$O$6:$O$3006,'RC'!J$5,RES!$I$6:$I$3006,'RC'!$C77)","v":0},{"$f":"SUMIFS(RES!$F$6:$F$3006,RES!$O$6:$O$3006,'RC'!K$5,RES!$I$6:$I$3006,'RC'!$C77)","v":0},{"$f":"SUMIFS(RES!$F$6:$F$3006,RES!$O$6:$O$3006,'RC'!L$5,RES!$I$6:$I$3006,'RC'!$C77)","v":0},{"$f":"SUMIFS(RES!$F$6:$F$3006,RES!$O$6:$O$3006,'RC'!M$5,RES!$I$6:$I$3006,'RC'!$C77)","v":0},{"$f":"SUMIFS(RES!$F$6:$F$3006,RES!$O$6:$O$3006,'RC'!N$5,RES!$I$6:$I$3006,'RC'!$C77)","v":0},{"$f":"SUMIFS(RES!$F$6:$F$3006,RES!$O$6:$O$3006,'RC'!O$5,RES!$I$6:$I$3006,'RC'!$C77)","v":0}]
[null,null,{"$f":"CAD_Q!C77","v":72},{"$f":"SUMIFS(RES!$F$6:$F$3006,RES!$O$6:$O$3006,'RC'!D$5,RES!$I$6:$I$3006,'RC'!$C78)","v":0},{"$f":"SUMIFS(RES!$F$6:$F$3006,RES!$O$6:$O$3006,'RC'!E$5,RES!$I$6:$I$3006,'RC'!$C78)","v":0},{"$f":"SUMIFS(RES!$F$6:$F$3006,RES!$O$6:$O$3006,'RC'!F$5,RES!$I$6:$I$3006,'RC'!$C78)","v":0},{"$f":"SUMIFS(RES!$F$6:$F$3006,RES!$O$6:$O$3006,'RC'!G$5,RES!$I$6:$I$3006,'RC'!$C78)","v":0},{"$f":"SUMIFS(RES!$F$6:$F$3006,RES!$O$6:$O$3006,'RC'!H$5,RES!$I$6:$I$3006,'RC'!$C78)","v":0},{"$f":"SUMIFS(RES!$F$6:$F$3006,RES!$O$6:$O$3006,'RC'!I$5,RES!$I$6:$I$3006,'RC'!$C78)","v":0},{"$f":"SUMIFS(RES!$F$6:$F$3006,RES!$O$6:$O$3006,'RC'!J$5,RES!$I$6:$I$3006,'RC'!$C78)","v":0},{"$f":"SUMIFS(RES!$F$6:$F$3006,RES!$O$6:$O$3006,'RC'!K$5,RES!$I$6:$I$3006,'RC'!$C78)","v":0},{"$f":"SUMIFS(RES!$F$6:$F$3006,RES!$O$6:$O$3006,'RC'!L$5,RES!$I$6:$I$3006,'RC'!$C78)","v":0},{"$f":"SUMIFS(RES!$F$6:$F$3006,RES!$O$6:$O$3006,'RC'!M$5,RES!$I$6:$I$3006,'RC'!$C78)","v":0},{"$f":"SUMIFS(RES!$F$6:$F$3006,RES!$O$6:$O$3006,'RC'!N$5,RES!$I$6:$I$3006,'RC'!$C78)","v":0},{"$f":"SUMIFS(RES!$F$6:$F$3006,RES!$O$6:$O$3006,'RC'!O$5,RES!$I$6:$I$3006,'RC'!$C78)","v":0}]
[null,null,{"$f":"CAD_Q!C78","v":73},{"$f":"SUMIFS(RES!$F$6:$F$3006,RES!$O$6:$O$3006,'RC'!D$5,RES!$I$6:$I$3006,'RC'!$C79)","v":0},{"$f":"SUMIFS(RES!$F$6:$F$3006,RES!$O$6:$O$3006,'RC'!E$5,RES!$I$6:$I$3006,'RC'!$C79)","v":0},{"$f":"SUMIFS(RES!$F$6:$F$3006,RES!$O$6:$O$3006,'RC'!F$5,RES!$I$6:$I$3006,'RC'!$C79)","v":0},{"$f":"SUMIFS(RES!$F$6:$F$3006,RES!$O$6:$O$3006,'RC'!G$5,RES!$I$6:$I$3006,'RC'!$C79)","v":0},{"$f":"SUMIFS(RES!$F$6:$F$3006,RES!$O$6:$O$3006,'RC'!H$5,RES!$I$6:$I$3006,'RC'!$C79)","v":0},{"$f":"SUMIFS(RES!$F$6:$F$3006,RES!$O$6:$O$3006,'RC'!I$5,RES!$I$6:$I$3006,'RC'!$C79)","v":0},{"$f":"SUMIFS(RES!$F$6:$F$3006,RES!$O$6:$O$3006,'RC'!J$5,RES!$I$6:$I$3006,'RC'!$C79)","v":0},{"$f":"SUMIFS(RES!$F$6:$F$3006,RES!$O$6:$O$3006,'RC'!K$5,RES!$I$6:$I$3006,'RC'!$C79)","v":0},{"$f":"SUMIFS(RES!$F$6:$F$3006,RES!$O$6:$O$3006,'RC'!L$5,RES!$I$6:$I$3006,'RC'!$C79)","v":0},{"$f":"SUMIFS(RES!$F$6:$F$3006,RES!$O$6:$O$3006,'RC'!M$5,RES!$I$6:$I$3006,'RC'!$C79)","v":0},{"$f":"SUMIFS(RES!$F$6:$F$3006,RES!$O$6:$O$3006,'RC'!N$5,RES!$I$6:$I$3006,'RC'!$C79)","v":0},{"$f":"SUMIFS(RES!$F$6:$F$3006,RES!$O$6:$O$3006,'RC'!O$5,RES!$I$6:$I$3006,'RC'!$C79)","v":0}]
[null,null,{"$f":"CAD_Q!C79","v":74},{"$f":"SUMIFS(RES!$F$6:$F$3006,RES!$O$6:$O$3006,'RC'!D$5,RES!$I$6:$I$3006,'RC'!$C80)","v":0},{"$f":"SUMIFS(RES!$F$6:$F$3006,RES!$O$6:$O$3006,'RC'!E$5,RES!$I$6:$I$3006,'RC'!$C80)","v":0},{"$f":"SUMIFS(RES!$F$6:$F$3006,RES!$O$6:$O$3006,'RC'!F$5,RES!$I$6:$I$3006,'RC'!$C80)","v":0},{"$f":"SUMIFS(RES!$F$6:$F$3006,RES!$O$6:$O$3006,'RC'!G$5,RES!$I$6:$I$3006,'RC'!$C80)","v":0},{"$f":"SUMIFS(RES!$F$6:$F$3006,RES!$O$6:$O$3006,'RC'!H$5,RES!$I$6:$I$3006,'RC'!$C80)","v":0},{"$f":"SUMIFS(RES!$F$6:$F$3006,RES!$O$6:$O$3006,'RC'!I$5,RES!$I$6:$I$3006,'RC'!$C80)","v":0},{"$f":"SUMIFS(RES!$F$6:$F$3006,RES!$O$6:$O$3006,'RC'!J$5,RES!$I$6:$I$3006,'RC'!$C80)","v":0},{"$f":"SUMIFS(RES!$F$6:$F$3006,RES!$O$6:$O$3006,'RC'!K$5,RES!$I$6:$I$3006,'RC'!$C80)","v":0},{"$f":"SUMIFS(RES!$F$6:$F$3006,RES!$O$6:$O$3006,'RC'!L$5,RES!$I$6:$I$3006,'RC'!$C80)","v":0},{"$f":"SUMIFS(RES!$F$6:$F$3006,RES!$O$6:$O$3006,'RC'!M$5,RES!$I$6:$I$3006,'RC'!$C80)","v":0},{"$f":"SUMIFS(RES!$F$6:$F$3006,RES!$O$6:$O$3006,'RC'!N$5,RES!$I$6:$I$3006,'RC'!$C80)","v":0},{"$f":"SUMIFS(RES!$F$6:$F$3006,RES!$O$6:$O$3006,'RC'!O$5,RES!$I$6:$I$3006,'RC'!$C80)","v":0}]
[null,null,{"$f":"CAD_Q!C80","v":75},{"$f":"SUMIFS(RES!$F$6:$F$3006,RES!$O$6:$O$3006,'RC'!D$5,RES!$I$6:$I$3006,'RC'!$C81)","v":0},{"$f":"SUMIFS(RES!$F$6:$F$3006,RES!$O$6:$O$3006,'RC'!E$5,RES!$I$6:$I$3006,'RC'!$C81)","v":0},{"$f":"SUMIFS(RES!$F$6:$F$3006,RES!$O$6:$O$3006,'RC'!F$5,RES!$I$6:$I$3006,'RC'!$C81)","v":0},{"$f":"SUMIFS(RES!$F$6:$F$3006,RES!$O$6:$O$3006,'RC'!G$5,RES!$I$6:$I$3006,'RC'!$C81)","v":0},{"$f":"SUMIFS(RES!$F$6:$F$3006,RES!$O$6:$O$3006,'RC'!H$5,RES!$I$6:$I$3006,'RC'!$C81)","v":0},{"$f":"SUMIFS(RES!$F$6:$F$3006,RES!$O$6:$O$3006,'RC'!I$5,RES!$I$6:$I$3006,'RC'!$C81)","v":0},{"$f":"SUMIFS(RES!$F$6:$F$3006,RES!$O$6:$O$3006,'RC'!J$5,RES!$I$6:$I$3006,'RC'!$C81)","v":0},{"$f":"SUMIFS(RES!$F$6:$F$3006,RES!$O$6:$O$3006,'RC'!K$5,RES!$I$6:$I$3006,'RC'!$C81)","v":0},{"$f":"SUMIFS(RES!$F$6:$F$3006,RES!$O$6:$O$3006,'RC'!L$5,RES!$I$6:$I$3006,'RC'!$C81)","v":0},{"$f":"SUMIFS(RES!$F$6:$F$3006,RES!$O$6:$O$3006,'RC'!M$5,RES!$I$6:$I$3006,'RC'!$C81)","v":0},{"$f":"SUMIFS(RES!$F$6:$F$3006,RES!$O$6:$O$3006,'RC'!N$5,RES!$I$6:$I$3006,'RC'!$C81)","v":0},{"$f":"SUMIFS(RES!$F$6:$F$3006,RES!$O$6:$O$3006,'RC'!O$5,RES!$I$6:$I$3006,'RC'!$C81)","v":0}]
[null,null,{"$f":"CAD_Q!C81","v":76},{"$f":"SUMIFS(RES!$F$6:$F$3006,RES!$O$6:$O$3006,'RC'!D$5,RES!$I$6:$I$3006,'RC'!$C82)","v":0},{"$f":"SUMIFS(RES!$F$6:$F$3006,RES!$O$6:$O$3006,'RC'!E$5,RES!$I$6:$I$3006,'RC'!$C82)","v":0},{"$f":"SUMIFS(RES!$F$6:$F$3006,RES!$O$6:$O$3006,'RC'!F$5,RES!$I$6:$I$3006,'RC'!$C82)","v":0},{"$f":"SUMIFS(RES!$F$6:$F$3006,RES!$O$6:$O$3006,'RC'!G$5,RES!$I$6:$I$3006,'RC'!$C82)","v":0},{"$f":"SUMIFS(RES!$F$6:$F$3006,RES!$O$6:$O$3006,'RC'!H$5,RES!$I$6:$I$3006,'RC'!$C82)","v":0},{"$f":"SUMIFS(RES!$F$6:$F$3006,RES!$O$6:$O$3006,'RC'!I$5,RES!$I$6:$I$3006,'RC'!$C82)","v":0},{"$f":"SUMIFS(RES!$F$6:$F$3006,RES!$O$6:$O$3006,'RC'!J$5,RES!$I$6:$I$3006,'RC'!$C82)","v":0},{"$f":"SUMIFS(RES!$F$6:$F$3006,RES!$O$6:$O$3006,'RC'!K$5,RES!$I$6:$I$3006,'RC'!$C82)","v":0},{"$f":"SUMIFS(RES!$F$6:$F$3006,RES!$O$6:$O$3006,'RC'!L$5,RES!$I$6:$I$3006,'RC'!$C82)","v":0},{"$f":"SUMIFS(RES!$F$6:$F$3006,RES!$O$6:$O$3006,'RC'!M$5,RES!$I$6:$I$3006,'RC'!$C82)","v":0},{"$f":"SUMIFS(RES!$F$6:$F$3006,RES!$O$6:$O$3006,'RC'!N$5,RES!$I$6:$I$3006,'RC'!$C82)","v":0},{"$f":"SUMIFS(RES!$F$6:$F$3006,RES!$O$6:$O$3006,'RC'!O$5,RES!$I$6:$I$3006,'RC'!$C82)","v":0}]
[null,null,{"$f":"CAD_Q!C82","v":77},{"$f":"SUMIFS(RES!$F$6:$F$3006,RES!$O$6:$O$3006,'RC'!D$5,RES!$I$6:$I$3006,'RC'!$C83)","v":0},{"$f":"SUMIFS(RES!$F$6:$F$3006,RES!$O$6:$O$3006,'RC'!E$5,RES!$I$6:$I$3006,'RC'!$C83)","v":0},{"$f":"SUMIFS(RES!$F$6:$F$3006,RES!$O$6:$O$3006,'RC'!F$5,RES!$I$6:$I$3006,'RC'!$C83)","v":0},{"$f":"SUMIFS(RES!$F$6:$F$3006,RES!$O$6:$O$3006,'RC'!G$5,RES!$I$6:$I$3006,'RC'!$C83)","v":0},{"$f":"SUMIFS(RES!$F$6:$F$3006,RES!$O$6:$O$3006,'RC'!H$5,RES!$I$6:$I$3006,'RC'!$C83)","v":0},{"$f":"SUMIFS(RES!$F$6:$F$3006,RES!$O$6:$O$3006,'RC'!I$5,RES!$I$6:$I$3006,'RC'!$C83)","v":0},{"$f":"SUMIFS(RES!$F$6:$F$3006,RES!$O$6:$O$3006,'RC'!J$5,RES!$I$6:$I$3006,'RC'!$C83)","v":0},{"$f":"SUMIFS(RES!$F$6:$F$3006,RES!$O$6:$O$3006,'RC'!K$5,RES!$I$6:$I$3006,'RC'!$C83)","v":0},{"$f":"SUMIFS(RES!$F$6:$F$3006,RES!$O$6:$O$3006,'RC'!L$5,RES!$I$6:$I$3006,'RC'!$C83)","v":0},{"$f":"SUMIFS(RES!$F$6:$F$3006,RES!$O$6:$O$3006,'RC'!M$5,RES!$I$6:$I$3006,'RC'!$C83)","v":0},{"$f":"SUMIFS(RES!$F$6:$F$3006,RES!$O$6:$O$3006,'RC'!N$5,RES!$I$6:$I$3006,'RC'!$C83)","v":0},{"$f":"SUMIFS(RES!$F$6:$F$3006,RES!$O$6:$O$3006,'RC'!O$5,RES!$I$6:$I$3006,'RC'!$C83)","v":0}]
[null,null,{"$f":"CAD_Q!C83","v":78},{"$f":"SUMIFS(RES!$F$6:$F$3006,RES!$O$6:$O$3006,'RC'!D$5,RES!$I$6:$I$3006,'RC'!$C84)","v":0},{"$f":"SUMIFS(RES!$F$6:$F$3006,RES!$O$6:$O$3006,'RC'!E$5,RES!$I$6:$I$3006,'RC'!$C84)","v":0},{"$f":"SUMIFS(RES!$F$6:$F$3006,RES!$O$6:$O$3006,'RC'!F$5,RES!$I$6:$I$3006,'RC'!$C84)","v":0},{"$f":"SUMIFS(RES!$F$6:$F$3006,RES!$O$6:$O$3006,'RC'!G$5,RES!$I$6:$I$3006,'RC'!$C84)","v":0},{"$f":"SUMIFS(RES!$F$6:$F$3006,RES!$O$6:$O$3006,'RC'!H$5,RES!$I$6:$I$3006,'RC'!$C84)","v":0},{"$f":"SUMIFS(RES!$F$6:$F$3006,RES!$O$6:$O$3006,'RC'!I$5,RES!$I$6:$I$3006,'RC'!$C84)","v":0},{"$f":"SUMIFS(RES!$F$6:$F$3006,RES!$O$6:$O$3006,'RC'!J$5,RES!$I$6:$I$3006,'RC'!$C84)","v":0},{"$f":"SUMIFS(RES!$F$6:$F$3006,RES!$O$6:$O$3006,'RC'!K$5,RES!$I$6:$I$3006,'RC'!$C84)","v":0},{"$f":"SUMIFS(RES!$F$6:$F$3006,RES!$O$6:$O$3006,'RC'!L$5,RES!$I$6:$I$3006,'RC'!$C84)","v":0},{"$f":"SUMIFS(RES!$F$6:$F$3006,RES!$O$6:$O$3006,'RC'!M$5,RES!$I$6:$I$3006,'RC'!$C84)","v":0},{"$f":"SUMIFS(RES!$F$6:$F$3006,RES!$O$6:$O$3006,'RC'!N$5,RES!$I$6:$I$3006,'RC'!$C84)","v":0},{"$f":"SUMIFS(RES!$F$6:$F$3006,RES!$O$6:$O$3006,'RC'!O$5,RES!$I$6:$I$3006,'RC'!$C84)","v":0}]
[null,null,{"$f":"CAD_Q!C84","v":79},{"$f":"SUMIFS(RES!$F$6:$F$3006,RES!$O$6:$O$3006,'RC'!D$5,RES!$I$6:$I$3006,'RC'!$C85)","v":0},{"$f":"SUMIFS(RES!$F$6:$F$3006,RES!$O$6:$O$3006,'RC'!E$5,RES!$I$6:$I$3006,'RC'!$C85)","v":0},{"$f":"SUMIFS(RES!$F$6:$F$3006,RES!$O$6:$O$3006,'RC'!F$5,RES!$I$6:$I$3006,'RC'!$C85)","v":0},{"$f":"SUMIFS(RES!$F$6:$F$3006,RES!$O$6:$O$3006,'RC'!G$5,RES!$I$6:$I$3006,'RC'!$C85)","v":0},{"$f":"SUMIFS(RES!$F$6:$F$3006,RES!$O$6:$O$3006,'RC'!H$5,RES!$I$6:$I$3006,'RC'!$C85)","v":0},{"$f":"SUMIFS(RES!$F$6:$F$3006,RES!$O$6:$O$3006,'RC'!I$5,RES!$I$6:$I$3006,'RC'!$C85)","v":0},{"$f":"SUMIFS(RES!$F$6:$F$3006,RES!$O$6:$O$3006,'RC'!J$5,RES!$I$6:$I$3006,'RC'!$C85)","v":0},{"$f":"SUMIFS(RES!$F$6:$F$3006,RES!$O$6:$O$3006,'RC'!K$5,RES!$I$6:$I$3006,'RC'!$C85)","v":0},{"$f":"SUMIFS(RES!$F$6:$F$3006,RES!$O$6:$O$3006,'RC'!L$5,RES!$I$6:$I$3006,'RC'!$C85)","v":0},{"$f":"SUMIFS(RES!$F$6:$F$3006,RES!$O$6:$O$3006,'RC'!M$5,RES!$I$6:$I$3006,'RC'!$C85)","v":0},{"$f":"SUMIFS(RES!$F$6:$F$3006,RES!$O$6:$O$3006,'RC'!N$5,RES!$I$6:$I$3006,'RC'!$C85)","v":0},{"$f":"SUMIFS(RES!$F$6:$F$3006,RES!$O$6:$O$3006,'RC'!O$5,RES!$I$6:$I$3006,'RC'!$C85)","v":0}]
[null,null,{"$f":"CAD_Q!C85","v":80},{"$f":"SUMIFS(RES!$F$6:$F$3006,RES!$O$6:$O$3006,'RC'!D$5,RES!$I$6:$I$3006,'RC'!$C86)","v":0},{"$f":"SUMIFS(RES!$F$6:$F$3006,RES!$O$6:$O$3006,'RC'!E$5,RES!$I$6:$I$3006,'RC'!$C86)","v":0},{"$f":"SUMIFS(RES!$F$6:$F$3006,RES!$O$6:$O$3006,'RC'!F$5,RES!$I$6:$I$3006,'RC'!$C86)","v":0},{"$f":"SUMIFS(RES!$F$6:$F$3006,RES!$O$6:$O$3006,'RC'!G$5,RES!$I$6:$I$3006,'RC'!$C86)","v":0},{"$f":"SUMIFS(RES!$F$6:$F$3006,RES!$O$6:$O$3006,'RC'!H$5,RES!$I$6:$I$3006,'RC'!$C86)","v":0},{"$f":"SUMIFS(RES!$F$6:$F$3006,RES!$O$6:$O$3006,'RC'!I$5,RES!$I$6:$I$3006,'RC'!$C86)","v":0},{"$f":"SUMIFS(RES!$F$6:$F$3006,RES!$O$6:$O$3006,'RC'!J$5,RES!$I$6:$I$3006,'RC'!$C86)","v":0},{"$f":"SUMIFS(RES!$F$6:$F$3006,RES!$O$6:$O$3006,'RC'!K$5,RES!$I$6:$I$3006,'RC'!$C86)","v":0},{"$f":"SUMIFS(RES!$F$6:$F$3006,RES!$O$6:$O$3006,'RC'!L$5,RES!$I$6:$I$3006,'RC'!$C86)","v":0},{"$f":"SUMIFS(RES!$F$6:$F$3006,RES!$O$6:$O$3006,'RC'!M$5,RES!$I$6:$I$3006,'RC'!$C86)","v":0},{"$f":"SUMIFS(RES!$F$6:$F$3006,RES!$O$6:$O$3006,'RC'!N$5,RES!$I$6:$I$3006,'RC'!$C86)","v":0},{"$f":"SUMIFS(RES!$F$6:$F$3006,RES!$O$6:$O$3006,'RC'!O$5,RES!$I$6:$I$3006,'RC'!$C86)","v":0}]
[null,null,{"$f":"CAD_Q!C86","v":81},{"$f":"SUMIFS(RES!$F$6:$F$3006,RES!$O$6:$O$3006,'RC'!D$5,RES!$I$6:$I$3006,'RC'!$C87)","v":0},{"$f":"SUMIFS(RES!$F$6:$F$3006,RES!$O$6:$O$3006,'RC'!E$5,RES!$I$6:$I$3006,'RC'!$C87)","v":0},{"$f":"SUMIFS(RES!$F$6:$F$3006,RES!$O$6:$O$3006,'RC'!F$5,RES!$I$6:$I$3006,'RC'!$C87)","v":0},{"$f":"SUMIFS(RES!$F$6:$F$3006,RES!$O$6:$O$3006,'RC'!G$5,RES!$I$6:$I$3006,'RC'!$C87)","v":0},{"$f":"SUMIFS(RES!$F$6:$F$3006,RES!$O$6:$O$3006,'RC'!H$5,RES!$I$6:$I$3006,'RC'!$C87)","v":0},{"$f":"SUMIFS(RES!$F$6:$F$3006,RES!$O$6:$O$3006,'RC'!I$5,RES!$I$6:$I$3006,'RC'!$C87)","v":0},{"$f":"SUMIFS(RES!$F$6:$F$3006,RES!$O$6:$O$3006,'RC'!J$5,RES!$I$6:$I$3006,'RC'!$C87)","v":0},{"$f":"SUMIFS(RES!$F$6:$F$3006,RES!$O$6:$O$3006,'RC'!K$5,RES!$I$6:$I$3006,'RC'!$C87)","v":0},{"$f":"SUMIFS(RES!$F$6:$F$3006,RES!$O$6:$O$3006,'RC'!L$5,RES!$I$6:$I$3006,'RC'!$C87)","v":0},{"$f":"SUMIFS(RES!$F$6:$F$3006,RES!$O$6:$O$3006,'RC'!M$5,RES!$I$6:$I$3006,'RC'!$C87)","v":0},{"$f":"SUMIFS(RES!$F$6:$F$3006,RES!$O$6:$O$3006,'RC'!N$5,RES!$I$6:$I$3006,'RC'!$C87)","v":0},{"$f":"SUMIFS(RES!$F$6:$F$3006,RES!$O$6:$O$3006,'RC'!O$5,RES!$I$6:$I$3006,'RC'!$C87)","v":0}]
[null,null,{"$f":"CAD_Q!C87","v":82},{"$f":"SUMIFS(RES!$F$6:$F$3006,RES!$O$6:$O$3006,'RC'!D$5,RES!$I$6:$I$3006,'RC'!$C88)","v":0},{"$f":"SUMIFS(RES!$F$6:$F$3006,RES!$O$6:$O$3006,'RC'!E$5,RES!$I$6:$I$3006,'RC'!$C88)","v":0},{"$f":"SUMIFS(RES!$F$6:$F$3006,RES!$O$6:$O$3006,'RC'!F$5,RES!$I$6:$I$3006,'RC'!$C88)","v":0},{"$f":"SUMIFS(RES!$F$6:$F$3006,RES!$O$6:$O$3006,'RC'!G$5,RES!$I$6:$I$3006,'RC'!$C88)","v":0},{"$f":"SUMIFS(RES!$F$6:$F$3006,RES!$O$6:$O$3006,'RC'!H$5,RES!$I$6:$I$3006,'RC'!$C88)","v":0},{"$f":"SUMIFS(RES!$F$6:$F$3006,RES!$O$6:$O$3006,'RC'!I$5,RES!$I$6:$I$3006,'RC'!$C88)","v":0},{"$f":"SUMIFS(RES!$F$6:$F$3006,RES!$O$6:$O$3006,'RC'!J$5,RES!$I$6:$I$3006,'RC'!$C88)","v":0},{"$f":"SUMIFS(RES!$F$6:$F$3006,RES!$O$6:$O$3006,'RC'!K$5,RES!$I$6:$I$3006,'RC'!$C88)","v":0},{"$f":"SUMIFS(RES!$F$6:$F$3006,RES!$O$6:$O$3006,'RC'!L$5,RES!$I$6:$I$3006,'RC'!$C88)","v":0},{"$f":"SUMIFS(RES!$F$6:$F$3006,RES!$O$6:$O$3006,'RC'!M$5,RES!$I$6:$I$3006,'RC'!$C88)","v":0},{"$f":"SUMIFS(RES!$F$6:$F$3006,RES!$O$6:$O$3006,'RC'!N$5,RES!$I$6:$I$3006,'RC'!$C88)","v":0},{"$f":"SUMIFS(RES!$F$6:$F$3006,RES!$O$6:$O$3006,'RC'!O$5,RES!$I$6:$I$3006,'RC'!$C88)","v":0}]
[null,null,{"$f":"CAD_Q!C88","v":83},{"$f":"SUMIFS(RES!$F$6:$F$3006,RES!$O$6:$O$3006,'RC'!D$5,RES!$I$6:$I$3006,'RC'!$C89)","v":0},{"$f":"SUMIFS(RES!$F$6:$F$3006,RES!$O$6:$O$3006,'RC'!E$5,RES!$I$6:$I$3006,'RC'!$C89)","v":0},{"$f":"SUMIFS(RES!$F$6:$F$3006,RES!$O$6:$O$3006,'RC'!F$5,RES!$I$6:$I$3006,'RC'!$C89)","v":0},{"$f":"SUMIFS(RES!$F$6:$F$3006,RES!$O$6:$O$3006,'RC'!G$5,RES!$I$6:$I$3006,'RC'!$C89)","v":0},{"$f":"SUMIFS(RES!$F$6:$F$3006,RES!$O$6:$O$3006,'RC'!H$5,RES!$I$6:$I$3006,'RC'!$C89)","v":0},{"$f":"SUMIFS(RES!$F$6:$F$3006,RES!$O$6:$O$3006,'RC'!I$5,RES!$I$6:$I$3006,'RC'!$C89)","v":0},{"$f":"SUMIFS(RES!$F$6:$F$3006,RES!$O$6:$O$3006,'RC'!J$5,RES!$I$6:$I$3006,'RC'!$C89)","v":0},{"$f":"SUMIFS(RES!$F$6:$F$3006,RES!$O$6:$O$3006,'RC'!K$5,RES!$I$6:$I$3006,'RC'!$C89)","v":0},{"$f":"SUMIFS(RES!$F$6:$F$3006,RES!$O$6:$O$3006,'RC'!L$5,RES!$I$6:$I$3006,'RC'!$C89)","v":0},{"$f":"SUMIFS(RES!$F$6:$F$3006,RES!$O$6:$O$3006,'RC'!M$5,RES!$I$6:$I$3006,'RC'!$C89)","v":0},{"$f":"SUMIFS(RES!$F$6:$F$3006,RES!$O$6:$O$3006,'RC'!N$5,RES!$I$6:$I$3006,'RC'!$C89)","v":0},{"$f":"SUMIFS(RES!$F$6:$F$3006,RES!$O$6:$O$3006,'RC'!O$5,RES!$I$6:$I$3006,'RC'!$C89)","v":0}]
[null,null,{"$f":"CAD_Q!C89","v":84},{"$f":"SUMIFS(RES!$F$6:$F$3006,RES!$O$6:$O$3006,'RC'!D$5,RES!$I$6:$I$3006,'RC'!$C90)","v":0},{"$f":"SUMIFS(RES!$F$6:$F$3006,RES!$O$6:$O$3006,'RC'!E$5,RES!$I$6:$I$3006,'RC'!$C90)","v":0},{"$f":"SUMIFS(RES!$F$6:$F$3006,RES!$O$6:$O$3006,'RC'!F$5,RES!$I$6:$I$3006,'RC'!$C90)","v":0},{"$f":"SUMIFS(RES!$F$6:$F$3006,RES!$O$6:$O$3006,'RC'!G$5,RES!$I$6:$I$3006,'RC'!$C90)","v":0},{"$f":"SUMIFS(RES!$F$6:$F$3006,RES!$O$6:$O$3006,'RC'!H$5,RES!$I$6:$I$3006,'RC'!$C90)","v":0},{"$f":"SUMIFS(RES!$F$6:$F$3006,RES!$O$6:$O$3006,'RC'!I$5,RES!$I$6:$I$3006,'RC'!$C90)","v":0},{"$f":"SUMIFS(RES!$F$6:$F$3006,RES!$O$6:$O$3006,'RC'!J$5,RES!$I$6:$I$3006,'RC'!$C90)","v":0},{"$f":"SUMIFS(RES!$F$6:$F$3006,RES!$O$6:$O$3006,'RC'!K$5,RES!$I$6:$I$3006,'RC'!$C90)","v":0},{"$f":"SUMIFS(RES!$F$6:$F$3006,RES!$O$6:$O$3006,'RC'!L$5,RES!$I$6:$I$3006,'RC'!$C90)","v":0},{"$f":"SUMIFS(RES!$F$6:$F$3006,RES!$O$6:$O$3006,'RC'!M$5,RES!$I$6:$I$3006,'RC'!$C90)","v":0},{"$f":"SUMIFS(RES!$F$6:$F$3006,RES!$O$6:$O$3006,'RC'!N$5,RES!$I$6:$I$3006,'RC'!$C90)","v":0},{"$f":"SUMIFS(RES!$F$6:$F$3006,RES!$O$6:$O$3006,'RC'!O$5,RES!$I$6:$I$3006,'RC'!$C90)","v":0}]
[null,null,{"$f":"CAD_Q!C90","v":85},{"$f":"SUMIFS(RES!$F$6:$F$3006,RES!$O$6:$O$3006,'RC'!D$5,RES!$I$6:$I$3006,'RC'!$C91)","v":0},{"$f":"SUMIFS(RES!$F$6:$F$3006,RES!$O$6:$O$3006,'RC'!E$5,RES!$I$6:$I$3006,'RC'!$C91)","v":0},{"$f":"SUMIFS(RES!$F$6:$F$3006,RES!$O$6:$O$3006,'RC'!F$5,RES!$I$6:$I$3006,'RC'!$C91)","v":0},{"$f":"SUMIFS(RES!$F$6:$F$3006,RES!$O$6:$O$3006,'RC'!G$5,RES!$I$6:$I$3006,'RC'!$C91)","v":0},{"$f":"SUMIFS(RES!$F$6:$F$3006,RES!$O$6:$O$3006,'RC'!H$5,RES!$I$6:$I$3006,'RC'!$C91)","v":0},{"$f":"SUMIFS(RES!$F$6:$F$3006,RES!$O$6:$O$3006,'RC'!I$5,RES!$I$6:$I$3006,'RC'!$C91)","v":0},{"$f":"SUMIFS(RES!$F$6:$F$3006,RES!$O$6:$O$3006,'RC'!J$5,RES!$I$6:$I$3006,'RC'!$C91)","v":0},{"$f":"SUMIFS(RES!$F$6:$F$3006,RES!$O$6:$O$3006,'RC'!K$5,RES!$I$6:$I$3006,'RC'!$C91)","v":0},{"$f":"SUMIFS(RES!$F$6:$F$3006,RES!$O$6:$O$3006,'RC'!L$5,RES!$I$6:$I$3006,'RC'!$C91)","v":0},{"$f":"SUMIFS(RES!$F$6:$F$3006,RES!$O$6:$O$3006,'RC'!M$5,RES!$I$6:$I$3006,'RC'!$C91)","v":0},{"$f":"SUMIFS(RES!$F$6:$F$3006,RES!$O$6:$O$3006,'RC'!N$5,RES!$I$6:$I$3006,'RC'!$C91)","v":0},{"$f":"SUMIFS(RES!$F$6:$F$3006,RES!$O$6:$O$3006,'RC'!O$5,RES!$I$6:$I$3006,'RC'!$C91)","v":0}]
[null,null,{"$f":"CAD_Q!C91","v":86},{"$f":"SUMIFS(RES!$F$6:$F$3006,RES!$O$6:$O$3006,'RC'!D$5,RES!$I$6:$I$3006,'RC'!$C92)","v":0},{"$f":"SUMIFS(RES!$F$6:$F$3006,RES!$O$6:$O$3006,'RC'!E$5,RES!$I$6:$I$3006,'RC'!$C92)","v":0},{"$f":"SUMIFS(RES!$F$6:$F$3006,RES!$O$6:$O$3006,'RC'!F$5,RES!$I$6:$I$3006,'RC'!$C92)","v":0},{"$f":"SUMIFS(RES!$F$6:$F$3006,RES!$O$6:$O$3006,'RC'!G$5,RES!$I$6:$I$3006,'RC'!$C92)","v":0},{"$f":"SUMIFS(RES!$F$6:$F$3006,RES!$O$6:$O$3006,'RC'!H$5,RES!$I$6:$I$3006,'RC'!$C92)","v":0},{"$f":"SUMIFS(RES!$F$6:$F$3006,RES!$O$6:$O$3006,'RC'!I$5,RES!$I$6:$I$3006,'RC'!$C92)","v":0},{"$f":"SUMIFS(RES!$F$6:$F$3006,RES!$O$6:$O$3006,'RC'!J$5,RES!$I$6:$I$3006,'RC'!$C92)","v":0},{"$f":"SUMIFS(RES!$F$6:$F$3006,RES!$O$6:$O$3006,'RC'!K$5,RES!$I$6:$I$3006,'RC'!$C92)","v":0},{"$f":"SUMIFS(RES!$F$6:$F$3006,RES!$O$6:$O$3006,'RC'!L$5,RES!$I$6:$I$3006,'RC'!$C92)","v":0},{"$f":"SUMIFS(RES!$F$6:$F$3006,RES!$O$6:$O$3006,'RC'!M$5,RES!$I$6:$I$3006,'RC'!$C92)","v":0},{"$f":"SUMIFS(RES!$F$6:$F$3006,RES!$O$6:$O$3006,'RC'!N$5,RES!$I$6:$I$3006,'RC'!$C92)","v":0},{"$f":"SUMIFS(RES!$F$6:$F$3006,RES!$O$6:$O$3006,'RC'!O$5,RES!$I$6:$I$3006,'RC'!$C92)","v":0}]
[null,null,{"$f":"CAD_Q!C92","v":87},{"$f":"SUMIFS(RES!$F$6:$F$3006,RES!$O$6:$O$3006,'RC'!D$5,RES!$I$6:$I$3006,'RC'!$C93)","v":0},{"$f":"SUMIFS(RES!$F$6:$F$3006,RES!$O$6:$O$3006,'RC'!E$5,RES!$I$6:$I$3006,'RC'!$C93)","v":0},{"$f":"SUMIFS(RES!$F$6:$F$3006,RES!$O$6:$O$3006,'RC'!F$5,RES!$I$6:$I$3006,'RC'!$C93)","v":0},{"$f":"SUMIFS(RES!$F$6:$F$3006,RES!$O$6:$O$3006,'RC'!G$5,RES!$I$6:$I$3006,'RC'!$C93)","v":0},{"$f":"SUMIFS(RES!$F$6:$F$3006,RES!$O$6:$O$3006,'RC'!H$5,RES!$I$6:$I$3006,'RC'!$C93)","v":0},{"$f":"SUMIFS(RES!$F$6:$F$3006,RES!$O$6:$O$3006,'RC'!I$5,RES!$I$6:$I$3006,'RC'!$C93)","v":0},{"$f":"SUMIFS(RES!$F$6:$F$3006,RES!$O$6:$O$3006,'RC'!J$5,RES!$I$6:$I$3006,'RC'!$C93)","v":0},{"$f":"SUMIFS(RES!$F$6:$F$3006,RES!$O$6:$O$3006,'RC'!K$5,RES!$I$6:$I$3006,'RC'!$C93)","v":0},{"$f":"SUMIFS(RES!$F$6:$F$3006,RES!$O$6:$O$3006,'RC'!L$5,RES!$I$6:$I$3006,'RC'!$C93)","v":0},{"$f":"SUMIFS(RES!$F$6:$F$3006,RES!$O$6:$O$3006,'RC'!M$5,RES!$I$6:$I$3006,'RC'!$C93)","v":0},{"$f":"SUMIFS(RES!$F$6:$F$3006,RES!$O$6:$O$3006,'RC'!N$5,RES!$I$6:$I$3006,'RC'!$C93)","v":0},{"$f":"SUMIFS(RES!$F$6:$F$3006,RES!$O$6:$O$3006,'RC'!O$5,RES!$I$6:$I$3006,'RC'!$C93)","v":0}]
[null,null,{"$f":"CAD_Q!C93","v":88},{"$f":"SUMIFS(RES!$F$6:$F$3006,RES!$O$6:$O$3006,'RC'!D$5,RES!$I$6:$I$3006,'RC'!$C94)","v":0},{"$f":"SUMIFS(RES!$F$6:$F$3006,RES!$O$6:$O$3006,'RC'!E$5,RES!$I$6:$I$3006,'RC'!$C94)","v":0},{"$f":"SUMIFS(RES!$F$6:$F$3006,RES!$O$6:$O$3006,'RC'!F$5,RES!$I$6:$I$3006,'RC'!$C94)","v":0},{"$f":"SUMIFS(RES!$F$6:$F$3006,RES!$O$6:$O$3006,'RC'!G$5,RES!$I$6:$I$3006,'RC'!$C94)","v":0},{"$f":"SUMIFS(RES!$F$6:$F$3006,RES!$O$6:$O$3006,'RC'!H$5,RES!$I$6:$I$3006,'RC'!$C94)","v":0},{"$f":"SUMIFS(RES!$F$6:$F$3006,RES!$O$6:$O$3006,'RC'!I$5,RES!$I$6:$I$3006,'RC'!$C94)","v":0},{"$f":"SUMIFS(RES!$F$6:$F$3006,RES!$O$6:$O$3006,'RC'!J$5,RES!$I$6:$I$3006,'RC'!$C94)","v":0},{"$f":"SUMIFS(RES!$F$6:$F$3006,RES!$O$6:$O$3006,'RC'!K$5,RES!$I$6:$I$3006,'RC'!$C94)","v":0},{"$f":"SUMIFS(RES!$F$6:$F$3006,RES!$O$6:$O$3006,'RC'!L$5,RES!$I$6:$I$3006,'RC'!$C94)","v":0},{"$f":"SUMIFS(RES!$F$6:$F$3006,RES!$O$6:$O$3006,'RC'!M$5,RES!$I$6:$I$3006,'RC'!$C94)","v":0},{"$f":"SUMIFS(RES!$F$6:$F$3006,RES!$O$6:$O$3006,'RC'!N$5,RES!$I$6:$I$3006,'RC'!$C94)","v":0},{"$f":"SUMIFS(RES!$F$6:$F$3006,RES!$O$6:$O$3006,'RC'!O$5,RES!$I$6:$I$3006,'RC'!$C94)","v":0}]
[null,null,{"$f":"CAD_Q!C94","v":89},{"$f":"SUMIFS(RES!$F$6:$F$3006,RES!$O$6:$O$3006,'RC'!D$5,RES!$I$6:$I$3006,'RC'!$C95)","v":0},{"$f":"SUMIFS(RES!$F$6:$F$3006,RES!$O$6:$O$3006,'RC'!E$5,RES!$I$6:$I$3006,'RC'!$C95)","v":0},{"$f":"SUMIFS(RES!$F$6:$F$3006,RES!$O$6:$O$3006,'RC'!F$5,RES!$I$6:$I$3006,'RC'!$C95)","v":0},{"$f":"SUMIFS(RES!$F$6:$F$3006,RES!$O$6:$O$3006,'RC'!G$5,RES!$I$6:$I$3006,'RC'!$C95)","v":0},{"$f":"SUMIFS(RES!$F$6:$F$3006,RES!$O$6:$O$3006,'RC'!H$5,RES!$I$6:$I$3006,'RC'!$C95)","v":0},{"$f":"SUMIFS(RES!$F$6:$F$3006,RES!$O$6:$O$3006,'RC'!I$5,RES!$I$6:$I$3006,'RC'!$C95)","v":0},{"$f":"SUMIFS(RES!$F$6:$F$3006,RES!$O$6:$O$3006,'RC'!J$5,RES!$I$6:$I$3006,'RC'!$C95)","v":0},{"$f":"SUMIFS(RES!$F$6:$F$3006,RES!$O$6:$O$3006,'RC'!K$5,RES!$I$6:$I$3006,'RC'!$C95)","v":0},{"$f":"SUMIFS(RES!$F$6:$F$3006,RES!$O$6:$O$3006,'RC'!L$5,RES!$I$6:$I$3006,'RC'!$C95)","v":0},{"$f":"SUMIFS(RES!$F$6:$F$3006,RES!$O$6:$O$3006,'RC'!M$5,RES!$I$6:$I$3006,'RC'!$C95)","v":0},{"$f":"SUMIFS(RES!$F$6:$F$3006,RES!$O$6:$O$3006,'RC'!N$5,RES!$I$6:$I$3006,'RC'!$C95)","v":0},{"$f":"SUMIFS(RES!$F$6:$F$3006,RES!$O$6:$O$3006,'RC'!O$5,RES!$I$6:$I$3006,'RC'!$C95)","v":0}]
[null,null,{"$f":"CAD_Q!C95","v":90},{"$f":"SUMIFS(RES!$F$6:$F$3006,RES!$O$6:$O$3006,'RC'!D$5,RES!$I$6:$I$3006,'RC'!$C96)","v":0},{"$f":"SUMIFS(RES!$F$6:$F$3006,RES!$O$6:$O$3006,'RC'!E$5,RES!$I$6:$I$3006,'RC'!$C96)","v":0},{"$f":"SUMIFS(RES!$F$6:$F$3006,RES!$O$6:$O$3006,'RC'!F$5,RES!$I$6:$I$3006,'RC'!$C96)","v":0},{"$f":"SUMIFS(RES!$F$6:$F$3006,RES!$O$6:$O$3006,'RC'!G$5,RES!$I$6:$I$3006,'RC'!$C96)","v":0},{"$f":"SUMIFS(RES!$F$6:$F$3006,RES!$O$6:$O$3006,'RC'!H$5,RES!$I$6:$I$3006,'RC'!$C96)","v":0},{"$f":"SUMIFS(RES!$F$6:$F$3006,RES!$O$6:$O$3006,'RC'!I$5,RES!$I$6:$I$3006,'RC'!$C96)","v":0},{"$f":"SUMIFS(RES!$F$6:$F$3006,RES!$O$6:$O$3006,'RC'!J$5,RES!$I$6:$I$3006,'RC'!$C96)","v":0},{"$f":"SUMIFS(RES!$F$6:$F$3006,RES!$O$6:$O$3006,'RC'!K$5,RES!$I$6:$I$3006,'RC'!$C96)","v":0},{"$f":"SUMIFS(RES!$F$6:$F$3006,RES!$O$6:$O$3006,'RC'!L$5,RES!$I$6:$I$3006,'RC'!$C96)","v":0},{"$f":"SUMIFS(RES!$F$6:$F$3006,RES!$O$6:$O$3006,'RC'!M$5,RES!$I$6:$I$3006,'RC'!$C96)","v":0},{"$f":"SUMIFS(RES!$F$6:$F$3006,RES!$O$6:$O$3006,'RC'!N$5,RES!$I$6:$I$3006,'RC'!$C96)","v":0},{"$f":"SUMIFS(RES!$F$6:$F$3006,RES!$O$6:$O$3006,'RC'!O$5,RES!$I$6:$I$3006,'RC'!$C96)","v":0}]
[null,null,{"$f":"CAD_Q!C96","v":91},{"$f":"SUMIFS(RES!$F$6:$F$3006,RES!$O$6:$O$3006,'RC'!D$5,RES!$I$6:$I$3006,'RC'!$C97)","v":0},{"$f":"SUMIFS(RES!$F$6:$F$3006,RES!$O$6:$O$3006,'RC'!E$5,RES!$I$6:$I$3006,'RC'!$C97)","v":0},{"$f":"SUMIFS(RES!$F$6:$F$3006,RES!$O$6:$O$3006,'RC'!F$5,RES!$I$6:$I$3006,'RC'!$C97)","v":0},{"$f":"SUMIFS(RES!$F$6:$F$3006,RES!$O$6:$O$3006,'RC'!G$5,RES!$I$6:$I$3006,'RC'!$C97)","v":0},{"$f":"SUMIFS(RES!$F$6:$F$3006,RES!$O$6:$O$3006,'RC'!H$5,RES!$I$6:$I$3006,'RC'!$C97)","v":0},{"$f":"SUMIFS(RES!$F$6:$F$3006,RES!$O$6:$O$3006,'RC'!I$5,RES!$I$6:$I$3006,'RC'!$C97)","v":0},{"$f":"SUMIFS(RES!$F$6:$F$3006,RES!$O$6:$O$3006,'RC'!J$5,RES!$I$6:$I$3006,'RC'!$C97)","v":0},{"$f":"SUMIFS(RES!$F$6:$F$3006,RES!$O$6:$O$3006,'RC'!K$5,RES!$I$6:$I$3006,'RC'!$C97)","v":0},{"$f":"SUMIFS(RES!$F$6:$F$3006,RES!$O$6:$O$3006,'RC'!L$5,RES!$I$6:$I$3006,'RC'!$C97)","v":0},{"$f":"SUMIFS(RES!$F$6:$F$3006,RES!$O$6:$O$3006,'RC'!M$5,RES!$I$6:$I$3006,'RC'!$C97)","v":0},{"$f":"SUMIFS(RES!$F$6:$F$3006,RES!$O$6:$O$3006,'RC'!N$5,RES!$I$6:$I$3006,'RC'!$C97)","v":0},{"$f":"SUMIFS(RES!$F$6:$F$3006,RES!$O$6:$O$3006,'RC'!O$5,RES!$I$6:$I$3006,'RC'!$C97)","v":0}]
[null,null,{"$f":"CAD_Q!C97","v":92},{"$f":"SUMIFS(RES!$F$6:$F$3006,RES!$O$6:$O$3006,'RC'!D$5,RES!$I$6:$I$3006,'RC'!$C98)","v":0},{"$f":"SUMIFS(RES!$F$6:$F$3006,RES!$O$6:$O$3006,'RC'!E$5,RES!$I$6:$I$3006,'RC'!$C98)","v":0},{"$f":"SUMIFS(RES!$F$6:$F$3006,RES!$O$6:$O$3006,'RC'!F$5,RES!$I$6:$I$3006,'RC'!$C98)","v":0},{"$f":"SUMIFS(RES!$F$6:$F$3006,RES!$O$6:$O$3006,'RC'!G$5,RES!$I$6:$I$3006,'RC'!$C98)","v":0},{"$f":"SUMIFS(RES!$F$6:$F$3006,RES!$O$6:$O$3006,'RC'!H$5,RES!$I$6:$I$3006,'RC'!$C98)","v":0},{"$f":"SUMIFS(RES!$F$6:$F$3006,RES!$O$6:$O$3006,'RC'!I$5,RES!$I$6:$I$3006,'RC'!$C98)","v":0},{"$f":"SUMIFS(RES!$F$6:$F$3006,RES!$O$6:$O$3006,'RC'!J$5,RES!$I$6:$I$3006,'RC'!$C98)","v":0},{"$f":"SUMIFS(RES!$F$6:$F$3006,RES!$O$6:$O$3006,'RC'!K$5,RES!$I$6:$I$3006,'RC'!$C98)","v":0},{"$f":"SUMIFS(RES!$F$6:$F$3006,RES!$O$6:$O$3006,'RC'!L$5,RES!$I$6:$I$3006,'RC'!$C98)","v":0},{"$f":"SUMIFS(RES!$F$6:$F$3006,RES!$O$6:$O$3006,'RC'!M$5,RES!$I$6:$I$3006,'RC'!$C98)","v":0},{"$f":"SUMIFS(RES!$F$6:$F$3006,RES!$O$6:$O$3006,'RC'!N$5,RES!$I$6:$I$3006,'RC'!$C98)","v":0},{"$f":"SUMIFS(RES!$F$6:$F$3006,RES!$O$6:$O$3006,'RC'!O$5,RES!$I$6:$I$3006,'RC'!$C98)","v":0}]
[null,null,{"$f":"CAD_Q!C98","v":93},{"$f":"SUMIFS(RES!$F$6:$F$3006,RES!$O$6:$O$3006,'RC'!D$5,RES!$I$6:$I$3006,'RC'!$C99)","v":0},{"$f":"SUMIFS(RES!$F$6:$F$3006,RES!$O$6:$O$3006,'RC'!E$5,RES!$I$6:$I$3006,'RC'!$C99)","v":0},{"$f":"SUMIFS(RES!$F$6:$F$3006,RES!$O$6:$O$3006,'RC'!F$5,RES!$I$6:$I$3006,'RC'!$C99)","v":0},{"$f":"SUMIFS(RES!$F$6:$F$3006,RES!$O$6:$O$3006,'RC'!G$5,RES!$I$6:$I$3006,'RC'!$C99)","v":0},{"$f":"SUMIFS(RES!$F$6:$F$3006,RES!$O$6:$O$3006,'RC'!H$5,RES!$I$6:$I$3006,'RC'!$C99)","v":0},{"$f":"SUMIFS(RES!$F$6:$F$3006,RES!$O$6:$O$3006,'RC'!I$5,RES!$I$6:$I$3006,'RC'!$C99)","v":0},{"$f":"SUMIFS(RES!$F$6:$F$3006,RES!$O$6:$O$3006,'RC'!J$5,RES!$I$6:$I$3006,'RC'!$C99)","v":0},{"$f":"SUMIFS(RES!$F$6:$F$3006,RES!$O$6:$O$3006,'RC'!K$5,RES!$I$6:$I$3006,'RC'!$C99)","v":0},{"$f":"SUMIFS(RES!$F$6:$F$3006,RES!$O$6:$O$3006,'RC'!L$5,RES!$I$6:$I$3006,'RC'!$C99)","v":0},{"$f":"SUMIFS(RES!$F$6:$F$3006,RES!$O$6:$O$3006,'RC'!M$5,RES!$I$6:$I$3006,'RC'!$C99)","v":0},{"$f":"SUMIFS(RES!$F$6:$F$3006,RES!$O$6:$O$3006,'RC'!N$5,RES!$I$6:$I$3006,'RC'!$C99)","v":0},{"$f":"SUMIFS(RES!$F$6:$F$3006,RES!$O$6:$O$3006,'RC'!O$5,RES!$I$6:$I$3006,'RC'!$C99)","v":0}]
[null,null,{"$f":"CAD_Q!C99","v":94},{"$f":"SUMIFS(RES!$F$6:$F$3006,RES!$O$6:$O$3006,'RC'!D$5,RES!$I$6:$I$3006,'RC'!$C100)","v":0},{"$f":"SUMIFS(RES!$F$6:$F$3006,RES!$O$6:$O$3006,'RC'!E$5,RES!$I$6:$I$3006,'RC'!$C100)","v":0},{"$f":"SUMIFS(RES!$F$6:$F$3006,RES!$O$6:$O$3006,'RC'!F$5,RES!$I$6:$I$3006,'RC'!$C100)","v":0},{"$f":"SUMIFS(RES!$F$6:$F$3006,RES!$O$6:$O$3006,'RC'!G$5,RES!$I$6:$I$3006,'RC'!$C100)","v":0},{"$f":"SUMIFS(RES!$F$6:$F$3006,RES!$O$6:$O$3006,'RC'!H$5,RES!$I$6:$I$3006,'RC'!$C100)","v":0},{"$f":"SUMIFS(RES!$F$6:$F$3006,RES!$O$6:$O$3006,'RC'!I$5,RES!$I$6:$I$3006,'RC'!$C100)","v":0},{"$f":"SUMIFS(RES!$F$6:$F$3006,RES!$O$6:$O$3006,'RC'!J$5,RES!$I$6:$I$3006,'RC'!$C100)","v":0},{"$f":"SUMIFS(RES!$F$6:$F$3006,RES!$O$6:$O$3006,'RC'!K$5,RES!$I$6:$I$3006,'RC'!$C100)","v":0},{"$f":"SUMIFS(RES!$F$6:$F$3006,RES!$O$6:$O$3006,'RC'!L$5,RES!$I$6:$I$3006,'RC'!$C100)","v":0},{"$f":"SUMIFS(RES!$F$6:$F$3006,RES!$O$6:$O$3006,'RC'!M$5,RES!$I$6:$I$3006,'RC'!$C100)","v":0},{"$f":"SUMIFS(RES!$F$6:$F$3006,RES!$O$6:$O$3006,'RC'!N$5,RES!$I$6:$I$3006,'RC'!$C100)","v":0},{"$f":"SUMIFS(RES!$F$6:$F$3006,RES!$O$6:$O$3006,'RC'!O$5,RES!$I$6:$I$3006,'RC'!$C100)","v":0}]
[null,null,{"$f":"CAD_Q!C100","v":95},{"$f":"SUMIFS(RES!$F$6:$F$3006,RES!$O$6:$O$3006,'RC'!D$5,RES!$I$6:$I$3006,'RC'!$C101)","v":0},{"$f":"SUMIFS(RES!$F$6:$F$3006,RES!$O$6:$O$3006,'RC'!E$5,RES!$I$6:$I$3006,'RC'!$C101)","v":0},{"$f":"SUMIFS(RES!$F$6:$F$3006,RES!$O$6:$O$3006,'RC'!F$5,RES!$I$6:$I$3006,'RC'!$C101)","v":0},{"$f":"SUMIFS(RES!$F$6:$F$3006,RES!$O$6:$O$3006,'RC'!G$5,RES!$I$6:$I$3006,'RC'!$C101)","v":0},{"$f":"SUMIFS(RES!$F$6:$F$3006,RES!$O$6:$O$3006,'RC'!H$5,RES!$I$6:$I$3006,'RC'!$C101)","v":0},{"$f":"SUMIFS(RES!$F$6:$F$3006,RES!$O$6:$O$3006,'RC'!I$5,RES!$I$6:$I$3006,'RC'!$C101)","v":0},{"$f":"SUMIFS(RES!$F$6:$F$3006,RES!$O$6:$O$3006,'RC'!J$5,RES!$I$6:$I$3006,'RC'!$C101)","v":0},{"$f":"SUMIFS(RES!$F$6:$F$3006,RES!$O$6:$O$3006,'RC'!K$5,RES!$I$6:$I$3006,'RC'!$C101)","v":0},{"$f":"SUMIFS(RES!$F$6:$F$3006,RES!$O$6:$O$3006,'RC'!L$5,RES!$I$6:$I$3006,'RC'!$C101)","v":0},{"$f":"SUMIFS(RES!$F$6:$F$3006,RES!$O$6:$O$3006,'RC'!M$5,RES!$I$6:$I$3006,'RC'!$C101)","v":0},{"$f":"SUMIFS(RES!$F$6:$F$3006,RES!$O$6:$O$3006,'RC'!N$5,RES!$I$6:$I$3006,'RC'!$C101)","v":0},{"$f":"SUMIFS(RES!$F$6:$F$3006,RES!$O$6:$O$3006,'RC'!O$5,RES!$I$6:$I$3006,'RC'!$C101)","v":0}]
[null,null,{"$f":"CAD_Q!C101","v":96},{"$f":"SUMIFS(RES!$F$6:$F$3006,RES!$O$6:$O$3006,'RC'!D$5,RES!$I$6:$I$3006,'RC'!$C102)","v":0},{"$f":"SUMIFS(RES!$F$6:$F$3006,RES!$O$6:$O$3006,'RC'!E$5,RES!$I$6:$I$3006,'RC'!$C102)","v":0},{"$f":"SUMIFS(RES!$F$6:$F$3006,RES!$O$6:$O$3006,'RC'!F$5,RES!$I$6:$I$3006,'RC'!$C102)","v":0},{"$f":"SUMIFS(RES!$F$6:$F$3006,RES!$O$6:$O$3006,'RC'!G$5,RES!$I$6:$I$3006,'RC'!$C102)","v":0},{"$f":"SUMIFS(RES!$F$6:$F$3006,RES!$O$6:$O$3006,'RC'!H$5,RES!$I$6:$I$3006,'RC'!$C102)","v":0},{"$f":"SUMIFS(RES!$F$6:$F$3006,RES!$O$6:$O$3006,'RC'!I$5,RES!$I$6:$I$3006,'RC'!$C102)","v":0},{"$f":"SUMIFS(RES!$F$6:$F$3006,RES!$O$6:$O$3006,'RC'!J$5,RES!$I$6:$I$3006,'RC'!$C102)","v":0},{"$f":"SUMIFS(RES!$F$6:$F$3006,RES!$O$6:$O$3006,'RC'!K$5,RES!$I$6:$I$3006,'RC'!$C102)","v":0},{"$f":"SUMIFS(RES!$F$6:$F$3006,RES!$O$6:$O$3006,'RC'!L$5,RES!$I$6:$I$3006,'RC'!$C102)","v":0},{"$f":"SUMIFS(RES!$F$6:$F$3006,RES!$O$6:$O$3006,'RC'!M$5,RES!$I$6:$I$3006,'RC'!$C102)","v":0},{"$f":"SUMIFS(RES!$F$6:$F$3006,RES!$O$6:$O$3006,'RC'!N$5,RES!$I$6:$I$3006,'RC'!$C102)","v":0},{"$f":"SUMIFS(RES!$F$6:$F$3006,RES!$O$6:$O$3006,'RC'!O$5,RES!$I$6:$I$3006,'RC'!$C102)","v":0}]
[null,null,{"$f":"CAD_Q!C102","v":97},{"$f":"SUMIFS(RES!$F$6:$F$3006,RES!$O$6:$O$3006,'RC'!D$5,RES!$I$6:$I$3006,'RC'!$C103)","v":0},{"$f":"SUMIFS(RES!$F$6:$F$3006,RES!$O$6:$O$3006,'RC'!E$5,RES!$I$6:$I$3006,'RC'!$C103)","v":0},{"$f":"SUMIFS(RES!$F$6:$F$3006,RES!$O$6:$O$3006,'RC'!F$5,RES!$I$6:$I$3006,'RC'!$C103)","v":0},{"$f":"SUMIFS(RES!$F$6:$F$3006,RES!$O$6:$O$3006,'RC'!G$5,RES!$I$6:$I$3006,'RC'!$C103)","v":0},{"$f":"SUMIFS(RES!$F$6:$F$3006,RES!$O$6:$O$3006,'RC'!H$5,RES!$I$6:$I$3006,'RC'!$C103)","v":0},{"$f":"SUMIFS(RES!$F$6:$F$3006,RES!$O$6:$O$3006,'RC'!I$5,RES!$I$6:$I$3006,'RC'!$C103)","v":0},{"$f":"SUMIFS(RES!$F$6:$F$3006,RES!$O$6:$O$3006,'RC'!J$5,RES!$I$6:$I$3006,'RC'!$C103)","v":0},{"$f":"SUMIFS(RES!$F$6:$F$3006,RES!$O$6:$O$3006,'RC'!K$5,RES!$I$6:$I$3006,'RC'!$C103)","v":0},{"$f":"SUMIFS(RES!$F$6:$F$3006,RES!$O$6:$O$3006,'RC'!L$5,RES!$I$6:$I$3006,'RC'!$C103)","v":0},{"$f":"SUMIFS(RES!$F$6:$F$3006,RES!$O$6:$O$3006,'RC'!M$5,RES!$I$6:$I$3006,'RC'!$C103)","v":0},{"$f":"SUMIFS(RES!$F$6:$F$3006,RES!$O$6:$O$3006,'RC'!N$5,RES!$I$6:$I$3006,'RC'!$C103)","v":0},{"$f":"SUMIFS(RES!$F$6:$F$3006,RES!$O$6:$O$3006,'RC'!O$5,RES!$I$6:$I$3006,'RC'!$C103)","v":0}]
[null,null,{"$f":"CAD_Q!C103","v":98},{"$f":"SUMIFS(RES!$F$6:$F$3006,RES!$O$6:$O$3006,'RC'!D$5,RES!$I$6:$I$3006,'RC'!$C104)","v":0},{"$f":"SUMIFS(RES!$F$6:$F$3006,RES!$O$6:$O$3006,'RC'!E$5,RES!$I$6:$I$3006,'RC'!$C104)","v":0},{"$f":"SUMIFS(RES!$F$6:$F$3006,RES!$O$6:$O$3006,'RC'!F$5,RES!$I$6:$I$3006,'RC'!$C104)","v":0},{"$f":"SUMIFS(RES!$F$6:$F$3006,RES!$O$6:$O$3006,'RC'!G$5,RES!$I$6:$I$3006,'RC'!$C104)","v":0},{"$f":"SUMIFS(RES!$F$6:$F$3006,RES!$O$6:$O$3006,'RC'!H$5,RES!$I$6:$I$3006,'RC'!$C104)","v":0},{"$f":"SUMIFS(RES!$F$6:$F$3006,RES!$O$6:$O$3006,'RC'!I$5,RES!$I$6:$I$3006,'RC'!$C104)","v":0},{"$f":"SUMIFS(RES!$F$6:$F$3006,RES!$O$6:$O$3006,'RC'!J$5,RES!$I$6:$I$3006,'RC'!$C104)","v":0},{"$f":"SUMIFS(RES!$F$6:$F$3006,RES!$O$6:$O$3006,'RC'!K$5,RES!$I$6:$I$3006,'RC'!$C104)","v":0},{"$f":"SUMIFS(RES!$F$6:$F$3006,RES!$O$6:$O$3006,'RC'!L$5,RES!$I$6:$I$3006,'RC'!$C104)","v":0},{"$f":"SUMIFS(RES!$F$6:$F$3006,RES!$O$6:$O$3006,'RC'!M$5,RES!$I$6:$I$3006,'RC'!$C104)","v":0},{"$f":"SUMIFS(RES!$F$6:$F$3006,RES!$O$6:$O$3006,'RC'!N$5,RES!$I$6:$I$3006,'RC'!$C104)","v":0},{"$f":"SUMIFS(RES!$F$6:$F$3006,RES!$O$6:$O$3006,'RC'!O$5,RES!$I$6:$I$3006,'RC'!$C104)","v":0}]
[null,null,{"$f":"CAD_Q!C104","v":99},{"$f":"SUMIFS(RES!$F$6:$F$3006,RES!$O$6:$O$3006,'RC'!D$5,RES!$I$6:$I$3006,'RC'!$C105)","v":0},{"$f":"SUMIFS(RES!$F$6:$F$3006,RES!$O$6:$O$3006,'RC'!E$5,RES!$I$6:$I$3006,'RC'!$C105)","v":0},{"$f":"SUMIFS(RES!$F$6:$F$3006,RES!$O$6:$O$3006,'RC'!F$5,RES!$I$6:$I$3006,'RC'!$C105)","v":0},{"$f":"SUMIFS(RES!$F$6:$F$3006,RES!$O$6:$O$3006,'RC'!G$5,RES!$I$6:$I$3006,'RC'!$C105)","v":0},{"$f":"SUMIFS(RES!$F$6:$F$3006,RES!$O$6:$O$3006,'RC'!H$5,RES!$I$6:$I$3006,'RC'!$C105)","v":0},{"$f":"SUMIFS(RES!$F$6:$F$3006,RES!$O$6:$O$3006,'RC'!I$5,RES!$I$6:$I$3006,'RC'!$C105)","v":0},{"$f":"SUMIFS(RES!$F$6:$F$3006,RES!$O$6:$O$3006,'RC'!J$5,RES!$I$6:$I$3006,'RC'!$C105)","v":0},{"$f":"SUMIFS(RES!$F$6:$F$3006,RES!$O$6:$O$3006,'RC'!K$5,RES!$I$6:$I$3006,'RC'!$C105)","v":0},{"$f":"SUMIFS(RES!$F$6:$F$3006,RES!$O$6:$O$3006,'RC'!L$5,RES!$I$6:$I$3006,'RC'!$C105)","v":0},{"$f":"SUMIFS(RES!$F$6:$F$3006,RES!$O$6:$O$3006,'RC'!M$5,RES!$I$6:$I$3006,'RC'!$C105)","v":0},{"$f":"SUMIFS(RES!$F$6:$F$3006,RES!$O$6:$O$3006,'RC'!N$5,RES!$I$6:$I$3006,'RC'!$C105)","v":0},{"$f":"SUMIFS(RES!$F$6:$F$3006,RES!$O$6:$O$3006,'RC'!O$5,RES!$I$6:$I$3006,'RC'!$C105)","v":0}]
[null,null,{"$f":"CAD_Q!C105","v":100},{"$f":"SUMIFS(RES!$F$6:$F$3006,RES!$O$6:$O$3006,'RC'!D$5,RES!$I$6:$I$3006,'RC'!$C106)","v":0},{"$f":"SUMIFS(RES!$F$6:$F$3006,RES!$O$6:$O$3006,'RC'!E$5,RES!$I$6:$I$3006,'RC'!$C106)","v":0},{"$f":"SUMIFS(RES!$F$6:$F$3006,RES!$O$6:$O$3006,'RC'!F$5,RES!$I$6:$I$3006,'RC'!$C106)","v":0},{"$f":"SUMIFS(RES!$F$6:$F$3006,RES!$O$6:$O$3006,'RC'!G$5,RES!$I$6:$I$3006,'RC'!$C106)","v":0},{"$f":"SUMIFS(RES!$F$6:$F$3006,RES!$O$6:$O$3006,'RC'!H$5,RES!$I$6:$I$3006,'RC'!$C106)","v":0},{"$f":"SUMIFS(RES!$F$6:$F$3006,RES!$O$6:$O$3006,'RC'!I$5,RES!$I$6:$I$3006,'RC'!$C106)","v":0},{"$f":"SUMIFS(RES!$F$6:$F$3006,RES!$O$6:$O$3006,'RC'!J$5,RES!$I$6:$I$3006,'RC'!$C106)","v":0},{"$f":"SUMIFS(RES!$F$6:$F$3006,RES!$O$6:$O$3006,'RC'!K$5,RES!$I$6:$I$3006,'RC'!$C106)","v":0},{"$f":"SUMIFS(RES!$F$6:$F$3006,RES!$O$6:$O$3006,'RC'!L$5,RES!$I$6:$I$3006,'RC'!$C106)","v":0},{"$f":"SUMIFS(RES!$F$6:$F$3006,RES!$O$6:$O$3006,'RC'!M$5,RES!$I$6:$I$3006,'RC'!$C106)","v":0},{"$f":"SUMIFS(RES!$F$6:$F$3006,RES!$O$6:$O$3006,'RC'!N$5,RES!$I$6:$I$3006,'RC'!$C106)","v":0},{"$f":"SUMIFS(RES!$F$6:$F$3006,RES!$O$6:$O$3006,'RC'!O$5,RES!$I$6:$I$3006,'RC'!$C106)","v":0}]

{"sheet":"Recibo","index":6,"n_rows":16,"n_cols":16,"rows_kept":16,"cut":false,"hidden":false,"merged":[[12,3,12,11],[11,9,11,11],[10,9,10,11],[4,3,4,4],[4,8,4,11],[9,4,9,6],[9,7,9,8],[9,9,9,11]]}
[]
[]
[]
[null,null,null,null,1,2,3,4,5,6,7,8,9,10,11,12]
[null,null,"Nombre","Juan Lopez",null,"Fecha Llegada","2024-07-22","Análisis",{"$f":"IFERROR(VLOOKUP($M$5,RES!$B$6:$U$3006,16,FALSE),\"Verifique os dados de nome e check in\")","v":2024},null,null,null,{"$f":"IF(D5=\"\",\"vazio\",CONCATENATE(D5,G5))","v":"Juan Lopez45495"}]
[]
[]
[null,null,null,"Huéspedes de recibos"]
[]
[null,null,null,"Recibí del Sr(a). ",{"$f":"IFERROR(VLOOKUP($M$5,RES!$B$6:$T$3006,2,FALSE),\"\")","v":"Juan Lopez"},null,null,"el valor de DOP ",null,{"$f":"\"$\"&IFERROR(VLOOKUP($M$5,RES!$B$6:$T$3006,13,FALSE),\"\")","v":"$1650"}]
[null,null,null,"Servicio de Hospedaje del dia",null,{"$f":"IFERROR(CONCATENATE(VLOOKUP($M$5,RES!$B$6:$T$3006,15,FALSE),\"/\",VLOOKUP($M$5,RES!$B$6:$T$3006,14,FALSE),\"/\",VLOOKUP($M$5,RES!$B$6:$T$3006,16,FALSE)),\"\")","v":"22/7/2024"},"al Día",{"$f":"IFERROR(CONCATENATE(VLOOKUP($M$5,RES!$B$6:$T$3006,17,FALSE),\"/\",VLOOKUP($M$5,RES!$B$6:$T$3006,18,FALSE),\"/\",VLOOKUP($M$5,RES!$B$6:$T$3006,19,FALSE)),\"\")","v":"25/7/2024"},"en la Habitación ",{"$f":"IFERROR(VLOOKUP($M$5,RES!$B$6:$T$3006,8,FALSE),\"\")","v":4}]
[null,null,null,"Pliego de condiciones: las tasas diarias",null,{"$f":"\"$\"&IFERROR(VLOOKUP($M$5,RES!$B$6:$T$3006,10,FALSE),\"\")","v":"$1800"},"descuento del",{"$f":"\"$\"&IFERROR(VLOOKUP($M$5,RES!$B$6:$T$3006,11,FALSE),\"\")","v":"$200"},"y el gasto",{"$f":"\"$\"&IFERROR(VLOOKUP($M$5,RES!$B$6:$T$3006,12,FALSE),\"\")","v":"$50"}]
[null,null,null,"con UNOS income esperado para su compañía x"]
[]
[]
[null,null,null,"se cierra",null,null,null,"firme"]

{"sheet":"FC","index":7,"n_rows":9,"n_cols":18,"rows_kept":9,"cut":false,"hidden":false,"merged":[]}
[]
[]
[null,null,null,1,2,3,4,5,6,7,8,9,10,11,12]
[null,null,null,1,2,3,4,5,6,7,8,9,10,11,12]
[null,null,"Flujo de caja","Enero","Febrero ","Marzo","Abril","Mayo ","Junio","Julio","Agosto","Septiembre","Octubre","Noviembre","Diciembre","Total"]
[null,null,"Ingresos ",{"$f":"SUMIF(RES!$S:$S,D3,RES!$N:$N)","v":0},{"$f":"SUMIF(RES!$S:$S,E3,RES!$N:$N)","v":0},{"$f":"SUMIF(RES!$S:$S,F3,RES!$N:$N)","v":0},{"$f":"SUMIF(RES!$S:$S,G3,RES!$N:$N)","v":0},{"$f":"SUMIF(RES!$S:$S,H3,RES!$N:$N)","v":0},{"$f":"SUMIF(RES!$S:$S,I3,RES!$N:$N)","v":0},{"$f":"SUMIF(RES!$S:$S,J3,RES!$N:$N)","v":11682},{"$f":"SUMIF(RES!$S:$S,K3,RES!$N:$N)","v":10050},{"$f":"SUMIF(RES!$S:$S,L3,RES!$N:$N)","v":0},{"$f":"SUMIF(RES!$S:$S,M3,RES!$N:$N)","v":0},{"$f":"SUMIF(RES!$S:$S,N3,RES!$N:$N)","v":0},{"$f":"SUMIF(RES!$S:$S,O3,RES!$N:$N)","v":0},{"$f":"SUM(D6:O6)","v":21732},null,{"$f":"+P6/P9","v":0.58469651312957382}]
[null,null,"Gastos",{"$f":"SUMIF(DESP!$H$6:$H$3050,1,DESP!$G$6:$G$3050)","v":29450},{"$f":"SUMIF(DESP!$H$6:$H$3050,2,DESP!$G$6:$G$3050)","v":0},{"$f":"SUMIF(DESP!$H$6:$H$3050,3,DESP!$G$6:$G$3050)","v":0},{"$f":"SUMIF(DESP!$H$6:$H$3050,4,DESP!$G$6:$G$3050)","v":0},{"$f":"SUMIF(DESP!$H$6:$H$3050,5,DESP!$G$6:$G$3050)","v":0},{"$f":"SUMIF(DESP!$H$6:$H$3050,6,DESP!$G$6:$G$3050)","v":0},{"$f":"SUMIF(DESP!$H$6:$H$3050,7,DESP!$G$6:$G$3050)","v":0},{"$f":"SUMIF(DESP!$H$6:$H$3050,8,DESP!$G$6:$G$3050)","v":0},{"$f":"SUMIF(DESP!$H$6:$H$3050,9,DESP!$G$6:$G$3050)","v":0},{"$f":"SUMIF(DESP!$H$6:$H$3050,10,DESP!$G$6:$G$3050)","v":0},{"$f":"SUMIF(DESP!$H$6:$H$3050,11,DESP!$G$6:$G$3050)","v":0},{"$f":"SUMIF(DESP!$H$6:$H$3050,12,DESP!$G$6:$G$3050)","v":0},{"$f":"SUM(D7:O7)","v":29450},null,{"$f":"+P7/P9","v":0.79234825656478691}]
[null,null,"Balanza Mes",{"$f":"D6-D7","v":-29450},{"$f":"E6-E7","v":0},0,0,0,0,11682,10050,0,0,0,0,-7718]
[null,null,"Acumulado ",{"$f":"D8","v":-29450},{"$f":"D9+E8","v":-29450},{"$f":"E9+F8","v":-29450},-29450,-29450,-29450,-17768,-7718,-7718,-7718,-7718,-7718,{"$f":"P7-P8","v":37168}]

{"sheet":"Dash","index":8,"n_rows":15,"n_cols":3,"rows_kept":15,"cut":false,"hidden":false,"merged":[[11,2,11,3],[13,2,13,3],[14,2,14,3],[4,2,4,3],[5,2,5,3],[7,2,7,3],[8,2,8,3],[10,2,10,3]]}
[]
[]
[]
[]
[null,null,"Ingresos "]
[null,null,{"$f":"FC!$P$6","v":21732}]
[]
[null,null,"Gastos"]
[null,null,{"$f":"FC!$P$7","v":29450}]
[]
[null,null,"Balance Mes"]
[null,null,{"$f":"FC!$P$8","v":-7718}]
[]
[null,null,"Acumulado"]
[null,null,{"$f":"FC!P9","v":37168}]

{"sheet":"Info","index":9,"n_rows":19,"n_cols":3,"rows_kept":19,"cut":false,"hidden":false,"merged":[[16,2,16,7],[18,2,18,7],[11,2,11,7],[6,2,7,7],[4,2,4,7],[9,2,9,7],[14,2,14,7]]}
[]
[]
[]
[null,null,"Gestión de Reservas Hoteles"]
[null,null,"Con esta planilla usted podrá tener el total control sobre las reservas realizadas en su hotel o posada."]
[null,null,"Registro de Habitaciones y Huéspedes"]
[null,null,"El primer recurso de la hoja de trabajo es un área en la que puede registrar hasta 100 habitaciones y cuántos huéspedes necesitas."]
[]
[null,null,"Inclusión de Reservas"]
[null,null,"En seguida, usted podrá incluir todas las reservas que reciba, insertando el nombre del huésped, el período pretendido y también la habitación deseada. Además, usted también tendrá en esta pantalla el valor de la diaria del hotel y el valor total. Esos datos servirán para generar un flujo de caja simple de su hotel."]
[null,null,"Visualización de la disponibilidad"]
[null,null,"El principal recurso de la hoja de cálculo es la posibilidad de ver todas las reservas por período y ver qué días están disponibles para la reserva."]
[]
[null,null,"Informe de Ocupación"]
[null,null,"Por último, la hoja de cálculo automáticamente compila todos los datos rellenados y ¡proporciona un informe completo de ocupación por habitación mes a mes."]
[null,null,"Registro de Gastos"]
[null,null,"Además de los gastos en relación a la reserva que deben ser registrados en la pestaña de reservas, usted también contará con una pestaña específica para los gastos generales de su hotel como compras, mantenimiento, equipo, predial etc. Esto se contabilizará junto con sus ingresos para crear su flujo de caja."]
[null,null,"Emisión de Recibos"]
[null,null,"Por último, la planilla le permite emitir recibos ya rellenados automáticamente y listos para imprimir para sus huéspedes. Usted también puede optar por poner ese recibo en nombre de la empresa que está pagando por la estancia."]